{"text_format":"3","workbook":"xlsx","n_sheets":5,"sheets":["Start","Stammdaten Betrieb ","Grundlagen_Abrechnung_KAE","MD","End"],"not_rendered":{"images":4,"macros":1,"defined_names":28,"comments":2},"read":"whole","date_system":"1900"}

{"sheet":"Start","index":0,"n_rows":0,"n_cols":0,"rows_kept":0,"hidden":true}

{"sheet":"Stammdaten Betrieb ","index":1,"n_rows":40,"n_cols":13,"rows_kept":40,"merged":[[4,5,10,10],[17,13,18,14],[25,1,25,2],[27,1,27,2],[27,5,29,11],[29,1,29,2],[30,5,30,10]]}
[]
[null,"Hilfsformular Kurzarbeitsentschädigung NUR für Covid-19 Stammdaten Betrieb / Abteilung - Nur für Arbeitslosenkasse Kanton Zürich anzuwenden"]
[]
[null,"BUR-Nr.",null,{"$f":"C4=\"\"","v":true}]
[null,"Firmenname",null,{"$f":"C5=\"\"","v":true},null,"Die Berechnung des Arbeitsausfalls wurde ab sofort geändert. \n\nSämtliche Informationen zur Abrechnung finden Sie auf \n\n\n\n\n\nDie gelben Zellen aus dem alten Excel können problemlos in die neue Datei kopiert werden. (gelbe Zellen markieren, kopieren und an der gleichen Stelle im neuen Formular einfügen)."]
[null,"Strasse / Nr.",null,true]
[null,"PLZ",null,true]
[null,"Ort",null,true]
[]
[null,"Betrieb/Betriebsabteilung"]
[null,"Abrechnungsperiode (AP)",null,{"$f":"#REF!=\"\"","v":{"$error":"#REF!"}}]
[null,"Eingabefrist",{"$f":"IF(C11=\"\",\"\",EOMONTH(C11,3))","v":""},{"$f":"#REF!=\"\"","v":{"$error":"#REF!"}}]
[null,"Beginn Abrechnungsperiode",{"$f":"IFERROR(EOMONTH(C14,-1)+1,\"\")","v":""},{"$f":"#REF!=\"\"","v":{"$error":"#REF!"}}]
[null,"Ende Abrechnungsperiode",{"$f":"IF(C11=\"\",\"\",EOMONTH(C11,0))","v":""},{"$f":"#REF!=\"\"","v":{"$error":"#REF!"}}]
[{"$nulls":3},{"$f":"#REF!=\"\"","v":{"$error":"#REF!"}}]
[null,"Normale Tages-Soll-Arbeitszeit"]
[null,"Max. massgebender Verdienst",{"$f":"IFERROR(OFFSET(MD!$O$5,MATCH(YEAR('Stammdaten Betrieb '!$C$11),MD_JAHR,0),1),\"\")","v":""},{"$f":"C10=\"\"","v":true}]
[null,"Beitragssatz AHV/IV/EO/ALV in %",{"$f":"IFERROR(OFFSET(MD!$O$5,MATCH(YEAR('Stammdaten Betrieb '!$C$11),MD_JAHR,0),3),\"\")","v":""},{"$f":"C11=\"\"","v":true}]
[]
[{"$nulls":3},{"$f":"C13=\"\"","v":true}]
[{"$nulls":3},{"$f":"C14=\"\"","v":true}]
[]
[]
[null,"Anleitung:"]
[]
[null,"Bevor dieses Formular ausgefüllt wird, bitte unbedingt die Broschüre \"Fragen und Antworten zur Abrechnung von Kurzarbeit unter Covid-19\" genau durchgehen"]
[]
[{"$nulls":3},{"$f":"#REF!=\"\"","v":{"$error":"#REF!"}},null,"Prüfungen plausibel? Orange = Nein / Grün = ja\n\n(Sollten Sie sich bewusst entschieden haben, dass in Ihrer Organisation kein Mitarbeiter mit einer Arbeitgeberähnlichen Stellung vorhanden ist, bleibt diese Angabe Orange und das ist ok so)"]
[{"$nulls":3},{"$f":"C16=\"\"","v":true}]
[null,"Das grüne Tabellenblatt \"Grundlagen Abrechnung KAE\" kann als Nachweis der AHV-pflichtigen Lohnsumme, sowie als Nachweis der Sollstunden mitgeliefert werden. Das Blatt kann mit dem blauen Knopf als PDF abgespeichert werden. \n\nFür den Nachweis der IST-Stunden sind zusätzliche Dokumente mitzuliefern.",null,{"$f":"C17=\"\"","v":true}]
[{"$nulls":3},{"$f":"#REF!=\"\"","v":{"$error":"#REF!"}},null,{"$f":"IF(L31>0,\"In der Abrechnung hat es Personen mit arbeitgeberähnlicher Stellung\",\"In der Abrechnung hat es KEINE Personen mit arbeitgeberähnlicher Stellung\")","v":"In der Abrechnung hat es KEINE Personen mit arbeitgeberähnlicher Stellung"},{"$nulls":5},{"$f":"COUNTIFS(Grundlagen_Abrechnung_KAE!$F$19:$F$2000,\"Arbeitgeberähnliche Stellung\")","v":0}]
[{"$nulls":3},{"$f":"#REF!=\"\"","v":{"$error":"#REF!"}}]
[null,"Weisse Zellen sind schreibgeschützt",null,{"$f":"C18=\"\"","v":true}]
[null,"Gelbe Zellen sind Eingabefelder"]
[null,"Hellrote Zellen sind Eingabefelder. Solange noch Felder mit dieser Farbe vorhanden sind, sind die Berechnungen unvollständig oder nicht korrekt. Bitte alle diese Felder vollständig und korrekt ausfüllen."]
[null,"Orange Felder = der eingegebene Wert ist falsch und muss korrigiert werden"]
[null,"Numerierung der Felder in der Reihenfolge im E-Formular",{"$nulls":8},"Version 10  - 290520 - 15:40"]
[]
[{"$nulls":10},"Version:",null,"Änderungen:"]
[{"$nulls":10},"Version 10 - 290520 - 15:40",null,"Spalte Q: Hilfstext auf alle Zellen erweitert in Spalte Q"]

{"sheet":"Grundlagen_Abrechnung_KAE","index":2,"n_rows":2001,"n_cols":40,"rows_kept":2001,"merged":[[3,1,3,3],[4,1,4,2],[5,1,5,2],[6,1,6,2],[11,19,12,22],[13,35,13,39]]}
[{"$f":"\"Grundlagen_Abrechnung_KAE!\"&\"$B$2:R\"&COUNTA(B:B)+9","v":"Grundlagen_Abrechnung_KAE!$B$2:R19"}]
[null,"Stammdaten / Abrechnungsdaten Arbeitnehmende - Nur für Arbeitslosenkasse Kanton Zürich anzuwenden"]
[]
[null,{"$f":"'Stammdaten Betrieb '!C5&\" - \"&'Stammdaten Betrieb '!C6&\" \"&'Stammdaten Betrieb '!C7&\" \"&'Stammdaten Betrieb '!C8&\" - \"&'Stammdaten Betrieb '!C10","v":" -    - "}]
[null,"Abrechnungsperiode",null,{"$f":"'Stammdaten Betrieb '!C11","v":"00:00:00"}]
[null,"Beginn der Kurzarbeit",null,{"$f":"'Stammdaten Betrieb '!C13","v":""}]
[null,"Ende der Kurzarbeit",null,{"$f":"'Stammdaten Betrieb '!C14","v":""},{"$nulls":31},{"$f":"MONTH(D7)","v":{"$error":"#VALUE!"}},{"$f":"YEAR(D7)","v":{"$error":"#VALUE!"}}]
[]
[]
[]
[]
[null,{"$f":"'Stammdaten Betrieb '!K37","v":"Version 10  - 290520 - 15:40"},{"$nulls":17},"Hilfsdaten für Lohnbuchhaltung"]
[{"$nulls":6},{"$f":"COUNTIFS($H$19:$H$2000,\">0\")","v":0},null,null,{"$f":"COUNTIFS($R$19:$R$2000,\">0\")","v":0},{"$nulls":6},{"$f":"\"%-Ausfall im \"&TEXT(D5,\"MMM JJJJ\")","v":"%-Ausfall im Jan 1900"}]
[null,"Daten kopieren aus anderen Tabellen nur mit \"Werte einfügen\", sonst wird die Berechnung nicht mehr garantiert!",{"$nulls":14},{"$f":"IFERROR(R17/P17,0)","v":{"v":0,"d":"0.00%"}},{"$nulls":11},"HS","HS",{"$nulls":3},"Braucht es eher nicht"]
[null,"Sozial-versicherungs-\nNummer (SVN)","Name","Vorname","M/W","Mitarbeiter Typ","Geburts-datum","Anstellung\nin %","Brutto-Monats-\nlohn, exkl. Kinder-zulagen","Stunden-lohn inkl. Zuschläge, Ferien/Feier-tage etc.","Total Anzahl Stunden in den letzten 6 Monaten (für 6 Monate!)","Total Anzahl Stunden in den letzten 12 Monaten (für 12 Monate!)","Anzahl \nbez. Mt \npro Jahr  (12/13)","Weitere Lohnbe-standteile\npro Jahr","AHV-pflichtige Lohnsumme aller anspruchsberechtigten Arbeitnehmen",{"$f":"\"Summe Sollstunden aller anspruchsberechtigten Arbeitnehmenden \"&TEXT($D$5,\"MMMM JJJJ\")","v":"Summe Sollstunden aller anspruchsberechtigten Arbeitnehmenden Januar 1900"},{"$f":"\"Von den Sollstunden in Abzug zu bringende Stunden für den Monat \"&TEXT($D$5,\"MMMM JJJJ\")&\" gemäss Stundennachweisen\"","v":"Von den Sollstunden in Abzug zu bringende Stunden für den Monat Januar 1900 gemäss Stundennachweisen"},{"$f":"\"Summe wirtschaftlich bedingter Ausfallstunden aller von Kurzarbeit betroffenen Arbeitnehmenden Monat \"&TEXT($D$5,\"MMMM JJJJ\")&\" gemäss Stundennachweisen\"","v":"Summe wirtschaftlich bedingter Ausfallstunden aller von Kurzarbeit betroffenen Arbeitnehmenden Monat Januar 1900 gemäss Stundennachweisen"},null,"% Ausfall","Anteil Normallohn \nin Fr. da kein Ausfall","Ausfallbetrag \nin Fr. ","Theoretischer 80%-Beitrag ALK für Lohnbuch-haltung\nin Fr. ",null,"Prüfspalte ALK Alter < 16","Geb.-Dat \nPensionier.","AHV-pflichtig",null,null,"Relevante Lohnbasis",null,"Max VV","Jahreslohn","Jahres-ø wöchentl. Arbeitszeit",null,"Montag","Dienstag","Mittwoch","Donners-tag","Freitag"]
[null,16,{"$nulls":8},6,12,{"$nulls":12},{"$f":"YEAR($D$5)-18","v":1882},null,{"$f":"YEAR($D$5)-16","v":1884},{"$nulls":8},1,2,3,4,5]
[{"$nulls":14},{"$f":"SUM(O19:O2000)","v":{"v":0,"d":"0.00"}},{"$f":"SUM(P19:P2000)","v":{"v":0,"d":"0.00"}},{"$f":"SUM(Q19:Q2000)","v":{"v":0,"d":"0.00"}},{"$f":"SUM(R19:R2000)","v":{"v":0,"d":"0.00"}},null,null,{"$f":"SUM(U19:U2000)","v":{"v":0,"d":"0.00"}},null,{"$f":"SUM(W19:W2000)","v":{"v":0,"d":"0.00"}},{"$nulls":10},{"$f":"SUM(AH19:AH2000)","v":{"v":0,"d":"0.00"}}]
[]
[{"$nulls":14},{"$f":"IF($B19=\"\",\"\",IF(F19=\"Arbeitgeberähnliche Stellung\",OFFSET(MD!$Q$5,MATCH(Grundlagen_Abrechnung_KAE!$AK$7,MD_JAHR,0),0)*$H19,IF(((AD19/12*M19*12)+N19)>AF19,AF19/12,((AD19/12*M19*12)+N19)/12)))","v":""},null,null,{"$f":"ROUND(IF(Q19=\"\",0,IF(P19=0,0,IF(Q19>P19,0,P19-Q19))),2)","v":{"v":0,"d":"0.00"}},null,{"$f":"IFERROR(R19/P19,0)","v":{"v":0,"d":"0.00%"}},{"$f":"IFERROR(IF(O19-W19=0,O19,(O19)*(1-T19)),0)","v":{"v":0,"d":"0.00"}},{"$f":"IFERROR(O19*T19,0)","v":{"v":0,"d":"0.00"}},{"$f":"IFERROR(O19*T19,0)*0.8","v":{"v":0,"d":"0.00"}},null,{"$f":"IF(YEAR($G19)>$Y$16,\"prüfen\",\"\")","v":"prüfen"},{"$f":"IFERROR(OFFSET(MD!$U$5,MATCH(Grundlagen_Abrechnung_KAE!$E19,MD_GENDER,0),0),\"\")","v":""},{"$f":"IF(B19=\"\",0,IF(YEAR(G19)>$AA$16,0,1))","v":{"v":0,"d":"0.00"}},null,{"$f":"IF(J19*K19/6>J19*L19/12,J19*K19/6,J19*L19/12)","v":{"v":0,"d":"0.00"}},{"$f":"IF(F19=\"Arbeitgeberähnliche Stellung\",OFFSET(MD!$Q$5,MATCH(Grundlagen_Abrechnung_KAE!$AK$7,MD_JAHR,0),0)*$H19,IF(J19>0,AC19,I19))","v":{"v":0,"d":"0.00"}},null,{"$f":"OFFSET(MD!$P$5,MATCH($AK$7,MD_JAHR,0),0)*12","v":{"$error":"#VALUE!"}},{"$f":"I19*M19+N19","v":{"v":0,"d":"0.00"}}]
[{"$nulls":14},{"$f":"IF($B20=\"\",\"\",IF(F20=\"Arbeitgeberähnliche Stellung\",OFFSET(MD!$Q$5,MATCH(Grundlagen_Abrechnung_KAE!$AK$7,MD_JAHR,0),0)*$H20,IF(((AD20/12*M20*12)+N20)>AF20,AF20/12,((AD20/12*M20*12)+N20)/12)))","v":""},null,null,{"v":0,"d":"0.00"},null,{"v":0,"d":"0.00%"},{"v":0,"d":"0.00"},{"$f":"IFERROR(O20*T20,0)","v":{"v":0,"d":"0.00"}},{"v":0,"d":"0.00"},null,"prüfen",{"$f":"IFERROR(OFFSET(MD!$U$5,MATCH(Grundlagen_Abrechnung_KAE!$E20,MD_GENDER,0),0),\"\")","v":""},{"v":0,"d":"0.00"},null,{"v":0,"d":"0.00"},{"$f":"IF(F20=\"Arbeitgeberähnliche Stellung\",OFFSET(MD!$Q$5,MATCH(Grundlagen_Abrechnung_KAE!$AK$7,MD_JAHR,0),0)*$H20,IF(J20>0,AC20,I20))","v":{"v":0,"d":"0.00"}},null,{"$f":"OFFSET(MD!$P$5,MATCH($AK$7,MD_JAHR,0),0)*12","v":{"$error":"#VALUE!"}},{"v":0,"d":"0.00"}]
[{"$nulls":14},{"$f":"IF($B21=\"\",\"\",IF(F21=\"Arbeitgeberähnliche Stellung\",OFFSET(MD!$Q$5,MATCH(Grundlagen_Abrechnung_KAE!$AK$7,MD_JAHR,0),0)*$H21,IF(((AD21/12*M21*12)+N21)>AF21,AF21/12,((AD21/12*M21*12)+N21)/12)))","v":""},null,null,{"v":0,"d":"0.00"},null,{"v":0,"d":"0.00%"},{"v":0,"d":"0.00"},{"v":0,"d":"0.00"},{"v":0,"d":"0.00"},null,"prüfen",{"$f":"IFERROR(OFFSET(MD!$U$5,MATCH(Grundlagen_Abrechnung_KAE!$E21,MD_GENDER,0),0),\"\")","v":""},{"v":0,"d":"0.00"},null,{"v":0,"d":"0.00"},{"$f":"IF(F21=\"Arbeitgeberähnliche Stellung\",OFFSET(MD!$Q$5,MATCH(Grundlagen_Abrechnung_KAE!$AK$7,MD_JAHR,0),0)*$H21,IF(J21>0,AC21,I21))","v":{"v":0,"d":"0.00"}},null,{"$f":"OFFSET(MD!$P$5,MATCH($AK$7,MD_JAHR,0),0)*12","v":{"$error":"#VALUE!"}},{"v":0,"d":"0.00"}]
[{"$nulls":14},{"$f":"IF($B22=\"\",\"\",IF(F22=\"Arbeitgeberähnliche Stellung\",OFFSET(MD!$Q$5,MATCH(Grundlagen_Abrechnung_KAE!$AK$7,MD_JAHR,0),0)*$H22,IF(((AD22/12*M22*12)+N22)>AF22,AF22/12,((AD22/12*M22*12)+N22)/12)))","v":""},null,null,{"v":0,"d":"0.00"},null,{"v":0,"d":"0.00%"},{"v":0,"d":"0.00"},{"v":0,"d":"0.00"},{"v":0,"d":"0.00"},null,"prüfen",{"$f":"IFERROR(OFFSET(MD!$U$5,MATCH(Grundlagen_Abrechnung_KAE!$E22,MD_GENDER,0),0),\"\")","v":""},{"v":0,"d":"0.00"},null,{"v":0,"d":"0.00"},{"$f":"IF(F22=\"Arbeitgeberähnliche Stellung\",OFFSET(MD!$Q$5,MATCH(Grundlagen_Abrechnung_KAE!$AK$7,MD_JAHR,0),0)*$H22,IF(J22>0,AC22,I22))","v":{"v":0,"d":"0.00"}},null,{"$f":"OFFSET(MD!$P$5,MATCH($AK$7,MD_JAHR,0),0)*12","v":{"$error":"#VALUE!"}},{"v":0,"d":"0.00"}]
[{"$nulls":14},{"$f":"IF($B23=\"\",\"\",IF(F23=\"Arbeitgeberähnliche Stellung\",OFFSET(MD!$Q$5,MATCH(Grundlagen_Abrechnung_KAE!$AK$7,MD_JAHR,0),0)*$H23,IF(((AD23/12*M23*12)+N23)>AF23,AF23/12,((AD23/12*M23*12)+N23)/12)))","v":""},null,null,{"v":0,"d":"0.00"},null,{"v":0,"d":"0.00%"},{"v":0,"d":"0.00"},{"v":0,"d":"0.00"},{"v":0,"d":"0.00"},null,"prüfen",{"$f":"IFERROR(OFFSET(MD!$U$5,MATCH(Grundlagen_Abrechnung_KAE!$E23,MD_GENDER,0),0),\"\")","v":""},{"v":0,"d":"0.00"},null,{"v":0,"d":"0.00"},{"$f":"IF(F23=\"Arbeitgeberähnliche Stellung\",OFFSET(MD!$Q$5,MATCH(Grundlagen_Abrechnung_KAE!$AK$7,MD_JAHR,0),0)*$H23,IF(J23>0,AC23,I23))","v":{"v":0,"d":"0.00"}},null,{"$f":"OFFSET(MD!$P$5,MATCH($AK$7,MD_JAHR,0),0)*12","v":{"$error":"#VALUE!"}},{"v":0,"d":"0.00"}]
[{"$nulls":14},{"$f":"IF($B24=\"\",\"\",IF(F24=\"Arbeitgeberähnliche Stellung\",OFFSET(MD!$Q$5,MATCH(Grundlagen_Abrechnung_KAE!$AK$7,MD_JAHR,0),0)*$H24,IF(((AD24/12*M24*12)+N24)>AF24,AF24/12,((AD24/12*M24*12)+N24)/12)))","v":""},null,null,{"v":0,"d":"0.00"},null,{"v":0,"d":"0.00%"},{"v":0,"d":"0.00"},{"v":0,"d":"0.00"},{"v":0,"d":"0.00"},null,"prüfen",{"$f":"IFERROR(OFFSET(MD!$U$5,MATCH(Grundlagen_Abrechnung_KAE!$E24,MD_GENDER,0),0),\"\")","v":""},{"v":0,"d":"0.00"},null,{"v":0,"d":"0.00"},{"$f":"IF(F24=\"Arbeitgeberähnliche Stellung\",OFFSET(MD!$Q$5,MATCH(Grundlagen_Abrechnung_KAE!$AK$7,MD_JAHR,0),0)*$H24,IF(J24>0,AC24,I24))","v":{"v":0,"d":"0.00"}},null,{"$f":"OFFSET(MD!$P$5,MATCH($AK$7,MD_JAHR,0),0)*12","v":{"$error":"#VALUE!"}},{"v":0,"d":"0.00"}]
[{"$nulls":14},{"$f":"IF($B25=\"\",\"\",IF(F25=\"Arbeitgeberähnliche Stellung\",OFFSET(MD!$Q$5,MATCH(Grundlagen_Abrechnung_KAE!$AK$7,MD_JAHR,0),0)*$H25,IF(((AD25/12*M25*12)+N25)>AF25,AF25/12,((AD25/12*M25*12)+N25)/12)))","v":""},null,null,{"v":0,"d":"0.00"},null,{"v":0,"d":"0.00%"},{"v":0,"d":"0.00"},{"v":0,"d":"0.00"},{"v":0,"d":"0.00"},null,"prüfen",{"$f":"IFERROR(OFFSET(MD!$U$5,MATCH(Grundlagen_Abrechnung_KAE!$E25,MD_GENDER,0),0),\"\")","v":""},{"v":0,"d":"0.00"},null,{"v":0,"d":"0.00"},{"$f":"IF(F25=\"Arbeitgeberähnliche Stellung\",OFFSET(MD!$Q$5,MATCH(Grundlagen_Abrechnung_KAE!$AK$7,MD_JAHR,0),0)*$H25,IF(J25>0,AC25,I25))","v":{"v":0,"d":"0.00"}},null,{"$f":"OFFSET(MD!$P$5,MATCH($AK$7,MD_JAHR,0),0)*12","v":{"$error":"#VALUE!"}},{"v":0,"d":"0.00"}]
[{"$nulls":14},{"$f":"IF($B26=\"\",\"\",IF(F26=\"Arbeitgeberähnliche Stellung\",OFFSET(MD!$Q$5,MATCH(Grundlagen_Abrechnung_KAE!$AK$7,MD_JAHR,0),0)*$H26,IF(((AD26/12*M26*12)+N26)>AF26,AF26/12,((AD26/12*M26*12)+N26)/12)))","v":""},null,null,{"v":0,"d":"0.00"},null,{"v":0,"d":"0.00%"},{"v":0,"d":"0.00"},{"v":0,"d":"0.00"},{"v":0,"d":"0.00"},null,"prüfen",{"$f":"IFERROR(OFFSET(MD!$U$5,MATCH(Grundlagen_Abrechnung_KAE!$E26,MD_GENDER,0),0),\"\")","v":""},{"v":0,"d":"0.00"},null,{"v":0,"d":"0.00"},{"$f":"IF(F26=\"Arbeitgeberähnliche Stellung\",OFFSET(MD!$Q$5,MATCH(Grundlagen_Abrechnung_KAE!$AK$7,MD_JAHR,0),0)*$H26,IF(J26>0,AC26,I26))","v":{"v":0,"d":"0.00"}},null,{"$f":"OFFSET(MD!$P$5,MATCH($AK$7,MD_JAHR,0),0)*12","v":{"$error":"#VALUE!"}},{"v":0,"d":"0.00"}]
[{"$nulls":14},{"$f":"IF($B27=\"\",\"\",IF(F27=\"Arbeitgeberähnliche Stellung\",OFFSET(MD!$Q$5,MATCH(Grundlagen_Abrechnung_KAE!$AK$7,MD_JAHR,0),0)*$H27,IF(((AD27/12*M27*12)+N27)>AF27,AF27/12,((AD27/12*M27*12)+N27)/12)))","v":""},null,null,{"v":0,"d":"0.00"},null,{"v":0,"d":"0.00%"},{"v":0,"d":"0.00"},{"v":0,"d":"0.00"},{"v":0,"d":"0.00"},null,"prüfen",{"$f":"IFERROR(OFFSET(MD!$U$5,MATCH(Grundlagen_Abrechnung_KAE!$E27,MD_GENDER,0),0),\"\")","v":""},{"v":0,"d":"0.00"},null,{"v":0,"d":"0.00"},{"$f":"IF(F27=\"Arbeitgeberähnliche Stellung\",OFFSET(MD!$Q$5,MATCH(Grundlagen_Abrechnung_KAE!$AK$7,MD_JAHR,0),0)*$H27,IF(J27>0,AC27,I27))","v":{"v":0,"d":"0.00"}},null,{"$f":"OFFSET(MD!$P$5,MATCH($AK$7,MD_JAHR,0),0)*12","v":{"$error":"#VALUE!"}},{"v":0,"d":"0.00"}]
[{"$nulls":14},{"$f":"IF($B28=\"\",\"\",IF(F28=\"Arbeitgeberähnliche Stellung\",OFFSET(MD!$Q$5,MATCH(Grundlagen_Abrechnung_KAE!$AK$7,MD_JAHR,0),0)*$H28,IF(((AD28/12*M28*12)+N28)>AF28,AF28/12,((AD28/12*M28*12)+N28)/12)))","v":""},null,null,{"v":0,"d":"0.00"},null,{"v":0,"d":"0.00%"},{"v":0,"d":"0.00"},{"v":0,"d":"0.00"},{"v":0,"d":"0.00"},null,"prüfen",{"$f":"IFERROR(OFFSET(MD!$U$5,MATCH(Grundlagen_Abrechnung_KAE!$E28,MD_GENDER,0),0),\"\")","v":""},{"v":0,"d":"0.00"},null,{"v":0,"d":"0.00"},{"$f":"IF(F28=\"Arbeitgeberähnliche Stellung\",OFFSET(MD!$Q$5,MATCH(Grundlagen_Abrechnung_KAE!$AK$7,MD_JAHR,0),0)*$H28,IF(J28>0,AC28,I28))","v":{"v":0,"d":"0.00"}},null,{"$f":"OFFSET(MD!$P$5,MATCH($AK$7,MD_JAHR,0),0)*12","v":{"$error":"#VALUE!"}},{"v":0,"d":"0.00"}]
[{"$nulls":14},{"$f":"IF($B29=\"\",\"\",IF(F29=\"Arbeitgeberähnliche Stellung\",OFFSET(MD!$Q$5,MATCH(Grundlagen_Abrechnung_KAE!$AK$7,MD_JAHR,0),0)*$H29,IF(((AD29/12*M29*12)+N29)>AF29,AF29/12,((AD29/12*M29*12)+N29)/12)))","v":""},null,null,{"v":0,"d":"0.00"},null,{"v":0,"d":"0.00%"},{"v":0,"d":"0.00"},{"v":0,"d":"0.00"},{"v":0,"d":"0.00"},null,"prüfen",{"$f":"IFERROR(OFFSET(MD!$U$5,MATCH(Grundlagen_Abrechnung_KAE!$E29,MD_GENDER,0),0),\"\")","v":""},{"v":0,"d":"0.00"},null,{"v":0,"d":"0.00"},{"$f":"IF(F29=\"Arbeitgeberähnliche Stellung\",OFFSET(MD!$Q$5,MATCH(Grundlagen_Abrechnung_KAE!$AK$7,MD_JAHR,0),0)*$H29,IF(J29>0,AC29,I29))","v":{"v":0,"d":"0.00"}},null,{"$f":"OFFSET(MD!$P$5,MATCH($AK$7,MD_JAHR,0),0)*12","v":{"$error":"#VALUE!"}},{"v":0,"d":"0.00"}]
[{"$nulls":14},{"$f":"IF($B30=\"\",\"\",IF(F30=\"Arbeitgeberähnliche Stellung\",OFFSET(MD!$Q$5,MATCH(Grundlagen_Abrechnung_KAE!$AK$7,MD_JAHR,0),0)*$H30,IF(((AD30/12*M30*12)+N30)>AF30,AF30/12,((AD30/12*M30*12)+N30)/12)))","v":""},null,null,{"v":0,"d":"0.00"},null,{"v":0,"d":"0.00%"},{"v":0,"d":"0.00"},{"v":0,"d":"0.00"},{"v":0,"d":"0.00"},null,"prüfen",{"$f":"IFERROR(OFFSET(MD!$U$5,MATCH(Grundlagen_Abrechnung_KAE!$E30,MD_GENDER,0),0),\"\")","v":""},{"v":0,"d":"0.00"},null,{"v":0,"d":"0.00"},{"$f":"IF(F30=\"Arbeitgeberähnliche Stellung\",OFFSET(MD!$Q$5,MATCH(Grundlagen_Abrechnung_KAE!$AK$7,MD_JAHR,0),0)*$H30,IF(J30>0,AC30,I30))","v":{"v":0,"d":"0.00"}},null,{"$f":"OFFSET(MD!$P$5,MATCH($AK$7,MD_JAHR,0),0)*12","v":{"$error":"#VALUE!"}},{"v":0,"d":"0.00"}]
[{"$nulls":14},{"$f":"IF($B31=\"\",\"\",IF(F31=\"Arbeitgeberähnliche Stellung\",OFFSET(MD!$Q$5,MATCH(Grundlagen_Abrechnung_KAE!$AK$7,MD_JAHR,0),0)*$H31,IF(((AD31/12*M31*12)+N31)>AF31,AF31/12,((AD31/12*M31*12)+N31)/12)))","v":""},null,null,{"v":0,"d":"0.00"},null,{"v":0,"d":"0.00%"},{"v":0,"d":"0.00"},{"v":0,"d":"0.00"},{"v":0,"d":"0.00"},null,"prüfen",{"$f":"IFERROR(OFFSET(MD!$U$5,MATCH(Grundlagen_Abrechnung_KAE!$E31,MD_GENDER,0),0),\"\")","v":""},{"v":0,"d":"0.00"},null,{"v":0,"d":"0.00"},{"$f":"IF(F31=\"Arbeitgeberähnliche Stellung\",OFFSET(MD!$Q$5,MATCH(Grundlagen_Abrechnung_KAE!$AK$7,MD_JAHR,0),0)*$H31,IF(J31>0,AC31,I31))","v":{"v":0,"d":"0.00"}},null,{"$f":"OFFSET(MD!$P$5,MATCH($AK$7,MD_JAHR,0),0)*12","v":{"$error":"#VALUE!"}},{"v":0,"d":"0.00"}]
[{"$nulls":14},{"$f":"IF($B32=\"\",\"\",IF(F32=\"Arbeitgeberähnliche Stellung\",OFFSET(MD!$Q$5,MATCH(Grundlagen_Abrechnung_KAE!$AK$7,MD_JAHR,0),0)*$H32,IF(((AD32/12*M32*12)+N32)>AF32,AF32/12,((AD32/12*M32*12)+N32)/12)))","v":""},null,null,{"v":0,"d":"0.00"},null,{"v":0,"d":"0.00%"},{"v":0,"d":"0.00"},{"v":0,"d":"0.00"},{"v":0,"d":"0.00"},null,"prüfen",{"$f":"IFERROR(OFFSET(MD!$U$5,MATCH(Grundlagen_Abrechnung_KAE!$E32,MD_GENDER,0),0),\"\")","v":""},{"v":0,"d":"0.00"},null,{"v":0,"d":"0.00"},{"$f":"IF(F32=\"Arbeitgeberähnliche Stellung\",OFFSET(MD!$Q$5,MATCH(Grundlagen_Abrechnung_KAE!$AK$7,MD_JAHR,0),0)*$H32,IF(J32>0,AC32,I32))","v":{"v":0,"d":"0.00"}},null,{"$f":"OFFSET(MD!$P$5,MATCH($AK$7,MD_JAHR,0),0)*12","v":{"$error":"#VALUE!"}},{"v":0,"d":"0.00"}]
[{"$nulls":14},{"$f":"IF($B33=\"\",\"\",IF(F33=\"Arbeitgeberähnliche Stellung\",OFFSET(MD!$Q$5,MATCH(Grundlagen_Abrechnung_KAE!$AK$7,MD_JAHR,0),0)*$H33,IF(((AD33/12*M33*12)+N33)>AF33,AF33/12,((AD33/12*M33*12)+N33)/12)))","v":""},null,null,{"v":0,"d":"0.00"},null,{"v":0,"d":"0.00%"},{"v":0,"d":"0.00"},{"v":0,"d":"0.00"},{"v":0,"d":"0.00"},null,"prüfen",{"$f":"IFERROR(OFFSET(MD!$U$5,MATCH(Grundlagen_Abrechnung_KAE!$E33,MD_GENDER,0),0),\"\")","v":""},{"v":0,"d":"0.00"},null,{"v":0,"d":"0.00"},{"$f":"IF(F33=\"Arbeitgeberähnliche Stellung\",OFFSET(MD!$Q$5,MATCH(Grundlagen_Abrechnung_KAE!$AK$7,MD_JAHR,0),0)*$H33,IF(J33>0,AC33,I33))","v":{"v":0,"d":"0.00"}},null,{"$f":"OFFSET(MD!$P$5,MATCH($AK$7,MD_JAHR,0),0)*12","v":{"$error":"#VALUE!"}},{"v":0,"d":"0.00"}]
[{"$nulls":14},{"$f":"IF($B34=\"\",\"\",IF(F34=\"Arbeitgeberähnliche Stellung\",OFFSET(MD!$Q$5,MATCH(Grundlagen_Abrechnung_KAE!$AK$7,MD_JAHR,0),0)*$H34,IF(((AD34/12*M34*12)+N34)>AF34,AF34/12,((AD34/12*M34*12)+N34)/12)))","v":""},null,null,{"v":0,"d":"0.00"},null,{"v":0,"d":"0.00%"},{"v":0,"d":"0.00"},{"v":0,"d":"0.00"},{"v":0,"d":"0.00"},null,"prüfen",{"$f":"IFERROR(OFFSET(MD!$U$5,MATCH(Grundlagen_Abrechnung_KAE!$E34,MD_GENDER,0),0),\"\")","v":""},{"v":0,"d":"0.00"},null,{"v":0,"d":"0.00"},{"$f":"IF(F34=\"Arbeitgeberähnliche Stellung\",OFFSET(MD!$Q$5,MATCH(Grundlagen_Abrechnung_KAE!$AK$7,MD_JAHR,0),0)*$H34,IF(J34>0,AC34,I34))","v":{"v":0,"d":"0.00"}},null,{"$f":"OFFSET(MD!$P$5,MATCH($AK$7,MD_JAHR,0),0)*12","v":{"$error":"#VALUE!"}},{"v":0,"d":"0.00"}]
[{"$nulls":14},{"$f":"IF($B35=\"\",\"\",IF(F35=\"Arbeitgeberähnliche Stellung\",OFFSET(MD!$Q$5,MATCH(Grundlagen_Abrechnung_KAE!$AK$7,MD_JAHR,0),0)*$H35,IF(((AD35/12*M35*12)+N35)>AF35,AF35/12,((AD35/12*M35*12)+N35)/12)))","v":""},null,null,{"v":0,"d":"0.00"},null,{"v":0,"d":"0.00%"},{"v":0,"d":"0.00"},{"v":0,"d":"0.00"},{"v":0,"d":"0.00"},null,"prüfen",{"$f":"IFERROR(OFFSET(MD!$U$5,MATCH(Grundlagen_Abrechnung_KAE!$E35,MD_GENDER,0),0),\"\")","v":""},{"v":0,"d":"0.00"},null,{"v":0,"d":"0.00"},{"$f":"IF(F35=\"Arbeitgeberähnliche Stellung\",OFFSET(MD!$Q$5,MATCH(Grundlagen_Abrechnung_KAE!$AK$7,MD_JAHR,0),0)*$H35,IF(J35>0,AC35,I35))","v":{"v":0,"d":"0.00"}},null,{"$f":"OFFSET(MD!$P$5,MATCH($AK$7,MD_JAHR,0),0)*12","v":{"$error":"#VALUE!"}},{"v":0,"d":"0.00"}]
[{"$nulls":14},{"$f":"IF($B36=\"\",\"\",IF(F36=\"Arbeitgeberähnliche Stellung\",OFFSET(MD!$Q$5,MATCH(Grundlagen_Abrechnung_KAE!$AK$7,MD_JAHR,0),0)*$H36,IF(((AD36/12*M36*12)+N36)>AF36,AF36/12,((AD36/12*M36*12)+N36)/12)))","v":""},null,null,{"v":0,"d":"0.00"},null,{"v":0,"d":"0.00%"},{"v":0,"d":"0.00"},{"v":0,"d":"0.00"},{"v":0,"d":"0.00"},null,"prüfen",{"$f":"IFERROR(OFFSET(MD!$U$5,MATCH(Grundlagen_Abrechnung_KAE!$E36,MD_GENDER,0),0),\"\")","v":""},{"v":0,"d":"0.00"},null,{"v":0,"d":"0.00"},{"$f":"IF(F36=\"Arbeitgeberähnliche Stellung\",OFFSET(MD!$Q$5,MATCH(Grundlagen_Abrechnung_KAE!$AK$7,MD_JAHR,0),0)*$H36,IF(J36>0,AC36,I36))","v":{"v":0,"d":"0.00"}},null,{"$f":"OFFSET(MD!$P$5,MATCH($AK$7,MD_JAHR,0),0)*12","v":{"$error":"#VALUE!"}},{"v":0,"d":"0.00"}]
[{"$nulls":14},{"$f":"IF($B37=\"\",\"\",IF(F37=\"Arbeitgeberähnliche Stellung\",OFFSET(MD!$Q$5,MATCH(Grundlagen_Abrechnung_KAE!$AK$7,MD_JAHR,0),0)*$H37,IF(((AD37/12*M37*12)+N37)>AF37,AF37/12,((AD37/12*M37*12)+N37)/12)))","v":""},null,null,{"v":0,"d":"0.00"},null,{"v":0,"d":"0.00%"},{"v":0,"d":"0.00"},{"v":0,"d":"0.00"},{"v":0,"d":"0.00"},null,"prüfen",{"$f":"IFERROR(OFFSET(MD!$U$5,MATCH(Grundlagen_Abrechnung_KAE!$E37,MD_GENDER,0),0),\"\")","v":""},{"v":0,"d":"0.00"},null,{"v":0,"d":"0.00"},{"$f":"IF(F37=\"Arbeitgeberähnliche Stellung\",OFFSET(MD!$Q$5,MATCH(Grundlagen_Abrechnung_KAE!$AK$7,MD_JAHR,0),0)*$H37,IF(J37>0,AC37,I37))","v":{"v":0,"d":"0.00"}},null,{"$f":"OFFSET(MD!$P$5,MATCH($AK$7,MD_JAHR,0),0)*12","v":{"$error":"#VALUE!"}},{"v":0,"d":"0.00"}]
[{"$nulls":14},{"$f":"IF($B38=\"\",\"\",IF(F38=\"Arbeitgeberähnliche Stellung\",OFFSET(MD!$Q$5,MATCH(Grundlagen_Abrechnung_KAE!$AK$7,MD_JAHR,0),0)*$H38,IF(((AD38/12*M38*12)+N38)>AF38,AF38/12,((AD38/12*M38*12)+N38)/12)))","v":""},null,null,{"v":0,"d":"0.00"},null,{"v":0,"d":"0.00%"},{"v":0,"d":"0.00"},{"v":0,"d":"0.00"},{"v":0,"d":"0.00"},null,"prüfen",{"$f":"IFERROR(OFFSET(MD!$U$5,MATCH(Grundlagen_Abrechnung_KAE!$E38,MD_GENDER,0),0),\"\")","v":""},{"v":0,"d":"0.00"},null,{"v":0,"d":"0.00"},{"$f":"IF(F38=\"Arbeitgeberähnliche Stellung\",OFFSET(MD!$Q$5,MATCH(Grundlagen_Abrechnung_KAE!$AK$7,MD_JAHR,0),0)*$H38,IF(J38>0,AC38,I38))","v":{"v":0,"d":"0.00"}},null,{"$f":"OFFSET(MD!$P$5,MATCH($AK$7,MD_JAHR,0),0)*12","v":{"$error":"#VALUE!"}},{"v":0,"d":"0.00"}]
[{"$nulls":14},{"$f":"IF($B39=\"\",\"\",IF(F39=\"Arbeitgeberähnliche Stellung\",OFFSET(MD!$Q$5,MATCH(Grundlagen_Abrechnung_KAE!$AK$7,MD_JAHR,0),0)*$H39,IF(((AD39/12*M39*12)+N39)>AF39,AF39/12,((AD39/12*M39*12)+N39)/12)))","v":""},null,null,{"v":0,"d":"0.00"},null,{"v":0,"d":"0.00%"},{"v":0,"d":"0.00"},{"v":0,"d":"0.00"},{"v":0,"d":"0.00"},null,"prüfen",{"$f":"IFERROR(OFFSET(MD!$U$5,MATCH(Grundlagen_Abrechnung_KAE!$E39,MD_GENDER,0),0),\"\")","v":""},{"v":0,"d":"0.00"},null,{"v":0,"d":"0.00"},{"$f":"IF(F39=\"Arbeitgeberähnliche Stellung\",OFFSET(MD!$Q$5,MATCH(Grundlagen_Abrechnung_KAE!$AK$7,MD_JAHR,0),0)*$H39,IF(J39>0,AC39,I39))","v":{"v":0,"d":"0.00"}},null,{"$f":"OFFSET(MD!$P$5,MATCH($AK$7,MD_JAHR,0),0)*12","v":{"$error":"#VALUE!"}},{"v":0,"d":"0.00"}]
[{"$nulls":14},{"$f":"IF($B40=\"\",\"\",IF(F40=\"Arbeitgeberähnliche Stellung\",OFFSET(MD!$Q$5,MATCH(Grundlagen_Abrechnung_KAE!$AK$7,MD_JAHR,0),0)*$H40,IF(((AD40/12*M40*12)+N40)>AF40,AF40/12,((AD40/12*M40*12)+N40)/12)))","v":""},null,null,{"v":0,"d":"0.00"},null,{"v":0,"d":"0.00%"},{"v":0,"d":"0.00"},{"v":0,"d":"0.00"},{"v":0,"d":"0.00"},null,"prüfen",{"$f":"IFERROR(OFFSET(MD!$U$5,MATCH(Grundlagen_Abrechnung_KAE!$E40,MD_GENDER,0),0),\"\")","v":""},{"v":0,"d":"0.00"},null,{"v":0,"d":"0.00"},{"$f":"IF(F40=\"Arbeitgeberähnliche Stellung\",OFFSET(MD!$Q$5,MATCH(Grundlagen_Abrechnung_KAE!$AK$7,MD_JAHR,0),0)*$H40,IF(J40>0,AC40,I40))","v":{"v":0,"d":"0.00"}},null,{"$f":"OFFSET(MD!$P$5,MATCH($AK$7,MD_JAHR,0),0)*12","v":{"$error":"#VALUE!"}},{"v":0,"d":"0.00"}]
[{"$nulls":14},{"$f":"IF($B41=\"\",\"\",IF(F41=\"Arbeitgeberähnliche Stellung\",OFFSET(MD!$Q$5,MATCH(Grundlagen_Abrechnung_KAE!$AK$7,MD_JAHR,0),0)*$H41,IF(((AD41/12*M41*12)+N41)>AF41,AF41/12,((AD41/12*M41*12)+N41)/12)))","v":""},null,null,{"v":0,"d":"0.00"},null,{"v":0,"d":"0.00%"},{"v":0,"d":"0.00"},{"v":0,"d":"0.00"},{"v":0,"d":"0.00"},null,"prüfen",{"$f":"IFERROR(OFFSET(MD!$U$5,MATCH(Grundlagen_Abrechnung_KAE!$E41,MD_GENDER,0),0),\"\")","v":""},{"v":0,"d":"0.00"},null,{"v":0,"d":"0.00"},{"$f":"IF(F41=\"Arbeitgeberähnliche Stellung\",OFFSET(MD!$Q$5,MATCH(Grundlagen_Abrechnung_KAE!$AK$7,MD_JAHR,0),0)*$H41,IF(J41>0,AC41,I41))","v":{"v":0,"d":"0.00"}},null,{"$f":"OFFSET(MD!$P$5,MATCH($AK$7,MD_JAHR,0),0)*12","v":{"$error":"#VALUE!"}},{"v":0,"d":"0.00"}]
[{"$nulls":14},{"$f":"IF($B42=\"\",\"\",IF(F42=\"Arbeitgeberähnliche Stellung\",OFFSET(MD!$Q$5,MATCH(Grundlagen_Abrechnung_KAE!$AK$7,MD_JAHR,0),0)*$H42,IF(((AD42/12*M42*12)+N42)>AF42,AF42/12,((AD42/12*M42*12)+N42)/12)))","v":""},null,null,{"v":0,"d":"0.00"},null,{"v":0,"d":"0.00%"},{"v":0,"d":"0.00"},{"v":0,"d":"0.00"},{"v":0,"d":"0.00"},null,"prüfen",{"$f":"IFERROR(OFFSET(MD!$U$5,MATCH(Grundlagen_Abrechnung_KAE!$E42,MD_GENDER,0),0),\"\")","v":""},{"v":0,"d":"0.00"},null,{"v":0,"d":"0.00"},{"$f":"IF(F42=\"Arbeitgeberähnliche Stellung\",OFFSET(MD!$Q$5,MATCH(Grundlagen_Abrechnung_KAE!$AK$7,MD_JAHR,0),0)*$H42,IF(J42>0,AC42,I42))","v":{"v":0,"d":"0.00"}},null,{"$f":"OFFSET(MD!$P$5,MATCH($AK$7,MD_JAHR,0),0)*12","v":{"$error":"#VALUE!"}},{"v":0,"d":"0.00"}]
[{"$nulls":14},{"$f":"IF($B43=\"\",\"\",IF(F43=\"Arbeitgeberähnliche Stellung\",OFFSET(MD!$Q$5,MATCH(Grundlagen_Abrechnung_KAE!$AK$7,MD_JAHR,0),0)*$H43,IF(((AD43/12*M43*12)+N43)>AF43,AF43/12,((AD43/12*M43*12)+N43)/12)))","v":""},null,null,{"v":0,"d":"0.00"},null,{"v":0,"d":"0.00%"},{"v":0,"d":"0.00"},{"v":0,"d":"0.00"},{"v":0,"d":"0.00"},null,"prüfen",{"$f":"IFERROR(OFFSET(MD!$U$5,MATCH(Grundlagen_Abrechnung_KAE!$E43,MD_GENDER,0),0),\"\")","v":""},{"v":0,"d":"0.00"},null,{"v":0,"d":"0.00"},{"$f":"IF(F43=\"Arbeitgeberähnliche Stellung\",OFFSET(MD!$Q$5,MATCH(Grundlagen_Abrechnung_KAE!$AK$7,MD_JAHR,0),0)*$H43,IF(J43>0,AC43,I43))","v":{"v":0,"d":"0.00"}},null,{"$f":"OFFSET(MD!$P$5,MATCH($AK$7,MD_JAHR,0),0)*12","v":{"$error":"#VALUE!"}},{"v":0,"d":"0.00"}]
[{"$nulls":14},{"$f":"IF($B44=\"\",\"\",IF(F44=\"Arbeitgeberähnliche Stellung\",OFFSET(MD!$Q$5,MATCH(Grundlagen_Abrechnung_KAE!$AK$7,MD_JAHR,0),0)*$H44,IF(((AD44/12*M44*12)+N44)>AF44,AF44/12,((AD44/12*M44*12)+N44)/12)))","v":""},null,null,{"v":0,"d":"0.00"},null,{"v":0,"d":"0.00%"},{"v":0,"d":"0.00"},{"v":0,"d":"0.00"},{"v":0,"d":"0.00"},null,"prüfen",{"$f":"IFERROR(OFFSET(MD!$U$5,MATCH(Grundlagen_Abrechnung_KAE!$E44,MD_GENDER,0),0),\"\")","v":""},{"v":0,"d":"0.00"},null,{"v":0,"d":"0.00"},{"$f":"IF(F44=\"Arbeitgeberähnliche Stellung\",OFFSET(MD!$Q$5,MATCH(Grundlagen_Abrechnung_KAE!$AK$7,MD_JAHR,0),0)*$H44,IF(J44>0,AC44,I44))","v":{"v":0,"d":"0.00"}},null,{"$f":"OFFSET(MD!$P$5,MATCH($AK$7,MD_JAHR,0),0)*12","v":{"$error":"#VALUE!"}},{"v":0,"d":"0.00"}]
[{"$nulls":14},{"$f":"IF($B45=\"\",\"\",IF(F45=\"Arbeitgeberähnliche Stellung\",OFFSET(MD!$Q$5,MATCH(Grundlagen_Abrechnung_KAE!$AK$7,MD_JAHR,0),0)*$H45,IF(((AD45/12*M45*12)+N45)>AF45,AF45/12,((AD45/12*M45*12)+N45)/12)))","v":""},null,null,{"v":0,"d":"0.00"},null,{"v":0,"d":"0.00%"},{"v":0,"d":"0.00"},{"v":0,"d":"0.00"},{"v":0,"d":"0.00"},null,"prüfen",{"$f":"IFERROR(OFFSET(MD!$U$5,MATCH(Grundlagen_Abrechnung_KAE!$E45,MD_GENDER,0),0),\"\")","v":""},{"v":0,"d":"0.00"},null,{"v":0,"d":"0.00"},{"$f":"IF(F45=\"Arbeitgeberähnliche Stellung\",OFFSET(MD!$Q$5,MATCH(Grundlagen_Abrechnung_KAE!$AK$7,MD_JAHR,0),0)*$H45,IF(J45>0,AC45,I45))","v":{"v":0,"d":"0.00"}},null,{"$f":"OFFSET(MD!$P$5,MATCH($AK$7,MD_JAHR,0),0)*12","v":{"$error":"#VALUE!"}},{"v":0,"d":"0.00"}]
[{"$nulls":14},{"$f":"IF($B46=\"\",\"\",IF(F46=\"Arbeitgeberähnliche Stellung\",OFFSET(MD!$Q$5,MATCH(Grundlagen_Abrechnung_KAE!$AK$7,MD_JAHR,0),0)*$H46,IF(((AD46/12*M46*12)+N46)>AF46,AF46/12,((AD46/12*M46*12)+N46)/12)))","v":""},null,null,{"v":0,"d":"0.00"},null,{"v":0,"d":"0.00%"},{"v":0,"d":"0.00"},{"v":0,"d":"0.00"},{"v":0,"d":"0.00"},null,"prüfen",{"$f":"IFERROR(OFFSET(MD!$U$5,MATCH(Grundlagen_Abrechnung_KAE!$E46,MD_GENDER,0),0),\"\")","v":""},{"v":0,"d":"0.00"},null,{"v":0,"d":"0.00"},{"$f":"IF(F46=\"Arbeitgeberähnliche Stellung\",OFFSET(MD!$Q$5,MATCH(Grundlagen_Abrechnung_KAE!$AK$7,MD_JAHR,0),0)*$H46,IF(J46>0,AC46,I46))","v":{"v":0,"d":"0.00"}},null,{"$f":"OFFSET(MD!$P$5,MATCH($AK$7,MD_JAHR,0),0)*12","v":{"$error":"#VALUE!"}},{"v":0,"d":"0.00"}]
[{"$nulls":14},{"$f":"IF($B47=\"\",\"\",IF(F47=\"Arbeitgeberähnliche Stellung\",OFFSET(MD!$Q$5,MATCH(Grundlagen_Abrechnung_KAE!$AK$7,MD_JAHR,0),0)*$H47,IF(((AD47/12*M47*12)+N47)>AF47,AF47/12,((AD47/12*M47*12)+N47)/12)))","v":""},null,null,{"v":0,"d":"0.00"},null,{"v":0,"d":"0.00%"},{"v":0,"d":"0.00"},{"v":0,"d":"0.00"},{"v":0,"d":"0.00"},null,"prüfen",{"$f":"IFERROR(OFFSET(MD!$U$5,MATCH(Grundlagen_Abrechnung_KAE!$E47,MD_GENDER,0),0),\"\")","v":""},{"v":0,"d":"0.00"},null,{"v":0,"d":"0.00"},{"$f":"IF(F47=\"Arbeitgeberähnliche Stellung\",OFFSET(MD!$Q$5,MATCH(Grundlagen_Abrechnung_KAE!$AK$7,MD_JAHR,0),0)*$H47,IF(J47>0,AC47,I47))","v":{"v":0,"d":"0.00"}},null,{"$f":"OFFSET(MD!$P$5,MATCH($AK$7,MD_JAHR,0),0)*12","v":{"$error":"#VALUE!"}},{"v":0,"d":"0.00"}]
[{"$nulls":14},{"$f":"IF($B48=\"\",\"\",IF(F48=\"Arbeitgeberähnliche Stellung\",OFFSET(MD!$Q$5,MATCH(Grundlagen_Abrechnung_KAE!$AK$7,MD_JAHR,0),0)*$H48,IF(((AD48/12*M48*12)+N48)>AF48,AF48/12,((AD48/12*M48*12)+N48)/12)))","v":""},null,null,{"v":0,"d":"0.00"},null,{"v":0,"d":"0.00%"},{"v":0,"d":"0.00"},{"v":0,"d":"0.00"},{"v":0,"d":"0.00"},null,"prüfen",{"$f":"IFERROR(OFFSET(MD!$U$5,MATCH(Grundlagen_Abrechnung_KAE!$E48,MD_GENDER,0),0),\"\")","v":""},{"v":0,"d":"0.00"},null,{"v":0,"d":"0.00"},{"$f":"IF(F48=\"Arbeitgeberähnliche Stellung\",OFFSET(MD!$Q$5,MATCH(Grundlagen_Abrechnung_KAE!$AK$7,MD_JAHR,0),0)*$H48,IF(J48>0,AC48,I48))","v":{"v":0,"d":"0.00"}},null,{"$f":"OFFSET(MD!$P$5,MATCH($AK$7,MD_JAHR,0),0)*12","v":{"$error":"#VALUE!"}},{"v":0,"d":"0.00"}]
[{"$nulls":14},{"$f":"IF($B49=\"\",\"\",IF(F49=\"Arbeitgeberähnliche Stellung\",OFFSET(MD!$Q$5,MATCH(Grundlagen_Abrechnung_KAE!$AK$7,MD_JAHR,0),0)*$H49,IF(((AD49/12*M49*12)+N49)>AF49,AF49/12,((AD49/12*M49*12)+N49)/12)))","v":""},null,null,{"v":0,"d":"0.00"},null,{"v":0,"d":"0.00%"},{"v":0,"d":"0.00"},{"v":0,"d":"0.00"},{"v":0,"d":"0.00"},null,"prüfen",{"$f":"IFERROR(OFFSET(MD!$U$5,MATCH(Grundlagen_Abrechnung_KAE!$E49,MD_GENDER,0),0),\"\")","v":""},{"v":0,"d":"0.00"},null,{"v":0,"d":"0.00"},{"$f":"IF(F49=\"Arbeitgeberähnliche Stellung\",OFFSET(MD!$Q$5,MATCH(Grundlagen_Abrechnung_KAE!$AK$7,MD_JAHR,0),0)*$H49,IF(J49>0,AC49,I49))","v":{"v":0,"d":"0.00"}},null,{"$f":"OFFSET(MD!$P$5,MATCH($AK$7,MD_JAHR,0),0)*12","v":{"$error":"#VALUE!"}},{"v":0,"d":"0.00"}]
[{"$nulls":14},{"$f":"IF($B50=\"\",\"\",IF(F50=\"Arbeitgeberähnliche Stellung\",OFFSET(MD!$Q$5,MATCH(Grundlagen_Abrechnung_KAE!$AK$7,MD_JAHR,0),0)*$H50,IF(((AD50/12*M50*12)+N50)>AF50,AF50/12,((AD50/12*M50*12)+N50)/12)))","v":""},null,null,{"v":0,"d":"0.00"},null,{"v":0,"d":"0.00%"},{"v":0,"d":"0.00"},{"v":0,"d":"0.00"},{"v":0,"d":"0.00"},null,"prüfen",{"$f":"IFERROR(OFFSET(MD!$U$5,MATCH(Grundlagen_Abrechnung_KAE!$E50,MD_GENDER,0),0),\"\")","v":""},{"v":0,"d":"0.00"},null,{"v":0,"d":"0.00"},{"$f":"IF(F50=\"Arbeitgeberähnliche Stellung\",OFFSET(MD!$Q$5,MATCH(Grundlagen_Abrechnung_KAE!$AK$7,MD_JAHR,0),0)*$H50,IF(J50>0,AC50,I50))","v":{"v":0,"d":"0.00"}},null,{"$f":"OFFSET(MD!$P$5,MATCH($AK$7,MD_JAHR,0),0)*12","v":{"$error":"#VALUE!"}},{"v":0,"d":"0.00"}]
[{"$nulls":14},{"$f":"IF($B51=\"\",\"\",IF(F51=\"Arbeitgeberähnliche Stellung\",OFFSET(MD!$Q$5,MATCH(Grundlagen_Abrechnung_KAE!$AK$7,MD_JAHR,0),0)*$H51,IF(((AD51/12*M51*12)+N51)>AF51,AF51/12,((AD51/12*M51*12)+N51)/12)))","v":""},null,null,{"v":0,"d":"0.00"},null,{"v":0,"d":"0.00%"},{"v":0,"d":"0.00"},{"v":0,"d":"0.00"},{"v":0,"d":"0.00"},null,"prüfen",{"$f":"IFERROR(OFFSET(MD!$U$5,MATCH(Grundlagen_Abrechnung_KAE!$E51,MD_GENDER,0),0),\"\")","v":""},{"v":0,"d":"0.00"},null,{"v":0,"d":"0.00"},{"$f":"IF(F51=\"Arbeitgeberähnliche Stellung\",OFFSET(MD!$Q$5,MATCH(Grundlagen_Abrechnung_KAE!$AK$7,MD_JAHR,0),0)*$H51,IF(J51>0,AC51,I51))","v":{"v":0,"d":"0.00"}},null,{"$f":"OFFSET(MD!$P$5,MATCH($AK$7,MD_JAHR,0),0)*12","v":{"$error":"#VALUE!"}},{"v":0,"d":"0.00"}]
[{"$nulls":14},{"$f":"IF($B52=\"\",\"\",IF(F52=\"Arbeitgeberähnliche Stellung\",OFFSET(MD!$Q$5,MATCH(Grundlagen_Abrechnung_KAE!$AK$7,MD_JAHR,0),0)*$H52,IF(((AD52/12*M52*12)+N52)>AF52,AF52/12,((AD52/12*M52*12)+N52)/12)))","v":""},null,null,{"v":0,"d":"0.00"},null,{"v":0,"d":"0.00%"},{"v":0,"d":"0.00"},{"v":0,"d":"0.00"},{"v":0,"d":"0.00"},null,"prüfen",{"$f":"IFERROR(OFFSET(MD!$U$5,MATCH(Grundlagen_Abrechnung_KAE!$E52,MD_GENDER,0),0),\"\")","v":""},{"v":0,"d":"0.00"},null,{"v":0,"d":"0.00"},{"$f":"IF(F52=\"Arbeitgeberähnliche Stellung\",OFFSET(MD!$Q$5,MATCH(Grundlagen_Abrechnung_KAE!$AK$7,MD_JAHR,0),0)*$H52,IF(J52>0,AC52,I52))","v":{"v":0,"d":"0.00"}},null,{"$f":"OFFSET(MD!$P$5,MATCH($AK$7,MD_JAHR,0),0)*12","v":{"$error":"#VALUE!"}},{"v":0,"d":"0.00"}]
[{"$nulls":14},{"$f":"IF($B53=\"\",\"\",IF(F53=\"Arbeitgeberähnliche Stellung\",OFFSET(MD!$Q$5,MATCH(Grundlagen_Abrechnung_KAE!$AK$7,MD_JAHR,0),0)*$H53,IF(((AD53/12*M53*12)+N53)>AF53,AF53/12,((AD53/12*M53*12)+N53)/12)))","v":""},null,null,{"v":0,"d":"0.00"},null,{"v":0,"d":"0.00%"},{"v":0,"d":"0.00"},{"v":0,"d":"0.00"},{"v":0,"d":"0.00"},null,"prüfen",{"$f":"IFERROR(OFFSET(MD!$U$5,MATCH(Grundlagen_Abrechnung_KAE!$E53,MD_GENDER,0),0),\"\")","v":""},{"v":0,"d":"0.00"},null,{"v":0,"d":"0.00"},{"$f":"IF(F53=\"Arbeitgeberähnliche Stellung\",OFFSET(MD!$Q$5,MATCH(Grundlagen_Abrechnung_KAE!$AK$7,MD_JAHR,0),0)*$H53,IF(J53>0,AC53,I53))","v":{"v":0,"d":"0.00"}},null,{"$f":"OFFSET(MD!$P$5,MATCH($AK$7,MD_JAHR,0),0)*12","v":{"$error":"#VALUE!"}},{"v":0,"d":"0.00"}]
[{"$nulls":14},{"$f":"IF($B54=\"\",\"\",IF(F54=\"Arbeitgeberähnliche Stellung\",OFFSET(MD!$Q$5,MATCH(Grundlagen_Abrechnung_KAE!$AK$7,MD_JAHR,0),0)*$H54,IF(((AD54/12*M54*12)+N54)>AF54,AF54/12,((AD54/12*M54*12)+N54)/12)))","v":""},null,null,{"v":0,"d":"0.00"},null,{"v":0,"d":"0.00%"},{"v":0,"d":"0.00"},{"v":0,"d":"0.00"},{"v":0,"d":"0.00"},null,"prüfen",{"$f":"IFERROR(OFFSET(MD!$U$5,MATCH(Grundlagen_Abrechnung_KAE!$E54,MD_GENDER,0),0),\"\")","v":""},{"v":0,"d":"0.00"},null,{"v":0,"d":"0.00"},{"$f":"IF(F54=\"Arbeitgeberähnliche Stellung\",OFFSET(MD!$Q$5,MATCH(Grundlagen_Abrechnung_KAE!$AK$7,MD_JAHR,0),0)*$H54,IF(J54>0,AC54,I54))","v":{"v":0,"d":"0.00"}},null,{"$f":"OFFSET(MD!$P$5,MATCH($AK$7,MD_JAHR,0),0)*12","v":{"$error":"#VALUE!"}},{"v":0,"d":"0.00"}]
[{"$nulls":14},{"$f":"IF($B55=\"\",\"\",IF(F55=\"Arbeitgeberähnliche Stellung\",OFFSET(MD!$Q$5,MATCH(Grundlagen_Abrechnung_KAE!$AK$7,MD_JAHR,0),0)*$H55,IF(((AD55/12*M55*12)+N55)>AF55,AF55/12,((AD55/12*M55*12)+N55)/12)))","v":""},null,null,{"v":0,"d":"0.00"},null,{"v":0,"d":"0.00%"},{"v":0,"d":"0.00"},{"v":0,"d":"0.00"},{"v":0,"d":"0.00"},null,"prüfen",{"$f":"IFERROR(OFFSET(MD!$U$5,MATCH(Grundlagen_Abrechnung_KAE!$E55,MD_GENDER,0),0),\"\")","v":""},{"v":0,"d":"0.00"},null,{"v":0,"d":"0.00"},{"$f":"IF(F55=\"Arbeitgeberähnliche Stellung\",OFFSET(MD!$Q$5,MATCH(Grundlagen_Abrechnung_KAE!$AK$7,MD_JAHR,0),0)*$H55,IF(J55>0,AC55,I55))","v":{"v":0,"d":"0.00"}},null,{"$f":"OFFSET(MD!$P$5,MATCH($AK$7,MD_JAHR,0),0)*12","v":{"$error":"#VALUE!"}},{"v":0,"d":"0.00"}]
[{"$nulls":14},{"$f":"IF($B56=\"\",\"\",IF(F56=\"Arbeitgeberähnliche Stellung\",OFFSET(MD!$Q$5,MATCH(Grundlagen_Abrechnung_KAE!$AK$7,MD_JAHR,0),0)*$H56,IF(((AD56/12*M56*12)+N56)>AF56,AF56/12,((AD56/12*M56*12)+N56)/12)))","v":""},null,null,{"v":0,"d":"0.00"},null,{"v":0,"d":"0.00%"},{"v":0,"d":"0.00"},{"v":0,"d":"0.00"},{"v":0,"d":"0.00"},null,"prüfen",{"$f":"IFERROR(OFFSET(MD!$U$5,MATCH(Grundlagen_Abrechnung_KAE!$E56,MD_GENDER,0),0),\"\")","v":""},{"v":0,"d":"0.00"},null,{"v":0,"d":"0.00"},{"$f":"IF(F56=\"Arbeitgeberähnliche Stellung\",OFFSET(MD!$Q$5,MATCH(Grundlagen_Abrechnung_KAE!$AK$7,MD_JAHR,0),0)*$H56,IF(J56>0,AC56,I56))","v":{"v":0,"d":"0.00"}},null,{"$f":"OFFSET(MD!$P$5,MATCH($AK$7,MD_JAHR,0),0)*12","v":{"$error":"#VALUE!"}},{"v":0,"d":"0.00"}]
[{"$nulls":14},{"$f":"IF($B57=\"\",\"\",IF(F57=\"Arbeitgeberähnliche Stellung\",OFFSET(MD!$Q$5,MATCH(Grundlagen_Abrechnung_KAE!$AK$7,MD_JAHR,0),0)*$H57,IF(((AD57/12*M57*12)+N57)>AF57,AF57/12,((AD57/12*M57*12)+N57)/12)))","v":""},null,null,{"v":0,"d":"0.00"},null,{"v":0,"d":"0.00%"},{"v":0,"d":"0.00"},{"v":0,"d":"0.00"},{"v":0,"d":"0.00"},null,"prüfen",{"$f":"IFERROR(OFFSET(MD!$U$5,MATCH(Grundlagen_Abrechnung_KAE!$E57,MD_GENDER,0),0),\"\")","v":""},{"v":0,"d":"0.00"},null,{"v":0,"d":"0.00"},{"$f":"IF(F57=\"Arbeitgeberähnliche Stellung\",OFFSET(MD!$Q$5,MATCH(Grundlagen_Abrechnung_KAE!$AK$7,MD_JAHR,0),0)*$H57,IF(J57>0,AC57,I57))","v":{"v":0,"d":"0.00"}},null,{"$f":"OFFSET(MD!$P$5,MATCH($AK$7,MD_JAHR,0),0)*12","v":{"$error":"#VALUE!"}},{"v":0,"d":"0.00"}]
[{"$nulls":14},{"$f":"IF($B58=\"\",\"\",IF(F58=\"Arbeitgeberähnliche Stellung\",OFFSET(MD!$Q$5,MATCH(Grundlagen_Abrechnung_KAE!$AK$7,MD_JAHR,0),0)*$H58,IF(((AD58/12*M58*12)+N58)>AF58,AF58/12,((AD58/12*M58*12)+N58)/12)))","v":""},null,null,{"v":0,"d":"0.00"},null,{"v":0,"d":"0.00%"},{"v":0,"d":"0.00"},{"v":0,"d":"0.00"},{"v":0,"d":"0.00"},null,"prüfen",{"$f":"IFERROR(OFFSET(MD!$U$5,MATCH(Grundlagen_Abrechnung_KAE!$E58,MD_GENDER,0),0),\"\")","v":""},{"v":0,"d":"0.00"},null,{"v":0,"d":"0.00"},{"$f":"IF(F58=\"Arbeitgeberähnliche Stellung\",OFFSET(MD!$Q$5,MATCH(Grundlagen_Abrechnung_KAE!$AK$7,MD_JAHR,0),0)*$H58,IF(J58>0,AC58,I58))","v":{"v":0,"d":"0.00"}},null,{"$f":"OFFSET(MD!$P$5,MATCH($AK$7,MD_JAHR,0),0)*12","v":{"$error":"#VALUE!"}},{"v":0,"d":"0.00"}]
[{"$nulls":14},{"$f":"IF($B59=\"\",\"\",IF(F59=\"Arbeitgeberähnliche Stellung\",OFFSET(MD!$Q$5,MATCH(Grundlagen_Abrechnung_KAE!$AK$7,MD_JAHR,0),0)*$H59,IF(((AD59/12*M59*12)+N59)>AF59,AF59/12,((AD59/12*M59*12)+N59)/12)))","v":""},null,null,{"v":0,"d":"0.00"},null,{"v":0,"d":"0.00%"},{"v":0,"d":"0.00"},{"v":0,"d":"0.00"},{"v":0,"d":"0.00"},null,"prüfen",{"$f":"IFERROR(OFFSET(MD!$U$5,MATCH(Grundlagen_Abrechnung_KAE!$E59,MD_GENDER,0),0),\"\")","v":""},{"v":0,"d":"0.00"},null,{"v":0,"d":"0.00"},{"$f":"IF(F59=\"Arbeitgeberähnliche Stellung\",OFFSET(MD!$Q$5,MATCH(Grundlagen_Abrechnung_KAE!$AK$7,MD_JAHR,0),0)*$H59,IF(J59>0,AC59,I59))","v":{"v":0,"d":"0.00"}},null,{"$f":"OFFSET(MD!$P$5,MATCH($AK$7,MD_JAHR,0),0)*12","v":{"$error":"#VALUE!"}},{"v":0,"d":"0.00"}]
[{"$nulls":14},{"$f":"IF($B60=\"\",\"\",IF(F60=\"Arbeitgeberähnliche Stellung\",OFFSET(MD!$Q$5,MATCH(Grundlagen_Abrechnung_KAE!$AK$7,MD_JAHR,0),0)*$H60,IF(((AD60/12*M60*12)+N60)>AF60,AF60/12,((AD60/12*M60*12)+N60)/12)))","v":""},null,null,{"v":0,"d":"0.00"},null,{"v":0,"d":"0.00%"},{"v":0,"d":"0.00"},{"v":0,"d":"0.00"},{"v":0,"d":"0.00"},null,"prüfen",{"$f":"IFERROR(OFFSET(MD!$U$5,MATCH(Grundlagen_Abrechnung_KAE!$E60,MD_GENDER,0),0),\"\")","v":""},{"v":0,"d":"0.00"},null,{"v":0,"d":"0.00"},{"$f":"IF(F60=\"Arbeitgeberähnliche Stellung\",OFFSET(MD!$Q$5,MATCH(Grundlagen_Abrechnung_KAE!$AK$7,MD_JAHR,0),0)*$H60,IF(J60>0,AC60,I60))","v":{"v":0,"d":"0.00"}},null,{"$f":"OFFSET(MD!$P$5,MATCH($AK$7,MD_JAHR,0),0)*12","v":{"$error":"#VALUE!"}},{"v":0,"d":"0.00"}]
[{"$nulls":14},{"$f":"IF($B61=\"\",\"\",IF(F61=\"Arbeitgeberähnliche Stellung\",OFFSET(MD!$Q$5,MATCH(Grundlagen_Abrechnung_KAE!$AK$7,MD_JAHR,0),0)*$H61,IF(((AD61/12*M61*12)+N61)>AF61,AF61/12,((AD61/12*M61*12)+N61)/12)))","v":""},null,null,{"v":0,"d":"0.00"},null,{"v":0,"d":"0.00%"},{"v":0,"d":"0.00"},{"v":0,"d":"0.00"},{"v":0,"d":"0.00"},null,"prüfen",{"$f":"IFERROR(OFFSET(MD!$U$5,MATCH(Grundlagen_Abrechnung_KAE!$E61,MD_GENDER,0),0),\"\")","v":""},{"v":0,"d":"0.00"},null,{"v":0,"d":"0.00"},{"$f":"IF(F61=\"Arbeitgeberähnliche Stellung\",OFFSET(MD!$Q$5,MATCH(Grundlagen_Abrechnung_KAE!$AK$7,MD_JAHR,0),0)*$H61,IF(J61>0,AC61,I61))","v":{"v":0,"d":"0.00"}},null,{"$f":"OFFSET(MD!$P$5,MATCH($AK$7,MD_JAHR,0),0)*12","v":{"$error":"#VALUE!"}},{"v":0,"d":"0.00"}]
[{"$nulls":14},{"$f":"IF($B62=\"\",\"\",IF(F62=\"Arbeitgeberähnliche Stellung\",OFFSET(MD!$Q$5,MATCH(Grundlagen_Abrechnung_KAE!$AK$7,MD_JAHR,0),0)*$H62,IF(((AD62/12*M62*12)+N62)>AF62,AF62/12,((AD62/12*M62*12)+N62)/12)))","v":""},null,null,{"v":0,"d":"0.00"},null,{"v":0,"d":"0.00%"},{"v":0,"d":"0.00"},{"v":0,"d":"0.00"},{"v":0,"d":"0.00"},null,"prüfen",{"$f":"IFERROR(OFFSET(MD!$U$5,MATCH(Grundlagen_Abrechnung_KAE!$E62,MD_GENDER,0),0),\"\")","v":""},{"v":0,"d":"0.00"},null,{"v":0,"d":"0.00"},{"$f":"IF(F62=\"Arbeitgeberähnliche Stellung\",OFFSET(MD!$Q$5,MATCH(Grundlagen_Abrechnung_KAE!$AK$7,MD_JAHR,0),0)*$H62,IF(J62>0,AC62,I62))","v":{"v":0,"d":"0.00"}},null,{"$f":"OFFSET(MD!$P$5,MATCH($AK$7,MD_JAHR,0),0)*12","v":{"$error":"#VALUE!"}},{"v":0,"d":"0.00"}]
[{"$nulls":14},{"$f":"IF($B63=\"\",\"\",IF(F63=\"Arbeitgeberähnliche Stellung\",OFFSET(MD!$Q$5,MATCH(Grundlagen_Abrechnung_KAE!$AK$7,MD_JAHR,0),0)*$H63,IF(((AD63/12*M63*12)+N63)>AF63,AF63/12,((AD63/12*M63*12)+N63)/12)))","v":""},null,null,{"v":0,"d":"0.00"},null,{"v":0,"d":"0.00%"},{"v":0,"d":"0.00"},{"v":0,"d":"0.00"},{"v":0,"d":"0.00"},null,"prüfen",{"$f":"IFERROR(OFFSET(MD!$U$5,MATCH(Grundlagen_Abrechnung_KAE!$E63,MD_GENDER,0),0),\"\")","v":""},{"v":0,"d":"0.00"},null,{"v":0,"d":"0.00"},{"$f":"IF(F63=\"Arbeitgeberähnliche Stellung\",OFFSET(MD!$Q$5,MATCH(Grundlagen_Abrechnung_KAE!$AK$7,MD_JAHR,0),0)*$H63,IF(J63>0,AC63,I63))","v":{"v":0,"d":"0.00"}},null,{"$f":"OFFSET(MD!$P$5,MATCH($AK$7,MD_JAHR,0),0)*12","v":{"$error":"#VALUE!"}},{"v":0,"d":"0.00"}]
[{"$nulls":14},{"$f":"IF($B64=\"\",\"\",IF(F64=\"Arbeitgeberähnliche Stellung\",OFFSET(MD!$Q$5,MATCH(Grundlagen_Abrechnung_KAE!$AK$7,MD_JAHR,0),0)*$H64,IF(((AD64/12*M64*12)+N64)>AF64,AF64/12,((AD64/12*M64*12)+N64)/12)))","v":""},null,null,{"v":0,"d":"0.00"},null,{"v":0,"d":"0.00%"},{"v":0,"d":"0.00"},{"v":0,"d":"0.00"},{"v":0,"d":"0.00"},null,"prüfen",{"$f":"IFERROR(OFFSET(MD!$U$5,MATCH(Grundlagen_Abrechnung_KAE!$E64,MD_GENDER,0),0),\"\")","v":""},{"v":0,"d":"0.00"},null,{"v":0,"d":"0.00"},{"$f":"IF(F64=\"Arbeitgeberähnliche Stellung\",OFFSET(MD!$Q$5,MATCH(Grundlagen_Abrechnung_KAE!$AK$7,MD_JAHR,0),0)*$H64,IF(J64>0,AC64,I64))","v":{"v":0,"d":"0.00"}},null,{"$f":"OFFSET(MD!$P$5,MATCH($AK$7,MD_JAHR,0),0)*12","v":{"$error":"#VALUE!"}},{"v":0,"d":"0.00"}]
[{"$nulls":14},{"$f":"IF($B65=\"\",\"\",IF(F65=\"Arbeitgeberähnliche Stellung\",OFFSET(MD!$Q$5,MATCH(Grundlagen_Abrechnung_KAE!$AK$7,MD_JAHR,0),0)*$H65,IF(((AD65/12*M65*12)+N65)>AF65,AF65/12,((AD65/12*M65*12)+N65)/12)))","v":""},null,null,{"v":0,"d":"0.00"},null,{"v":0,"d":"0.00%"},{"v":0,"d":"0.00"},{"v":0,"d":"0.00"},{"v":0,"d":"0.00"},null,"prüfen",{"$f":"IFERROR(OFFSET(MD!$U$5,MATCH(Grundlagen_Abrechnung_KAE!$E65,MD_GENDER,0),0),\"\")","v":""},{"v":0,"d":"0.00"},null,{"v":0,"d":"0.00"},{"$f":"IF(F65=\"Arbeitgeberähnliche Stellung\",OFFSET(MD!$Q$5,MATCH(Grundlagen_Abrechnung_KAE!$AK$7,MD_JAHR,0),0)*$H65,IF(J65>0,AC65,I65))","v":{"v":0,"d":"0.00"}},null,{"$f":"OFFSET(MD!$P$5,MATCH($AK$7,MD_JAHR,0),0)*12","v":{"$error":"#VALUE!"}},{"v":0,"d":"0.00"}]
[{"$nulls":14},{"$f":"IF($B66=\"\",\"\",IF(F66=\"Arbeitgeberähnliche Stellung\",OFFSET(MD!$Q$5,MATCH(Grundlagen_Abrechnung_KAE!$AK$7,MD_JAHR,0),0)*$H66,IF(((AD66/12*M66*12)+N66)>AF66,AF66/12,((AD66/12*M66*12)+N66)/12)))","v":""},null,null,{"v":0,"d":"0.00"},null,{"v":0,"d":"0.00%"},{"v":0,"d":"0.00"},{"v":0,"d":"0.00"},{"v":0,"d":"0.00"},null,"prüfen",{"$f":"IFERROR(OFFSET(MD!$U$5,MATCH(Grundlagen_Abrechnung_KAE!$E66,MD_GENDER,0),0),\"\")","v":""},{"v":0,"d":"0.00"},null,{"v":0,"d":"0.00"},{"$f":"IF(F66=\"Arbeitgeberähnliche Stellung\",OFFSET(MD!$Q$5,MATCH(Grundlagen_Abrechnung_KAE!$AK$7,MD_JAHR,0),0)*$H66,IF(J66>0,AC66,I66))","v":{"v":0,"d":"0.00"}},null,{"$f":"OFFSET(MD!$P$5,MATCH($AK$7,MD_JAHR,0),0)*12","v":{"$error":"#VALUE!"}},{"v":0,"d":"0.00"}]
[{"$nulls":14},{"$f":"IF($B67=\"\",\"\",IF(F67=\"Arbeitgeberähnliche Stellung\",OFFSET(MD!$Q$5,MATCH(Grundlagen_Abrechnung_KAE!$AK$7,MD_JAHR,0),0)*$H67,IF(((AD67/12*M67*12)+N67)>AF67,AF67/12,((AD67/12*M67*12)+N67)/12)))","v":""},null,null,{"v":0,"d":"0.00"},null,{"v":0,"d":"0.00%"},{"v":0,"d":"0.00"},{"v":0,"d":"0.00"},{"v":0,"d":"0.00"},null,"prüfen",{"$f":"IFERROR(OFFSET(MD!$U$5,MATCH(Grundlagen_Abrechnung_KAE!$E67,MD_GENDER,0),0),\"\")","v":""},{"v":0,"d":"0.00"},null,{"v":0,"d":"0.00"},{"$f":"IF(F67=\"Arbeitgeberähnliche Stellung\",OFFSET(MD!$Q$5,MATCH(Grundlagen_Abrechnung_KAE!$AK$7,MD_JAHR,0),0)*$H67,IF(J67>0,AC67,I67))","v":{"v":0,"d":"0.00"}},null,{"$f":"OFFSET(MD!$P$5,MATCH($AK$7,MD_JAHR,0),0)*12","v":{"$error":"#VALUE!"}},{"v":0,"d":"0.00"}]
[{"$nulls":14},{"$f":"IF($B68=\"\",\"\",IF(F68=\"Arbeitgeberähnliche Stellung\",OFFSET(MD!$Q$5,MATCH(Grundlagen_Abrechnung_KAE!$AK$7,MD_JAHR,0),0)*$H68,IF(((AD68/12*M68*12)+N68)>AF68,AF68/12,((AD68/12*M68*12)+N68)/12)))","v":""},null,null,{"v":0,"d":"0.00"},null,{"v":0,"d":"0.00%"},{"v":0,"d":"0.00"},{"v":0,"d":"0.00"},{"v":0,"d":"0.00"},null,"prüfen",{"$f":"IFERROR(OFFSET(MD!$U$5,MATCH(Grundlagen_Abrechnung_KAE!$E68,MD_GENDER,0),0),\"\")","v":""},{"v":0,"d":"0.00"},null,{"v":0,"d":"0.00"},{"$f":"IF(F68=\"Arbeitgeberähnliche Stellung\",OFFSET(MD!$Q$5,MATCH(Grundlagen_Abrechnung_KAE!$AK$7,MD_JAHR,0),0)*$H68,IF(J68>0,AC68,I68))","v":{"v":0,"d":"0.00"}},null,{"$f":"OFFSET(MD!$P$5,MATCH($AK$7,MD_JAHR,0),0)*12","v":{"$error":"#VALUE!"}},{"v":0,"d":"0.00"}]
[{"$nulls":14},{"$f":"IF($B69=\"\",\"\",IF(F69=\"Arbeitgeberähnliche Stellung\",OFFSET(MD!$Q$5,MATCH(Grundlagen_Abrechnung_KAE!$AK$7,MD_JAHR,0),0)*$H69,IF(((AD69/12*M69*12)+N69)>AF69,AF69/12,((AD69/12*M69*12)+N69)/12)))","v":""},null,null,{"v":0,"d":"0.00"},null,{"v":0,"d":"0.00%"},{"v":0,"d":"0.00"},{"v":0,"d":"0.00"},{"v":0,"d":"0.00"},null,"prüfen",{"$f":"IFERROR(OFFSET(MD!$U$5,MATCH(Grundlagen_Abrechnung_KAE!$E69,MD_GENDER,0),0),\"\")","v":""},{"v":0,"d":"0.00"},null,{"v":0,"d":"0.00"},{"$f":"IF(F69=\"Arbeitgeberähnliche Stellung\",OFFSET(MD!$Q$5,MATCH(Grundlagen_Abrechnung_KAE!$AK$7,MD_JAHR,0),0)*$H69,IF(J69>0,AC69,I69))","v":{"v":0,"d":"0.00"}},null,{"$f":"OFFSET(MD!$P$5,MATCH($AK$7,MD_JAHR,0),0)*12","v":{"$error":"#VALUE!"}},{"v":0,"d":"0.00"}]
[{"$nulls":14},{"$f":"IF($B70=\"\",\"\",IF(F70=\"Arbeitgeberähnliche Stellung\",OFFSET(MD!$Q$5,MATCH(Grundlagen_Abrechnung_KAE!$AK$7,MD_JAHR,0),0)*$H70,IF(((AD70/12*M70*12)+N70)>AF70,AF70/12,((AD70/12*M70*12)+N70)/12)))","v":""},null,null,{"v":0,"d":"0.00"},null,{"v":0,"d":"0.00%"},{"v":0,"d":"0.00"},{"v":0,"d":"0.00"},{"v":0,"d":"0.00"},null,"prüfen",{"$f":"IFERROR(OFFSET(MD!$U$5,MATCH(Grundlagen_Abrechnung_KAE!$E70,MD_GENDER,0),0),\"\")","v":""},{"v":0,"d":"0.00"},null,{"v":0,"d":"0.00"},{"$f":"IF(F70=\"Arbeitgeberähnliche Stellung\",OFFSET(MD!$Q$5,MATCH(Grundlagen_Abrechnung_KAE!$AK$7,MD_JAHR,0),0)*$H70,IF(J70>0,AC70,I70))","v":{"v":0,"d":"0.00"}},null,{"$f":"OFFSET(MD!$P$5,MATCH($AK$7,MD_JAHR,0),0)*12","v":{"$error":"#VALUE!"}},{"v":0,"d":"0.00"}]
[{"$nulls":14},{"$f":"IF($B71=\"\",\"\",IF(F71=\"Arbeitgeberähnliche Stellung\",OFFSET(MD!$Q$5,MATCH(Grundlagen_Abrechnung_KAE!$AK$7,MD_JAHR,0),0)*$H71,IF(((AD71/12*M71*12)+N71)>AF71,AF71/12,((AD71/12*M71*12)+N71)/12)))","v":""},null,null,{"v":0,"d":"0.00"},null,{"v":0,"d":"0.00%"},{"v":0,"d":"0.00"},{"v":0,"d":"0.00"},{"v":0,"d":"0.00"},null,"prüfen",{"$f":"IFERROR(OFFSET(MD!$U$5,MATCH(Grundlagen_Abrechnung_KAE!$E71,MD_GENDER,0),0),\"\")","v":""},{"v":0,"d":"0.00"},null,{"v":0,"d":"0.00"},{"$f":"IF(F71=\"Arbeitgeberähnliche Stellung\",OFFSET(MD!$Q$5,MATCH(Grundlagen_Abrechnung_KAE!$AK$7,MD_JAHR,0),0)*$H71,IF(J71>0,AC71,I71))","v":{"v":0,"d":"0.00"}},null,{"$f":"OFFSET(MD!$P$5,MATCH($AK$7,MD_JAHR,0),0)*12","v":{"$error":"#VALUE!"}},{"v":0,"d":"0.00"}]
[{"$nulls":14},{"$f":"IF($B72=\"\",\"\",IF(F72=\"Arbeitgeberähnliche Stellung\",OFFSET(MD!$Q$5,MATCH(Grundlagen_Abrechnung_KAE!$AK$7,MD_JAHR,0),0)*$H72,IF(((AD72/12*M72*12)+N72)>AF72,AF72/12,((AD72/12*M72*12)+N72)/12)))","v":""},null,null,{"v":0,"d":"0.00"},null,{"v":0,"d":"0.00%"},{"v":0,"d":"0.00"},{"v":0,"d":"0.00"},{"v":0,"d":"0.00"},null,"prüfen",{"$f":"IFERROR(OFFSET(MD!$U$5,MATCH(Grundlagen_Abrechnung_KAE!$E72,MD_GENDER,0),0),\"\")","v":""},{"v":0,"d":"0.00"},null,{"v":0,"d":"0.00"},{"$f":"IF(F72=\"Arbeitgeberähnliche Stellung\",OFFSET(MD!$Q$5,MATCH(Grundlagen_Abrechnung_KAE!$AK$7,MD_JAHR,0),0)*$H72,IF(J72>0,AC72,I72))","v":{"v":0,"d":"0.00"}},null,{"$f":"OFFSET(MD!$P$5,MATCH($AK$7,MD_JAHR,0),0)*12","v":{"$error":"#VALUE!"}},{"v":0,"d":"0.00"}]
[{"$nulls":14},{"$f":"IF($B73=\"\",\"\",IF(F73=\"Arbeitgeberähnliche Stellung\",OFFSET(MD!$Q$5,MATCH(Grundlagen_Abrechnung_KAE!$AK$7,MD_JAHR,0),0)*$H73,IF(((AD73/12*M73*12)+N73)>AF73,AF73/12,((AD73/12*M73*12)+N73)/12)))","v":""},null,null,{"v":0,"d":"0.00"},null,{"v":0,"d":"0.00%"},{"v":0,"d":"0.00"},{"v":0,"d":"0.00"},{"v":0,"d":"0.00"},null,"prüfen",{"$f":"IFERROR(OFFSET(MD!$U$5,MATCH(Grundlagen_Abrechnung_KAE!$E73,MD_GENDER,0),0),\"\")","v":""},{"v":0,"d":"0.00"},null,{"v":0,"d":"0.00"},{"$f":"IF(F73=\"Arbeitgeberähnliche Stellung\",OFFSET(MD!$Q$5,MATCH(Grundlagen_Abrechnung_KAE!$AK$7,MD_JAHR,0),0)*$H73,IF(J73>0,AC73,I73))","v":{"v":0,"d":"0.00"}},null,{"$f":"OFFSET(MD!$P$5,MATCH($AK$7,MD_JAHR,0),0)*12","v":{"$error":"#VALUE!"}},{"v":0,"d":"0.00"}]
[{"$nulls":14},{"$f":"IF($B74=\"\",\"\",IF(F74=\"Arbeitgeberähnliche Stellung\",OFFSET(MD!$Q$5,MATCH(Grundlagen_Abrechnung_KAE!$AK$7,MD_JAHR,0),0)*$H74,IF(((AD74/12*M74*12)+N74)>AF74,AF74/12,((AD74/12*M74*12)+N74)/12)))","v":""},null,null,{"v":0,"d":"0.00"},null,{"v":0,"d":"0.00%"},{"v":0,"d":"0.00"},{"v":0,"d":"0.00"},{"v":0,"d":"0.00"},null,"prüfen",{"$f":"IFERROR(OFFSET(MD!$U$5,MATCH(Grundlagen_Abrechnung_KAE!$E74,MD_GENDER,0),0),\"\")","v":""},{"v":0,"d":"0.00"},null,{"v":0,"d":"0.00"},{"$f":"IF(F74=\"Arbeitgeberähnliche Stellung\",OFFSET(MD!$Q$5,MATCH(Grundlagen_Abrechnung_KAE!$AK$7,MD_JAHR,0),0)*$H74,IF(J74>0,AC74,I74))","v":{"v":0,"d":"0.00"}},null,{"$f":"OFFSET(MD!$P$5,MATCH($AK$7,MD_JAHR,0),0)*12","v":{"$error":"#VALUE!"}},{"v":0,"d":"0.00"}]
[{"$nulls":14},{"$f":"IF($B75=\"\",\"\",IF(F75=\"Arbeitgeberähnliche Stellung\",OFFSET(MD!$Q$5,MATCH(Grundlagen_Abrechnung_KAE!$AK$7,MD_JAHR,0),0)*$H75,IF(((AD75/12*M75*12)+N75)>AF75,AF75/12,((AD75/12*M75*12)+N75)/12)))","v":""},null,null,{"v":0,"d":"0.00"},null,{"v":0,"d":"0.00%"},{"v":0,"d":"0.00"},{"v":0,"d":"0.00"},{"v":0,"d":"0.00"},null,"prüfen",{"$f":"IFERROR(OFFSET(MD!$U$5,MATCH(Grundlagen_Abrechnung_KAE!$E75,MD_GENDER,0),0),\"\")","v":""},{"v":0,"d":"0.00"},null,{"v":0,"d":"0.00"},{"$f":"IF(F75=\"Arbeitgeberähnliche Stellung\",OFFSET(MD!$Q$5,MATCH(Grundlagen_Abrechnung_KAE!$AK$7,MD_JAHR,0),0)*$H75,IF(J75>0,AC75,I75))","v":{"v":0,"d":"0.00"}},null,{"$f":"OFFSET(MD!$P$5,MATCH($AK$7,MD_JAHR,0),0)*12","v":{"$error":"#VALUE!"}},{"v":0,"d":"0.00"}]
[{"$nulls":14},{"$f":"IF($B76=\"\",\"\",IF(F76=\"Arbeitgeberähnliche Stellung\",OFFSET(MD!$Q$5,MATCH(Grundlagen_Abrechnung_KAE!$AK$7,MD_JAHR,0),0)*$H76,IF(((AD76/12*M76*12)+N76)>AF76,AF76/12,((AD76/12*M76*12)+N76)/12)))","v":""},null,null,{"v":0,"d":"0.00"},null,{"v":0,"d":"0.00%"},{"v":0,"d":"0.00"},{"v":0,"d":"0.00"},{"v":0,"d":"0.00"},null,"prüfen",{"$f":"IFERROR(OFFSET(MD!$U$5,MATCH(Grundlagen_Abrechnung_KAE!$E76,MD_GENDER,0),0),\"\")","v":""},{"v":0,"d":"0.00"},null,{"v":0,"d":"0.00"},{"$f":"IF(F76=\"Arbeitgeberähnliche Stellung\",OFFSET(MD!$Q$5,MATCH(Grundlagen_Abrechnung_KAE!$AK$7,MD_JAHR,0),0)*$H76,IF(J76>0,AC76,I76))","v":{"v":0,"d":"0.00"}},null,{"$f":"OFFSET(MD!$P$5,MATCH($AK$7,MD_JAHR,0),0)*12","v":{"$error":"#VALUE!"}},{"v":0,"d":"0.00"}]
[{"$nulls":14},{"$f":"IF($B77=\"\",\"\",IF(F77=\"Arbeitgeberähnliche Stellung\",OFFSET(MD!$Q$5,MATCH(Grundlagen_Abrechnung_KAE!$AK$7,MD_JAHR,0),0)*$H77,IF(((AD77/12*M77*12)+N77)>AF77,AF77/12,((AD77/12*M77*12)+N77)/12)))","v":""},null,null,{"v":0,"d":"0.00"},null,{"v":0,"d":"0.00%"},{"v":0,"d":"0.00"},{"v":0,"d":"0.00"},{"v":0,"d":"0.00"},null,"prüfen",{"$f":"IFERROR(OFFSET(MD!$U$5,MATCH(Grundlagen_Abrechnung_KAE!$E77,MD_GENDER,0),0),\"\")","v":""},{"v":0,"d":"0.00"},null,{"v":0,"d":"0.00"},{"$f":"IF(F77=\"Arbeitgeberähnliche Stellung\",OFFSET(MD!$Q$5,MATCH(Grundlagen_Abrechnung_KAE!$AK$7,MD_JAHR,0),0)*$H77,IF(J77>0,AC77,I77))","v":{"v":0,"d":"0.00"}},null,{"$f":"OFFSET(MD!$P$5,MATCH($AK$7,MD_JAHR,0),0)*12","v":{"$error":"#VALUE!"}},{"v":0,"d":"0.00"}]
[{"$nulls":14},{"$f":"IF($B78=\"\",\"\",IF(F78=\"Arbeitgeberähnliche Stellung\",OFFSET(MD!$Q$5,MATCH(Grundlagen_Abrechnung_KAE!$AK$7,MD_JAHR,0),0)*$H78,IF(((AD78/12*M78*12)+N78)>AF78,AF78/12,((AD78/12*M78*12)+N78)/12)))","v":""},null,null,{"v":0,"d":"0.00"},null,{"v":0,"d":"0.00%"},{"v":0,"d":"0.00"},{"v":0,"d":"0.00"},{"v":0,"d":"0.00"},null,"prüfen",{"$f":"IFERROR(OFFSET(MD!$U$5,MATCH(Grundlagen_Abrechnung_KAE!$E78,MD_GENDER,0),0),\"\")","v":""},{"v":0,"d":"0.00"},null,{"v":0,"d":"0.00"},{"$f":"IF(F78=\"Arbeitgeberähnliche Stellung\",OFFSET(MD!$Q$5,MATCH(Grundlagen_Abrechnung_KAE!$AK$7,MD_JAHR,0),0)*$H78,IF(J78>0,AC78,I78))","v":{"v":0,"d":"0.00"}},null,{"$f":"OFFSET(MD!$P$5,MATCH($AK$7,MD_JAHR,0),0)*12","v":{"$error":"#VALUE!"}},{"v":0,"d":"0.00"}]
[{"$nulls":14},{"$f":"IF($B79=\"\",\"\",IF(F79=\"Arbeitgeberähnliche Stellung\",OFFSET(MD!$Q$5,MATCH(Grundlagen_Abrechnung_KAE!$AK$7,MD_JAHR,0),0)*$H79,IF(((AD79/12*M79*12)+N79)>AF79,AF79/12,((AD79/12*M79*12)+N79)/12)))","v":""},null,null,{"v":0,"d":"0.00"},null,{"v":0,"d":"0.00%"},{"v":0,"d":"0.00"},{"v":0,"d":"0.00"},{"v":0,"d":"0.00"},null,"prüfen",{"$f":"IFERROR(OFFSET(MD!$U$5,MATCH(Grundlagen_Abrechnung_KAE!$E79,MD_GENDER,0),0),\"\")","v":""},{"v":0,"d":"0.00"},null,{"v":0,"d":"0.00"},{"$f":"IF(F79=\"Arbeitgeberähnliche Stellung\",OFFSET(MD!$Q$5,MATCH(Grundlagen_Abrechnung_KAE!$AK$7,MD_JAHR,0),0)*$H79,IF(J79>0,AC79,I79))","v":{"v":0,"d":"0.00"}},null,{"$f":"OFFSET(MD!$P$5,MATCH($AK$7,MD_JAHR,0),0)*12","v":{"$error":"#VALUE!"}},{"v":0,"d":"0.00"}]
[{"$nulls":14},{"$f":"IF($B80=\"\",\"\",IF(F80=\"Arbeitgeberähnliche Stellung\",OFFSET(MD!$Q$5,MATCH(Grundlagen_Abrechnung_KAE!$AK$7,MD_JAHR,0),0)*$H80,IF(((AD80/12*M80*12)+N80)>AF80,AF80/12,((AD80/12*M80*12)+N80)/12)))","v":""},null,null,{"v":0,"d":"0.00"},null,{"v":0,"d":"0.00%"},{"v":0,"d":"0.00"},{"v":0,"d":"0.00"},{"v":0,"d":"0.00"},null,"prüfen",{"$f":"IFERROR(OFFSET(MD!$U$5,MATCH(Grundlagen_Abrechnung_KAE!$E80,MD_GENDER,0),0),\"\")","v":""},{"v":0,"d":"0.00"},null,{"v":0,"d":"0.00"},{"$f":"IF(F80=\"Arbeitgeberähnliche Stellung\",OFFSET(MD!$Q$5,MATCH(Grundlagen_Abrechnung_KAE!$AK$7,MD_JAHR,0),0)*$H80,IF(J80>0,AC80,I80))","v":{"v":0,"d":"0.00"}},null,{"$f":"OFFSET(MD!$P$5,MATCH($AK$7,MD_JAHR,0),0)*12","v":{"$error":"#VALUE!"}},{"v":0,"d":"0.00"}]
[{"$nulls":14},{"$f":"IF($B81=\"\",\"\",IF(F81=\"Arbeitgeberähnliche Stellung\",OFFSET(MD!$Q$5,MATCH(Grundlagen_Abrechnung_KAE!$AK$7,MD_JAHR,0),0)*$H81,IF(((AD81/12*M81*12)+N81)>AF81,AF81/12,((AD81/12*M81*12)+N81)/12)))","v":""},null,null,{"v":0,"d":"0.00"},null,{"v":0,"d":"0.00%"},{"v":0,"d":"0.00"},{"v":0,"d":"0.00"},{"v":0,"d":"0.00"},null,"prüfen",{"$f":"IFERROR(OFFSET(MD!$U$5,MATCH(Grundlagen_Abrechnung_KAE!$E81,MD_GENDER,0),0),\"\")","v":""},{"v":0,"d":"0.00"},null,{"v":0,"d":"0.00"},{"$f":"IF(F81=\"Arbeitgeberähnliche Stellung\",OFFSET(MD!$Q$5,MATCH(Grundlagen_Abrechnung_KAE!$AK$7,MD_JAHR,0),0)*$H81,IF(J81>0,AC81,I81))","v":{"v":0,"d":"0.00"}},null,{"$f":"OFFSET(MD!$P$5,MATCH($AK$7,MD_JAHR,0),0)*12","v":{"$error":"#VALUE!"}},{"v":0,"d":"0.00"}]
[{"$nulls":14},{"$f":"IF($B82=\"\",\"\",IF(F82=\"Arbeitgeberähnliche Stellung\",OFFSET(MD!$Q$5,MATCH(Grundlagen_Abrechnung_KAE!$AK$7,MD_JAHR,0),0)*$H82,IF(((AD82/12*M82*12)+N82)>AF82,AF82/12,((AD82/12*M82*12)+N82)/12)))","v":""},null,null,{"v":0,"d":"0.00"},null,{"v":0,"d":"0.00%"},{"v":0,"d":"0.00"},{"v":0,"d":"0.00"},{"v":0,"d":"0.00"},null,"prüfen",{"$f":"IFERROR(OFFSET(MD!$U$5,MATCH(Grundlagen_Abrechnung_KAE!$E82,MD_GENDER,0),0),\"\")","v":""},{"v":0,"d":"0.00"},null,{"v":0,"d":"0.00"},{"$f":"IF(F82=\"Arbeitgeberähnliche Stellung\",OFFSET(MD!$Q$5,MATCH(Grundlagen_Abrechnung_KAE!$AK$7,MD_JAHR,0),0)*$H82,IF(J82>0,AC82,I82))","v":{"v":0,"d":"0.00"}},null,{"$f":"OFFSET(MD!$P$5,MATCH($AK$7,MD_JAHR,0),0)*12","v":{"$error":"#VALUE!"}},{"v":0,"d":"0.00"}]
[{"$nulls":14},{"$f":"IF($B83=\"\",\"\",IF(F83=\"Arbeitgeberähnliche Stellung\",OFFSET(MD!$Q$5,MATCH(Grundlagen_Abrechnung_KAE!$AK$7,MD_JAHR,0),0)*$H83,IF(((AD83/12*M83*12)+N83)>AF83,AF83/12,((AD83/12*M83*12)+N83)/12)))","v":""},null,null,{"$f":"ROUND(IF(Q83=\"\",0,IF(P83=0,0,IF(Q83>P83,0,P83-Q83))),2)","v":{"v":0,"d":"0.00"}},null,{"$f":"IFERROR(R83/P83,0)","v":{"v":0,"d":"0.00%"}},{"$f":"IFERROR(IF(O83-W83=0,O83,(O83)*(1-T83)),0)","v":{"v":0,"d":"0.00"}},{"v":0,"d":"0.00"},{"$f":"IFERROR(O83*T83,0)*0.8","v":{"v":0,"d":"0.00"}},null,{"$f":"IF(YEAR($G83)>$Y$16,\"prüfen\",\"\")","v":"prüfen"},{"$f":"IFERROR(OFFSET(MD!$U$5,MATCH(Grundlagen_Abrechnung_KAE!$E83,MD_GENDER,0),0),\"\")","v":""},{"$f":"IF(B83=\"\",0,IF(YEAR(G83)>$AA$16,0,1))","v":{"v":0,"d":"0.00"}},null,{"$f":"IF(J83*K83/6>J83*L83/12,J83*K83/6,J83*L83/12)","v":{"v":0,"d":"0.00"}},{"$f":"IF(F83=\"Arbeitgeberähnliche Stellung\",OFFSET(MD!$Q$5,MATCH(Grundlagen_Abrechnung_KAE!$AK$7,MD_JAHR,0),0)*$H83,IF(J83>0,AC83,I83))","v":{"v":0,"d":"0.00"}},null,{"$f":"OFFSET(MD!$P$5,MATCH($AK$7,MD_JAHR,0),0)*12","v":{"$error":"#VALUE!"}},{"$f":"I83*M83+N83","v":{"v":0,"d":"0.00"}}]
[{"$nulls":14},{"$f":"IF($B84=\"\",\"\",IF(F84=\"Arbeitgeberähnliche Stellung\",OFFSET(MD!$Q$5,MATCH(Grundlagen_Abrechnung_KAE!$AK$7,MD_JAHR,0),0)*$H84,IF(((AD84/12*M84*12)+N84)>AF84,AF84/12,((AD84/12*M84*12)+N84)/12)))","v":""},null,null,{"v":0,"d":"0.00"},null,{"v":0,"d":"0.00%"},{"v":0,"d":"0.00"},{"$f":"IFERROR(O84*T84,0)","v":{"v":0,"d":"0.00"}},{"v":0,"d":"0.00"},null,"prüfen",{"$f":"IFERROR(OFFSET(MD!$U$5,MATCH(Grundlagen_Abrechnung_KAE!$E84,MD_GENDER,0),0),\"\")","v":""},{"v":0,"d":"0.00"},null,{"v":0,"d":"0.00"},{"$f":"IF(F84=\"Arbeitgeberähnliche Stellung\",OFFSET(MD!$Q$5,MATCH(Grundlagen_Abrechnung_KAE!$AK$7,MD_JAHR,0),0)*$H84,IF(J84>0,AC84,I84))","v":{"v":0,"d":"0.00"}},null,{"$f":"OFFSET(MD!$P$5,MATCH($AK$7,MD_JAHR,0),0)*12","v":{"$error":"#VALUE!"}},{"v":0,"d":"0.00"}]
[{"$nulls":14},{"$f":"IF($B85=\"\",\"\",IF(F85=\"Arbeitgeberähnliche Stellung\",OFFSET(MD!$Q$5,MATCH(Grundlagen_Abrechnung_KAE!$AK$7,MD_JAHR,0),0)*$H85,IF(((AD85/12*M85*12)+N85)>AF85,AF85/12,((AD85/12*M85*12)+N85)/12)))","v":""},null,null,{"v":0,"d":"0.00"},null,{"v":0,"d":"0.00%"},{"v":0,"d":"0.00"},{"v":0,"d":"0.00"},{"v":0,"d":"0.00"},null,"prüfen",{"$f":"IFERROR(OFFSET(MD!$U$5,MATCH(Grundlagen_Abrechnung_KAE!$E85,MD_GENDER,0),0),\"\")","v":""},{"v":0,"d":"0.00"},null,{"v":0,"d":"0.00"},{"$f":"IF(F85=\"Arbeitgeberähnliche Stellung\",OFFSET(MD!$Q$5,MATCH(Grundlagen_Abrechnung_KAE!$AK$7,MD_JAHR,0),0)*$H85,IF(J85>0,AC85,I85))","v":{"v":0,"d":"0.00"}},null,{"$f":"OFFSET(MD!$P$5,MATCH($AK$7,MD_JAHR,0),0)*12","v":{"$error":"#VALUE!"}},{"v":0,"d":"0.00"}]
[{"$nulls":14},{"$f":"IF($B86=\"\",\"\",IF(F86=\"Arbeitgeberähnliche Stellung\",OFFSET(MD!$Q$5,MATCH(Grundlagen_Abrechnung_KAE!$AK$7,MD_JAHR,0),0)*$H86,IF(((AD86/12*M86*12)+N86)>AF86,AF86/12,((AD86/12*M86*12)+N86)/12)))","v":""},null,null,{"v":0,"d":"0.00"},null,{"v":0,"d":"0.00%"},{"v":0,"d":"0.00"},{"v":0,"d":"0.00"},{"v":0,"d":"0.00"},null,"prüfen",{"$f":"IFERROR(OFFSET(MD!$U$5,MATCH(Grundlagen_Abrechnung_KAE!$E86,MD_GENDER,0),0),\"\")","v":""},{"v":0,"d":"0.00"},null,{"v":0,"d":"0.00"},{"$f":"IF(F86=\"Arbeitgeberähnliche Stellung\",OFFSET(MD!$Q$5,MATCH(Grundlagen_Abrechnung_KAE!$AK$7,MD_JAHR,0),0)*$H86,IF(J86>0,AC86,I86))","v":{"v":0,"d":"0.00"}},null,{"$f":"OFFSET(MD!$P$5,MATCH($AK$7,MD_JAHR,0),0)*12","v":{"$error":"#VALUE!"}},{"v":0,"d":"0.00"}]
[{"$nulls":14},{"$f":"IF($B87=\"\",\"\",IF(F87=\"Arbeitgeberähnliche Stellung\",OFFSET(MD!$Q$5,MATCH(Grundlagen_Abrechnung_KAE!$AK$7,MD_JAHR,0),0)*$H87,IF(((AD87/12*M87*12)+N87)>AF87,AF87/12,((AD87/12*M87*12)+N87)/12)))","v":""},null,null,{"v":0,"d":"0.00"},null,{"v":0,"d":"0.00%"},{"v":0,"d":"0.00"},{"v":0,"d":"0.00"},{"v":0,"d":"0.00"},null,"prüfen",{"$f":"IFERROR(OFFSET(MD!$U$5,MATCH(Grundlagen_Abrechnung_KAE!$E87,MD_GENDER,0),0),\"\")","v":""},{"v":0,"d":"0.00"},null,{"v":0,"d":"0.00"},{"$f":"IF(F87=\"Arbeitgeberähnliche Stellung\",OFFSET(MD!$Q$5,MATCH(Grundlagen_Abrechnung_KAE!$AK$7,MD_JAHR,0),0)*$H87,IF(J87>0,AC87,I87))","v":{"v":0,"d":"0.00"}},null,{"$f":"OFFSET(MD!$P$5,MATCH($AK$7,MD_JAHR,0),0)*12","v":{"$error":"#VALUE!"}},{"v":0,"d":"0.00"}]
[{"$nulls":14},{"$f":"IF($B88=\"\",\"\",IF(F88=\"Arbeitgeberähnliche Stellung\",OFFSET(MD!$Q$5,MATCH(Grundlagen_Abrechnung_KAE!$AK$7,MD_JAHR,0),0)*$H88,IF(((AD88/12*M88*12)+N88)>AF88,AF88/12,((AD88/12*M88*12)+N88)/12)))","v":""},null,null,{"v":0,"d":"0.00"},null,{"v":0,"d":"0.00%"},{"v":0,"d":"0.00"},{"v":0,"d":"0.00"},{"v":0,"d":"0.00"},null,"prüfen",{"$f":"IFERROR(OFFSET(MD!$U$5,MATCH(Grundlagen_Abrechnung_KAE!$E88,MD_GENDER,0),0),\"\")","v":""},{"v":0,"d":"0.00"},null,{"v":0,"d":"0.00"},{"$f":"IF(F88=\"Arbeitgeberähnliche Stellung\",OFFSET(MD!$Q$5,MATCH(Grundlagen_Abrechnung_KAE!$AK$7,MD_JAHR,0),0)*$H88,IF(J88>0,AC88,I88))","v":{"v":0,"d":"0.00"}},null,{"$f":"OFFSET(MD!$P$5,MATCH($AK$7,MD_JAHR,0),0)*12","v":{"$error":"#VALUE!"}},{"v":0,"d":"0.00"}]
[{"$nulls":14},{"$f":"IF($B89=\"\",\"\",IF(F89=\"Arbeitgeberähnliche Stellung\",OFFSET(MD!$Q$5,MATCH(Grundlagen_Abrechnung_KAE!$AK$7,MD_JAHR,0),0)*$H89,IF(((AD89/12*M89*12)+N89)>AF89,AF89/12,((AD89/12*M89*12)+N89)/12)))","v":""},null,null,{"v":0,"d":"0.00"},null,{"v":0,"d":"0.00%"},{"v":0,"d":"0.00"},{"v":0,"d":"0.00"},{"v":0,"d":"0.00"},null,"prüfen",{"$f":"IFERROR(OFFSET(MD!$U$5,MATCH(Grundlagen_Abrechnung_KAE!$E89,MD_GENDER,0),0),\"\")","v":""},{"v":0,"d":"0.00"},null,{"v":0,"d":"0.00"},{"$f":"IF(F89=\"Arbeitgeberähnliche Stellung\",OFFSET(MD!$Q$5,MATCH(Grundlagen_Abrechnung_KAE!$AK$7,MD_JAHR,0),0)*$H89,IF(J89>0,AC89,I89))","v":{"v":0,"d":"0.00"}},null,{"$f":"OFFSET(MD!$P$5,MATCH($AK$7,MD_JAHR,0),0)*12","v":{"$error":"#VALUE!"}},{"v":0,"d":"0.00"}]
[{"$nulls":14},{"$f":"IF($B90=\"\",\"\",IF(F90=\"Arbeitgeberähnliche Stellung\",OFFSET(MD!$Q$5,MATCH(Grundlagen_Abrechnung_KAE!$AK$7,MD_JAHR,0),0)*$H90,IF(((AD90/12*M90*12)+N90)>AF90,AF90/12,((AD90/12*M90*12)+N90)/12)))","v":""},null,null,{"v":0,"d":"0.00"},null,{"v":0,"d":"0.00%"},{"v":0,"d":"0.00"},{"v":0,"d":"0.00"},{"v":0,"d":"0.00"},null,"prüfen",{"$f":"IFERROR(OFFSET(MD!$U$5,MATCH(Grundlagen_Abrechnung_KAE!$E90,MD_GENDER,0),0),\"\")","v":""},{"v":0,"d":"0.00"},null,{"v":0,"d":"0.00"},{"$f":"IF(F90=\"Arbeitgeberähnliche Stellung\",OFFSET(MD!$Q$5,MATCH(Grundlagen_Abrechnung_KAE!$AK$7,MD_JAHR,0),0)*$H90,IF(J90>0,AC90,I90))","v":{"v":0,"d":"0.00"}},null,{"$f":"OFFSET(MD!$P$5,MATCH($AK$7,MD_JAHR,0),0)*12","v":{"$error":"#VALUE!"}},{"v":0,"d":"0.00"}]
[{"$nulls":14},{"$f":"IF($B91=\"\",\"\",IF(F91=\"Arbeitgeberähnliche Stellung\",OFFSET(MD!$Q$5,MATCH(Grundlagen_Abrechnung_KAE!$AK$7,MD_JAHR,0),0)*$H91,IF(((AD91/12*M91*12)+N91)>AF91,AF91/12,((AD91/12*M91*12)+N91)/12)))","v":""},null,null,{"v":0,"d":"0.00"},null,{"v":0,"d":"0.00%"},{"v":0,"d":"0.00"},{"v":0,"d":"0.00"},{"v":0,"d":"0.00"},null,"prüfen",{"$f":"IFERROR(OFFSET(MD!$U$5,MATCH(Grundlagen_Abrechnung_KAE!$E91,MD_GENDER,0),0),\"\")","v":""},{"v":0,"d":"0.00"},null,{"v":0,"d":"0.00"},{"$f":"IF(F91=\"Arbeitgeberähnliche Stellung\",OFFSET(MD!$Q$5,MATCH(Grundlagen_Abrechnung_KAE!$AK$7,MD_JAHR,0),0)*$H91,IF(J91>0,AC91,I91))","v":{"v":0,"d":"0.00"}},null,{"$f":"OFFSET(MD!$P$5,MATCH($AK$7,MD_JAHR,0),0)*12","v":{"$error":"#VALUE!"}},{"v":0,"d":"0.00"}]
[{"$nulls":14},{"$f":"IF($B92=\"\",\"\",IF(F92=\"Arbeitgeberähnliche Stellung\",OFFSET(MD!$Q$5,MATCH(Grundlagen_Abrechnung_KAE!$AK$7,MD_JAHR,0),0)*$H92,IF(((AD92/12*M92*12)+N92)>AF92,AF92/12,((AD92/12*M92*12)+N92)/12)))","v":""},null,null,{"v":0,"d":"0.00"},null,{"v":0,"d":"0.00%"},{"v":0,"d":"0.00"},{"v":0,"d":"0.00"},{"v":0,"d":"0.00"},null,"prüfen",{"$f":"IFERROR(OFFSET(MD!$U$5,MATCH(Grundlagen_Abrechnung_KAE!$E92,MD_GENDER,0),0),\"\")","v":""},{"v":0,"d":"0.00"},null,{"v":0,"d":"0.00"},{"$f":"IF(F92=\"Arbeitgeberähnliche Stellung\",OFFSET(MD!$Q$5,MATCH(Grundlagen_Abrechnung_KAE!$AK$7,MD_JAHR,0),0)*$H92,IF(J92>0,AC92,I92))","v":{"v":0,"d":"0.00"}},null,{"$f":"OFFSET(MD!$P$5,MATCH($AK$7,MD_JAHR,0),0)*12","v":{"$error":"#VALUE!"}},{"v":0,"d":"0.00"}]
[{"$nulls":14},{"$f":"IF($B93=\"\",\"\",IF(F93=\"Arbeitgeberähnliche Stellung\",OFFSET(MD!$Q$5,MATCH(Grundlagen_Abrechnung_KAE!$AK$7,MD_JAHR,0),0)*$H93,IF(((AD93/12*M93*12)+N93)>AF93,AF93/12,((AD93/12*M93*12)+N93)/12)))","v":""},null,null,{"v":0,"d":"0.00"},null,{"v":0,"d":"0.00%"},{"v":0,"d":"0.00"},{"v":0,"d":"0.00"},{"v":0,"d":"0.00"},null,"prüfen",{"$f":"IFERROR(OFFSET(MD!$U$5,MATCH(Grundlagen_Abrechnung_KAE!$E93,MD_GENDER,0),0),\"\")","v":""},{"v":0,"d":"0.00"},null,{"v":0,"d":"0.00"},{"$f":"IF(F93=\"Arbeitgeberähnliche Stellung\",OFFSET(MD!$Q$5,MATCH(Grundlagen_Abrechnung_KAE!$AK$7,MD_JAHR,0),0)*$H93,IF(J93>0,AC93,I93))","v":{"v":0,"d":"0.00"}},null,{"$f":"OFFSET(MD!$P$5,MATCH($AK$7,MD_JAHR,0),0)*12","v":{"$error":"#VALUE!"}},{"v":0,"d":"0.00"}]
[{"$nulls":14},{"$f":"IF($B94=\"\",\"\",IF(F94=\"Arbeitgeberähnliche Stellung\",OFFSET(MD!$Q$5,MATCH(Grundlagen_Abrechnung_KAE!$AK$7,MD_JAHR,0),0)*$H94,IF(((AD94/12*M94*12)+N94)>AF94,AF94/12,((AD94/12*M94*12)+N94)/12)))","v":""},null,null,{"v":0,"d":"0.00"},null,{"v":0,"d":"0.00%"},{"v":0,"d":"0.00"},{"v":0,"d":"0.00"},{"v":0,"d":"0.00"},null,"prüfen",{"$f":"IFERROR(OFFSET(MD!$U$5,MATCH(Grundlagen_Abrechnung_KAE!$E94,MD_GENDER,0),0),\"\")","v":""},{"v":0,"d":"0.00"},null,{"v":0,"d":"0.00"},{"$f":"IF(F94=\"Arbeitgeberähnliche Stellung\",OFFSET(MD!$Q$5,MATCH(Grundlagen_Abrechnung_KAE!$AK$7,MD_JAHR,0),0)*$H94,IF(J94>0,AC94,I94))","v":{"v":0,"d":"0.00"}},null,{"$f":"OFFSET(MD!$P$5,MATCH($AK$7,MD_JAHR,0),0)*12","v":{"$error":"#VALUE!"}},{"v":0,"d":"0.00"}]
[{"$nulls":14},{"$f":"IF($B95=\"\",\"\",IF(F95=\"Arbeitgeberähnliche Stellung\",OFFSET(MD!$Q$5,MATCH(Grundlagen_Abrechnung_KAE!$AK$7,MD_JAHR,0),0)*$H95,IF(((AD95/12*M95*12)+N95)>AF95,AF95/12,((AD95/12*M95*12)+N95)/12)))","v":""},null,null,{"v":0,"d":"0.00"},null,{"v":0,"d":"0.00%"},{"v":0,"d":"0.00"},{"v":0,"d":"0.00"},{"v":0,"d":"0.00"},null,"prüfen",{"$f":"IFERROR(OFFSET(MD!$U$5,MATCH(Grundlagen_Abrechnung_KAE!$E95,MD_GENDER,0),0),\"\")","v":""},{"v":0,"d":"0.00"},null,{"v":0,"d":"0.00"},{"$f":"IF(F95=\"Arbeitgeberähnliche Stellung\",OFFSET(MD!$Q$5,MATCH(Grundlagen_Abrechnung_KAE!$AK$7,MD_JAHR,0),0)*$H95,IF(J95>0,AC95,I95))","v":{"v":0,"d":"0.00"}},null,{"$f":"OFFSET(MD!$P$5,MATCH($AK$7,MD_JAHR,0),0)*12","v":{"$error":"#VALUE!"}},{"v":0,"d":"0.00"}]
[{"$nulls":14},{"$f":"IF($B96=\"\",\"\",IF(F96=\"Arbeitgeberähnliche Stellung\",OFFSET(MD!$Q$5,MATCH(Grundlagen_Abrechnung_KAE!$AK$7,MD_JAHR,0),0)*$H96,IF(((AD96/12*M96*12)+N96)>AF96,AF96/12,((AD96/12*M96*12)+N96)/12)))","v":""},null,null,{"v":0,"d":"0.00"},null,{"v":0,"d":"0.00%"},{"v":0,"d":"0.00"},{"v":0,"d":"0.00"},{"v":0,"d":"0.00"},null,"prüfen",{"$f":"IFERROR(OFFSET(MD!$U$5,MATCH(Grundlagen_Abrechnung_KAE!$E96,MD_GENDER,0),0),\"\")","v":""},{"v":0,"d":"0.00"},null,{"v":0,"d":"0.00"},{"$f":"IF(F96=\"Arbeitgeberähnliche Stellung\",OFFSET(MD!$Q$5,MATCH(Grundlagen_Abrechnung_KAE!$AK$7,MD_JAHR,0),0)*$H96,IF(J96>0,AC96,I96))","v":{"v":0,"d":"0.00"}},null,{"$f":"OFFSET(MD!$P$5,MATCH($AK$7,MD_JAHR,0),0)*12","v":{"$error":"#VALUE!"}},{"v":0,"d":"0.00"}]
[{"$nulls":14},{"$f":"IF($B97=\"\",\"\",IF(F97=\"Arbeitgeberähnliche Stellung\",OFFSET(MD!$Q$5,MATCH(Grundlagen_Abrechnung_KAE!$AK$7,MD_JAHR,0),0)*$H97,IF(((AD97/12*M97*12)+N97)>AF97,AF97/12,((AD97/12*M97*12)+N97)/12)))","v":""},null,null,{"v":0,"d":"0.00"},null,{"v":0,"d":"0.00%"},{"v":0,"d":"0.00"},{"v":0,"d":"0.00"},{"v":0,"d":"0.00"},null,"prüfen",{"$f":"IFERROR(OFFSET(MD!$U$5,MATCH(Grundlagen_Abrechnung_KAE!$E97,MD_GENDER,0),0),\"\")","v":""},{"v":0,"d":"0.00"},null,{"v":0,"d":"0.00"},{"$f":"IF(F97=\"Arbeitgeberähnliche Stellung\",OFFSET(MD!$Q$5,MATCH(Grundlagen_Abrechnung_KAE!$AK$7,MD_JAHR,0),0)*$H97,IF(J97>0,AC97,I97))","v":{"v":0,"d":"0.00"}},null,{"$f":"OFFSET(MD!$P$5,MATCH($AK$7,MD_JAHR,0),0)*12","v":{"$error":"#VALUE!"}},{"v":0,"d":"0.00"}]
[{"$nulls":14},{"$f":"IF($B98=\"\",\"\",IF(F98=\"Arbeitgeberähnliche Stellung\",OFFSET(MD!$Q$5,MATCH(Grundlagen_Abrechnung_KAE!$AK$7,MD_JAHR,0),0)*$H98,IF(((AD98/12*M98*12)+N98)>AF98,AF98/12,((AD98/12*M98*12)+N98)/12)))","v":""},null,null,{"v":0,"d":"0.00"},null,{"v":0,"d":"0.00%"},{"v":0,"d":"0.00"},{"v":0,"d":"0.00"},{"v":0,"d":"0.00"},null,"prüfen",{"$f":"IFERROR(OFFSET(MD!$U$5,MATCH(Grundlagen_Abrechnung_KAE!$E98,MD_GENDER,0),0),\"\")","v":""},{"v":0,"d":"0.00"},null,{"v":0,"d":"0.00"},{"$f":"IF(F98=\"Arbeitgeberähnliche Stellung\",OFFSET(MD!$Q$5,MATCH(Grundlagen_Abrechnung_KAE!$AK$7,MD_JAHR,0),0)*$H98,IF(J98>0,AC98,I98))","v":{"v":0,"d":"0.00"}},null,{"$f":"OFFSET(MD!$P$5,MATCH($AK$7,MD_JAHR,0),0)*12","v":{"$error":"#VALUE!"}},{"v":0,"d":"0.00"}]
[{"$nulls":14},{"$f":"IF($B99=\"\",\"\",IF(F99=\"Arbeitgeberähnliche Stellung\",OFFSET(MD!$Q$5,MATCH(Grundlagen_Abrechnung_KAE!$AK$7,MD_JAHR,0),0)*$H99,IF(((AD99/12*M99*12)+N99)>AF99,AF99/12,((AD99/12*M99*12)+N99)/12)))","v":""},null,null,{"v":0,"d":"0.00"},null,{"v":0,"d":"0.00%"},{"v":0,"d":"0.00"},{"v":0,"d":"0.00"},{"v":0,"d":"0.00"},null,"prüfen",{"$f":"IFERROR(OFFSET(MD!$U$5,MATCH(Grundlagen_Abrechnung_KAE!$E99,MD_GENDER,0),0),\"\")","v":""},{"v":0,"d":"0.00"},null,{"v":0,"d":"0.00"},{"$f":"IF(F99=\"Arbeitgeberähnliche Stellung\",OFFSET(MD!$Q$5,MATCH(Grundlagen_Abrechnung_KAE!$AK$7,MD_JAHR,0),0)*$H99,IF(J99>0,AC99,I99))","v":{"v":0,"d":"0.00"}},null,{"$f":"OFFSET(MD!$P$5,MATCH($AK$7,MD_JAHR,0),0)*12","v":{"$error":"#VALUE!"}},{"v":0,"d":"0.00"}]
[{"$nulls":14},{"$f":"IF($B100=\"\",\"\",IF(F100=\"Arbeitgeberähnliche Stellung\",OFFSET(MD!$Q$5,MATCH(Grundlagen_Abrechnung_KAE!$AK$7,MD_JAHR,0),0)*$H100,IF(((AD100/12*M100*12)+N100)>AF100,AF100/12,((AD100/12*M100*12)+N100)/12)))","v":""},null,null,{"v":0,"d":"0.00"},null,{"v":0,"d":"0.00%"},{"v":0,"d":"0.00"},{"v":0,"d":"0.00"},{"v":0,"d":"0.00"},null,"prüfen",{"$f":"IFERROR(OFFSET(MD!$U$5,MATCH(Grundlagen_Abrechnung_KAE!$E100,MD_GENDER,0),0),\"\")","v":""},{"v":0,"d":"0.00"},null,{"v":0,"d":"0.00"},{"$f":"IF(F100=\"Arbeitgeberähnliche Stellung\",OFFSET(MD!$Q$5,MATCH(Grundlagen_Abrechnung_KAE!$AK$7,MD_JAHR,0),0)*$H100,IF(J100>0,AC100,I100))","v":{"v":0,"d":"0.00"}},null,{"$f":"OFFSET(MD!$P$5,MATCH($AK$7,MD_JAHR,0),0)*12","v":{"$error":"#VALUE!"}},{"v":0,"d":"0.00"}]
[{"$nulls":14},{"$f":"IF($B101=\"\",\"\",IF(F101=\"Arbeitgeberähnliche Stellung\",OFFSET(MD!$Q$5,MATCH(Grundlagen_Abrechnung_KAE!$AK$7,MD_JAHR,0),0)*$H101,IF(((AD101/12*M101*12)+N101)>AF101,AF101/12,((AD101/12*M101*12)+N101)/12)))","v":""},null,null,{"v":0,"d":"0.00"},null,{"v":0,"d":"0.00%"},{"v":0,"d":"0.00"},{"v":0,"d":"0.00"},{"v":0,"d":"0.00"},null,"prüfen",{"$f":"IFERROR(OFFSET(MD!$U$5,MATCH(Grundlagen_Abrechnung_KAE!$E101,MD_GENDER,0),0),\"\")","v":""},{"v":0,"d":"0.00"},null,{"v":0,"d":"0.00"},{"$f":"IF(F101=\"Arbeitgeberähnliche Stellung\",OFFSET(MD!$Q$5,MATCH(Grundlagen_Abrechnung_KAE!$AK$7,MD_JAHR,0),0)*$H101,IF(J101>0,AC101,I101))","v":{"v":0,"d":"0.00"}},null,{"$f":"OFFSET(MD!$P$5,MATCH($AK$7,MD_JAHR,0),0)*12","v":{"$error":"#VALUE!"}},{"v":0,"d":"0.00"}]
[{"$nulls":14},{"$f":"IF($B102=\"\",\"\",IF(F102=\"Arbeitgeberähnliche Stellung\",OFFSET(MD!$Q$5,MATCH(Grundlagen_Abrechnung_KAE!$AK$7,MD_JAHR,0),0)*$H102,IF(((AD102/12*M102*12)+N102)>AF102,AF102/12,((AD102/12*M102*12)+N102)/12)))","v":""},null,null,{"v":0,"d":"0.00"},null,{"v":0,"d":"0.00%"},{"v":0,"d":"0.00"},{"v":0,"d":"0.00"},{"v":0,"d":"0.00"},null,"prüfen",{"$f":"IFERROR(OFFSET(MD!$U$5,MATCH(Grundlagen_Abrechnung_KAE!$E102,MD_GENDER,0),0),\"\")","v":""},{"v":0,"d":"0.00"},null,{"v":0,"d":"0.00"},{"$f":"IF(F102=\"Arbeitgeberähnliche Stellung\",OFFSET(MD!$Q$5,MATCH(Grundlagen_Abrechnung_KAE!$AK$7,MD_JAHR,0),0)*$H102,IF(J102>0,AC102,I102))","v":{"v":0,"d":"0.00"}},null,{"$f":"OFFSET(MD!$P$5,MATCH($AK$7,MD_JAHR,0),0)*12","v":{"$error":"#VALUE!"}},{"v":0,"d":"0.00"}]
[{"$nulls":14},{"$f":"IF($B103=\"\",\"\",IF(F103=\"Arbeitgeberähnliche Stellung\",OFFSET(MD!$Q$5,MATCH(Grundlagen_Abrechnung_KAE!$AK$7,MD_JAHR,0),0)*$H103,IF(((AD103/12*M103*12)+N103)>AF103,AF103/12,((AD103/12*M103*12)+N103)/12)))","v":""},null,null,{"v":0,"d":"0.00"},null,{"v":0,"d":"0.00%"},{"v":0,"d":"0.00"},{"v":0,"d":"0.00"},{"v":0,"d":"0.00"},null,"prüfen",{"$f":"IFERROR(OFFSET(MD!$U$5,MATCH(Grundlagen_Abrechnung_KAE!$E103,MD_GENDER,0),0),\"\")","v":""},{"v":0,"d":"0.00"},null,{"v":0,"d":"0.00"},{"$f":"IF(F103=\"Arbeitgeberähnliche Stellung\",OFFSET(MD!$Q$5,MATCH(Grundlagen_Abrechnung_KAE!$AK$7,MD_JAHR,0),0)*$H103,IF(J103>0,AC103,I103))","v":{"v":0,"d":"0.00"}},null,{"$f":"OFFSET(MD!$P$5,MATCH($AK$7,MD_JAHR,0),0)*12","v":{"$error":"#VALUE!"}},{"v":0,"d":"0.00"}]
[{"$nulls":14},{"$f":"IF($B104=\"\",\"\",IF(F104=\"Arbeitgeberähnliche Stellung\",OFFSET(MD!$Q$5,MATCH(Grundlagen_Abrechnung_KAE!$AK$7,MD_JAHR,0),0)*$H104,IF(((AD104/12*M104*12)+N104)>AF104,AF104/12,((AD104/12*M104*12)+N104)/12)))","v":""},null,null,{"v":0,"d":"0.00"},null,{"v":0,"d":"0.00%"},{"v":0,"d":"0.00"},{"v":0,"d":"0.00"},{"v":0,"d":"0.00"},null,"prüfen",{"$f":"IFERROR(OFFSET(MD!$U$5,MATCH(Grundlagen_Abrechnung_KAE!$E104,MD_GENDER,0),0),\"\")","v":""},{"v":0,"d":"0.00"},null,{"v":0,"d":"0.00"},{"$f":"IF(F104=\"Arbeitgeberähnliche Stellung\",OFFSET(MD!$Q$5,MATCH(Grundlagen_Abrechnung_KAE!$AK$7,MD_JAHR,0),0)*$H104,IF(J104>0,AC104,I104))","v":{"v":0,"d":"0.00"}},null,{"$f":"OFFSET(MD!$P$5,MATCH($AK$7,MD_JAHR,0),0)*12","v":{"$error":"#VALUE!"}},{"v":0,"d":"0.00"}]
[{"$nulls":14},{"$f":"IF($B105=\"\",\"\",IF(F105=\"Arbeitgeberähnliche Stellung\",OFFSET(MD!$Q$5,MATCH(Grundlagen_Abrechnung_KAE!$AK$7,MD_JAHR,0),0)*$H105,IF(((AD105/12*M105*12)+N105)>AF105,AF105/12,((AD105/12*M105*12)+N105)/12)))","v":""},null,null,{"v":0,"d":"0.00"},null,{"v":0,"d":"0.00%"},{"v":0,"d":"0.00"},{"v":0,"d":"0.00"},{"v":0,"d":"0.00"},null,"prüfen",{"$f":"IFERROR(OFFSET(MD!$U$5,MATCH(Grundlagen_Abrechnung_KAE!$E105,MD_GENDER,0),0),\"\")","v":""},{"v":0,"d":"0.00"},null,{"v":0,"d":"0.00"},{"$f":"IF(F105=\"Arbeitgeberähnliche Stellung\",OFFSET(MD!$Q$5,MATCH(Grundlagen_Abrechnung_KAE!$AK$7,MD_JAHR,0),0)*$H105,IF(J105>0,AC105,I105))","v":{"v":0,"d":"0.00"}},null,{"$f":"OFFSET(MD!$P$5,MATCH($AK$7,MD_JAHR,0),0)*12","v":{"$error":"#VALUE!"}},{"v":0,"d":"0.00"}]
[{"$nulls":14},{"$f":"IF($B106=\"\",\"\",IF(F106=\"Arbeitgeberähnliche Stellung\",OFFSET(MD!$Q$5,MATCH(Grundlagen_Abrechnung_KAE!$AK$7,MD_JAHR,0),0)*$H106,IF(((AD106/12*M106*12)+N106)>AF106,AF106/12,((AD106/12*M106*12)+N106)/12)))","v":""},null,null,{"v":0,"d":"0.00"},null,{"v":0,"d":"0.00%"},{"v":0,"d":"0.00"},{"v":0,"d":"0.00"},{"v":0,"d":"0.00"},null,"prüfen",{"$f":"IFERROR(OFFSET(MD!$U$5,MATCH(Grundlagen_Abrechnung_KAE!$E106,MD_GENDER,0),0),\"\")","v":""},{"v":0,"d":"0.00"},null,{"v":0,"d":"0.00"},{"$f":"IF(F106=\"Arbeitgeberähnliche Stellung\",OFFSET(MD!$Q$5,MATCH(Grundlagen_Abrechnung_KAE!$AK$7,MD_JAHR,0),0)*$H106,IF(J106>0,AC106,I106))","v":{"v":0,"d":"0.00"}},null,{"$f":"OFFSET(MD!$P$5,MATCH($AK$7,MD_JAHR,0),0)*12","v":{"$error":"#VALUE!"}},{"v":0,"d":"0.00"}]
[{"$nulls":14},{"$f":"IF($B107=\"\",\"\",IF(F107=\"Arbeitgeberähnliche Stellung\",OFFSET(MD!$Q$5,MATCH(Grundlagen_Abrechnung_KAE!$AK$7,MD_JAHR,0),0)*$H107,IF(((AD107/12*M107*12)+N107)>AF107,AF107/12,((AD107/12*M107*12)+N107)/12)))","v":""},null,null,{"v":0,"d":"0.00"},null,{"v":0,"d":"0.00%"},{"v":0,"d":"0.00"},{"v":0,"d":"0.00"},{"v":0,"d":"0.00"},null,"prüfen",{"$f":"IFERROR(OFFSET(MD!$U$5,MATCH(Grundlagen_Abrechnung_KAE!$E107,MD_GENDER,0),0),\"\")","v":""},{"v":0,"d":"0.00"},null,{"v":0,"d":"0.00"},{"$f":"IF(F107=\"Arbeitgeberähnliche Stellung\",OFFSET(MD!$Q$5,MATCH(Grundlagen_Abrechnung_KAE!$AK$7,MD_JAHR,0),0)*$H107,IF(J107>0,AC107,I107))","v":{"v":0,"d":"0.00"}},null,{"$f":"OFFSET(MD!$P$5,MATCH($AK$7,MD_JAHR,0),0)*12","v":{"$error":"#VALUE!"}},{"v":0,"d":"0.00"}]
[{"$nulls":14},{"$f":"IF($B108=\"\",\"\",IF(F108=\"Arbeitgeberähnliche Stellung\",OFFSET(MD!$Q$5,MATCH(Grundlagen_Abrechnung_KAE!$AK$7,MD_JAHR,0),0)*$H108,IF(((AD108/12*M108*12)+N108)>AF108,AF108/12,((AD108/12*M108*12)+N108)/12)))","v":""},null,null,{"v":0,"d":"0.00"},null,{"v":0,"d":"0.00%"},{"v":0,"d":"0.00"},{"v":0,"d":"0.00"},{"v":0,"d":"0.00"},null,"prüfen",{"$f":"IFERROR(OFFSET(MD!$U$5,MATCH(Grundlagen_Abrechnung_KAE!$E108,MD_GENDER,0),0),\"\")","v":""},{"v":0,"d":"0.00"},null,{"v":0,"d":"0.00"},{"$f":"IF(F108=\"Arbeitgeberähnliche Stellung\",OFFSET(MD!$Q$5,MATCH(Grundlagen_Abrechnung_KAE!$AK$7,MD_JAHR,0),0)*$H108,IF(J108>0,AC108,I108))","v":{"v":0,"d":"0.00"}},null,{"$f":"OFFSET(MD!$P$5,MATCH($AK$7,MD_JAHR,0),0)*12","v":{"$error":"#VALUE!"}},{"v":0,"d":"0.00"}]
[{"$nulls":14},{"$f":"IF($B109=\"\",\"\",IF(F109=\"Arbeitgeberähnliche Stellung\",OFFSET(MD!$Q$5,MATCH(Grundlagen_Abrechnung_KAE!$AK$7,MD_JAHR,0),0)*$H109,IF(((AD109/12*M109*12)+N109)>AF109,AF109/12,((AD109/12*M109*12)+N109)/12)))","v":""},null,null,{"v":0,"d":"0.00"},null,{"v":0,"d":"0.00%"},{"v":0,"d":"0.00"},{"v":0,"d":"0.00"},{"v":0,"d":"0.00"},null,"prüfen",{"$f":"IFERROR(OFFSET(MD!$U$5,MATCH(Grundlagen_Abrechnung_KAE!$E109,MD_GENDER,0),0),\"\")","v":""},{"v":0,"d":"0.00"},null,{"v":0,"d":"0.00"},{"$f":"IF(F109=\"Arbeitgeberähnliche Stellung\",OFFSET(MD!$Q$5,MATCH(Grundlagen_Abrechnung_KAE!$AK$7,MD_JAHR,0),0)*$H109,IF(J109>0,AC109,I109))","v":{"v":0,"d":"0.00"}},null,{"$f":"OFFSET(MD!$P$5,MATCH($AK$7,MD_JAHR,0),0)*12","v":{"$error":"#VALUE!"}},{"v":0,"d":"0.00"}]
[{"$nulls":14},{"$f":"IF($B110=\"\",\"\",IF(F110=\"Arbeitgeberähnliche Stellung\",OFFSET(MD!$Q$5,MATCH(Grundlagen_Abrechnung_KAE!$AK$7,MD_JAHR,0),0)*$H110,IF(((AD110/12*M110*12)+N110)>AF110,AF110/12,((AD110/12*M110*12)+N110)/12)))","v":""},null,null,{"v":0,"d":"0.00"},null,{"v":0,"d":"0.00%"},{"v":0,"d":"0.00"},{"v":0,"d":"0.00"},{"v":0,"d":"0.00"},null,"prüfen",{"$f":"IFERROR(OFFSET(MD!$U$5,MATCH(Grundlagen_Abrechnung_KAE!$E110,MD_GENDER,0),0),\"\")","v":""},{"v":0,"d":"0.00"},null,{"v":0,"d":"0.00"},{"$f":"IF(F110=\"Arbeitgeberähnliche Stellung\",OFFSET(MD!$Q$5,MATCH(Grundlagen_Abrechnung_KAE!$AK$7,MD_JAHR,0),0)*$H110,IF(J110>0,AC110,I110))","v":{"v":0,"d":"0.00"}},null,{"$f":"OFFSET(MD!$P$5,MATCH($AK$7,MD_JAHR,0),0)*12","v":{"$error":"#VALUE!"}},{"v":0,"d":"0.00"}]
[{"$nulls":14},{"$f":"IF($B111=\"\",\"\",IF(F111=\"Arbeitgeberähnliche Stellung\",OFFSET(MD!$Q$5,MATCH(Grundlagen_Abrechnung_KAE!$AK$7,MD_JAHR,0),0)*$H111,IF(((AD111/12*M111*12)+N111)>AF111,AF111/12,((AD111/12*M111*12)+N111)/12)))","v":""},null,null,{"v":0,"d":"0.00"},null,{"v":0,"d":"0.00%"},{"v":0,"d":"0.00"},{"v":0,"d":"0.00"},{"v":0,"d":"0.00"},null,"prüfen",{"$f":"IFERROR(OFFSET(MD!$U$5,MATCH(Grundlagen_Abrechnung_KAE!$E111,MD_GENDER,0),0),\"\")","v":""},{"v":0,"d":"0.00"},null,{"v":0,"d":"0.00"},{"$f":"IF(F111=\"Arbeitgeberähnliche Stellung\",OFFSET(MD!$Q$5,MATCH(Grundlagen_Abrechnung_KAE!$AK$7,MD_JAHR,0),0)*$H111,IF(J111>0,AC111,I111))","v":{"v":0,"d":"0.00"}},null,{"$f":"OFFSET(MD!$P$5,MATCH($AK$7,MD_JAHR,0),0)*12","v":{"$error":"#VALUE!"}},{"v":0,"d":"0.00"}]
[{"$nulls":14},{"$f":"IF($B112=\"\",\"\",IF(F112=\"Arbeitgeberähnliche Stellung\",OFFSET(MD!$Q$5,MATCH(Grundlagen_Abrechnung_KAE!$AK$7,MD_JAHR,0),0)*$H112,IF(((AD112/12*M112*12)+N112)>AF112,AF112/12,((AD112/12*M112*12)+N112)/12)))","v":""},null,null,{"v":0,"d":"0.00"},null,{"v":0,"d":"0.00%"},{"v":0,"d":"0.00"},{"v":0,"d":"0.00"},{"v":0,"d":"0.00"},null,"prüfen",{"$f":"IFERROR(OFFSET(MD!$U$5,MATCH(Grundlagen_Abrechnung_KAE!$E112,MD_GENDER,0),0),\"\")","v":""},{"v":0,"d":"0.00"},null,{"v":0,"d":"0.00"},{"$f":"IF(F112=\"Arbeitgeberähnliche Stellung\",OFFSET(MD!$Q$5,MATCH(Grundlagen_Abrechnung_KAE!$AK$7,MD_JAHR,0),0)*$H112,IF(J112>0,AC112,I112))","v":{"v":0,"d":"0.00"}},null,{"$f":"OFFSET(MD!$P$5,MATCH($AK$7,MD_JAHR,0),0)*12","v":{"$error":"#VALUE!"}},{"v":0,"d":"0.00"}]
[{"$nulls":14},{"$f":"IF($B113=\"\",\"\",IF(F113=\"Arbeitgeberähnliche Stellung\",OFFSET(MD!$Q$5,MATCH(Grundlagen_Abrechnung_KAE!$AK$7,MD_JAHR,0),0)*$H113,IF(((AD113/12*M113*12)+N113)>AF113,AF113/12,((AD113/12*M113*12)+N113)/12)))","v":""},null,null,{"v":0,"d":"0.00"},null,{"v":0,"d":"0.00%"},{"v":0,"d":"0.00"},{"v":0,"d":"0.00"},{"v":0,"d":"0.00"},null,"prüfen",{"$f":"IFERROR(OFFSET(MD!$U$5,MATCH(Grundlagen_Abrechnung_KAE!$E113,MD_GENDER,0),0),\"\")","v":""},{"v":0,"d":"0.00"},null,{"v":0,"d":"0.00"},{"$f":"IF(F113=\"Arbeitgeberähnliche Stellung\",OFFSET(MD!$Q$5,MATCH(Grundlagen_Abrechnung_KAE!$AK$7,MD_JAHR,0),0)*$H113,IF(J113>0,AC113,I113))","v":{"v":0,"d":"0.00"}},null,{"$f":"OFFSET(MD!$P$5,MATCH($AK$7,MD_JAHR,0),0)*12","v":{"$error":"#VALUE!"}},{"v":0,"d":"0.00"}]
[{"$nulls":14},{"$f":"IF($B114=\"\",\"\",IF(F114=\"Arbeitgeberähnliche Stellung\",OFFSET(MD!$Q$5,MATCH(Grundlagen_Abrechnung_KAE!$AK$7,MD_JAHR,0),0)*$H114,IF(((AD114/12*M114*12)+N114)>AF114,AF114/12,((AD114/12*M114*12)+N114)/12)))","v":""},null,null,{"v":0,"d":"0.00"},null,{"v":0,"d":"0.00%"},{"v":0,"d":"0.00"},{"v":0,"d":"0.00"},{"v":0,"d":"0.00"},null,"prüfen",{"$f":"IFERROR(OFFSET(MD!$U$5,MATCH(Grundlagen_Abrechnung_KAE!$E114,MD_GENDER,0),0),\"\")","v":""},{"v":0,"d":"0.00"},null,{"v":0,"d":"0.00"},{"$f":"IF(F114=\"Arbeitgeberähnliche Stellung\",OFFSET(MD!$Q$5,MATCH(Grundlagen_Abrechnung_KAE!$AK$7,MD_JAHR,0),0)*$H114,IF(J114>0,AC114,I114))","v":{"v":0,"d":"0.00"}},null,{"$f":"OFFSET(MD!$P$5,MATCH($AK$7,MD_JAHR,0),0)*12","v":{"$error":"#VALUE!"}},{"v":0,"d":"0.00"}]
[{"$nulls":14},{"$f":"IF($B115=\"\",\"\",IF(F115=\"Arbeitgeberähnliche Stellung\",OFFSET(MD!$Q$5,MATCH(Grundlagen_Abrechnung_KAE!$AK$7,MD_JAHR,0),0)*$H115,IF(((AD115/12*M115*12)+N115)>AF115,AF115/12,((AD115/12*M115*12)+N115)/12)))","v":""},null,null,{"v":0,"d":"0.00"},null,{"v":0,"d":"0.00%"},{"v":0,"d":"0.00"},{"v":0,"d":"0.00"},{"v":0,"d":"0.00"},null,"prüfen",{"$f":"IFERROR(OFFSET(MD!$U$5,MATCH(Grundlagen_Abrechnung_KAE!$E115,MD_GENDER,0),0),\"\")","v":""},{"v":0,"d":"0.00"},null,{"v":0,"d":"0.00"},{"$f":"IF(F115=\"Arbeitgeberähnliche Stellung\",OFFSET(MD!$Q$5,MATCH(Grundlagen_Abrechnung_KAE!$AK$7,MD_JAHR,0),0)*$H115,IF(J115>0,AC115,I115))","v":{"v":0,"d":"0.00"}},null,{"$f":"OFFSET(MD!$P$5,MATCH($AK$7,MD_JAHR,0),0)*12","v":{"$error":"#VALUE!"}},{"v":0,"d":"0.00"}]
[{"$nulls":14},{"$f":"IF($B116=\"\",\"\",IF(F116=\"Arbeitgeberähnliche Stellung\",OFFSET(MD!$Q$5,MATCH(Grundlagen_Abrechnung_KAE!$AK$7,MD_JAHR,0),0)*$H116,IF(((AD116/12*M116*12)+N116)>AF116,AF116/12,((AD116/12*M116*12)+N116)/12)))","v":""},null,null,{"v":0,"d":"0.00"},null,{"v":0,"d":"0.00%"},{"v":0,"d":"0.00"},{"v":0,"d":"0.00"},{"v":0,"d":"0.00"},null,"prüfen",{"$f":"IFERROR(OFFSET(MD!$U$5,MATCH(Grundlagen_Abrechnung_KAE!$E116,MD_GENDER,0),0),\"\")","v":""},{"v":0,"d":"0.00"},null,{"v":0,"d":"0.00"},{"$f":"IF(F116=\"Arbeitgeberähnliche Stellung\",OFFSET(MD!$Q$5,MATCH(Grundlagen_Abrechnung_KAE!$AK$7,MD_JAHR,0),0)*$H116,IF(J116>0,AC116,I116))","v":{"v":0,"d":"0.00"}},null,{"$f":"OFFSET(MD!$P$5,MATCH($AK$7,MD_JAHR,0),0)*12","v":{"$error":"#VALUE!"}},{"v":0,"d":"0.00"}]
[{"$nulls":14},{"$f":"IF($B117=\"\",\"\",IF(F117=\"Arbeitgeberähnliche Stellung\",OFFSET(MD!$Q$5,MATCH(Grundlagen_Abrechnung_KAE!$AK$7,MD_JAHR,0),0)*$H117,IF(((AD117/12*M117*12)+N117)>AF117,AF117/12,((AD117/12*M117*12)+N117)/12)))","v":""},null,null,{"v":0,"d":"0.00"},null,{"v":0,"d":"0.00%"},{"v":0,"d":"0.00"},{"v":0,"d":"0.00"},{"v":0,"d":"0.00"},null,"prüfen",{"$f":"IFERROR(OFFSET(MD!$U$5,MATCH(Grundlagen_Abrechnung_KAE!$E117,MD_GENDER,0),0),\"\")","v":""},{"v":0,"d":"0.00"},null,{"v":0,"d":"0.00"},{"$f":"IF(F117=\"Arbeitgeberähnliche Stellung\",OFFSET(MD!$Q$5,MATCH(Grundlagen_Abrechnung_KAE!$AK$7,MD_JAHR,0),0)*$H117,IF(J117>0,AC117,I117))","v":{"v":0,"d":"0.00"}},null,{"$f":"OFFSET(MD!$P$5,MATCH($AK$7,MD_JAHR,0),0)*12","v":{"$error":"#VALUE!"}},{"v":0,"d":"0.00"}]
[{"$nulls":14},{"$f":"IF($B118=\"\",\"\",IF(F118=\"Arbeitgeberähnliche Stellung\",OFFSET(MD!$Q$5,MATCH(Grundlagen_Abrechnung_KAE!$AK$7,MD_JAHR,0),0)*$H118,IF(((AD118/12*M118*12)+N118)>AF118,AF118/12,((AD118/12*M118*12)+N118)/12)))","v":""},null,null,{"v":0,"d":"0.00"},null,{"v":0,"d":"0.00%"},{"v":0,"d":"0.00"},{"v":0,"d":"0.00"},{"v":0,"d":"0.00"},null,"prüfen",{"$f":"IFERROR(OFFSET(MD!$U$5,MATCH(Grundlagen_Abrechnung_KAE!$E118,MD_GENDER,0),0),\"\")","v":""},{"v":0,"d":"0.00"},null,{"v":0,"d":"0.00"},{"$f":"IF(F118=\"Arbeitgeberähnliche Stellung\",OFFSET(MD!$Q$5,MATCH(Grundlagen_Abrechnung_KAE!$AK$7,MD_JAHR,0),0)*$H118,IF(J118>0,AC118,I118))","v":{"v":0,"d":"0.00"}},null,{"$f":"OFFSET(MD!$P$5,MATCH($AK$7,MD_JAHR,0),0)*12","v":{"$error":"#VALUE!"}},{"v":0,"d":"0.00"}]
[{"$nulls":14},{"$f":"IF($B119=\"\",\"\",IF(F119=\"Arbeitgeberähnliche Stellung\",OFFSET(MD!$Q$5,MATCH(Grundlagen_Abrechnung_KAE!$AK$7,MD_JAHR,0),0)*$H119,IF(((AD119/12*M119*12)+N119)>AF119,AF119/12,((AD119/12*M119*12)+N119)/12)))","v":""},null,null,{"v":0,"d":"0.00"},null,{"v":0,"d":"0.00%"},{"v":0,"d":"0.00"},{"v":0,"d":"0.00"},{"v":0,"d":"0.00"},null,"prüfen",{"$f":"IFERROR(OFFSET(MD!$U$5,MATCH(Grundlagen_Abrechnung_KAE!$E119,MD_GENDER,0),0),\"\")","v":""},{"v":0,"d":"0.00"},null,{"v":0,"d":"0.00"},{"$f":"IF(F119=\"Arbeitgeberähnliche Stellung\",OFFSET(MD!$Q$5,MATCH(Grundlagen_Abrechnung_KAE!$AK$7,MD_JAHR,0),0)*$H119,IF(J119>0,AC119,I119))","v":{"v":0,"d":"0.00"}},null,{"$f":"OFFSET(MD!$P$5,MATCH($AK$7,MD_JAHR,0),0)*12","v":{"$error":"#VALUE!"}},{"v":0,"d":"0.00"}]
[{"$nulls":14},{"$f":"IF($B120=\"\",\"\",IF(F120=\"Arbeitgeberähnliche Stellung\",OFFSET(MD!$Q$5,MATCH(Grundlagen_Abrechnung_KAE!$AK$7,MD_JAHR,0),0)*$H120,IF(((AD120/12*M120*12)+N120)>AF120,AF120/12,((AD120/12*M120*12)+N120)/12)))","v":""},null,null,{"v":0,"d":"0.00"},null,{"v":0,"d":"0.00%"},{"v":0,"d":"0.00"},{"v":0,"d":"0.00"},{"v":0,"d":"0.00"},null,"prüfen",{"$f":"IFERROR(OFFSET(MD!$U$5,MATCH(Grundlagen_Abrechnung_KAE!$E120,MD_GENDER,0),0),\"\")","v":""},{"v":0,"d":"0.00"},null,{"v":0,"d":"0.00"},{"$f":"IF(F120=\"Arbeitgeberähnliche Stellung\",OFFSET(MD!$Q$5,MATCH(Grundlagen_Abrechnung_KAE!$AK$7,MD_JAHR,0),0)*$H120,IF(J120>0,AC120,I120))","v":{"v":0,"d":"0.00"}},null,{"$f":"OFFSET(MD!$P$5,MATCH($AK$7,MD_JAHR,0),0)*12","v":{"$error":"#VALUE!"}},{"v":0,"d":"0.00"}]
[{"$nulls":14},{"$f":"IF($B121=\"\",\"\",IF(F121=\"Arbeitgeberähnliche Stellung\",OFFSET(MD!$Q$5,MATCH(Grundlagen_Abrechnung_KAE!$AK$7,MD_JAHR,0),0)*$H121,IF(((AD121/12*M121*12)+N121)>AF121,AF121/12,((AD121/12*M121*12)+N121)/12)))","v":""},null,null,{"v":0,"d":"0.00"},null,{"v":0,"d":"0.00%"},{"v":0,"d":"0.00"},{"v":0,"d":"0.00"},{"v":0,"d":"0.00"},null,"prüfen",{"$f":"IFERROR(OFFSET(MD!$U$5,MATCH(Grundlagen_Abrechnung_KAE!$E121,MD_GENDER,0),0),\"\")","v":""},{"v":0,"d":"0.00"},null,{"v":0,"d":"0.00"},{"$f":"IF(F121=\"Arbeitgeberähnliche Stellung\",OFFSET(MD!$Q$5,MATCH(Grundlagen_Abrechnung_KAE!$AK$7,MD_JAHR,0),0)*$H121,IF(J121>0,AC121,I121))","v":{"v":0,"d":"0.00"}},null,{"$f":"OFFSET(MD!$P$5,MATCH($AK$7,MD_JAHR,0),0)*12","v":{"$error":"#VALUE!"}},{"v":0,"d":"0.00"}]
[{"$nulls":14},{"$f":"IF($B122=\"\",\"\",IF(F122=\"Arbeitgeberähnliche Stellung\",OFFSET(MD!$Q$5,MATCH(Grundlagen_Abrechnung_KAE!$AK$7,MD_JAHR,0),0)*$H122,IF(((AD122/12*M122*12)+N122)>AF122,AF122/12,((AD122/12*M122*12)+N122)/12)))","v":""},null,null,{"v":0,"d":"0.00"},null,{"v":0,"d":"0.00%"},{"v":0,"d":"0.00"},{"v":0,"d":"0.00"},{"v":0,"d":"0.00"},null,"prüfen",{"$f":"IFERROR(OFFSET(MD!$U$5,MATCH(Grundlagen_Abrechnung_KAE!$E122,MD_GENDER,0),0),\"\")","v":""},{"v":0,"d":"0.00"},null,{"v":0,"d":"0.00"},{"$f":"IF(F122=\"Arbeitgeberähnliche Stellung\",OFFSET(MD!$Q$5,MATCH(Grundlagen_Abrechnung_KAE!$AK$7,MD_JAHR,0),0)*$H122,IF(J122>0,AC122,I122))","v":{"v":0,"d":"0.00"}},null,{"$f":"OFFSET(MD!$P$5,MATCH($AK$7,MD_JAHR,0),0)*12","v":{"$error":"#VALUE!"}},{"v":0,"d":"0.00"}]
[{"$nulls":14},{"$f":"IF($B123=\"\",\"\",IF(F123=\"Arbeitgeberähnliche Stellung\",OFFSET(MD!$Q$5,MATCH(Grundlagen_Abrechnung_KAE!$AK$7,MD_JAHR,0),0)*$H123,IF(((AD123/12*M123*12)+N123)>AF123,AF123/12,((AD123/12*M123*12)+N123)/12)))","v":""},null,null,{"v":0,"d":"0.00"},null,{"v":0,"d":"0.00%"},{"v":0,"d":"0.00"},{"v":0,"d":"0.00"},{"v":0,"d":"0.00"},null,"prüfen",{"$f":"IFERROR(OFFSET(MD!$U$5,MATCH(Grundlagen_Abrechnung_KAE!$E123,MD_GENDER,0),0),\"\")","v":""},{"v":0,"d":"0.00"},null,{"v":0,"d":"0.00"},{"$f":"IF(F123=\"Arbeitgeberähnliche Stellung\",OFFSET(MD!$Q$5,MATCH(Grundlagen_Abrechnung_KAE!$AK$7,MD_JAHR,0),0)*$H123,IF(J123>0,AC123,I123))","v":{"v":0,"d":"0.00"}},null,{"$f":"OFFSET(MD!$P$5,MATCH($AK$7,MD_JAHR,0),0)*12","v":{"$error":"#VALUE!"}},{"v":0,"d":"0.00"}]
[{"$nulls":14},{"$f":"IF($B124=\"\",\"\",IF(F124=\"Arbeitgeberähnliche Stellung\",OFFSET(MD!$Q$5,MATCH(Grundlagen_Abrechnung_KAE!$AK$7,MD_JAHR,0),0)*$H124,IF(((AD124/12*M124*12)+N124)>AF124,AF124/12,((AD124/12*M124*12)+N124)/12)))","v":""},null,null,{"v":0,"d":"0.00"},null,{"v":0,"d":"0.00%"},{"v":0,"d":"0.00"},{"v":0,"d":"0.00"},{"v":0,"d":"0.00"},null,"prüfen",{"$f":"IFERROR(OFFSET(MD!$U$5,MATCH(Grundlagen_Abrechnung_KAE!$E124,MD_GENDER,0),0),\"\")","v":""},{"v":0,"d":"0.00"},null,{"v":0,"d":"0.00"},{"$f":"IF(F124=\"Arbeitgeberähnliche Stellung\",OFFSET(MD!$Q$5,MATCH(Grundlagen_Abrechnung_KAE!$AK$7,MD_JAHR,0),0)*$H124,IF(J124>0,AC124,I124))","v":{"v":0,"d":"0.00"}},null,{"$f":"OFFSET(MD!$P$5,MATCH($AK$7,MD_JAHR,0),0)*12","v":{"$error":"#VALUE!"}},{"v":0,"d":"0.00"}]
[{"$nulls":14},{"$f":"IF($B125=\"\",\"\",IF(F125=\"Arbeitgeberähnliche Stellung\",OFFSET(MD!$Q$5,MATCH(Grundlagen_Abrechnung_KAE!$AK$7,MD_JAHR,0),0)*$H125,IF(((AD125/12*M125*12)+N125)>AF125,AF125/12,((AD125/12*M125*12)+N125)/12)))","v":""},null,null,{"v":0,"d":"0.00"},null,{"v":0,"d":"0.00%"},{"v":0,"d":"0.00"},{"v":0,"d":"0.00"},{"v":0,"d":"0.00"},null,"prüfen",{"$f":"IFERROR(OFFSET(MD!$U$5,MATCH(Grundlagen_Abrechnung_KAE!$E125,MD_GENDER,0),0),\"\")","v":""},{"v":0,"d":"0.00"},null,{"v":0,"d":"0.00"},{"$f":"IF(F125=\"Arbeitgeberähnliche Stellung\",OFFSET(MD!$Q$5,MATCH(Grundlagen_Abrechnung_KAE!$AK$7,MD_JAHR,0),0)*$H125,IF(J125>0,AC125,I125))","v":{"v":0,"d":"0.00"}},null,{"$f":"OFFSET(MD!$P$5,MATCH($AK$7,MD_JAHR,0),0)*12","v":{"$error":"#VALUE!"}},{"v":0,"d":"0.00"}]
[{"$nulls":14},{"$f":"IF($B126=\"\",\"\",IF(F126=\"Arbeitgeberähnliche Stellung\",OFFSET(MD!$Q$5,MATCH(Grundlagen_Abrechnung_KAE!$AK$7,MD_JAHR,0),0)*$H126,IF(((AD126/12*M126*12)+N126)>AF126,AF126/12,((AD126/12*M126*12)+N126)/12)))","v":""},null,null,{"v":0,"d":"0.00"},null,{"v":0,"d":"0.00%"},{"v":0,"d":"0.00"},{"v":0,"d":"0.00"},{"v":0,"d":"0.00"},null,"prüfen",{"$f":"IFERROR(OFFSET(MD!$U$5,MATCH(Grundlagen_Abrechnung_KAE!$E126,MD_GENDER,0),0),\"\")","v":""},{"v":0,"d":"0.00"},null,{"v":0,"d":"0.00"},{"$f":"IF(F126=\"Arbeitgeberähnliche Stellung\",OFFSET(MD!$Q$5,MATCH(Grundlagen_Abrechnung_KAE!$AK$7,MD_JAHR,0),0)*$H126,IF(J126>0,AC126,I126))","v":{"v":0,"d":"0.00"}},null,{"$f":"OFFSET(MD!$P$5,MATCH($AK$7,MD_JAHR,0),0)*12","v":{"$error":"#VALUE!"}},{"v":0,"d":"0.00"}]
[{"$nulls":14},{"$f":"IF($B127=\"\",\"\",IF(F127=\"Arbeitgeberähnliche Stellung\",OFFSET(MD!$Q$5,MATCH(Grundlagen_Abrechnung_KAE!$AK$7,MD_JAHR,0),0)*$H127,IF(((AD127/12*M127*12)+N127)>AF127,AF127/12,((AD127/12*M127*12)+N127)/12)))","v":""},null,null,{"v":0,"d":"0.00"},null,{"v":0,"d":"0.00%"},{"v":0,"d":"0.00"},{"v":0,"d":"0.00"},{"v":0,"d":"0.00"},null,"prüfen",{"$f":"IFERROR(OFFSET(MD!$U$5,MATCH(Grundlagen_Abrechnung_KAE!$E127,MD_GENDER,0),0),\"\")","v":""},{"v":0,"d":"0.00"},null,{"v":0,"d":"0.00"},{"$f":"IF(F127=\"Arbeitgeberähnliche Stellung\",OFFSET(MD!$Q$5,MATCH(Grundlagen_Abrechnung_KAE!$AK$7,MD_JAHR,0),0)*$H127,IF(J127>0,AC127,I127))","v":{"v":0,"d":"0.00"}},null,{"$f":"OFFSET(MD!$P$5,MATCH($AK$7,MD_JAHR,0),0)*12","v":{"$error":"#VALUE!"}},{"v":0,"d":"0.00"}]
[{"$nulls":14},{"$f":"IF($B128=\"\",\"\",IF(F128=\"Arbeitgeberähnliche Stellung\",OFFSET(MD!$Q$5,MATCH(Grundlagen_Abrechnung_KAE!$AK$7,MD_JAHR,0),0)*$H128,IF(((AD128/12*M128*12)+N128)>AF128,AF128/12,((AD128/12*M128*12)+N128)/12)))","v":""},null,null,{"v":0,"d":"0.00"},null,{"v":0,"d":"0.00%"},{"v":0,"d":"0.00"},{"v":0,"d":"0.00"},{"v":0,"d":"0.00"},null,"prüfen",{"$f":"IFERROR(OFFSET(MD!$U$5,MATCH(Grundlagen_Abrechnung_KAE!$E128,MD_GENDER,0),0),\"\")","v":""},{"v":0,"d":"0.00"},null,{"v":0,"d":"0.00"},{"$f":"IF(F128=\"Arbeitgeberähnliche Stellung\",OFFSET(MD!$Q$5,MATCH(Grundlagen_Abrechnung_KAE!$AK$7,MD_JAHR,0),0)*$H128,IF(J128>0,AC128,I128))","v":{"v":0,"d":"0.00"}},null,{"$f":"OFFSET(MD!$P$5,MATCH($AK$7,MD_JAHR,0),0)*12","v":{"$error":"#VALUE!"}},{"v":0,"d":"0.00"}]
[{"$nulls":14},{"$f":"IF($B129=\"\",\"\",IF(F129=\"Arbeitgeberähnliche Stellung\",OFFSET(MD!$Q$5,MATCH(Grundlagen_Abrechnung_KAE!$AK$7,MD_JAHR,0),0)*$H129,IF(((AD129/12*M129*12)+N129)>AF129,AF129/12,((AD129/12*M129*12)+N129)/12)))","v":""},null,null,{"v":0,"d":"0.00"},null,{"v":0,"d":"0.00%"},{"v":0,"d":"0.00"},{"v":0,"d":"0.00"},{"v":0,"d":"0.00"},null,"prüfen",{"$f":"IFERROR(OFFSET(MD!$U$5,MATCH(Grundlagen_Abrechnung_KAE!$E129,MD_GENDER,0),0),\"\")","v":""},{"v":0,"d":"0.00"},null,{"v":0,"d":"0.00"},{"$f":"IF(F129=\"Arbeitgeberähnliche Stellung\",OFFSET(MD!$Q$5,MATCH(Grundlagen_Abrechnung_KAE!$AK$7,MD_JAHR,0),0)*$H129,IF(J129>0,AC129,I129))","v":{"v":0,"d":"0.00"}},null,{"$f":"OFFSET(MD!$P$5,MATCH($AK$7,MD_JAHR,0),0)*12","v":{"$error":"#VALUE!"}},{"v":0,"d":"0.00"}]
[{"$nulls":14},{"$f":"IF($B130=\"\",\"\",IF(F130=\"Arbeitgeberähnliche Stellung\",OFFSET(MD!$Q$5,MATCH(Grundlagen_Abrechnung_KAE!$AK$7,MD_JAHR,0),0)*$H130,IF(((AD130/12*M130*12)+N130)>AF130,AF130/12,((AD130/12*M130*12)+N130)/12)))","v":""},null,null,{"v":0,"d":"0.00"},null,{"v":0,"d":"0.00%"},{"v":0,"d":"0.00"},{"v":0,"d":"0.00"},{"v":0,"d":"0.00"},null,"prüfen",{"$f":"IFERROR(OFFSET(MD!$U$5,MATCH(Grundlagen_Abrechnung_KAE!$E130,MD_GENDER,0),0),\"\")","v":""},{"v":0,"d":"0.00"},null,{"v":0,"d":"0.00"},{"$f":"IF(F130=\"Arbeitgeberähnliche Stellung\",OFFSET(MD!$Q$5,MATCH(Grundlagen_Abrechnung_KAE!$AK$7,MD_JAHR,0),0)*$H130,IF(J130>0,AC130,I130))","v":{"v":0,"d":"0.00"}},null,{"$f":"OFFSET(MD!$P$5,MATCH($AK$7,MD_JAHR,0),0)*12","v":{"$error":"#VALUE!"}},{"v":0,"d":"0.00"}]
[{"$nulls":14},{"$f":"IF($B131=\"\",\"\",IF(F131=\"Arbeitgeberähnliche Stellung\",OFFSET(MD!$Q$5,MATCH(Grundlagen_Abrechnung_KAE!$AK$7,MD_JAHR,0),0)*$H131,IF(((AD131/12*M131*12)+N131)>AF131,AF131/12,((AD131/12*M131*12)+N131)/12)))","v":""},null,null,{"v":0,"d":"0.00"},null,{"v":0,"d":"0.00%"},{"v":0,"d":"0.00"},{"v":0,"d":"0.00"},{"v":0,"d":"0.00"},null,"prüfen",{"$f":"IFERROR(OFFSET(MD!$U$5,MATCH(Grundlagen_Abrechnung_KAE!$E131,MD_GENDER,0),0),\"\")","v":""},{"v":0,"d":"0.00"},null,{"v":0,"d":"0.00"},{"$f":"IF(F131=\"Arbeitgeberähnliche Stellung\",OFFSET(MD!$Q$5,MATCH(Grundlagen_Abrechnung_KAE!$AK$7,MD_JAHR,0),0)*$H131,IF(J131>0,AC131,I131))","v":{"v":0,"d":"0.00"}},null,{"$f":"OFFSET(MD!$P$5,MATCH($AK$7,MD_JAHR,0),0)*12","v":{"$error":"#VALUE!"}},{"v":0,"d":"0.00"}]
[{"$nulls":14},{"$f":"IF($B132=\"\",\"\",IF(F132=\"Arbeitgeberähnliche Stellung\",OFFSET(MD!$Q$5,MATCH(Grundlagen_Abrechnung_KAE!$AK$7,MD_JAHR,0),0)*$H132,IF(((AD132/12*M132*12)+N132)>AF132,AF132/12,((AD132/12*M132*12)+N132)/12)))","v":""},null,null,{"v":0,"d":"0.00"},null,{"v":0,"d":"0.00%"},{"v":0,"d":"0.00"},{"v":0,"d":"0.00"},{"v":0,"d":"0.00"},null,"prüfen",{"$f":"IFERROR(OFFSET(MD!$U$5,MATCH(Grundlagen_Abrechnung_KAE!$E132,MD_GENDER,0),0),\"\")","v":""},{"v":0,"d":"0.00"},null,{"v":0,"d":"0.00"},{"$f":"IF(F132=\"Arbeitgeberähnliche Stellung\",OFFSET(MD!$Q$5,MATCH(Grundlagen_Abrechnung_KAE!$AK$7,MD_JAHR,0),0)*$H132,IF(J132>0,AC132,I132))","v":{"v":0,"d":"0.00"}},null,{"$f":"OFFSET(MD!$P$5,MATCH($AK$7,MD_JAHR,0),0)*12","v":{"$error":"#VALUE!"}},{"v":0,"d":"0.00"}]
[{"$nulls":14},{"$f":"IF($B133=\"\",\"\",IF(F133=\"Arbeitgeberähnliche Stellung\",OFFSET(MD!$Q$5,MATCH(Grundlagen_Abrechnung_KAE!$AK$7,MD_JAHR,0),0)*$H133,IF(((AD133/12*M133*12)+N133)>AF133,AF133/12,((AD133/12*M133*12)+N133)/12)))","v":""},null,null,{"v":0,"d":"0.00"},null,{"v":0,"d":"0.00%"},{"v":0,"d":"0.00"},{"v":0,"d":"0.00"},{"v":0,"d":"0.00"},null,"prüfen",{"$f":"IFERROR(OFFSET(MD!$U$5,MATCH(Grundlagen_Abrechnung_KAE!$E133,MD_GENDER,0),0),\"\")","v":""},{"v":0,"d":"0.00"},null,{"v":0,"d":"0.00"},{"$f":"IF(F133=\"Arbeitgeberähnliche Stellung\",OFFSET(MD!$Q$5,MATCH(Grundlagen_Abrechnung_KAE!$AK$7,MD_JAHR,0),0)*$H133,IF(J133>0,AC133,I133))","v":{"v":0,"d":"0.00"}},null,{"$f":"OFFSET(MD!$P$5,MATCH($AK$7,MD_JAHR,0),0)*12","v":{"$error":"#VALUE!"}},{"v":0,"d":"0.00"}]
[{"$nulls":14},{"$f":"IF($B134=\"\",\"\",IF(F134=\"Arbeitgeberähnliche Stellung\",OFFSET(MD!$Q$5,MATCH(Grundlagen_Abrechnung_KAE!$AK$7,MD_JAHR,0),0)*$H134,IF(((AD134/12*M134*12)+N134)>AF134,AF134/12,((AD134/12*M134*12)+N134)/12)))","v":""},null,null,{"v":0,"d":"0.00"},null,{"v":0,"d":"0.00%"},{"v":0,"d":"0.00"},{"v":0,"d":"0.00"},{"v":0,"d":"0.00"},null,"prüfen",{"$f":"IFERROR(OFFSET(MD!$U$5,MATCH(Grundlagen_Abrechnung_KAE!$E134,MD_GENDER,0),0),\"\")","v":""},{"v":0,"d":"0.00"},null,{"v":0,"d":"0.00"},{"$f":"IF(F134=\"Arbeitgeberähnliche Stellung\",OFFSET(MD!$Q$5,MATCH(Grundlagen_Abrechnung_KAE!$AK$7,MD_JAHR,0),0)*$H134,IF(J134>0,AC134,I134))","v":{"v":0,"d":"0.00"}},null,{"$f":"OFFSET(MD!$P$5,MATCH($AK$7,MD_JAHR,0),0)*12","v":{"$error":"#VALUE!"}},{"v":0,"d":"0.00"}]
[{"$nulls":14},{"$f":"IF($B135=\"\",\"\",IF(F135=\"Arbeitgeberähnliche Stellung\",OFFSET(MD!$Q$5,MATCH(Grundlagen_Abrechnung_KAE!$AK$7,MD_JAHR,0),0)*$H135,IF(((AD135/12*M135*12)+N135)>AF135,AF135/12,((AD135/12*M135*12)+N135)/12)))","v":""},null,null,{"v":0,"d":"0.00"},null,{"v":0,"d":"0.00%"},{"v":0,"d":"0.00"},{"v":0,"d":"0.00"},{"v":0,"d":"0.00"},null,"prüfen",{"$f":"IFERROR(OFFSET(MD!$U$5,MATCH(Grundlagen_Abrechnung_KAE!$E135,MD_GENDER,0),0),\"\")","v":""},{"v":0,"d":"0.00"},null,{"v":0,"d":"0.00"},{"$f":"IF(F135=\"Arbeitgeberähnliche Stellung\",OFFSET(MD!$Q$5,MATCH(Grundlagen_Abrechnung_KAE!$AK$7,MD_JAHR,0),0)*$H135,IF(J135>0,AC135,I135))","v":{"v":0,"d":"0.00"}},null,{"$f":"OFFSET(MD!$P$5,MATCH($AK$7,MD_JAHR,0),0)*12","v":{"$error":"#VALUE!"}},{"v":0,"d":"0.00"}]
[{"$nulls":14},{"$f":"IF($B136=\"\",\"\",IF(F136=\"Arbeitgeberähnliche Stellung\",OFFSET(MD!$Q$5,MATCH(Grundlagen_Abrechnung_KAE!$AK$7,MD_JAHR,0),0)*$H136,IF(((AD136/12*M136*12)+N136)>AF136,AF136/12,((AD136/12*M136*12)+N136)/12)))","v":""},null,null,{"v":0,"d":"0.00"},null,{"v":0,"d":"0.00%"},{"v":0,"d":"0.00"},{"v":0,"d":"0.00"},{"v":0,"d":"0.00"},null,"prüfen",{"$f":"IFERROR(OFFSET(MD!$U$5,MATCH(Grundlagen_Abrechnung_KAE!$E136,MD_GENDER,0),0),\"\")","v":""},{"v":0,"d":"0.00"},null,{"v":0,"d":"0.00"},{"$f":"IF(F136=\"Arbeitgeberähnliche Stellung\",OFFSET(MD!$Q$5,MATCH(Grundlagen_Abrechnung_KAE!$AK$7,MD_JAHR,0),0)*$H136,IF(J136>0,AC136,I136))","v":{"v":0,"d":"0.00"}},null,{"$f":"OFFSET(MD!$P$5,MATCH($AK$7,MD_JAHR,0),0)*12","v":{"$error":"#VALUE!"}},{"v":0,"d":"0.00"}]
[{"$nulls":14},{"$f":"IF($B137=\"\",\"\",IF(F137=\"Arbeitgeberähnliche Stellung\",OFFSET(MD!$Q$5,MATCH(Grundlagen_Abrechnung_KAE!$AK$7,MD_JAHR,0),0)*$H137,IF(((AD137/12*M137*12)+N137)>AF137,AF137/12,((AD137/12*M137*12)+N137)/12)))","v":""},null,null,{"v":0,"d":"0.00"},null,{"v":0,"d":"0.00%"},{"v":0,"d":"0.00"},{"v":0,"d":"0.00"},{"v":0,"d":"0.00"},null,"prüfen",{"$f":"IFERROR(OFFSET(MD!$U$5,MATCH(Grundlagen_Abrechnung_KAE!$E137,MD_GENDER,0),0),\"\")","v":""},{"v":0,"d":"0.00"},null,{"v":0,"d":"0.00"},{"$f":"IF(F137=\"Arbeitgeberähnliche Stellung\",OFFSET(MD!$Q$5,MATCH(Grundlagen_Abrechnung_KAE!$AK$7,MD_JAHR,0),0)*$H137,IF(J137>0,AC137,I137))","v":{"v":0,"d":"0.00"}},null,{"$f":"OFFSET(MD!$P$5,MATCH($AK$7,MD_JAHR,0),0)*12","v":{"$error":"#VALUE!"}},{"v":0,"d":"0.00"}]
[{"$nulls":14},{"$f":"IF($B138=\"\",\"\",IF(F138=\"Arbeitgeberähnliche Stellung\",OFFSET(MD!$Q$5,MATCH(Grundlagen_Abrechnung_KAE!$AK$7,MD_JAHR,0),0)*$H138,IF(((AD138/12*M138*12)+N138)>AF138,AF138/12,((AD138/12*M138*12)+N138)/12)))","v":""},null,null,{"v":0,"d":"0.00"},null,{"v":0,"d":"0.00%"},{"v":0,"d":"0.00"},{"v":0,"d":"0.00"},{"v":0,"d":"0.00"},null,"prüfen",{"$f":"IFERROR(OFFSET(MD!$U$5,MATCH(Grundlagen_Abrechnung_KAE!$E138,MD_GENDER,0),0),\"\")","v":""},{"v":0,"d":"0.00"},null,{"v":0,"d":"0.00"},{"$f":"IF(F138=\"Arbeitgeberähnliche Stellung\",OFFSET(MD!$Q$5,MATCH(Grundlagen_Abrechnung_KAE!$AK$7,MD_JAHR,0),0)*$H138,IF(J138>0,AC138,I138))","v":{"v":0,"d":"0.00"}},null,{"$f":"OFFSET(MD!$P$5,MATCH($AK$7,MD_JAHR,0),0)*12","v":{"$error":"#VALUE!"}},{"v":0,"d":"0.00"}]
[{"$nulls":14},{"$f":"IF($B139=\"\",\"\",IF(F139=\"Arbeitgeberähnliche Stellung\",OFFSET(MD!$Q$5,MATCH(Grundlagen_Abrechnung_KAE!$AK$7,MD_JAHR,0),0)*$H139,IF(((AD139/12*M139*12)+N139)>AF139,AF139/12,((AD139/12*M139*12)+N139)/12)))","v":""},null,null,{"v":0,"d":"0.00"},null,{"v":0,"d":"0.00%"},{"v":0,"d":"0.00"},{"v":0,"d":"0.00"},{"v":0,"d":"0.00"},null,"prüfen",{"$f":"IFERROR(OFFSET(MD!$U$5,MATCH(Grundlagen_Abrechnung_KAE!$E139,MD_GENDER,0),0),\"\")","v":""},{"v":0,"d":"0.00"},null,{"v":0,"d":"0.00"},{"$f":"IF(F139=\"Arbeitgeberähnliche Stellung\",OFFSET(MD!$Q$5,MATCH(Grundlagen_Abrechnung_KAE!$AK$7,MD_JAHR,0),0)*$H139,IF(J139>0,AC139,I139))","v":{"v":0,"d":"0.00"}},null,{"$f":"OFFSET(MD!$P$5,MATCH($AK$7,MD_JAHR,0),0)*12","v":{"$error":"#VALUE!"}},{"v":0,"d":"0.00"}]
[{"$nulls":14},{"$f":"IF($B140=\"\",\"\",IF(F140=\"Arbeitgeberähnliche Stellung\",OFFSET(MD!$Q$5,MATCH(Grundlagen_Abrechnung_KAE!$AK$7,MD_JAHR,0),0)*$H140,IF(((AD140/12*M140*12)+N140)>AF140,AF140/12,((AD140/12*M140*12)+N140)/12)))","v":""},null,null,{"v":0,"d":"0.00"},null,{"v":0,"d":"0.00%"},{"v":0,"d":"0.00"},{"v":0,"d":"0.00"},{"v":0,"d":"0.00"},null,"prüfen",{"$f":"IFERROR(OFFSET(MD!$U$5,MATCH(Grundlagen_Abrechnung_KAE!$E140,MD_GENDER,0),0),\"\")","v":""},{"v":0,"d":"0.00"},null,{"v":0,"d":"0.00"},{"$f":"IF(F140=\"Arbeitgeberähnliche Stellung\",OFFSET(MD!$Q$5,MATCH(Grundlagen_Abrechnung_KAE!$AK$7,MD_JAHR,0),0)*$H140,IF(J140>0,AC140,I140))","v":{"v":0,"d":"0.00"}},null,{"$f":"OFFSET(MD!$P$5,MATCH($AK$7,MD_JAHR,0),0)*12","v":{"$error":"#VALUE!"}},{"v":0,"d":"0.00"}]
[{"$nulls":14},{"$f":"IF($B141=\"\",\"\",IF(F141=\"Arbeitgeberähnliche Stellung\",OFFSET(MD!$Q$5,MATCH(Grundlagen_Abrechnung_KAE!$AK$7,MD_JAHR,0),0)*$H141,IF(((AD141/12*M141*12)+N141)>AF141,AF141/12,((AD141/12*M141*12)+N141)/12)))","v":""},null,null,{"v":0,"d":"0.00"},null,{"v":0,"d":"0.00%"},{"v":0,"d":"0.00"},{"v":0,"d":"0.00"},{"v":0,"d":"0.00"},null,"prüfen",{"$f":"IFERROR(OFFSET(MD!$U$5,MATCH(Grundlagen_Abrechnung_KAE!$E141,MD_GENDER,0),0),\"\")","v":""},{"v":0,"d":"0.00"},null,{"v":0,"d":"0.00"},{"$f":"IF(F141=\"Arbeitgeberähnliche Stellung\",OFFSET(MD!$Q$5,MATCH(Grundlagen_Abrechnung_KAE!$AK$7,MD_JAHR,0),0)*$H141,IF(J141>0,AC141,I141))","v":{"v":0,"d":"0.00"}},null,{"$f":"OFFSET(MD!$P$5,MATCH($AK$7,MD_JAHR,0),0)*12","v":{"$error":"#VALUE!"}},{"v":0,"d":"0.00"}]
[{"$nulls":14},{"$f":"IF($B142=\"\",\"\",IF(F142=\"Arbeitgeberähnliche Stellung\",OFFSET(MD!$Q$5,MATCH(Grundlagen_Abrechnung_KAE!$AK$7,MD_JAHR,0),0)*$H142,IF(((AD142/12*M142*12)+N142)>AF142,AF142/12,((AD142/12*M142*12)+N142)/12)))","v":""},null,null,{"v":0,"d":"0.00"},null,{"v":0,"d":"0.00%"},{"v":0,"d":"0.00"},{"v":0,"d":"0.00"},{"v":0,"d":"0.00"},null,"prüfen",{"$f":"IFERROR(OFFSET(MD!$U$5,MATCH(Grundlagen_Abrechnung_KAE!$E142,MD_GENDER,0),0),\"\")","v":""},{"v":0,"d":"0.00"},null,{"v":0,"d":"0.00"},{"$f":"IF(F142=\"Arbeitgeberähnliche Stellung\",OFFSET(MD!$Q$5,MATCH(Grundlagen_Abrechnung_KAE!$AK$7,MD_JAHR,0),0)*$H142,IF(J142>0,AC142,I142))","v":{"v":0,"d":"0.00"}},null,{"$f":"OFFSET(MD!$P$5,MATCH($AK$7,MD_JAHR,0),0)*12","v":{"$error":"#VALUE!"}},{"v":0,"d":"0.00"}]
[{"$nulls":14},{"$f":"IF($B143=\"\",\"\",IF(F143=\"Arbeitgeberähnliche Stellung\",OFFSET(MD!$Q$5,MATCH(Grundlagen_Abrechnung_KAE!$AK$7,MD_JAHR,0),0)*$H143,IF(((AD143/12*M143*12)+N143)>AF143,AF143/12,((AD143/12*M143*12)+N143)/12)))","v":""},null,null,{"v":0,"d":"0.00"},null,{"v":0,"d":"0.00%"},{"v":0,"d":"0.00"},{"v":0,"d":"0.00"},{"v":0,"d":"0.00"},null,"prüfen",{"$f":"IFERROR(OFFSET(MD!$U$5,MATCH(Grundlagen_Abrechnung_KAE!$E143,MD_GENDER,0),0),\"\")","v":""},{"v":0,"d":"0.00"},null,{"v":0,"d":"0.00"},{"$f":"IF(F143=\"Arbeitgeberähnliche Stellung\",OFFSET(MD!$Q$5,MATCH(Grundlagen_Abrechnung_KAE!$AK$7,MD_JAHR,0),0)*$H143,IF(J143>0,AC143,I143))","v":{"v":0,"d":"0.00"}},null,{"$f":"OFFSET(MD!$P$5,MATCH($AK$7,MD_JAHR,0),0)*12","v":{"$error":"#VALUE!"}},{"v":0,"d":"0.00"}]
[{"$nulls":14},{"$f":"IF($B144=\"\",\"\",IF(F144=\"Arbeitgeberähnliche Stellung\",OFFSET(MD!$Q$5,MATCH(Grundlagen_Abrechnung_KAE!$AK$7,MD_JAHR,0),0)*$H144,IF(((AD144/12*M144*12)+N144)>AF144,AF144/12,((AD144/12*M144*12)+N144)/12)))","v":""},null,null,{"v":0,"d":"0.00"},null,{"v":0,"d":"0.00%"},{"v":0,"d":"0.00"},{"v":0,"d":"0.00"},{"v":0,"d":"0.00"},null,"prüfen",{"$f":"IFERROR(OFFSET(MD!$U$5,MATCH(Grundlagen_Abrechnung_KAE!$E144,MD_GENDER,0),0),\"\")","v":""},{"v":0,"d":"0.00"},null,{"v":0,"d":"0.00"},{"$f":"IF(F144=\"Arbeitgeberähnliche Stellung\",OFFSET(MD!$Q$5,MATCH(Grundlagen_Abrechnung_KAE!$AK$7,MD_JAHR,0),0)*$H144,IF(J144>0,AC144,I144))","v":{"v":0,"d":"0.00"}},null,{"$f":"OFFSET(MD!$P$5,MATCH($AK$7,MD_JAHR,0),0)*12","v":{"$error":"#VALUE!"}},{"v":0,"d":"0.00"}]
[{"$nulls":14},{"$f":"IF($B145=\"\",\"\",IF(F145=\"Arbeitgeberähnliche Stellung\",OFFSET(MD!$Q$5,MATCH(Grundlagen_Abrechnung_KAE!$AK$7,MD_JAHR,0),0)*$H145,IF(((AD145/12*M145*12)+N145)>AF145,AF145/12,((AD145/12*M145*12)+N145)/12)))","v":""},null,null,{"v":0,"d":"0.00"},null,{"v":0,"d":"0.00%"},{"v":0,"d":"0.00"},{"v":0,"d":"0.00"},{"v":0,"d":"0.00"},null,"prüfen",{"$f":"IFERROR(OFFSET(MD!$U$5,MATCH(Grundlagen_Abrechnung_KAE!$E145,MD_GENDER,0),0),\"\")","v":""},{"v":0,"d":"0.00"},null,{"v":0,"d":"0.00"},{"$f":"IF(F145=\"Arbeitgeberähnliche Stellung\",OFFSET(MD!$Q$5,MATCH(Grundlagen_Abrechnung_KAE!$AK$7,MD_JAHR,0),0)*$H145,IF(J145>0,AC145,I145))","v":{"v":0,"d":"0.00"}},null,{"$f":"OFFSET(MD!$P$5,MATCH($AK$7,MD_JAHR,0),0)*12","v":{"$error":"#VALUE!"}},{"v":0,"d":"0.00"}]
[{"$nulls":14},{"$f":"IF($B146=\"\",\"\",IF(F146=\"Arbeitgeberähnliche Stellung\",OFFSET(MD!$Q$5,MATCH(Grundlagen_Abrechnung_KAE!$AK$7,MD_JAHR,0),0)*$H146,IF(((AD146/12*M146*12)+N146)>AF146,AF146/12,((AD146/12*M146*12)+N146)/12)))","v":""},null,null,{"v":0,"d":"0.00"},null,{"v":0,"d":"0.00%"},{"v":0,"d":"0.00"},{"v":0,"d":"0.00"},{"v":0,"d":"0.00"},null,"prüfen",{"$f":"IFERROR(OFFSET(MD!$U$5,MATCH(Grundlagen_Abrechnung_KAE!$E146,MD_GENDER,0),0),\"\")","v":""},{"v":0,"d":"0.00"},null,{"v":0,"d":"0.00"},{"$f":"IF(F146=\"Arbeitgeberähnliche Stellung\",OFFSET(MD!$Q$5,MATCH(Grundlagen_Abrechnung_KAE!$AK$7,MD_JAHR,0),0)*$H146,IF(J146>0,AC146,I146))","v":{"v":0,"d":"0.00"}},null,{"$f":"OFFSET(MD!$P$5,MATCH($AK$7,MD_JAHR,0),0)*12","v":{"$error":"#VALUE!"}},{"v":0,"d":"0.00"}]
[{"$nulls":14},{"$f":"IF($B147=\"\",\"\",IF(F147=\"Arbeitgeberähnliche Stellung\",OFFSET(MD!$Q$5,MATCH(Grundlagen_Abrechnung_KAE!$AK$7,MD_JAHR,0),0)*$H147,IF(((AD147/12*M147*12)+N147)>AF147,AF147/12,((AD147/12*M147*12)+N147)/12)))","v":""},null,null,{"$f":"ROUND(IF(Q147=\"\",0,IF(P147=0,0,IF(Q147>P147,0,P147-Q147))),2)","v":{"v":0,"d":"0.00"}},null,{"$f":"IFERROR(R147/P147,0)","v":{"v":0,"d":"0.00%"}},{"$f":"IFERROR(IF(O147-W147=0,O147,(O147)*(1-T147)),0)","v":{"v":0,"d":"0.00"}},{"v":0,"d":"0.00"},{"$f":"IFERROR(O147*T147,0)*0.8","v":{"v":0,"d":"0.00"}},null,{"$f":"IF(YEAR($G147)>$Y$16,\"prüfen\",\"\")","v":"prüfen"},{"$f":"IFERROR(OFFSET(MD!$U$5,MATCH(Grundlagen_Abrechnung_KAE!$E147,MD_GENDER,0),0),\"\")","v":""},{"$f":"IF(B147=\"\",0,IF(YEAR(G147)>$AA$16,0,1))","v":{"v":0,"d":"0.00"}},null,{"$f":"IF(J147*K147/6>J147*L147/12,J147*K147/6,J147*L147/12)","v":{"v":0,"d":"0.00"}},{"$f":"IF(F147=\"Arbeitgeberähnliche Stellung\",OFFSET(MD!$Q$5,MATCH(Grundlagen_Abrechnung_KAE!$AK$7,MD_JAHR,0),0)*$H147,IF(J147>0,AC147,I147))","v":{"v":0,"d":"0.00"}},null,{"$f":"OFFSET(MD!$P$5,MATCH($AK$7,MD_JAHR,0),0)*12","v":{"$error":"#VALUE!"}},{"$f":"I147*M147+N147","v":{"v":0,"d":"0.00"}}]
[{"$nulls":14},{"$f":"IF($B148=\"\",\"\",IF(F148=\"Arbeitgeberähnliche Stellung\",OFFSET(MD!$Q$5,MATCH(Grundlagen_Abrechnung_KAE!$AK$7,MD_JAHR,0),0)*$H148,IF(((AD148/12*M148*12)+N148)>AF148,AF148/12,((AD148/12*M148*12)+N148)/12)))","v":""},null,null,{"v":0,"d":"0.00"},null,{"v":0,"d":"0.00%"},{"v":0,"d":"0.00"},{"$f":"IFERROR(O148*T148,0)","v":{"v":0,"d":"0.00"}},{"v":0,"d":"0.00"},null,"prüfen",{"$f":"IFERROR(OFFSET(MD!$U$5,MATCH(Grundlagen_Abrechnung_KAE!$E148,MD_GENDER,0),0),\"\")","v":""},{"v":0,"d":"0.00"},null,{"v":0,"d":"0.00"},{"$f":"IF(F148=\"Arbeitgeberähnliche Stellung\",OFFSET(MD!$Q$5,MATCH(Grundlagen_Abrechnung_KAE!$AK$7,MD_JAHR,0),0)*$H148,IF(J148>0,AC148,I148))","v":{"v":0,"d":"0.00"}},null,{"$f":"OFFSET(MD!$P$5,MATCH($AK$7,MD_JAHR,0),0)*12","v":{"$error":"#VALUE!"}},{"v":0,"d":"0.00"}]
[{"$nulls":14},{"$f":"IF($B149=\"\",\"\",IF(F149=\"Arbeitgeberähnliche Stellung\",OFFSET(MD!$Q$5,MATCH(Grundlagen_Abrechnung_KAE!$AK$7,MD_JAHR,0),0)*$H149,IF(((AD149/12*M149*12)+N149)>AF149,AF149/12,((AD149/12*M149*12)+N149)/12)))","v":""},null,null,{"v":0,"d":"0.00"},null,{"v":0,"d":"0.00%"},{"v":0,"d":"0.00"},{"v":0,"d":"0.00"},{"v":0,"d":"0.00"},null,"prüfen",{"$f":"IFERROR(OFFSET(MD!$U$5,MATCH(Grundlagen_Abrechnung_KAE!$E149,MD_GENDER,0),0),\"\")","v":""},{"v":0,"d":"0.00"},null,{"v":0,"d":"0.00"},{"$f":"IF(F149=\"Arbeitgeberähnliche Stellung\",OFFSET(MD!$Q$5,MATCH(Grundlagen_Abrechnung_KAE!$AK$7,MD_JAHR,0),0)*$H149,IF(J149>0,AC149,I149))","v":{"v":0,"d":"0.00"}},null,{"$f":"OFFSET(MD!$P$5,MATCH($AK$7,MD_JAHR,0),0)*12","v":{"$error":"#VALUE!"}},{"v":0,"d":"0.00"}]
[{"$nulls":14},{"$f":"IF($B150=\"\",\"\",IF(F150=\"Arbeitgeberähnliche Stellung\",OFFSET(MD!$Q$5,MATCH(Grundlagen_Abrechnung_KAE!$AK$7,MD_JAHR,0),0)*$H150,IF(((AD150/12*M150*12)+N150)>AF150,AF150/12,((AD150/12*M150*12)+N150)/12)))","v":""},null,null,{"v":0,"d":"0.00"},null,{"v":0,"d":"0.00%"},{"v":0,"d":"0.00"},{"v":0,"d":"0.00"},{"v":0,"d":"0.00"},null,"prüfen",{"$f":"IFERROR(OFFSET(MD!$U$5,MATCH(Grundlagen_Abrechnung_KAE!$E150,MD_GENDER,0),0),\"\")","v":""},{"v":0,"d":"0.00"},null,{"v":0,"d":"0.00"},{"$f":"IF(F150=\"Arbeitgeberähnliche Stellung\",OFFSET(MD!$Q$5,MATCH(Grundlagen_Abrechnung_KAE!$AK$7,MD_JAHR,0),0)*$H150,IF(J150>0,AC150,I150))","v":{"v":0,"d":"0.00"}},null,{"$f":"OFFSET(MD!$P$5,MATCH($AK$7,MD_JAHR,0),0)*12","v":{"$error":"#VALUE!"}},{"v":0,"d":"0.00"}]
[{"$nulls":14},{"$f":"IF($B151=\"\",\"\",IF(F151=\"Arbeitgeberähnliche Stellung\",OFFSET(MD!$Q$5,MATCH(Grundlagen_Abrechnung_KAE!$AK$7,MD_JAHR,0),0)*$H151,IF(((AD151/12*M151*12)+N151)>AF151,AF151/12,((AD151/12*M151*12)+N151)/12)))","v":""},null,null,{"v":0,"d":"0.00"},null,{"v":0,"d":"0.00%"},{"v":0,"d":"0.00"},{"v":0,"d":"0.00"},{"v":0,"d":"0.00"},null,"prüfen",{"$f":"IFERROR(OFFSET(MD!$U$5,MATCH(Grundlagen_Abrechnung_KAE!$E151,MD_GENDER,0),0),\"\")","v":""},{"v":0,"d":"0.00"},null,{"v":0,"d":"0.00"},{"$f":"IF(F151=\"Arbeitgeberähnliche Stellung\",OFFSET(MD!$Q$5,MATCH(Grundlagen_Abrechnung_KAE!$AK$7,MD_JAHR,0),0)*$H151,IF(J151>0,AC151,I151))","v":{"v":0,"d":"0.00"}},null,{"$f":"OFFSET(MD!$P$5,MATCH($AK$7,MD_JAHR,0),0)*12","v":{"$error":"#VALUE!"}},{"v":0,"d":"0.00"}]
[{"$nulls":14},{"$f":"IF($B152=\"\",\"\",IF(F152=\"Arbeitgeberähnliche Stellung\",OFFSET(MD!$Q$5,MATCH(Grundlagen_Abrechnung_KAE!$AK$7,MD_JAHR,0),0)*$H152,IF(((AD152/12*M152*12)+N152)>AF152,AF152/12,((AD152/12*M152*12)+N152)/12)))","v":""},null,null,{"v":0,"d":"0.00"},null,{"v":0,"d":"0.00%"},{"v":0,"d":"0.00"},{"v":0,"d":"0.00"},{"v":0,"d":"0.00"},null,"prüfen",{"$f":"IFERROR(OFFSET(MD!$U$5,MATCH(Grundlagen_Abrechnung_KAE!$E152,MD_GENDER,0),0),\"\")","v":""},{"v":0,"d":"0.00"},null,{"v":0,"d":"0.00"},{"$f":"IF(F152=\"Arbeitgeberähnliche Stellung\",OFFSET(MD!$Q$5,MATCH(Grundlagen_Abrechnung_KAE!$AK$7,MD_JAHR,0),0)*$H152,IF(J152>0,AC152,I152))","v":{"v":0,"d":"0.00"}},null,{"$f":"OFFSET(MD!$P$5,MATCH($AK$7,MD_JAHR,0),0)*12","v":{"$error":"#VALUE!"}},{"v":0,"d":"0.00"}]
[{"$nulls":14},{"$f":"IF($B153=\"\",\"\",IF(F153=\"Arbeitgeberähnliche Stellung\",OFFSET(MD!$Q$5,MATCH(Grundlagen_Abrechnung_KAE!$AK$7,MD_JAHR,0),0)*$H153,IF(((AD153/12*M153*12)+N153)>AF153,AF153/12,((AD153/12*M153*12)+N153)/12)))","v":""},null,null,{"v":0,"d":"0.00"},null,{"v":0,"d":"0.00%"},{"v":0,"d":"0.00"},{"v":0,"d":"0.00"},{"v":0,"d":"0.00"},null,"prüfen",{"$f":"IFERROR(OFFSET(MD!$U$5,MATCH(Grundlagen_Abrechnung_KAE!$E153,MD_GENDER,0),0),\"\")","v":""},{"v":0,"d":"0.00"},null,{"v":0,"d":"0.00"},{"$f":"IF(F153=\"Arbeitgeberähnliche Stellung\",OFFSET(MD!$Q$5,MATCH(Grundlagen_Abrechnung_KAE!$AK$7,MD_JAHR,0),0)*$H153,IF(J153>0,AC153,I153))","v":{"v":0,"d":"0.00"}},null,{"$f":"OFFSET(MD!$P$5,MATCH($AK$7,MD_JAHR,0),0)*12","v":{"$error":"#VALUE!"}},{"v":0,"d":"0.00"}]
[{"$nulls":14},{"$f":"IF($B154=\"\",\"\",IF(F154=\"Arbeitgeberähnliche Stellung\",OFFSET(MD!$Q$5,MATCH(Grundlagen_Abrechnung_KAE!$AK$7,MD_JAHR,0),0)*$H154,IF(((AD154/12*M154*12)+N154)>AF154,AF154/12,((AD154/12*M154*12)+N154)/12)))","v":""},null,null,{"v":0,"d":"0.00"},null,{"v":0,"d":"0.00%"},{"v":0,"d":"0.00"},{"v":0,"d":"0.00"},{"v":0,"d":"0.00"},null,"prüfen",{"$f":"IFERROR(OFFSET(MD!$U$5,MATCH(Grundlagen_Abrechnung_KAE!$E154,MD_GENDER,0),0),\"\")","v":""},{"v":0,"d":"0.00"},null,{"v":0,"d":"0.00"},{"$f":"IF(F154=\"Arbeitgeberähnliche Stellung\",OFFSET(MD!$Q$5,MATCH(Grundlagen_Abrechnung_KAE!$AK$7,MD_JAHR,0),0)*$H154,IF(J154>0,AC154,I154))","v":{"v":0,"d":"0.00"}},null,{"$f":"OFFSET(MD!$P$5,MATCH($AK$7,MD_JAHR,0),0)*12","v":{"$error":"#VALUE!"}},{"v":0,"d":"0.00"}]
[{"$nulls":14},{"$f":"IF($B155=\"\",\"\",IF(F155=\"Arbeitgeberähnliche Stellung\",OFFSET(MD!$Q$5,MATCH(Grundlagen_Abrechnung_KAE!$AK$7,MD_JAHR,0),0)*$H155,IF(((AD155/12*M155*12)+N155)>AF155,AF155/12,((AD155/12*M155*12)+N155)/12)))","v":""},null,null,{"v":0,"d":"0.00"},null,{"v":0,"d":"0.00%"},{"v":0,"d":"0.00"},{"v":0,"d":"0.00"},{"v":0,"d":"0.00"},null,"prüfen",{"$f":"IFERROR(OFFSET(MD!$U$5,MATCH(Grundlagen_Abrechnung_KAE!$E155,MD_GENDER,0),0),\"\")","v":""},{"v":0,"d":"0.00"},null,{"v":0,"d":"0.00"},{"$f":"IF(F155=\"Arbeitgeberähnliche Stellung\",OFFSET(MD!$Q$5,MATCH(Grundlagen_Abrechnung_KAE!$AK$7,MD_JAHR,0),0)*$H155,IF(J155>0,AC155,I155))","v":{"v":0,"d":"0.00"}},null,{"$f":"OFFSET(MD!$P$5,MATCH($AK$7,MD_JAHR,0),0)*12","v":{"$error":"#VALUE!"}},{"v":0,"d":"0.00"}]
[{"$nulls":14},{"$f":"IF($B156=\"\",\"\",IF(F156=\"Arbeitgeberähnliche Stellung\",OFFSET(MD!$Q$5,MATCH(Grundlagen_Abrechnung_KAE!$AK$7,MD_JAHR,0),0)*$H156,IF(((AD156/12*M156*12)+N156)>AF156,AF156/12,((AD156/12*M156*12)+N156)/12)))","v":""},null,null,{"v":0,"d":"0.00"},null,{"v":0,"d":"0.00%"},{"v":0,"d":"0.00"},{"v":0,"d":"0.00"},{"v":0,"d":"0.00"},null,"prüfen",{"$f":"IFERROR(OFFSET(MD!$U$5,MATCH(Grundlagen_Abrechnung_KAE!$E156,MD_GENDER,0),0),\"\")","v":""},{"v":0,"d":"0.00"},null,{"v":0,"d":"0.00"},{"$f":"IF(F156=\"Arbeitgeberähnliche Stellung\",OFFSET(MD!$Q$5,MATCH(Grundlagen_Abrechnung_KAE!$AK$7,MD_JAHR,0),0)*$H156,IF(J156>0,AC156,I156))","v":{"v":0,"d":"0.00"}},null,{"$f":"OFFSET(MD!$P$5,MATCH($AK$7,MD_JAHR,0),0)*12","v":{"$error":"#VALUE!"}},{"v":0,"d":"0.00"}]
[{"$nulls":14},{"$f":"IF($B157=\"\",\"\",IF(F157=\"Arbeitgeberähnliche Stellung\",OFFSET(MD!$Q$5,MATCH(Grundlagen_Abrechnung_KAE!$AK$7,MD_JAHR,0),0)*$H157,IF(((AD157/12*M157*12)+N157)>AF157,AF157/12,((AD157/12*M157*12)+N157)/12)))","v":""},null,null,{"v":0,"d":"0.00"},null,{"v":0,"d":"0.00%"},{"v":0,"d":"0.00"},{"v":0,"d":"0.00"},{"v":0,"d":"0.00"},null,"prüfen",{"$f":"IFERROR(OFFSET(MD!$U$5,MATCH(Grundlagen_Abrechnung_KAE!$E157,MD_GENDER,0),0),\"\")","v":""},{"v":0,"d":"0.00"},null,{"v":0,"d":"0.00"},{"$f":"IF(F157=\"Arbeitgeberähnliche Stellung\",OFFSET(MD!$Q$5,MATCH(Grundlagen_Abrechnung_KAE!$AK$7,MD_JAHR,0),0)*$H157,IF(J157>0,AC157,I157))","v":{"v":0,"d":"0.00"}},null,{"$f":"OFFSET(MD!$P$5,MATCH($AK$7,MD_JAHR,0),0)*12","v":{"$error":"#VALUE!"}},{"v":0,"d":"0.00"}]
[{"$nulls":14},{"$f":"IF($B158=\"\",\"\",IF(F158=\"Arbeitgeberähnliche Stellung\",OFFSET(MD!$Q$5,MATCH(Grundlagen_Abrechnung_KAE!$AK$7,MD_JAHR,0),0)*$H158,IF(((AD158/12*M158*12)+N158)>AF158,AF158/12,((AD158/12*M158*12)+N158)/12)))","v":""},null,null,{"v":0,"d":"0.00"},null,{"v":0,"d":"0.00%"},{"v":0,"d":"0.00"},{"v":0,"d":"0.00"},{"v":0,"d":"0.00"},null,"prüfen",{"$f":"IFERROR(OFFSET(MD!$U$5,MATCH(Grundlagen_Abrechnung_KAE!$E158,MD_GENDER,0),0),\"\")","v":""},{"v":0,"d":"0.00"},null,{"v":0,"d":"0.00"},{"$f":"IF(F158=\"Arbeitgeberähnliche Stellung\",OFFSET(MD!$Q$5,MATCH(Grundlagen_Abrechnung_KAE!$AK$7,MD_JAHR,0),0)*$H158,IF(J158>0,AC158,I158))","v":{"v":0,"d":"0.00"}},null,{"$f":"OFFSET(MD!$P$5,MATCH($AK$7,MD_JAHR,0),0)*12","v":{"$error":"#VALUE!"}},{"v":0,"d":"0.00"}]
[{"$nulls":14},{"$f":"IF($B159=\"\",\"\",IF(F159=\"Arbeitgeberähnliche Stellung\",OFFSET(MD!$Q$5,MATCH(Grundlagen_Abrechnung_KAE!$AK$7,MD_JAHR,0),0)*$H159,IF(((AD159/12*M159*12)+N159)>AF159,AF159/12,((AD159/12*M159*12)+N159)/12)))","v":""},null,null,{"v":0,"d":"0.00"},null,{"v":0,"d":"0.00%"},{"v":0,"d":"0.00"},{"v":0,"d":"0.00"},{"v":0,"d":"0.00"},null,"prüfen",{"$f":"IFERROR(OFFSET(MD!$U$5,MATCH(Grundlagen_Abrechnung_KAE!$E159,MD_GENDER,0),0),\"\")","v":""},{"v":0,"d":"0.00"},null,{"v":0,"d":"0.00"},{"$f":"IF(F159=\"Arbeitgeberähnliche Stellung\",OFFSET(MD!$Q$5,MATCH(Grundlagen_Abrechnung_KAE!$AK$7,MD_JAHR,0),0)*$H159,IF(J159>0,AC159,I159))","v":{"v":0,"d":"0.00"}},null,{"$f":"OFFSET(MD!$P$5,MATCH($AK$7,MD_JAHR,0),0)*12","v":{"$error":"#VALUE!"}},{"v":0,"d":"0.00"}]
[{"$nulls":14},{"$f":"IF($B160=\"\",\"\",IF(F160=\"Arbeitgeberähnliche Stellung\",OFFSET(MD!$Q$5,MATCH(Grundlagen_Abrechnung_KAE!$AK$7,MD_JAHR,0),0)*$H160,IF(((AD160/12*M160*12)+N160)>AF160,AF160/12,((AD160/12*M160*12)+N160)/12)))","v":""},null,null,{"v":0,"d":"0.00"},null,{"v":0,"d":"0.00%"},{"v":0,"d":"0.00"},{"v":0,"d":"0.00"},{"v":0,"d":"0.00"},null,"prüfen",{"$f":"IFERROR(OFFSET(MD!$U$5,MATCH(Grundlagen_Abrechnung_KAE!$E160,MD_GENDER,0),0),\"\")","v":""},{"v":0,"d":"0.00"},null,{"v":0,"d":"0.00"},{"$f":"IF(F160=\"Arbeitgeberähnliche Stellung\",OFFSET(MD!$Q$5,MATCH(Grundlagen_Abrechnung_KAE!$AK$7,MD_JAHR,0),0)*$H160,IF(J160>0,AC160,I160))","v":{"v":0,"d":"0.00"}},null,{"$f":"OFFSET(MD!$P$5,MATCH($AK$7,MD_JAHR,0),0)*12","v":{"$error":"#VALUE!"}},{"v":0,"d":"0.00"}]
[{"$nulls":14},{"$f":"IF($B161=\"\",\"\",IF(F161=\"Arbeitgeberähnliche Stellung\",OFFSET(MD!$Q$5,MATCH(Grundlagen_Abrechnung_KAE!$AK$7,MD_JAHR,0),0)*$H161,IF(((AD161/12*M161*12)+N161)>AF161,AF161/12,((AD161/12*M161*12)+N161)/12)))","v":""},null,null,{"v":0,"d":"0.00"},null,{"v":0,"d":"0.00%"},{"v":0,"d":"0.00"},{"v":0,"d":"0.00"},{"v":0,"d":"0.00"},null,"prüfen",{"$f":"IFERROR(OFFSET(MD!$U$5,MATCH(Grundlagen_Abrechnung_KAE!$E161,MD_GENDER,0),0),\"\")","v":""},{"v":0,"d":"0.00"},null,{"v":0,"d":"0.00"},{"$f":"IF(F161=\"Arbeitgeberähnliche Stellung\",OFFSET(MD!$Q$5,MATCH(Grundlagen_Abrechnung_KAE!$AK$7,MD_JAHR,0),0)*$H161,IF(J161>0,AC161,I161))","v":{"v":0,"d":"0.00"}},null,{"$f":"OFFSET(MD!$P$5,MATCH($AK$7,MD_JAHR,0),0)*12","v":{"$error":"#VALUE!"}},{"v":0,"d":"0.00"}]
[{"$nulls":14},{"$f":"IF($B162=\"\",\"\",IF(F162=\"Arbeitgeberähnliche Stellung\",OFFSET(MD!$Q$5,MATCH(Grundlagen_Abrechnung_KAE!$AK$7,MD_JAHR,0),0)*$H162,IF(((AD162/12*M162*12)+N162)>AF162,AF162/12,((AD162/12*M162*12)+N162)/12)))","v":""},null,null,{"v":0,"d":"0.00"},null,{"v":0,"d":"0.00%"},{"v":0,"d":"0.00"},{"v":0,"d":"0.00"},{"v":0,"d":"0.00"},null,"prüfen",{"$f":"IFERROR(OFFSET(MD!$U$5,MATCH(Grundlagen_Abrechnung_KAE!$E162,MD_GENDER,0),0),\"\")","v":""},{"v":0,"d":"0.00"},null,{"v":0,"d":"0.00"},{"$f":"IF(F162=\"Arbeitgeberähnliche Stellung\",OFFSET(MD!$Q$5,MATCH(Grundlagen_Abrechnung_KAE!$AK$7,MD_JAHR,0),0)*$H162,IF(J162>0,AC162,I162))","v":{"v":0,"d":"0.00"}},null,{"$f":"OFFSET(MD!$P$5,MATCH($AK$7,MD_JAHR,0),0)*12","v":{"$error":"#VALUE!"}},{"v":0,"d":"0.00"}]
[{"$nulls":14},{"$f":"IF($B163=\"\",\"\",IF(F163=\"Arbeitgeberähnliche Stellung\",OFFSET(MD!$Q$5,MATCH(Grundlagen_Abrechnung_KAE!$AK$7,MD_JAHR,0),0)*$H163,IF(((AD163/12*M163*12)+N163)>AF163,AF163/12,((AD163/12*M163*12)+N163)/12)))","v":""},null,null,{"v":0,"d":"0.00"},null,{"v":0,"d":"0.00%"},{"v":0,"d":"0.00"},{"v":0,"d":"0.00"},{"v":0,"d":"0.00"},null,"prüfen",{"$f":"IFERROR(OFFSET(MD!$U$5,MATCH(Grundlagen_Abrechnung_KAE!$E163,MD_GENDER,0),0),\"\")","v":""},{"v":0,"d":"0.00"},null,{"v":0,"d":"0.00"},{"$f":"IF(F163=\"Arbeitgeberähnliche Stellung\",OFFSET(MD!$Q$5,MATCH(Grundlagen_Abrechnung_KAE!$AK$7,MD_JAHR,0),0)*$H163,IF(J163>0,AC163,I163))","v":{"v":0,"d":"0.00"}},null,{"$f":"OFFSET(MD!$P$5,MATCH($AK$7,MD_JAHR,0),0)*12","v":{"$error":"#VALUE!"}},{"v":0,"d":"0.00"}]
[{"$nulls":14},{"$f":"IF($B164=\"\",\"\",IF(F164=\"Arbeitgeberähnliche Stellung\",OFFSET(MD!$Q$5,MATCH(Grundlagen_Abrechnung_KAE!$AK$7,MD_JAHR,0),0)*$H164,IF(((AD164/12*M164*12)+N164)>AF164,AF164/12,((AD164/12*M164*12)+N164)/12)))","v":""},null,null,{"v":0,"d":"0.00"},null,{"v":0,"d":"0.00%"},{"v":0,"d":"0.00"},{"v":0,"d":"0.00"},{"v":0,"d":"0.00"},null,"prüfen",{"$f":"IFERROR(OFFSET(MD!$U$5,MATCH(Grundlagen_Abrechnung_KAE!$E164,MD_GENDER,0),0),\"\")","v":""},{"v":0,"d":"0.00"},null,{"v":0,"d":"0.00"},{"$f":"IF(F164=\"Arbeitgeberähnliche Stellung\",OFFSET(MD!$Q$5,MATCH(Grundlagen_Abrechnung_KAE!$AK$7,MD_JAHR,0),0)*$H164,IF(J164>0,AC164,I164))","v":{"v":0,"d":"0.00"}},null,{"$f":"OFFSET(MD!$P$5,MATCH($AK$7,MD_JAHR,0),0)*12","v":{"$error":"#VALUE!"}},{"v":0,"d":"0.00"}]
[{"$nulls":14},{"$f":"IF($B165=\"\",\"\",IF(F165=\"Arbeitgeberähnliche Stellung\",OFFSET(MD!$Q$5,MATCH(Grundlagen_Abrechnung_KAE!$AK$7,MD_JAHR,0),0)*$H165,IF(((AD165/12*M165*12)+N165)>AF165,AF165/12,((AD165/12*M165*12)+N165)/12)))","v":""},null,null,{"v":0,"d":"0.00"},null,{"v":0,"d":"0.00%"},{"v":0,"d":"0.00"},{"v":0,"d":"0.00"},{"v":0,"d":"0.00"},null,"prüfen",{"$f":"IFERROR(OFFSET(MD!$U$5,MATCH(Grundlagen_Abrechnung_KAE!$E165,MD_GENDER,0),0),\"\")","v":""},{"v":0,"d":"0.00"},null,{"v":0,"d":"0.00"},{"$f":"IF(F165=\"Arbeitgeberähnliche Stellung\",OFFSET(MD!$Q$5,MATCH(Grundlagen_Abrechnung_KAE!$AK$7,MD_JAHR,0),0)*$H165,IF(J165>0,AC165,I165))","v":{"v":0,"d":"0.00"}},null,{"$f":"OFFSET(MD!$P$5,MATCH($AK$7,MD_JAHR,0),0)*12","v":{"$error":"#VALUE!"}},{"v":0,"d":"0.00"}]
[{"$nulls":14},{"$f":"IF($B166=\"\",\"\",IF(F166=\"Arbeitgeberähnliche Stellung\",OFFSET(MD!$Q$5,MATCH(Grundlagen_Abrechnung_KAE!$AK$7,MD_JAHR,0),0)*$H166,IF(((AD166/12*M166*12)+N166)>AF166,AF166/12,((AD166/12*M166*12)+N166)/12)))","v":""},null,null,{"v":0,"d":"0.00"},null,{"v":0,"d":"0.00%"},{"v":0,"d":"0.00"},{"v":0,"d":"0.00"},{"v":0,"d":"0.00"},null,"prüfen",{"$f":"IFERROR(OFFSET(MD!$U$5,MATCH(Grundlagen_Abrechnung_KAE!$E166,MD_GENDER,0),0),\"\")","v":""},{"v":0,"d":"0.00"},null,{"v":0,"d":"0.00"},{"$f":"IF(F166=\"Arbeitgeberähnliche Stellung\",OFFSET(MD!$Q$5,MATCH(Grundlagen_Abrechnung_KAE!$AK$7,MD_JAHR,0),0)*$H166,IF(J166>0,AC166,I166))","v":{"v":0,"d":"0.00"}},null,{"$f":"OFFSET(MD!$P$5,MATCH($AK$7,MD_JAHR,0),0)*12","v":{"$error":"#VALUE!"}},{"v":0,"d":"0.00"}]
[{"$nulls":14},{"$f":"IF($B167=\"\",\"\",IF(F167=\"Arbeitgeberähnliche Stellung\",OFFSET(MD!$Q$5,MATCH(Grundlagen_Abrechnung_KAE!$AK$7,MD_JAHR,0),0)*$H167,IF(((AD167/12*M167*12)+N167)>AF167,AF167/12,((AD167/12*M167*12)+N167)/12)))","v":""},null,null,{"v":0,"d":"0.00"},null,{"v":0,"d":"0.00%"},{"v":0,"d":"0.00"},{"v":0,"d":"0.00"},{"v":0,"d":"0.00"},null,"prüfen",{"$f":"IFERROR(OFFSET(MD!$U$5,MATCH(Grundlagen_Abrechnung_KAE!$E167,MD_GENDER,0),0),\"\")","v":""},{"v":0,"d":"0.00"},null,{"v":0,"d":"0.00"},{"$f":"IF(F167=\"Arbeitgeberähnliche Stellung\",OFFSET(MD!$Q$5,MATCH(Grundlagen_Abrechnung_KAE!$AK$7,MD_JAHR,0),0)*$H167,IF(J167>0,AC167,I167))","v":{"v":0,"d":"0.00"}},null,{"$f":"OFFSET(MD!$P$5,MATCH($AK$7,MD_JAHR,0),0)*12","v":{"$error":"#VALUE!"}},{"v":0,"d":"0.00"}]
[{"$nulls":14},{"$f":"IF($B168=\"\",\"\",IF(F168=\"Arbeitgeberähnliche Stellung\",OFFSET(MD!$Q$5,MATCH(Grundlagen_Abrechnung_KAE!$AK$7,MD_JAHR,0),0)*$H168,IF(((AD168/12*M168*12)+N168)>AF168,AF168/12,((AD168/12*M168*12)+N168)/12)))","v":""},null,null,{"v":0,"d":"0.00"},null,{"v":0,"d":"0.00%"},{"v":0,"d":"0.00"},{"v":0,"d":"0.00"},{"v":0,"d":"0.00"},null,"prüfen",{"$f":"IFERROR(OFFSET(MD!$U$5,MATCH(Grundlagen_Abrechnung_KAE!$E168,MD_GENDER,0),0),\"\")","v":""},{"v":0,"d":"0.00"},null,{"v":0,"d":"0.00"},{"$f":"IF(F168=\"Arbeitgeberähnliche Stellung\",OFFSET(MD!$Q$5,MATCH(Grundlagen_Abrechnung_KAE!$AK$7,MD_JAHR,0),0)*$H168,IF(J168>0,AC168,I168))","v":{"v":0,"d":"0.00"}},null,{"$f":"OFFSET(MD!$P$5,MATCH($AK$7,MD_JAHR,0),0)*12","v":{"$error":"#VALUE!"}},{"v":0,"d":"0.00"}]
[{"$nulls":14},{"$f":"IF($B169=\"\",\"\",IF(F169=\"Arbeitgeberähnliche Stellung\",OFFSET(MD!$Q$5,MATCH(Grundlagen_Abrechnung_KAE!$AK$7,MD_JAHR,0),0)*$H169,IF(((AD169/12*M169*12)+N169)>AF169,AF169/12,((AD169/12*M169*12)+N169)/12)))","v":""},null,null,{"v":0,"d":"0.00"},null,{"v":0,"d":"0.00%"},{"v":0,"d":"0.00"},{"v":0,"d":"0.00"},{"v":0,"d":"0.00"},null,"prüfen",{"$f":"IFERROR(OFFSET(MD!$U$5,MATCH(Grundlagen_Abrechnung_KAE!$E169,MD_GENDER,0),0),\"\")","v":""},{"v":0,"d":"0.00"},null,{"v":0,"d":"0.00"},{"$f":"IF(F169=\"Arbeitgeberähnliche Stellung\",OFFSET(MD!$Q$5,MATCH(Grundlagen_Abrechnung_KAE!$AK$7,MD_JAHR,0),0)*$H169,IF(J169>0,AC169,I169))","v":{"v":0,"d":"0.00"}},null,{"$f":"OFFSET(MD!$P$5,MATCH($AK$7,MD_JAHR,0),0)*12","v":{"$error":"#VALUE!"}},{"v":0,"d":"0.00"}]
[{"$nulls":14},{"$f":"IF($B170=\"\",\"\",IF(F170=\"Arbeitgeberähnliche Stellung\",OFFSET(MD!$Q$5,MATCH(Grundlagen_Abrechnung_KAE!$AK$7,MD_JAHR,0),0)*$H170,IF(((AD170/12*M170*12)+N170)>AF170,AF170/12,((AD170/12*M170*12)+N170)/12)))","v":""},null,null,{"v":0,"d":"0.00"},null,{"v":0,"d":"0.00%"},{"v":0,"d":"0.00"},{"v":0,"d":"0.00"},{"v":0,"d":"0.00"},null,"prüfen",{"$f":"IFERROR(OFFSET(MD!$U$5,MATCH(Grundlagen_Abrechnung_KAE!$E170,MD_GENDER,0),0),\"\")","v":""},{"v":0,"d":"0.00"},null,{"v":0,"d":"0.00"},{"$f":"IF(F170=\"Arbeitgeberähnliche Stellung\",OFFSET(MD!$Q$5,MATCH(Grundlagen_Abrechnung_KAE!$AK$7,MD_JAHR,0),0)*$H170,IF(J170>0,AC170,I170))","v":{"v":0,"d":"0.00"}},null,{"$f":"OFFSET(MD!$P$5,MATCH($AK$7,MD_JAHR,0),0)*12","v":{"$error":"#VALUE!"}},{"v":0,"d":"0.00"}]
[{"$nulls":14},{"$f":"IF($B171=\"\",\"\",IF(F171=\"Arbeitgeberähnliche Stellung\",OFFSET(MD!$Q$5,MATCH(Grundlagen_Abrechnung_KAE!$AK$7,MD_JAHR,0),0)*$H171,IF(((AD171/12*M171*12)+N171)>AF171,AF171/12,((AD171/12*M171*12)+N171)/12)))","v":""},null,null,{"v":0,"d":"0.00"},null,{"v":0,"d":"0.00%"},{"v":0,"d":"0.00"},{"v":0,"d":"0.00"},{"v":0,"d":"0.00"},null,"prüfen",{"$f":"IFERROR(OFFSET(MD!$U$5,MATCH(Grundlagen_Abrechnung_KAE!$E171,MD_GENDER,0),0),\"\")","v":""},{"v":0,"d":"0.00"},null,{"v":0,"d":"0.00"},{"$f":"IF(F171=\"Arbeitgeberähnliche Stellung\",OFFSET(MD!$Q$5,MATCH(Grundlagen_Abrechnung_KAE!$AK$7,MD_JAHR,0),0)*$H171,IF(J171>0,AC171,I171))","v":{"v":0,"d":"0.00"}},null,{"$f":"OFFSET(MD!$P$5,MATCH($AK$7,MD_JAHR,0),0)*12","v":{"$error":"#VALUE!"}},{"v":0,"d":"0.00"}]
[{"$nulls":14},{"$f":"IF($B172=\"\",\"\",IF(F172=\"Arbeitgeberähnliche Stellung\",OFFSET(MD!$Q$5,MATCH(Grundlagen_Abrechnung_KAE!$AK$7,MD_JAHR,0),0)*$H172,IF(((AD172/12*M172*12)+N172)>AF172,AF172/12,((AD172/12*M172*12)+N172)/12)))","v":""},null,null,{"v":0,"d":"0.00"},null,{"v":0,"d":"0.00%"},{"v":0,"d":"0.00"},{"v":0,"d":"0.00"},{"v":0,"d":"0.00"},null,"prüfen",{"$f":"IFERROR(OFFSET(MD!$U$5,MATCH(Grundlagen_Abrechnung_KAE!$E172,MD_GENDER,0),0),\"\")","v":""},{"v":0,"d":"0.00"},null,{"v":0,"d":"0.00"},{"$f":"IF(F172=\"Arbeitgeberähnliche Stellung\",OFFSET(MD!$Q$5,MATCH(Grundlagen_Abrechnung_KAE!$AK$7,MD_JAHR,0),0)*$H172,IF(J172>0,AC172,I172))","v":{"v":0,"d":"0.00"}},null,{"$f":"OFFSET(MD!$P$5,MATCH($AK$7,MD_JAHR,0),0)*12","v":{"$error":"#VALUE!"}},{"v":0,"d":"0.00"}]
[{"$nulls":14},{"$f":"IF($B173=\"\",\"\",IF(F173=\"Arbeitgeberähnliche Stellung\",OFFSET(MD!$Q$5,MATCH(Grundlagen_Abrechnung_KAE!$AK$7,MD_JAHR,0),0)*$H173,IF(((AD173/12*M173*12)+N173)>AF173,AF173/12,((AD173/12*M173*12)+N173)/12)))","v":""},null,null,{"v":0,"d":"0.00"},null,{"v":0,"d":"0.00%"},{"v":0,"d":"0.00"},{"v":0,"d":"0.00"},{"v":0,"d":"0.00"},null,"prüfen",{"$f":"IFERROR(OFFSET(MD!$U$5,MATCH(Grundlagen_Abrechnung_KAE!$E173,MD_GENDER,0),0),\"\")","v":""},{"v":0,"d":"0.00"},null,{"v":0,"d":"0.00"},{"$f":"IF(F173=\"Arbeitgeberähnliche Stellung\",OFFSET(MD!$Q$5,MATCH(Grundlagen_Abrechnung_KAE!$AK$7,MD_JAHR,0),0)*$H173,IF(J173>0,AC173,I173))","v":{"v":0,"d":"0.00"}},null,{"$f":"OFFSET(MD!$P$5,MATCH($AK$7,MD_JAHR,0),0)*12","v":{"$error":"#VALUE!"}},{"v":0,"d":"0.00"}]
[{"$nulls":14},{"$f":"IF($B174=\"\",\"\",IF(F174=\"Arbeitgeberähnliche Stellung\",OFFSET(MD!$Q$5,MATCH(Grundlagen_Abrechnung_KAE!$AK$7,MD_JAHR,0),0)*$H174,IF(((AD174/12*M174*12)+N174)>AF174,AF174/12,((AD174/12*M174*12)+N174)/12)))","v":""},null,null,{"v":0,"d":"0.00"},null,{"v":0,"d":"0.00%"},{"v":0,"d":"0.00"},{"v":0,"d":"0.00"},{"v":0,"d":"0.00"},null,"prüfen",{"$f":"IFERROR(OFFSET(MD!$U$5,MATCH(Grundlagen_Abrechnung_KAE!$E174,MD_GENDER,0),0),\"\")","v":""},{"v":0,"d":"0.00"},null,{"v":0,"d":"0.00"},{"$f":"IF(F174=\"Arbeitgeberähnliche Stellung\",OFFSET(MD!$Q$5,MATCH(Grundlagen_Abrechnung_KAE!$AK$7,MD_JAHR,0),0)*$H174,IF(J174>0,AC174,I174))","v":{"v":0,"d":"0.00"}},null,{"$f":"OFFSET(MD!$P$5,MATCH($AK$7,MD_JAHR,0),0)*12","v":{"$error":"#VALUE!"}},{"v":0,"d":"0.00"}]
[{"$nulls":14},{"$f":"IF($B175=\"\",\"\",IF(F175=\"Arbeitgeberähnliche Stellung\",OFFSET(MD!$Q$5,MATCH(Grundlagen_Abrechnung_KAE!$AK$7,MD_JAHR,0),0)*$H175,IF(((AD175/12*M175*12)+N175)>AF175,AF175/12,((AD175/12*M175*12)+N175)/12)))","v":""},null,null,{"v":0,"d":"0.00"},null,{"v":0,"d":"0.00%"},{"v":0,"d":"0.00"},{"v":0,"d":"0.00"},{"v":0,"d":"0.00"},null,"prüfen",{"$f":"IFERROR(OFFSET(MD!$U$5,MATCH(Grundlagen_Abrechnung_KAE!$E175,MD_GENDER,0),0),\"\")","v":""},{"v":0,"d":"0.00"},null,{"v":0,"d":"0.00"},{"$f":"IF(F175=\"Arbeitgeberähnliche Stellung\",OFFSET(MD!$Q$5,MATCH(Grundlagen_Abrechnung_KAE!$AK$7,MD_JAHR,0),0)*$H175,IF(J175>0,AC175,I175))","v":{"v":0,"d":"0.00"}},null,{"$f":"OFFSET(MD!$P$5,MATCH($AK$7,MD_JAHR,0),0)*12","v":{"$error":"#VALUE!"}},{"v":0,"d":"0.00"}]
[{"$nulls":14},{"$f":"IF($B176=\"\",\"\",IF(F176=\"Arbeitgeberähnliche Stellung\",OFFSET(MD!$Q$5,MATCH(Grundlagen_Abrechnung_KAE!$AK$7,MD_JAHR,0),0)*$H176,IF(((AD176/12*M176*12)+N176)>AF176,AF176/12,((AD176/12*M176*12)+N176)/12)))","v":""},null,null,{"v":0,"d":"0.00"},null,{"v":0,"d":"0.00%"},{"v":0,"d":"0.00"},{"v":0,"d":"0.00"},{"v":0,"d":"0.00"},null,"prüfen",{"$f":"IFERROR(OFFSET(MD!$U$5,MATCH(Grundlagen_Abrechnung_KAE!$E176,MD_GENDER,0),0),\"\")","v":""},{"v":0,"d":"0.00"},null,{"v":0,"d":"0.00"},{"$f":"IF(F176=\"Arbeitgeberähnliche Stellung\",OFFSET(MD!$Q$5,MATCH(Grundlagen_Abrechnung_KAE!$AK$7,MD_JAHR,0),0)*$H176,IF(J176>0,AC176,I176))","v":{"v":0,"d":"0.00"}},null,{"$f":"OFFSET(MD!$P$5,MATCH($AK$7,MD_JAHR,0),0)*12","v":{"$error":"#VALUE!"}},{"v":0,"d":"0.00"}]
[{"$nulls":14},{"$f":"IF($B177=\"\",\"\",IF(F177=\"Arbeitgeberähnliche Stellung\",OFFSET(MD!$Q$5,MATCH(Grundlagen_Abrechnung_KAE!$AK$7,MD_JAHR,0),0)*$H177,IF(((AD177/12*M177*12)+N177)>AF177,AF177/12,((AD177/12*M177*12)+N177)/12)))","v":""},null,null,{"v":0,"d":"0.00"},null,{"v":0,"d":"0.00%"},{"v":0,"d":"0.00"},{"v":0,"d":"0.00"},{"v":0,"d":"0.00"},null,"prüfen",{"$f":"IFERROR(OFFSET(MD!$U$5,MATCH(Grundlagen_Abrechnung_KAE!$E177,MD_GENDER,0),0),\"\")","v":""},{"v":0,"d":"0.00"},null,{"v":0,"d":"0.00"},{"$f":"IF(F177=\"Arbeitgeberähnliche Stellung\",OFFSET(MD!$Q$5,MATCH(Grundlagen_Abrechnung_KAE!$AK$7,MD_JAHR,0),0)*$H177,IF(J177>0,AC177,I177))","v":{"v":0,"d":"0.00"}},null,{"$f":"OFFSET(MD!$P$5,MATCH($AK$7,MD_JAHR,0),0)*12","v":{"$error":"#VALUE!"}},{"v":0,"d":"0.00"}]
[{"$nulls":14},{"$f":"IF($B178=\"\",\"\",IF(F178=\"Arbeitgeberähnliche Stellung\",OFFSET(MD!$Q$5,MATCH(Grundlagen_Abrechnung_KAE!$AK$7,MD_JAHR,0),0)*$H178,IF(((AD178/12*M178*12)+N178)>AF178,AF178/12,((AD178/12*M178*12)+N178)/12)))","v":""},null,null,{"v":0,"d":"0.00"},null,{"v":0,"d":"0.00%"},{"v":0,"d":"0.00"},{"v":0,"d":"0.00"},{"v":0,"d":"0.00"},null,"prüfen",{"$f":"IFERROR(OFFSET(MD!$U$5,MATCH(Grundlagen_Abrechnung_KAE!$E178,MD_GENDER,0),0),\"\")","v":""},{"v":0,"d":"0.00"},null,{"v":0,"d":"0.00"},{"$f":"IF(F178=\"Arbeitgeberähnliche Stellung\",OFFSET(MD!$Q$5,MATCH(Grundlagen_Abrechnung_KAE!$AK$7,MD_JAHR,0),0)*$H178,IF(J178>0,AC178,I178))","v":{"v":0,"d":"0.00"}},null,{"$f":"OFFSET(MD!$P$5,MATCH($AK$7,MD_JAHR,0),0)*12","v":{"$error":"#VALUE!"}},{"v":0,"d":"0.00"}]
[{"$nulls":14},{"$f":"IF($B179=\"\",\"\",IF(F179=\"Arbeitgeberähnliche Stellung\",OFFSET(MD!$Q$5,MATCH(Grundlagen_Abrechnung_KAE!$AK$7,MD_JAHR,0),0)*$H179,IF(((AD179/12*M179*12)+N179)>AF179,AF179/12,((AD179/12*M179*12)+N179)/12)))","v":""},null,null,{"v":0,"d":"0.00"},null,{"v":0,"d":"0.00%"},{"v":0,"d":"0.00"},{"v":0,"d":"0.00"},{"v":0,"d":"0.00"},null,"prüfen",{"$f":"IFERROR(OFFSET(MD!$U$5,MATCH(Grundlagen_Abrechnung_KAE!$E179,MD_GENDER,0),0),\"\")","v":""},{"v":0,"d":"0.00"},null,{"v":0,"d":"0.00"},{"$f":"IF(F179=\"Arbeitgeberähnliche Stellung\",OFFSET(MD!$Q$5,MATCH(Grundlagen_Abrechnung_KAE!$AK$7,MD_JAHR,0),0)*$H179,IF(J179>0,AC179,I179))","v":{"v":0,"d":"0.00"}},null,{"$f":"OFFSET(MD!$P$5,MATCH($AK$7,MD_JAHR,0),0)*12","v":{"$error":"#VALUE!"}},{"v":0,"d":"0.00"}]
[{"$nulls":14},{"$f":"IF($B180=\"\",\"\",IF(F180=\"Arbeitgeberähnliche Stellung\",OFFSET(MD!$Q$5,MATCH(Grundlagen_Abrechnung_KAE!$AK$7,MD_JAHR,0),0)*$H180,IF(((AD180/12*M180*12)+N180)>AF180,AF180/12,((AD180/12*M180*12)+N180)/12)))","v":""},null,null,{"v":0,"d":"0.00"},null,{"v":0,"d":"0.00%"},{"v":0,"d":"0.00"},{"v":0,"d":"0.00"},{"v":0,"d":"0.00"},null,"prüfen",{"$f":"IFERROR(OFFSET(MD!$U$5,MATCH(Grundlagen_Abrechnung_KAE!$E180,MD_GENDER,0),0),\"\")","v":""},{"v":0,"d":"0.00"},null,{"v":0,"d":"0.00"},{"$f":"IF(F180=\"Arbeitgeberähnliche Stellung\",OFFSET(MD!$Q$5,MATCH(Grundlagen_Abrechnung_KAE!$AK$7,MD_JAHR,0),0)*$H180,IF(J180>0,AC180,I180))","v":{"v":0,"d":"0.00"}},null,{"$f":"OFFSET(MD!$P$5,MATCH($AK$7,MD_JAHR,0),0)*12","v":{"$error":"#VALUE!"}},{"v":0,"d":"0.00"}]
[{"$nulls":14},{"$f":"IF($B181=\"\",\"\",IF(F181=\"Arbeitgeberähnliche Stellung\",OFFSET(MD!$Q$5,MATCH(Grundlagen_Abrechnung_KAE!$AK$7,MD_JAHR,0),0)*$H181,IF(((AD181/12*M181*12)+N181)>AF181,AF181/12,((AD181/12*M181*12)+N181)/12)))","v":""},null,null,{"v":0,"d":"0.00"},null,{"v":0,"d":"0.00%"},{"v":0,"d":"0.00"},{"v":0,"d":"0.00"},{"v":0,"d":"0.00"},null,"prüfen",{"$f":"IFERROR(OFFSET(MD!$U$5,MATCH(Grundlagen_Abrechnung_KAE!$E181,MD_GENDER,0),0),\"\")","v":""},{"v":0,"d":"0.00"},null,{"v":0,"d":"0.00"},{"$f":"IF(F181=\"Arbeitgeberähnliche Stellung\",OFFSET(MD!$Q$5,MATCH(Grundlagen_Abrechnung_KAE!$AK$7,MD_JAHR,0),0)*$H181,IF(J181>0,AC181,I181))","v":{"v":0,"d":"0.00"}},null,{"$f":"OFFSET(MD!$P$5,MATCH($AK$7,MD_JAHR,0),0)*12","v":{"$error":"#VALUE!"}},{"v":0,"d":"0.00"}]
[{"$nulls":14},{"$f":"IF($B182=\"\",\"\",IF(F182=\"Arbeitgeberähnliche Stellung\",OFFSET(MD!$Q$5,MATCH(Grundlagen_Abrechnung_KAE!$AK$7,MD_JAHR,0),0)*$H182,IF(((AD182/12*M182*12)+N182)>AF182,AF182/12,((AD182/12*M182*12)+N182)/12)))","v":""},null,null,{"v":0,"d":"0.00"},null,{"v":0,"d":"0.00%"},{"v":0,"d":"0.00"},{"v":0,"d":"0.00"},{"v":0,"d":"0.00"},null,"prüfen",{"$f":"IFERROR(OFFSET(MD!$U$5,MATCH(Grundlagen_Abrechnung_KAE!$E182,MD_GENDER,0),0),\"\")","v":""},{"v":0,"d":"0.00"},null,{"v":0,"d":"0.00"},{"$f":"IF(F182=\"Arbeitgeberähnliche Stellung\",OFFSET(MD!$Q$5,MATCH(Grundlagen_Abrechnung_KAE!$AK$7,MD_JAHR,0),0)*$H182,IF(J182>0,AC182,I182))","v":{"v":0,"d":"0.00"}},null,{"$f":"OFFSET(MD!$P$5,MATCH($AK$7,MD_JAHR,0),0)*12","v":{"$error":"#VALUE!"}},{"v":0,"d":"0.00"}]
[{"$nulls":14},{"$f":"IF($B183=\"\",\"\",IF(F183=\"Arbeitgeberähnliche Stellung\",OFFSET(MD!$Q$5,MATCH(Grundlagen_Abrechnung_KAE!$AK$7,MD_JAHR,0),0)*$H183,IF(((AD183/12*M183*12)+N183)>AF183,AF183/12,((AD183/12*M183*12)+N183)/12)))","v":""},null,null,{"v":0,"d":"0.00"},null,{"v":0,"d":"0.00%"},{"v":0,"d":"0.00"},{"v":0,"d":"0.00"},{"v":0,"d":"0.00"},null,"prüfen",{"$f":"IFERROR(OFFSET(MD!$U$5,MATCH(Grundlagen_Abrechnung_KAE!$E183,MD_GENDER,0),0),\"\")","v":""},{"v":0,"d":"0.00"},null,{"v":0,"d":"0.00"},{"$f":"IF(F183=\"Arbeitgeberähnliche Stellung\",OFFSET(MD!$Q$5,MATCH(Grundlagen_Abrechnung_KAE!$AK$7,MD_JAHR,0),0)*$H183,IF(J183>0,AC183,I183))","v":{"v":0,"d":"0.00"}},null,{"$f":"OFFSET(MD!$P$5,MATCH($AK$7,MD_JAHR,0),0)*12","v":{"$error":"#VALUE!"}},{"v":0,"d":"0.00"}]
[{"$nulls":14},{"$f":"IF($B184=\"\",\"\",IF(F184=\"Arbeitgeberähnliche Stellung\",OFFSET(MD!$Q$5,MATCH(Grundlagen_Abrechnung_KAE!$AK$7,MD_JAHR,0),0)*$H184,IF(((AD184/12*M184*12)+N184)>AF184,AF184/12,((AD184/12*M184*12)+N184)/12)))","v":""},null,null,{"v":0,"d":"0.00"},null,{"v":0,"d":"0.00%"},{"v":0,"d":"0.00"},{"v":0,"d":"0.00"},{"v":0,"d":"0.00"},null,"prüfen",{"$f":"IFERROR(OFFSET(MD!$U$5,MATCH(Grundlagen_Abrechnung_KAE!$E184,MD_GENDER,0),0),\"\")","v":""},{"v":0,"d":"0.00"},null,{"v":0,"d":"0.00"},{"$f":"IF(F184=\"Arbeitgeberähnliche Stellung\",OFFSET(MD!$Q$5,MATCH(Grundlagen_Abrechnung_KAE!$AK$7,MD_JAHR,0),0)*$H184,IF(J184>0,AC184,I184))","v":{"v":0,"d":"0.00"}},null,{"$f":"OFFSET(MD!$P$5,MATCH($AK$7,MD_JAHR,0),0)*12","v":{"$error":"#VALUE!"}},{"v":0,"d":"0.00"}]
[{"$nulls":14},{"$f":"IF($B185=\"\",\"\",IF(F185=\"Arbeitgeberähnliche Stellung\",OFFSET(MD!$Q$5,MATCH(Grundlagen_Abrechnung_KAE!$AK$7,MD_JAHR,0),0)*$H185,IF(((AD185/12*M185*12)+N185)>AF185,AF185/12,((AD185/12*M185*12)+N185)/12)))","v":""},null,null,{"v":0,"d":"0.00"},null,{"v":0,"d":"0.00%"},{"v":0,"d":"0.00"},{"v":0,"d":"0.00"},{"v":0,"d":"0.00"},null,"prüfen",{"$f":"IFERROR(OFFSET(MD!$U$5,MATCH(Grundlagen_Abrechnung_KAE!$E185,MD_GENDER,0),0),\"\")","v":""},{"v":0,"d":"0.00"},null,{"v":0,"d":"0.00"},{"$f":"IF(F185=\"Arbeitgeberähnliche Stellung\",OFFSET(MD!$Q$5,MATCH(Grundlagen_Abrechnung_KAE!$AK$7,MD_JAHR,0),0)*$H185,IF(J185>0,AC185,I185))","v":{"v":0,"d":"0.00"}},null,{"$f":"OFFSET(MD!$P$5,MATCH($AK$7,MD_JAHR,0),0)*12","v":{"$error":"#VALUE!"}},{"v":0,"d":"0.00"}]
[{"$nulls":14},{"$f":"IF($B186=\"\",\"\",IF(F186=\"Arbeitgeberähnliche Stellung\",OFFSET(MD!$Q$5,MATCH(Grundlagen_Abrechnung_KAE!$AK$7,MD_JAHR,0),0)*$H186,IF(((AD186/12*M186*12)+N186)>AF186,AF186/12,((AD186/12*M186*12)+N186)/12)))","v":""},null,null,{"v":0,"d":"0.00"},null,{"v":0,"d":"0.00%"},{"v":0,"d":"0.00"},{"v":0,"d":"0.00"},{"v":0,"d":"0.00"},null,"prüfen",{"$f":"IFERROR(OFFSET(MD!$U$5,MATCH(Grundlagen_Abrechnung_KAE!$E186,MD_GENDER,0),0),\"\")","v":""},{"v":0,"d":"0.00"},null,{"v":0,"d":"0.00"},{"$f":"IF(F186=\"Arbeitgeberähnliche Stellung\",OFFSET(MD!$Q$5,MATCH(Grundlagen_Abrechnung_KAE!$AK$7,MD_JAHR,0),0)*$H186,IF(J186>0,AC186,I186))","v":{"v":0,"d":"0.00"}},null,{"$f":"OFFSET(MD!$P$5,MATCH($AK$7,MD_JAHR,0),0)*12","v":{"$error":"#VALUE!"}},{"v":0,"d":"0.00"}]
[{"$nulls":14},{"$f":"IF($B187=\"\",\"\",IF(F187=\"Arbeitgeberähnliche Stellung\",OFFSET(MD!$Q$5,MATCH(Grundlagen_Abrechnung_KAE!$AK$7,MD_JAHR,0),0)*$H187,IF(((AD187/12*M187*12)+N187)>AF187,AF187/12,((AD187/12*M187*12)+N187)/12)))","v":""},null,null,{"v":0,"d":"0.00"},null,{"v":0,"d":"0.00%"},{"v":0,"d":"0.00"},{"v":0,"d":"0.00"},{"v":0,"d":"0.00"},null,"prüfen",{"$f":"IFERROR(OFFSET(MD!$U$5,MATCH(Grundlagen_Abrechnung_KAE!$E187,MD_GENDER,0),0),\"\")","v":""},{"v":0,"d":"0.00"},null,{"v":0,"d":"0.00"},{"$f":"IF(F187=\"Arbeitgeberähnliche Stellung\",OFFSET(MD!$Q$5,MATCH(Grundlagen_Abrechnung_KAE!$AK$7,MD_JAHR,0),0)*$H187,IF(J187>0,AC187,I187))","v":{"v":0,"d":"0.00"}},null,{"$f":"OFFSET(MD!$P$5,MATCH($AK$7,MD_JAHR,0),0)*12","v":{"$error":"#VALUE!"}},{"v":0,"d":"0.00"}]
[{"$nulls":14},{"$f":"IF($B188=\"\",\"\",IF(F188=\"Arbeitgeberähnliche Stellung\",OFFSET(MD!$Q$5,MATCH(Grundlagen_Abrechnung_KAE!$AK$7,MD_JAHR,0),0)*$H188,IF(((AD188/12*M188*12)+N188)>AF188,AF188/12,((AD188/12*M188*12)+N188)/12)))","v":""},null,null,{"v":0,"d":"0.00"},null,{"v":0,"d":"0.00%"},{"v":0,"d":"0.00"},{"v":0,"d":"0.00"},{"v":0,"d":"0.00"},null,"prüfen",{"$f":"IFERROR(OFFSET(MD!$U$5,MATCH(Grundlagen_Abrechnung_KAE!$E188,MD_GENDER,0),0),\"\")","v":""},{"v":0,"d":"0.00"},null,{"v":0,"d":"0.00"},{"$f":"IF(F188=\"Arbeitgeberähnliche Stellung\",OFFSET(MD!$Q$5,MATCH(Grundlagen_Abrechnung_KAE!$AK$7,MD_JAHR,0),0)*$H188,IF(J188>0,AC188,I188))","v":{"v":0,"d":"0.00"}},null,{"$f":"OFFSET(MD!$P$5,MATCH($AK$7,MD_JAHR,0),0)*12","v":{"$error":"#VALUE!"}},{"v":0,"d":"0.00"}]
[{"$nulls":14},{"$f":"IF($B189=\"\",\"\",IF(F189=\"Arbeitgeberähnliche Stellung\",OFFSET(MD!$Q$5,MATCH(Grundlagen_Abrechnung_KAE!$AK$7,MD_JAHR,0),0)*$H189,IF(((AD189/12*M189*12)+N189)>AF189,AF189/12,((AD189/12*M189*12)+N189)/12)))","v":""},null,null,{"v":0,"d":"0.00"},null,{"v":0,"d":"0.00%"},{"v":0,"d":"0.00"},{"v":0,"d":"0.00"},{"v":0,"d":"0.00"},null,"prüfen",{"$f":"IFERROR(OFFSET(MD!$U$5,MATCH(Grundlagen_Abrechnung_KAE!$E189,MD_GENDER,0),0),\"\")","v":""},{"v":0,"d":"0.00"},null,{"v":0,"d":"0.00"},{"$f":"IF(F189=\"Arbeitgeberähnliche Stellung\",OFFSET(MD!$Q$5,MATCH(Grundlagen_Abrechnung_KAE!$AK$7,MD_JAHR,0),0)*$H189,IF(J189>0,AC189,I189))","v":{"v":0,"d":"0.00"}},null,{"$f":"OFFSET(MD!$P$5,MATCH($AK$7,MD_JAHR,0),0)*12","v":{"$error":"#VALUE!"}},{"v":0,"d":"0.00"}]
[{"$nulls":14},{"$f":"IF($B190=\"\",\"\",IF(F190=\"Arbeitgeberähnliche Stellung\",OFFSET(MD!$Q$5,MATCH(Grundlagen_Abrechnung_KAE!$AK$7,MD_JAHR,0),0)*$H190,IF(((AD190/12*M190*12)+N190)>AF190,AF190/12,((AD190/12*M190*12)+N190)/12)))","v":""},null,null,{"v":0,"d":"0.00"},null,{"v":0,"d":"0.00%"},{"v":0,"d":"0.00"},{"v":0,"d":"0.00"},{"v":0,"d":"0.00"},null,"prüfen",{"$f":"IFERROR(OFFSET(MD!$U$5,MATCH(Grundlagen_Abrechnung_KAE!$E190,MD_GENDER,0),0),\"\")","v":""},{"v":0,"d":"0.00"},null,{"v":0,"d":"0.00"},{"$f":"IF(F190=\"Arbeitgeberähnliche Stellung\",OFFSET(MD!$Q$5,MATCH(Grundlagen_Abrechnung_KAE!$AK$7,MD_JAHR,0),0)*$H190,IF(J190>0,AC190,I190))","v":{"v":0,"d":"0.00"}},null,{"$f":"OFFSET(MD!$P$5,MATCH($AK$7,MD_JAHR,0),0)*12","v":{"$error":"#VALUE!"}},{"v":0,"d":"0.00"}]
[{"$nulls":14},{"$f":"IF($B191=\"\",\"\",IF(F191=\"Arbeitgeberähnliche Stellung\",OFFSET(MD!$Q$5,MATCH(Grundlagen_Abrechnung_KAE!$AK$7,MD_JAHR,0),0)*$H191,IF(((AD191/12*M191*12)+N191)>AF191,AF191/12,((AD191/12*M191*12)+N191)/12)))","v":""},null,null,{"v":0,"d":"0.00"},null,{"v":0,"d":"0.00%"},{"v":0,"d":"0.00"},{"v":0,"d":"0.00"},{"v":0,"d":"0.00"},null,"prüfen",{"$f":"IFERROR(OFFSET(MD!$U$5,MATCH(Grundlagen_Abrechnung_KAE!$E191,MD_GENDER,0),0),\"\")","v":""},{"v":0,"d":"0.00"},null,{"v":0,"d":"0.00"},{"$f":"IF(F191=\"Arbeitgeberähnliche Stellung\",OFFSET(MD!$Q$5,MATCH(Grundlagen_Abrechnung_KAE!$AK$7,MD_JAHR,0),0)*$H191,IF(J191>0,AC191,I191))","v":{"v":0,"d":"0.00"}},null,{"$f":"OFFSET(MD!$P$5,MATCH($AK$7,MD_JAHR,0),0)*12","v":{"$error":"#VALUE!"}},{"v":0,"d":"0.00"}]
[{"$nulls":14},{"$f":"IF($B192=\"\",\"\",IF(F192=\"Arbeitgeberähnliche Stellung\",OFFSET(MD!$Q$5,MATCH(Grundlagen_Abrechnung_KAE!$AK$7,MD_JAHR,0),0)*$H192,IF(((AD192/12*M192*12)+N192)>AF192,AF192/12,((AD192/12*M192*12)+N192)/12)))","v":""},null,null,{"v":0,"d":"0.00"},null,{"v":0,"d":"0.00%"},{"v":0,"d":"0.00"},{"v":0,"d":"0.00"},{"v":0,"d":"0.00"},null,"prüfen",{"$f":"IFERROR(OFFSET(MD!$U$5,MATCH(Grundlagen_Abrechnung_KAE!$E192,MD_GENDER,0),0),\"\")","v":""},{"v":0,"d":"0.00"},null,{"v":0,"d":"0.00"},{"$f":"IF(F192=\"Arbeitgeberähnliche Stellung\",OFFSET(MD!$Q$5,MATCH(Grundlagen_Abrechnung_KAE!$AK$7,MD_JAHR,0),0)*$H192,IF(J192>0,AC192,I192))","v":{"v":0,"d":"0.00"}},null,{"$f":"OFFSET(MD!$P$5,MATCH($AK$7,MD_JAHR,0),0)*12","v":{"$error":"#VALUE!"}},{"v":0,"d":"0.00"}]
[{"$nulls":14},{"$f":"IF($B193=\"\",\"\",IF(F193=\"Arbeitgeberähnliche Stellung\",OFFSET(MD!$Q$5,MATCH(Grundlagen_Abrechnung_KAE!$AK$7,MD_JAHR,0),0)*$H193,IF(((AD193/12*M193*12)+N193)>AF193,AF193/12,((AD193/12*M193*12)+N193)/12)))","v":""},null,null,{"v":0,"d":"0.00"},null,{"v":0,"d":"0.00%"},{"v":0,"d":"0.00"},{"v":0,"d":"0.00"},{"v":0,"d":"0.00"},null,"prüfen",{"$f":"IFERROR(OFFSET(MD!$U$5,MATCH(Grundlagen_Abrechnung_KAE!$E193,MD_GENDER,0),0),\"\")","v":""},{"v":0,"d":"0.00"},null,{"v":0,"d":"0.00"},{"$f":"IF(F193=\"Arbeitgeberähnliche Stellung\",OFFSET(MD!$Q$5,MATCH(Grundlagen_Abrechnung_KAE!$AK$7,MD_JAHR,0),0)*$H193,IF(J193>0,AC193,I193))","v":{"v":0,"d":"0.00"}},null,{"$f":"OFFSET(MD!$P$5,MATCH($AK$7,MD_JAHR,0),0)*12","v":{"$error":"#VALUE!"}},{"v":0,"d":"0.00"}]
[{"$nulls":14},{"$f":"IF($B194=\"\",\"\",IF(F194=\"Arbeitgeberähnliche Stellung\",OFFSET(MD!$Q$5,MATCH(Grundlagen_Abrechnung_KAE!$AK$7,MD_JAHR,0),0)*$H194,IF(((AD194/12*M194*12)+N194)>AF194,AF194/12,((AD194/12*M194*12)+N194)/12)))","v":""},null,null,{"v":0,"d":"0.00"},null,{"v":0,"d":"0.00%"},{"v":0,"d":"0.00"},{"v":0,"d":"0.00"},{"v":0,"d":"0.00"},null,"prüfen",{"$f":"IFERROR(OFFSET(MD!$U$5,MATCH(Grundlagen_Abrechnung_KAE!$E194,MD_GENDER,0),0),\"\")","v":""},{"v":0,"d":"0.00"},null,{"v":0,"d":"0.00"},{"$f":"IF(F194=\"Arbeitgeberähnliche Stellung\",OFFSET(MD!$Q$5,MATCH(Grundlagen_Abrechnung_KAE!$AK$7,MD_JAHR,0),0)*$H194,IF(J194>0,AC194,I194))","v":{"v":0,"d":"0.00"}},null,{"$f":"OFFSET(MD!$P$5,MATCH($AK$7,MD_JAHR,0),0)*12","v":{"$error":"#VALUE!"}},{"v":0,"d":"0.00"}]
[{"$nulls":14},{"$f":"IF($B195=\"\",\"\",IF(F195=\"Arbeitgeberähnliche Stellung\",OFFSET(MD!$Q$5,MATCH(Grundlagen_Abrechnung_KAE!$AK$7,MD_JAHR,0),0)*$H195,IF(((AD195/12*M195*12)+N195)>AF195,AF195/12,((AD195/12*M195*12)+N195)/12)))","v":""},null,null,{"v":0,"d":"0.00"},null,{"v":0,"d":"0.00%"},{"v":0,"d":"0.00"},{"v":0,"d":"0.00"},{"v":0,"d":"0.00"},null,"prüfen",{"$f":"IFERROR(OFFSET(MD!$U$5,MATCH(Grundlagen_Abrechnung_KAE!$E195,MD_GENDER,0),0),\"\")","v":""},{"v":0,"d":"0.00"},null,{"v":0,"d":"0.00"},{"$f":"IF(F195=\"Arbeitgeberähnliche Stellung\",OFFSET(MD!$Q$5,MATCH(Grundlagen_Abrechnung_KAE!$AK$7,MD_JAHR,0),0)*$H195,IF(J195>0,AC195,I195))","v":{"v":0,"d":"0.00"}},null,{"$f":"OFFSET(MD!$P$5,MATCH($AK$7,MD_JAHR,0),0)*12","v":{"$error":"#VALUE!"}},{"v":0,"d":"0.00"}]
[{"$nulls":14},{"$f":"IF($B196=\"\",\"\",IF(F196=\"Arbeitgeberähnliche Stellung\",OFFSET(MD!$Q$5,MATCH(Grundlagen_Abrechnung_KAE!$AK$7,MD_JAHR,0),0)*$H196,IF(((AD196/12*M196*12)+N196)>AF196,AF196/12,((AD196/12*M196*12)+N196)/12)))","v":""},null,null,{"v":0,"d":"0.00"},null,{"v":0,"d":"0.00%"},{"v":0,"d":"0.00"},{"v":0,"d":"0.00"},{"v":0,"d":"0.00"},null,"prüfen",{"$f":"IFERROR(OFFSET(MD!$U$5,MATCH(Grundlagen_Abrechnung_KAE!$E196,MD_GENDER,0),0),\"\")","v":""},{"v":0,"d":"0.00"},null,{"v":0,"d":"0.00"},{"$f":"IF(F196=\"Arbeitgeberähnliche Stellung\",OFFSET(MD!$Q$5,MATCH(Grundlagen_Abrechnung_KAE!$AK$7,MD_JAHR,0),0)*$H196,IF(J196>0,AC196,I196))","v":{"v":0,"d":"0.00"}},null,{"$f":"OFFSET(MD!$P$5,MATCH($AK$7,MD_JAHR,0),0)*12","v":{"$error":"#VALUE!"}},{"v":0,"d":"0.00"}]
[{"$nulls":14},{"$f":"IF($B197=\"\",\"\",IF(F197=\"Arbeitgeberähnliche Stellung\",OFFSET(MD!$Q$5,MATCH(Grundlagen_Abrechnung_KAE!$AK$7,MD_JAHR,0),0)*$H197,IF(((AD197/12*M197*12)+N197)>AF197,AF197/12,((AD197/12*M197*12)+N197)/12)))","v":""},null,null,{"v":0,"d":"0.00"},null,{"v":0,"d":"0.00%"},{"v":0,"d":"0.00"},{"v":0,"d":"0.00"},{"v":0,"d":"0.00"},null,"prüfen",{"$f":"IFERROR(OFFSET(MD!$U$5,MATCH(Grundlagen_Abrechnung_KAE!$E197,MD_GENDER,0),0),\"\")","v":""},{"v":0,"d":"0.00"},null,{"v":0,"d":"0.00"},{"$f":"IF(F197=\"Arbeitgeberähnliche Stellung\",OFFSET(MD!$Q$5,MATCH(Grundlagen_Abrechnung_KAE!$AK$7,MD_JAHR,0),0)*$H197,IF(J197>0,AC197,I197))","v":{"v":0,"d":"0.00"}},null,{"$f":"OFFSET(MD!$P$5,MATCH($AK$7,MD_JAHR,0),0)*12","v":{"$error":"#VALUE!"}},{"v":0,"d":"0.00"}]
[{"$nulls":14},{"$f":"IF($B198=\"\",\"\",IF(F198=\"Arbeitgeberähnliche Stellung\",OFFSET(MD!$Q$5,MATCH(Grundlagen_Abrechnung_KAE!$AK$7,MD_JAHR,0),0)*$H198,IF(((AD198/12*M198*12)+N198)>AF198,AF198/12,((AD198/12*M198*12)+N198)/12)))","v":""},null,null,{"v":0,"d":"0.00"},null,{"v":0,"d":"0.00%"},{"v":0,"d":"0.00"},{"v":0,"d":"0.00"},{"v":0,"d":"0.00"},null,"prüfen",{"$f":"IFERROR(OFFSET(MD!$U$5,MATCH(Grundlagen_Abrechnung_KAE!$E198,MD_GENDER,0),0),\"\")","v":""},{"v":0,"d":"0.00"},null,{"v":0,"d":"0.00"},{"$f":"IF(F198=\"Arbeitgeberähnliche Stellung\",OFFSET(MD!$Q$5,MATCH(Grundlagen_Abrechnung_KAE!$AK$7,MD_JAHR,0),0)*$H198,IF(J198>0,AC198,I198))","v":{"v":0,"d":"0.00"}},null,{"$f":"OFFSET(MD!$P$5,MATCH($AK$7,MD_JAHR,0),0)*12","v":{"$error":"#VALUE!"}},{"v":0,"d":"0.00"}]
[{"$nulls":14},{"$f":"IF($B199=\"\",\"\",IF(F199=\"Arbeitgeberähnliche Stellung\",OFFSET(MD!$Q$5,MATCH(Grundlagen_Abrechnung_KAE!$AK$7,MD_JAHR,0),0)*$H199,IF(((AD199/12*M199*12)+N199)>AF199,AF199/12,((AD199/12*M199*12)+N199)/12)))","v":""},null,null,{"v":0,"d":"0.00"},null,{"v":0,"d":"0.00%"},{"v":0,"d":"0.00"},{"v":0,"d":"0.00"},{"v":0,"d":"0.00"},null,"prüfen",{"$f":"IFERROR(OFFSET(MD!$U$5,MATCH(Grundlagen_Abrechnung_KAE!$E199,MD_GENDER,0),0),\"\")","v":""},{"v":0,"d":"0.00"},null,{"v":0,"d":"0.00"},{"$f":"IF(F199=\"Arbeitgeberähnliche Stellung\",OFFSET(MD!$Q$5,MATCH(Grundlagen_Abrechnung_KAE!$AK$7,MD_JAHR,0),0)*$H199,IF(J199>0,AC199,I199))","v":{"v":0,"d":"0.00"}},null,{"$f":"OFFSET(MD!$P$5,MATCH($AK$7,MD_JAHR,0),0)*12","v":{"$error":"#VALUE!"}},{"v":0,"d":"0.00"}]
[{"$nulls":14},{"$f":"IF($B200=\"\",\"\",IF(F200=\"Arbeitgeberähnliche Stellung\",OFFSET(MD!$Q$5,MATCH(Grundlagen_Abrechnung_KAE!$AK$7,MD_JAHR,0),0)*$H200,IF(((AD200/12*M200*12)+N200)>AF200,AF200/12,((AD200/12*M200*12)+N200)/12)))","v":""},null,null,{"v":0,"d":"0.00"},null,{"v":0,"d":"0.00%"},{"v":0,"d":"0.00"},{"v":0,"d":"0.00"},{"v":0,"d":"0.00"},null,"prüfen",{"$f":"IFERROR(OFFSET(MD!$U$5,MATCH(Grundlagen_Abrechnung_KAE!$E200,MD_GENDER,0),0),\"\")","v":""},{"v":0,"d":"0.00"},null,{"v":0,"d":"0.00"},{"$f":"IF(F200=\"Arbeitgeberähnliche Stellung\",OFFSET(MD!$Q$5,MATCH(Grundlagen_Abrechnung_KAE!$AK$7,MD_JAHR,0),0)*$H200,IF(J200>0,AC200,I200))","v":{"v":0,"d":"0.00"}},null,{"$f":"OFFSET(MD!$P$5,MATCH($AK$7,MD_JAHR,0),0)*12","v":{"$error":"#VALUE!"}},{"v":0,"d":"0.00"}]
[{"$nulls":14},{"$f":"IF($B201=\"\",\"\",IF(F201=\"Arbeitgeberähnliche Stellung\",OFFSET(MD!$Q$5,MATCH(Grundlagen_Abrechnung_KAE!$AK$7,MD_JAHR,0),0)*$H201,IF(((AD201/12*M201*12)+N201)>AF201,AF201/12,((AD201/12*M201*12)+N201)/12)))","v":""},null,null,{"v":0,"d":"0.00"},null,{"v":0,"d":"0.00%"},{"v":0,"d":"0.00"},{"v":0,"d":"0.00"},{"v":0,"d":"0.00"},null,"prüfen",{"$f":"IFERROR(OFFSET(MD!$U$5,MATCH(Grundlagen_Abrechnung_KAE!$E201,MD_GENDER,0),0),\"\")","v":""},{"v":0,"d":"0.00"},null,{"v":0,"d":"0.00"},{"$f":"IF(F201=\"Arbeitgeberähnliche Stellung\",OFFSET(MD!$Q$5,MATCH(Grundlagen_Abrechnung_KAE!$AK$7,MD_JAHR,0),0)*$H201,IF(J201>0,AC201,I201))","v":{"v":0,"d":"0.00"}},null,{"$f":"OFFSET(MD!$P$5,MATCH($AK$7,MD_JAHR,0),0)*12","v":{"$error":"#VALUE!"}},{"v":0,"d":"0.00"}]
[{"$nulls":14},{"$f":"IF($B202=\"\",\"\",IF(F202=\"Arbeitgeberähnliche Stellung\",OFFSET(MD!$Q$5,MATCH(Grundlagen_Abrechnung_KAE!$AK$7,MD_JAHR,0),0)*$H202,IF(((AD202/12*M202*12)+N202)>AF202,AF202/12,((AD202/12*M202*12)+N202)/12)))","v":""},null,null,{"v":0,"d":"0.00"},null,{"v":0,"d":"0.00%"},{"v":0,"d":"0.00"},{"v":0,"d":"0.00"},{"v":0,"d":"0.00"},null,"prüfen",{"$f":"IFERROR(OFFSET(MD!$U$5,MATCH(Grundlagen_Abrechnung_KAE!$E202,MD_GENDER,0),0),\"\")","v":""},{"v":0,"d":"0.00"},null,{"v":0,"d":"0.00"},{"$f":"IF(F202=\"Arbeitgeberähnliche Stellung\",OFFSET(MD!$Q$5,MATCH(Grundlagen_Abrechnung_KAE!$AK$7,MD_JAHR,0),0)*$H202,IF(J202>0,AC202,I202))","v":{"v":0,"d":"0.00"}},null,{"$f":"OFFSET(MD!$P$5,MATCH($AK$7,MD_JAHR,0),0)*12","v":{"$error":"#VALUE!"}},{"v":0,"d":"0.00"}]
[{"$nulls":14},{"$f":"IF($B203=\"\",\"\",IF(F203=\"Arbeitgeberähnliche Stellung\",OFFSET(MD!$Q$5,MATCH(Grundlagen_Abrechnung_KAE!$AK$7,MD_JAHR,0),0)*$H203,IF(((AD203/12*M203*12)+N203)>AF203,AF203/12,((AD203/12*M203*12)+N203)/12)))","v":""},null,null,{"v":0,"d":"0.00"},null,{"v":0,"d":"0.00%"},{"v":0,"d":"0.00"},{"v":0,"d":"0.00"},{"v":0,"d":"0.00"},null,"prüfen",{"$f":"IFERROR(OFFSET(MD!$U$5,MATCH(Grundlagen_Abrechnung_KAE!$E203,MD_GENDER,0),0),\"\")","v":""},{"v":0,"d":"0.00"},null,{"v":0,"d":"0.00"},{"$f":"IF(F203=\"Arbeitgeberähnliche Stellung\",OFFSET(MD!$Q$5,MATCH(Grundlagen_Abrechnung_KAE!$AK$7,MD_JAHR,0),0)*$H203,IF(J203>0,AC203,I203))","v":{"v":0,"d":"0.00"}},null,{"$f":"OFFSET(MD!$P$5,MATCH($AK$7,MD_JAHR,0),0)*12","v":{"$error":"#VALUE!"}},{"v":0,"d":"0.00"}]
[{"$nulls":14},{"$f":"IF($B204=\"\",\"\",IF(F204=\"Arbeitgeberähnliche Stellung\",OFFSET(MD!$Q$5,MATCH(Grundlagen_Abrechnung_KAE!$AK$7,MD_JAHR,0),0)*$H204,IF(((AD204/12*M204*12)+N204)>AF204,AF204/12,((AD204/12*M204*12)+N204)/12)))","v":""},null,null,{"v":0,"d":"0.00"},null,{"v":0,"d":"0.00%"},{"v":0,"d":"0.00"},{"v":0,"d":"0.00"},{"v":0,"d":"0.00"},null,"prüfen",{"$f":"IFERROR(OFFSET(MD!$U$5,MATCH(Grundlagen_Abrechnung_KAE!$E204,MD_GENDER,0),0),\"\")","v":""},{"v":0,"d":"0.00"},null,{"v":0,"d":"0.00"},{"$f":"IF(F204=\"Arbeitgeberähnliche Stellung\",OFFSET(MD!$Q$5,MATCH(Grundlagen_Abrechnung_KAE!$AK$7,MD_JAHR,0),0)*$H204,IF(J204>0,AC204,I204))","v":{"v":0,"d":"0.00"}},null,{"$f":"OFFSET(MD!$P$5,MATCH($AK$7,MD_JAHR,0),0)*12","v":{"$error":"#VALUE!"}},{"v":0,"d":"0.00"}]
[{"$nulls":14},{"$f":"IF($B205=\"\",\"\",IF(F205=\"Arbeitgeberähnliche Stellung\",OFFSET(MD!$Q$5,MATCH(Grundlagen_Abrechnung_KAE!$AK$7,MD_JAHR,0),0)*$H205,IF(((AD205/12*M205*12)+N205)>AF205,AF205/12,((AD205/12*M205*12)+N205)/12)))","v":""},null,null,{"v":0,"d":"0.00"},null,{"v":0,"d":"0.00%"},{"v":0,"d":"0.00"},{"v":0,"d":"0.00"},{"v":0,"d":"0.00"},null,"prüfen",{"$f":"IFERROR(OFFSET(MD!$U$5,MATCH(Grundlagen_Abrechnung_KAE!$E205,MD_GENDER,0),0),\"\")","v":""},{"v":0,"d":"0.00"},null,{"v":0,"d":"0.00"},{"$f":"IF(F205=\"Arbeitgeberähnliche Stellung\",OFFSET(MD!$Q$5,MATCH(Grundlagen_Abrechnung_KAE!$AK$7,MD_JAHR,0),0)*$H205,IF(J205>0,AC205,I205))","v":{"v":0,"d":"0.00"}},null,{"$f":"OFFSET(MD!$P$5,MATCH($AK$7,MD_JAHR,0),0)*12","v":{"$error":"#VALUE!"}},{"v":0,"d":"0.00"}]
[{"$nulls":14},{"$f":"IF($B206=\"\",\"\",IF(F206=\"Arbeitgeberähnliche Stellung\",OFFSET(MD!$Q$5,MATCH(Grundlagen_Abrechnung_KAE!$AK$7,MD_JAHR,0),0)*$H206,IF(((AD206/12*M206*12)+N206)>AF206,AF206/12,((AD206/12*M206*12)+N206)/12)))","v":""},null,null,{"v":0,"d":"0.00"},null,{"v":0,"d":"0.00%"},{"v":0,"d":"0.00"},{"v":0,"d":"0.00"},{"v":0,"d":"0.00"},null,"prüfen",{"$f":"IFERROR(OFFSET(MD!$U$5,MATCH(Grundlagen_Abrechnung_KAE!$E206,MD_GENDER,0),0),\"\")","v":""},{"v":0,"d":"0.00"},null,{"v":0,"d":"0.00"},{"$f":"IF(F206=\"Arbeitgeberähnliche Stellung\",OFFSET(MD!$Q$5,MATCH(Grundlagen_Abrechnung_KAE!$AK$7,MD_JAHR,0),0)*$H206,IF(J206>0,AC206,I206))","v":{"v":0,"d":"0.00"}},null,{"$f":"OFFSET(MD!$P$5,MATCH($AK$7,MD_JAHR,0),0)*12","v":{"$error":"#VALUE!"}},{"v":0,"d":"0.00"}]
[{"$nulls":14},{"$f":"IF($B207=\"\",\"\",IF(F207=\"Arbeitgeberähnliche Stellung\",OFFSET(MD!$Q$5,MATCH(Grundlagen_Abrechnung_KAE!$AK$7,MD_JAHR,0),0)*$H207,IF(((AD207/12*M207*12)+N207)>AF207,AF207/12,((AD207/12*M207*12)+N207)/12)))","v":""},null,null,{"v":0,"d":"0.00"},null,{"v":0,"d":"0.00%"},{"v":0,"d":"0.00"},{"v":0,"d":"0.00"},{"v":0,"d":"0.00"},null,"prüfen",{"$f":"IFERROR(OFFSET(MD!$U$5,MATCH(Grundlagen_Abrechnung_KAE!$E207,MD_GENDER,0),0),\"\")","v":""},{"v":0,"d":"0.00"},null,{"v":0,"d":"0.00"},{"$f":"IF(F207=\"Arbeitgeberähnliche Stellung\",OFFSET(MD!$Q$5,MATCH(Grundlagen_Abrechnung_KAE!$AK$7,MD_JAHR,0),0)*$H207,IF(J207>0,AC207,I207))","v":{"v":0,"d":"0.00"}},null,{"$f":"OFFSET(MD!$P$5,MATCH($AK$7,MD_JAHR,0),0)*12","v":{"$error":"#VALUE!"}},{"v":0,"d":"0.00"}]
[{"$nulls":14},{"$f":"IF($B208=\"\",\"\",IF(F208=\"Arbeitgeberähnliche Stellung\",OFFSET(MD!$Q$5,MATCH(Grundlagen_Abrechnung_KAE!$AK$7,MD_JAHR,0),0)*$H208,IF(((AD208/12*M208*12)+N208)>AF208,AF208/12,((AD208/12*M208*12)+N208)/12)))","v":""},null,null,{"v":0,"d":"0.00"},null,{"v":0,"d":"0.00%"},{"v":0,"d":"0.00"},{"v":0,"d":"0.00"},{"v":0,"d":"0.00"},null,"prüfen",{"$f":"IFERROR(OFFSET(MD!$U$5,MATCH(Grundlagen_Abrechnung_KAE!$E208,MD_GENDER,0),0),\"\")","v":""},{"v":0,"d":"0.00"},null,{"v":0,"d":"0.00"},{"$f":"IF(F208=\"Arbeitgeberähnliche Stellung\",OFFSET(MD!$Q$5,MATCH(Grundlagen_Abrechnung_KAE!$AK$7,MD_JAHR,0),0)*$H208,IF(J208>0,AC208,I208))","v":{"v":0,"d":"0.00"}},null,{"$f":"OFFSET(MD!$P$5,MATCH($AK$7,MD_JAHR,0),0)*12","v":{"$error":"#VALUE!"}},{"v":0,"d":"0.00"}]
[{"$nulls":14},{"$f":"IF($B209=\"\",\"\",IF(F209=\"Arbeitgeberähnliche Stellung\",OFFSET(MD!$Q$5,MATCH(Grundlagen_Abrechnung_KAE!$AK$7,MD_JAHR,0),0)*$H209,IF(((AD209/12*M209*12)+N209)>AF209,AF209/12,((AD209/12*M209*12)+N209)/12)))","v":""},null,null,{"v":0,"d":"0.00"},null,{"v":0,"d":"0.00%"},{"v":0,"d":"0.00"},{"v":0,"d":"0.00"},{"v":0,"d":"0.00"},null,"prüfen",{"$f":"IFERROR(OFFSET(MD!$U$5,MATCH(Grundlagen_Abrechnung_KAE!$E209,MD_GENDER,0),0),\"\")","v":""},{"v":0,"d":"0.00"},null,{"v":0,"d":"0.00"},{"$f":"IF(F209=\"Arbeitgeberähnliche Stellung\",OFFSET(MD!$Q$5,MATCH(Grundlagen_Abrechnung_KAE!$AK$7,MD_JAHR,0),0)*$H209,IF(J209>0,AC209,I209))","v":{"v":0,"d":"0.00"}},null,{"$f":"OFFSET(MD!$P$5,MATCH($AK$7,MD_JAHR,0),0)*12","v":{"$error":"#VALUE!"}},{"v":0,"d":"0.00"}]
[{"$nulls":14},{"$f":"IF($B210=\"\",\"\",IF(F210=\"Arbeitgeberähnliche Stellung\",OFFSET(MD!$Q$5,MATCH(Grundlagen_Abrechnung_KAE!$AK$7,MD_JAHR,0),0)*$H210,IF(((AD210/12*M210*12)+N210)>AF210,AF210/12,((AD210/12*M210*12)+N210)/12)))","v":""},null,null,{"v":0,"d":"0.00"},null,{"v":0,"d":"0.00%"},{"v":0,"d":"0.00"},{"v":0,"d":"0.00"},{"v":0,"d":"0.00"},null,"prüfen",{"$f":"IFERROR(OFFSET(MD!$U$5,MATCH(Grundlagen_Abrechnung_KAE!$E210,MD_GENDER,0),0),\"\")","v":""},{"v":0,"d":"0.00"},null,{"v":0,"d":"0.00"},{"$f":"IF(F210=\"Arbeitgeberähnliche Stellung\",OFFSET(MD!$Q$5,MATCH(Grundlagen_Abrechnung_KAE!$AK$7,MD_JAHR,0),0)*$H210,IF(J210>0,AC210,I210))","v":{"v":0,"d":"0.00"}},null,{"$f":"OFFSET(MD!$P$5,MATCH($AK$7,MD_JAHR,0),0)*12","v":{"$error":"#VALUE!"}},{"v":0,"d":"0.00"}]
[{"$nulls":14},{"$f":"IF($B211=\"\",\"\",IF(F211=\"Arbeitgeberähnliche Stellung\",OFFSET(MD!$Q$5,MATCH(Grundlagen_Abrechnung_KAE!$AK$7,MD_JAHR,0),0)*$H211,IF(((AD211/12*M211*12)+N211)>AF211,AF211/12,((AD211/12*M211*12)+N211)/12)))","v":""},null,null,{"$f":"ROUND(IF(Q211=\"\",0,IF(P211=0,0,IF(Q211>P211,0,P211-Q211))),2)","v":{"v":0,"d":"0.00"}},null,{"$f":"IFERROR(R211/P211,0)","v":{"v":0,"d":"0.00%"}},{"$f":"IFERROR(IF(O211-W211=0,O211,(O211)*(1-T211)),0)","v":{"v":0,"d":"0.00"}},{"v":0,"d":"0.00"},{"$f":"IFERROR(O211*T211,0)*0.8","v":{"v":0,"d":"0.00"}},null,{"$f":"IF(YEAR($G211)>$Y$16,\"prüfen\",\"\")","v":"prüfen"},{"$f":"IFERROR(OFFSET(MD!$U$5,MATCH(Grundlagen_Abrechnung_KAE!$E211,MD_GENDER,0),0),\"\")","v":""},{"$f":"IF(B211=\"\",0,IF(YEAR(G211)>$AA$16,0,1))","v":{"v":0,"d":"0.00"}},null,{"$f":"IF(J211*K211/6>J211*L211/12,J211*K211/6,J211*L211/12)","v":{"v":0,"d":"0.00"}},{"$f":"IF(F211=\"Arbeitgeberähnliche Stellung\",OFFSET(MD!$Q$5,MATCH(Grundlagen_Abrechnung_KAE!$AK$7,MD_JAHR,0),0)*$H211,IF(J211>0,AC211,I211))","v":{"v":0,"d":"0.00"}},null,{"$f":"OFFSET(MD!$P$5,MATCH($AK$7,MD_JAHR,0),0)*12","v":{"$error":"#VALUE!"}},{"$f":"I211*M211+N211","v":{"v":0,"d":"0.00"}}]
[{"$nulls":14},{"$f":"IF($B212=\"\",\"\",IF(F212=\"Arbeitgeberähnliche Stellung\",OFFSET(MD!$Q$5,MATCH(Grundlagen_Abrechnung_KAE!$AK$7,MD_JAHR,0),0)*$H212,IF(((AD212/12*M212*12)+N212)>AF212,AF212/12,((AD212/12*M212*12)+N212)/12)))","v":""},null,null,{"v":0,"d":"0.00"},null,{"v":0,"d":"0.00%"},{"v":0,"d":"0.00"},{"$f":"IFERROR(O212*T212,0)","v":{"v":0,"d":"0.00"}},{"v":0,"d":"0.00"},null,"prüfen",{"$f":"IFERROR(OFFSET(MD!$U$5,MATCH(Grundlagen_Abrechnung_KAE!$E212,MD_GENDER,0),0),\"\")","v":""},{"v":0,"d":"0.00"},null,{"v":0,"d":"0.00"},{"$f":"IF(F212=\"Arbeitgeberähnliche Stellung\",OFFSET(MD!$Q$5,MATCH(Grundlagen_Abrechnung_KAE!$AK$7,MD_JAHR,0),0)*$H212,IF(J212>0,AC212,I212))","v":{"v":0,"d":"0.00"}},null,{"$f":"OFFSET(MD!$P$5,MATCH($AK$7,MD_JAHR,0),0)*12","v":{"$error":"#VALUE!"}},{"v":0,"d":"0.00"}]
[{"$nulls":14},{"$f":"IF($B213=\"\",\"\",IF(F213=\"Arbeitgeberähnliche Stellung\",OFFSET(MD!$Q$5,MATCH(Grundlagen_Abrechnung_KAE!$AK$7,MD_JAHR,0),0)*$H213,IF(((AD213/12*M213*12)+N213)>AF213,AF213/12,((AD213/12*M213*12)+N213)/12)))","v":""},null,null,{"v":0,"d":"0.00"},null,{"v":0,"d":"0.00%"},{"v":0,"d":"0.00"},{"v":0,"d":"0.00"},{"v":0,"d":"0.00"},null,"prüfen",{"$f":"IFERROR(OFFSET(MD!$U$5,MATCH(Grundlagen_Abrechnung_KAE!$E213,MD_GENDER,0),0),\"\")","v":""},{"v":0,"d":"0.00"},null,{"v":0,"d":"0.00"},{"$f":"IF(F213=\"Arbeitgeberähnliche Stellung\",OFFSET(MD!$Q$5,MATCH(Grundlagen_Abrechnung_KAE!$AK$7,MD_JAHR,0),0)*$H213,IF(J213>0,AC213,I213))","v":{"v":0,"d":"0.00"}},null,{"$f":"OFFSET(MD!$P$5,MATCH($AK$7,MD_JAHR,0),0)*12","v":{"$error":"#VALUE!"}},{"v":0,"d":"0.00"}]
[{"$nulls":14},{"$f":"IF($B214=\"\",\"\",IF(F214=\"Arbeitgeberähnliche Stellung\",OFFSET(MD!$Q$5,MATCH(Grundlagen_Abrechnung_KAE!$AK$7,MD_JAHR,0),0)*$H214,IF(((AD214/12*M214*12)+N214)>AF214,AF214/12,((AD214/12*M214*12)+N214)/12)))","v":""},null,null,{"v":0,"d":"0.00"},null,{"v":0,"d":"0.00%"},{"v":0,"d":"0.00"},{"v":0,"d":"0.00"},{"v":0,"d":"0.00"},null,"prüfen",{"$f":"IFERROR(OFFSET(MD!$U$5,MATCH(Grundlagen_Abrechnung_KAE!$E214,MD_GENDER,0),0),\"\")","v":""},{"v":0,"d":"0.00"},null,{"v":0,"d":"0.00"},{"$f":"IF(F214=\"Arbeitgeberähnliche Stellung\",OFFSET(MD!$Q$5,MATCH(Grundlagen_Abrechnung_KAE!$AK$7,MD_JAHR,0),0)*$H214,IF(J214>0,AC214,I214))","v":{"v":0,"d":"0.00"}},null,{"$f":"OFFSET(MD!$P$5,MATCH($AK$7,MD_JAHR,0),0)*12","v":{"$error":"#VALUE!"}},{"v":0,"d":"0.00"}]
[{"$nulls":14},{"$f":"IF($B215=\"\",\"\",IF(F215=\"Arbeitgeberähnliche Stellung\",OFFSET(MD!$Q$5,MATCH(Grundlagen_Abrechnung_KAE!$AK$7,MD_JAHR,0),0)*$H215,IF(((AD215/12*M215*12)+N215)>AF215,AF215/12,((AD215/12*M215*12)+N215)/12)))","v":""},null,null,{"v":0,"d":"0.00"},null,{"v":0,"d":"0.00%"},{"v":0,"d":"0.00"},{"v":0,"d":"0.00"},{"v":0,"d":"0.00"},null,"prüfen",{"$f":"IFERROR(OFFSET(MD!$U$5,MATCH(Grundlagen_Abrechnung_KAE!$E215,MD_GENDER,0),0),\"\")","v":""},{"v":0,"d":"0.00"},null,{"v":0,"d":"0.00"},{"$f":"IF(F215=\"Arbeitgeberähnliche Stellung\",OFFSET(MD!$Q$5,MATCH(Grundlagen_Abrechnung_KAE!$AK$7,MD_JAHR,0),0)*$H215,IF(J215>0,AC215,I215))","v":{"v":0,"d":"0.00"}},null,{"$f":"OFFSET(MD!$P$5,MATCH($AK$7,MD_JAHR,0),0)*12","v":{"$error":"#VALUE!"}},{"v":0,"d":"0.00"}]
[{"$nulls":14},{"$f":"IF($B216=\"\",\"\",IF(F216=\"Arbeitgeberähnliche Stellung\",OFFSET(MD!$Q$5,MATCH(Grundlagen_Abrechnung_KAE!$AK$7,MD_JAHR,0),0)*$H216,IF(((AD216/12*M216*12)+N216)>AF216,AF216/12,((AD216/12*M216*12)+N216)/12)))","v":""},null,null,{"v":0,"d":"0.00"},null,{"v":0,"d":"0.00%"},{"v":0,"d":"0.00"},{"v":0,"d":"0.00"},{"v":0,"d":"0.00"},null,"prüfen",{"$f":"IFERROR(OFFSET(MD!$U$5,MATCH(Grundlagen_Abrechnung_KAE!$E216,MD_GENDER,0),0),\"\")","v":""},{"v":0,"d":"0.00"},null,{"v":0,"d":"0.00"},{"$f":"IF(F216=\"Arbeitgeberähnliche Stellung\",OFFSET(MD!$Q$5,MATCH(Grundlagen_Abrechnung_KAE!$AK$7,MD_JAHR,0),0)*$H216,IF(J216>0,AC216,I216))","v":{"v":0,"d":"0.00"}},null,{"$f":"OFFSET(MD!$P$5,MATCH($AK$7,MD_JAHR,0),0)*12","v":{"$error":"#VALUE!"}},{"v":0,"d":"0.00"}]
[{"$nulls":14},{"$f":"IF($B217=\"\",\"\",IF(F217=\"Arbeitgeberähnliche Stellung\",OFFSET(MD!$Q$5,MATCH(Grundlagen_Abrechnung_KAE!$AK$7,MD_JAHR,0),0)*$H217,IF(((AD217/12*M217*12)+N217)>AF217,AF217/12,((AD217/12*M217*12)+N217)/12)))","v":""},null,null,{"v":0,"d":"0.00"},null,{"v":0,"d":"0.00%"},{"v":0,"d":"0.00"},{"v":0,"d":"0.00"},{"v":0,"d":"0.00"},null,"prüfen",{"$f":"IFERROR(OFFSET(MD!$U$5,MATCH(Grundlagen_Abrechnung_KAE!$E217,MD_GENDER,0),0),\"\")","v":""},{"v":0,"d":"0.00"},null,{"v":0,"d":"0.00"},{"$f":"IF(F217=\"Arbeitgeberähnliche Stellung\",OFFSET(MD!$Q$5,MATCH(Grundlagen_Abrechnung_KAE!$AK$7,MD_JAHR,0),0)*$H217,IF(J217>0,AC217,I217))","v":{"v":0,"d":"0.00"}},null,{"$f":"OFFSET(MD!$P$5,MATCH($AK$7,MD_JAHR,0),0)*12","v":{"$error":"#VALUE!"}},{"v":0,"d":"0.00"}]
[{"$nulls":14},{"$f":"IF($B218=\"\",\"\",IF(F218=\"Arbeitgeberähnliche Stellung\",OFFSET(MD!$Q$5,MATCH(Grundlagen_Abrechnung_KAE!$AK$7,MD_JAHR,0),0)*$H218,IF(((AD218/12*M218*12)+N218)>AF218,AF218/12,((AD218/12*M218*12)+N218)/12)))","v":""},null,null,{"v":0,"d":"0.00"},null,{"v":0,"d":"0.00%"},{"v":0,"d":"0.00"},{"v":0,"d":"0.00"},{"v":0,"d":"0.00"},null,"prüfen",{"$f":"IFERROR(OFFSET(MD!$U$5,MATCH(Grundlagen_Abrechnung_KAE!$E218,MD_GENDER,0),0),\"\")","v":""},{"v":0,"d":"0.00"},null,{"v":0,"d":"0.00"},{"$f":"IF(F218=\"Arbeitgeberähnliche Stellung\",OFFSET(MD!$Q$5,MATCH(Grundlagen_Abrechnung_KAE!$AK$7,MD_JAHR,0),0)*$H218,IF(J218>0,AC218,I218))","v":{"v":0,"d":"0.00"}},null,{"$f":"OFFSET(MD!$P$5,MATCH($AK$7,MD_JAHR,0),0)*12","v":{"$error":"#VALUE!"}},{"v":0,"d":"0.00"}]
[{"$nulls":14},{"$f":"IF($B219=\"\",\"\",IF(F219=\"Arbeitgeberähnliche Stellung\",OFFSET(MD!$Q$5,MATCH(Grundlagen_Abrechnung_KAE!$AK$7,MD_JAHR,0),0)*$H219,IF(((AD219/12*M219*12)+N219)>AF219,AF219/12,((AD219/12*M219*12)+N219)/12)))","v":""},null,null,{"v":0,"d":"0.00"},null,{"v":0,"d":"0.00%"},{"v":0,"d":"0.00"},{"v":0,"d":"0.00"},{"v":0,"d":"0.00"},null,"prüfen",{"$f":"IFERROR(OFFSET(MD!$U$5,MATCH(Grundlagen_Abrechnung_KAE!$E219,MD_GENDER,0),0),\"\")","v":""},{"v":0,"d":"0.00"},null,{"v":0,"d":"0.00"},{"$f":"IF(F219=\"Arbeitgeberähnliche Stellung\",OFFSET(MD!$Q$5,MATCH(Grundlagen_Abrechnung_KAE!$AK$7,MD_JAHR,0),0)*$H219,IF(J219>0,AC219,I219))","v":{"v":0,"d":"0.00"}},null,{"$f":"OFFSET(MD!$P$5,MATCH($AK$7,MD_JAHR,0),0)*12","v":{"$error":"#VALUE!"}},{"v":0,"d":"0.00"}]
[{"$nulls":14},{"$f":"IF($B220=\"\",\"\",IF(F220=\"Arbeitgeberähnliche Stellung\",OFFSET(MD!$Q$5,MATCH(Grundlagen_Abrechnung_KAE!$AK$7,MD_JAHR,0),0)*$H220,IF(((AD220/12*M220*12)+N220)>AF220,AF220/12,((AD220/12*M220*12)+N220)/12)))","v":""},null,null,{"v":0,"d":"0.00"},null,{"v":0,"d":"0.00%"},{"v":0,"d":"0.00"},{"v":0,"d":"0.00"},{"v":0,"d":"0.00"},null,"prüfen",{"$f":"IFERROR(OFFSET(MD!$U$5,MATCH(Grundlagen_Abrechnung_KAE!$E220,MD_GENDER,0),0),\"\")","v":""},{"v":0,"d":"0.00"},null,{"v":0,"d":"0.00"},{"$f":"IF(F220=\"Arbeitgeberähnliche Stellung\",OFFSET(MD!$Q$5,MATCH(Grundlagen_Abrechnung_KAE!$AK$7,MD_JAHR,0),0)*$H220,IF(J220>0,AC220,I220))","v":{"v":0,"d":"0.00"}},null,{"$f":"OFFSET(MD!$P$5,MATCH($AK$7,MD_JAHR,0),0)*12","v":{"$error":"#VALUE!"}},{"v":0,"d":"0.00"}]
[{"$nulls":14},{"$f":"IF($B221=\"\",\"\",IF(F221=\"Arbeitgeberähnliche Stellung\",OFFSET(MD!$Q$5,MATCH(Grundlagen_Abrechnung_KAE!$AK$7,MD_JAHR,0),0)*$H221,IF(((AD221/12*M221*12)+N221)>AF221,AF221/12,((AD221/12*M221*12)+N221)/12)))","v":""},null,null,{"v":0,"d":"0.00"},null,{"v":0,"d":"0.00%"},{"v":0,"d":"0.00"},{"v":0,"d":"0.00"},{"v":0,"d":"0.00"},null,"prüfen",{"$f":"IFERROR(OFFSET(MD!$U$5,MATCH(Grundlagen_Abrechnung_KAE!$E221,MD_GENDER,0),0),\"\")","v":""},{"v":0,"d":"0.00"},null,{"v":0,"d":"0.00"},{"$f":"IF(F221=\"Arbeitgeberähnliche Stellung\",OFFSET(MD!$Q$5,MATCH(Grundlagen_Abrechnung_KAE!$AK$7,MD_JAHR,0),0)*$H221,IF(J221>0,AC221,I221))","v":{"v":0,"d":"0.00"}},null,{"$f":"OFFSET(MD!$P$5,MATCH($AK$7,MD_JAHR,0),0)*12","v":{"$error":"#VALUE!"}},{"v":0,"d":"0.00"}]
[{"$nulls":14},{"$f":"IF($B222=\"\",\"\",IF(F222=\"Arbeitgeberähnliche Stellung\",OFFSET(MD!$Q$5,MATCH(Grundlagen_Abrechnung_KAE!$AK$7,MD_JAHR,0),0)*$H222,IF(((AD222/12*M222*12)+N222)>AF222,AF222/12,((AD222/12*M222*12)+N222)/12)))","v":""},null,null,{"v":0,"d":"0.00"},null,{"v":0,"d":"0.00%"},{"v":0,"d":"0.00"},{"v":0,"d":"0.00"},{"v":0,"d":"0.00"},null,"prüfen",{"$f":"IFERROR(OFFSET(MD!$U$5,MATCH(Grundlagen_Abrechnung_KAE!$E222,MD_GENDER,0),0),\"\")","v":""},{"v":0,"d":"0.00"},null,{"v":0,"d":"0.00"},{"$f":"IF(F222=\"Arbeitgeberähnliche Stellung\",OFFSET(MD!$Q$5,MATCH(Grundlagen_Abrechnung_KAE!$AK$7,MD_JAHR,0),0)*$H222,IF(J222>0,AC222,I222))","v":{"v":0,"d":"0.00"}},null,{"$f":"OFFSET(MD!$P$5,MATCH($AK$7,MD_JAHR,0),0)*12","v":{"$error":"#VALUE!"}},{"v":0,"d":"0.00"}]
[{"$nulls":14},{"$f":"IF($B223=\"\",\"\",IF(F223=\"Arbeitgeberähnliche Stellung\",OFFSET(MD!$Q$5,MATCH(Grundlagen_Abrechnung_KAE!$AK$7,MD_JAHR,0),0)*$H223,IF(((AD223/12*M223*12)+N223)>AF223,AF223/12,((AD223/12*M223*12)+N223)/12)))","v":""},null,null,{"v":0,"d":"0.00"},null,{"v":0,"d":"0.00%"},{"v":0,"d":"0.00"},{"v":0,"d":"0.00"},{"v":0,"d":"0.00"},null,"prüfen",{"$f":"IFERROR(OFFSET(MD!$U$5,MATCH(Grundlagen_Abrechnung_KAE!$E223,MD_GENDER,0),0),\"\")","v":""},{"v":0,"d":"0.00"},null,{"v":0,"d":"0.00"},{"$f":"IF(F223=\"Arbeitgeberähnliche Stellung\",OFFSET(MD!$Q$5,MATCH(Grundlagen_Abrechnung_KAE!$AK$7,MD_JAHR,0),0)*$H223,IF(J223>0,AC223,I223))","v":{"v":0,"d":"0.00"}},null,{"$f":"OFFSET(MD!$P$5,MATCH($AK$7,MD_JAHR,0),0)*12","v":{"$error":"#VALUE!"}},{"v":0,"d":"0.00"}]
[{"$nulls":14},{"$f":"IF($B224=\"\",\"\",IF(F224=\"Arbeitgeberähnliche Stellung\",OFFSET(MD!$Q$5,MATCH(Grundlagen_Abrechnung_KAE!$AK$7,MD_JAHR,0),0)*$H224,IF(((AD224/12*M224*12)+N224)>AF224,AF224/12,((AD224/12*M224*12)+N224)/12)))","v":""},null,null,{"v":0,"d":"0.00"},null,{"v":0,"d":"0.00%"},{"v":0,"d":"0.00"},{"v":0,"d":"0.00"},{"v":0,"d":"0.00"},null,"prüfen",{"$f":"IFERROR(OFFSET(MD!$U$5,MATCH(Grundlagen_Abrechnung_KAE!$E224,MD_GENDER,0),0),\"\")","v":""},{"v":0,"d":"0.00"},null,{"v":0,"d":"0.00"},{"$f":"IF(F224=\"Arbeitgeberähnliche Stellung\",OFFSET(MD!$Q$5,MATCH(Grundlagen_Abrechnung_KAE!$AK$7,MD_JAHR,0),0)*$H224,IF(J224>0,AC224,I224))","v":{"v":0,"d":"0.00"}},null,{"$f":"OFFSET(MD!$P$5,MATCH($AK$7,MD_JAHR,0),0)*12","v":{"$error":"#VALUE!"}},{"v":0,"d":"0.00"}]
[{"$nulls":14},{"$f":"IF($B225=\"\",\"\",IF(F225=\"Arbeitgeberähnliche Stellung\",OFFSET(MD!$Q$5,MATCH(Grundlagen_Abrechnung_KAE!$AK$7,MD_JAHR,0),0)*$H225,IF(((AD225/12*M225*12)+N225)>AF225,AF225/12,((AD225/12*M225*12)+N225)/12)))","v":""},null,null,{"v":0,"d":"0.00"},null,{"v":0,"d":"0.00%"},{"v":0,"d":"0.00"},{"v":0,"d":"0.00"},{"v":0,"d":"0.00"},null,"prüfen",{"$f":"IFERROR(OFFSET(MD!$U$5,MATCH(Grundlagen_Abrechnung_KAE!$E225,MD_GENDER,0),0),\"\")","v":""},{"v":0,"d":"0.00"},null,{"v":0,"d":"0.00"},{"$f":"IF(F225=\"Arbeitgeberähnliche Stellung\",OFFSET(MD!$Q$5,MATCH(Grundlagen_Abrechnung_KAE!$AK$7,MD_JAHR,0),0)*$H225,IF(J225>0,AC225,I225))","v":{"v":0,"d":"0.00"}},null,{"$f":"OFFSET(MD!$P$5,MATCH($AK$7,MD_JAHR,0),0)*12","v":{"$error":"#VALUE!"}},{"v":0,"d":"0.00"}]
[{"$nulls":14},{"$f":"IF($B226=\"\",\"\",IF(F226=\"Arbeitgeberähnliche Stellung\",OFFSET(MD!$Q$5,MATCH(Grundlagen_Abrechnung_KAE!$AK$7,MD_JAHR,0),0)*$H226,IF(((AD226/12*M226*12)+N226)>AF226,AF226/12,((AD226/12*M226*12)+N226)/12)))","v":""},null,null,{"v":0,"d":"0.00"},null,{"v":0,"d":"0.00%"},{"v":0,"d":"0.00"},{"v":0,"d":"0.00"},{"v":0,"d":"0.00"},null,"prüfen",{"$f":"IFERROR(OFFSET(MD!$U$5,MATCH(Grundlagen_Abrechnung_KAE!$E226,MD_GENDER,0),0),\"\")","v":""},{"v":0,"d":"0.00"},null,{"v":0,"d":"0.00"},{"$f":"IF(F226=\"Arbeitgeberähnliche Stellung\",OFFSET(MD!$Q$5,MATCH(Grundlagen_Abrechnung_KAE!$AK$7,MD_JAHR,0),0)*$H226,IF(J226>0,AC226,I226))","v":{"v":0,"d":"0.00"}},null,{"$f":"OFFSET(MD!$P$5,MATCH($AK$7,MD_JAHR,0),0)*12","v":{"$error":"#VALUE!"}},{"v":0,"d":"0.00"}]
[{"$nulls":14},{"$f":"IF($B227=\"\",\"\",IF(F227=\"Arbeitgeberähnliche Stellung\",OFFSET(MD!$Q$5,MATCH(Grundlagen_Abrechnung_KAE!$AK$7,MD_JAHR,0),0)*$H227,IF(((AD227/12*M227*12)+N227)>AF227,AF227/12,((AD227/12*M227*12)+N227)/12)))","v":""},null,null,{"v":0,"d":"0.00"},null,{"v":0,"d":"0.00%"},{"v":0,"d":"0.00"},{"v":0,"d":"0.00"},{"v":0,"d":"0.00"},null,"prüfen",{"$f":"IFERROR(OFFSET(MD!$U$5,MATCH(Grundlagen_Abrechnung_KAE!$E227,MD_GENDER,0),0),\"\")","v":""},{"v":0,"d":"0.00"},null,{"v":0,"d":"0.00"},{"$f":"IF(F227=\"Arbeitgeberähnliche Stellung\",OFFSET(MD!$Q$5,MATCH(Grundlagen_Abrechnung_KAE!$AK$7,MD_JAHR,0),0)*$H227,IF(J227>0,AC227,I227))","v":{"v":0,"d":"0.00"}},null,{"$f":"OFFSET(MD!$P$5,MATCH($AK$7,MD_JAHR,0),0)*12","v":{"$error":"#VALUE!"}},{"v":0,"d":"0.00"}]
[{"$nulls":14},{"$f":"IF($B228=\"\",\"\",IF(F228=\"Arbeitgeberähnliche Stellung\",OFFSET(MD!$Q$5,MATCH(Grundlagen_Abrechnung_KAE!$AK$7,MD_JAHR,0),0)*$H228,IF(((AD228/12*M228*12)+N228)>AF228,AF228/12,((AD228/12*M228*12)+N228)/12)))","v":""},null,null,{"v":0,"d":"0.00"},null,{"v":0,"d":"0.00%"},{"v":0,"d":"0.00"},{"v":0,"d":"0.00"},{"v":0,"d":"0.00"},null,"prüfen",{"$f":"IFERROR(OFFSET(MD!$U$5,MATCH(Grundlagen_Abrechnung_KAE!$E228,MD_GENDER,0),0),\"\")","v":""},{"v":0,"d":"0.00"},null,{"v":0,"d":"0.00"},{"$f":"IF(F228=\"Arbeitgeberähnliche Stellung\",OFFSET(MD!$Q$5,MATCH(Grundlagen_Abrechnung_KAE!$AK$7,MD_JAHR,0),0)*$H228,IF(J228>0,AC228,I228))","v":{"v":0,"d":"0.00"}},null,{"$f":"OFFSET(MD!$P$5,MATCH($AK$7,MD_JAHR,0),0)*12","v":{"$error":"#VALUE!"}},{"v":0,"d":"0.00"}]
[{"$nulls":14},{"$f":"IF($B229=\"\",\"\",IF(F229=\"Arbeitgeberähnliche Stellung\",OFFSET(MD!$Q$5,MATCH(Grundlagen_Abrechnung_KAE!$AK$7,MD_JAHR,0),0)*$H229,IF(((AD229/12*M229*12)+N229)>AF229,AF229/12,((AD229/12*M229*12)+N229)/12)))","v":""},null,null,{"v":0,"d":"0.00"},null,{"v":0,"d":"0.00%"},{"v":0,"d":"0.00"},{"v":0,"d":"0.00"},{"v":0,"d":"0.00"},null,"prüfen",{"$f":"IFERROR(OFFSET(MD!$U$5,MATCH(Grundlagen_Abrechnung_KAE!$E229,MD_GENDER,0),0),\"\")","v":""},{"v":0,"d":"0.00"},null,{"v":0,"d":"0.00"},{"$f":"IF(F229=\"Arbeitgeberähnliche Stellung\",OFFSET(MD!$Q$5,MATCH(Grundlagen_Abrechnung_KAE!$AK$7,MD_JAHR,0),0)*$H229,IF(J229>0,AC229,I229))","v":{"v":0,"d":"0.00"}},null,{"$f":"OFFSET(MD!$P$5,MATCH($AK$7,MD_JAHR,0),0)*12","v":{"$error":"#VALUE!"}},{"v":0,"d":"0.00"}]
[{"$nulls":14},{"$f":"IF($B230=\"\",\"\",IF(F230=\"Arbeitgeberähnliche Stellung\",OFFSET(MD!$Q$5,MATCH(Grundlagen_Abrechnung_KAE!$AK$7,MD_JAHR,0),0)*$H230,IF(((AD230/12*M230*12)+N230)>AF230,AF230/12,((AD230/12*M230*12)+N230)/12)))","v":""},null,null,{"v":0,"d":"0.00"},null,{"v":0,"d":"0.00%"},{"v":0,"d":"0.00"},{"v":0,"d":"0.00"},{"v":0,"d":"0.00"},null,"prüfen",{"$f":"IFERROR(OFFSET(MD!$U$5,MATCH(Grundlagen_Abrechnung_KAE!$E230,MD_GENDER,0),0),\"\")","v":""},{"v":0,"d":"0.00"},null,{"v":0,"d":"0.00"},{"$f":"IF(F230=\"Arbeitgeberähnliche Stellung\",OFFSET(MD!$Q$5,MATCH(Grundlagen_Abrechnung_KAE!$AK$7,MD_JAHR,0),0)*$H230,IF(J230>0,AC230,I230))","v":{"v":0,"d":"0.00"}},null,{"$f":"OFFSET(MD!$P$5,MATCH($AK$7,MD_JAHR,0),0)*12","v":{"$error":"#VALUE!"}},{"v":0,"d":"0.00"}]
[{"$nulls":14},{"$f":"IF($B231=\"\",\"\",IF(F231=\"Arbeitgeberähnliche Stellung\",OFFSET(MD!$Q$5,MATCH(Grundlagen_Abrechnung_KAE!$AK$7,MD_JAHR,0),0)*$H231,IF(((AD231/12*M231*12)+N231)>AF231,AF231/12,((AD231/12*M231*12)+N231)/12)))","v":""},null,null,{"v":0,"d":"0.00"},null,{"v":0,"d":"0.00%"},{"v":0,"d":"0.00"},{"v":0,"d":"0.00"},{"v":0,"d":"0.00"},null,"prüfen",{"$f":"IFERROR(OFFSET(MD!$U$5,MATCH(Grundlagen_Abrechnung_KAE!$E231,MD_GENDER,0),0),\"\")","v":""},{"v":0,"d":"0.00"},null,{"v":0,"d":"0.00"},{"$f":"IF(F231=\"Arbeitgeberähnliche Stellung\",OFFSET(MD!$Q$5,MATCH(Grundlagen_Abrechnung_KAE!$AK$7,MD_JAHR,0),0)*$H231,IF(J231>0,AC231,I231))","v":{"v":0,"d":"0.00"}},null,{"$f":"OFFSET(MD!$P$5,MATCH($AK$7,MD_JAHR,0),0)*12","v":{"$error":"#VALUE!"}},{"v":0,"d":"0.00"}]
[{"$nulls":14},{"$f":"IF($B232=\"\",\"\",IF(F232=\"Arbeitgeberähnliche Stellung\",OFFSET(MD!$Q$5,MATCH(Grundlagen_Abrechnung_KAE!$AK$7,MD_JAHR,0),0)*$H232,IF(((AD232/12*M232*12)+N232)>AF232,AF232/12,((AD232/12*M232*12)+N232)/12)))","v":""},null,null,{"v":0,"d":"0.00"},null,{"v":0,"d":"0.00%"},{"v":0,"d":"0.00"},{"v":0,"d":"0.00"},{"v":0,"d":"0.00"},null,"prüfen",{"$f":"IFERROR(OFFSET(MD!$U$5,MATCH(Grundlagen_Abrechnung_KAE!$E232,MD_GENDER,0),0),\"\")","v":""},{"v":0,"d":"0.00"},null,{"v":0,"d":"0.00"},{"$f":"IF(F232=\"Arbeitgeberähnliche Stellung\",OFFSET(MD!$Q$5,MATCH(Grundlagen_Abrechnung_KAE!$AK$7,MD_JAHR,0),0)*$H232,IF(J232>0,AC232,I232))","v":{"v":0,"d":"0.00"}},null,{"$f":"OFFSET(MD!$P$5,MATCH($AK$7,MD_JAHR,0),0)*12","v":{"$error":"#VALUE!"}},{"v":0,"d":"0.00"}]
[{"$nulls":14},{"$f":"IF($B233=\"\",\"\",IF(F233=\"Arbeitgeberähnliche Stellung\",OFFSET(MD!$Q$5,MATCH(Grundlagen_Abrechnung_KAE!$AK$7,MD_JAHR,0),0)*$H233,IF(((AD233/12*M233*12)+N233)>AF233,AF233/12,((AD233/12*M233*12)+N233)/12)))","v":""},null,null,{"v":0,"d":"0.00"},null,{"v":0,"d":"0.00%"},{"v":0,"d":"0.00"},{"v":0,"d":"0.00"},{"v":0,"d":"0.00"},null,"prüfen",{"$f":"IFERROR(OFFSET(MD!$U$5,MATCH(Grundlagen_Abrechnung_KAE!$E233,MD_GENDER,0),0),\"\")","v":""},{"v":0,"d":"0.00"},null,{"v":0,"d":"0.00"},{"$f":"IF(F233=\"Arbeitgeberähnliche Stellung\",OFFSET(MD!$Q$5,MATCH(Grundlagen_Abrechnung_KAE!$AK$7,MD_JAHR,0),0)*$H233,IF(J233>0,AC233,I233))","v":{"v":0,"d":"0.00"}},null,{"$f":"OFFSET(MD!$P$5,MATCH($AK$7,MD_JAHR,0),0)*12","v":{"$error":"#VALUE!"}},{"v":0,"d":"0.00"}]
[{"$nulls":14},{"$f":"IF($B234=\"\",\"\",IF(F234=\"Arbeitgeberähnliche Stellung\",OFFSET(MD!$Q$5,MATCH(Grundlagen_Abrechnung_KAE!$AK$7,MD_JAHR,0),0)*$H234,IF(((AD234/12*M234*12)+N234)>AF234,AF234/12,((AD234/12*M234*12)+N234)/12)))","v":""},null,null,{"v":0,"d":"0.00"},null,{"v":0,"d":"0.00%"},{"v":0,"d":"0.00"},{"v":0,"d":"0.00"},{"v":0,"d":"0.00"},null,"prüfen",{"$f":"IFERROR(OFFSET(MD!$U$5,MATCH(Grundlagen_Abrechnung_KAE!$E234,MD_GENDER,0),0),\"\")","v":""},{"v":0,"d":"0.00"},null,{"v":0,"d":"0.00"},{"$f":"IF(F234=\"Arbeitgeberähnliche Stellung\",OFFSET(MD!$Q$5,MATCH(Grundlagen_Abrechnung_KAE!$AK$7,MD_JAHR,0),0)*$H234,IF(J234>0,AC234,I234))","v":{"v":0,"d":"0.00"}},null,{"$f":"OFFSET(MD!$P$5,MATCH($AK$7,MD_JAHR,0),0)*12","v":{"$error":"#VALUE!"}},{"v":0,"d":"0.00"}]
[{"$nulls":14},{"$f":"IF($B235=\"\",\"\",IF(F235=\"Arbeitgeberähnliche Stellung\",OFFSET(MD!$Q$5,MATCH(Grundlagen_Abrechnung_KAE!$AK$7,MD_JAHR,0),0)*$H235,IF(((AD235/12*M235*12)+N235)>AF235,AF235/12,((AD235/12*M235*12)+N235)/12)))","v":""},null,null,{"v":0,"d":"0.00"},null,{"v":0,"d":"0.00%"},{"v":0,"d":"0.00"},{"v":0,"d":"0.00"},{"v":0,"d":"0.00"},null,"prüfen",{"$f":"IFERROR(OFFSET(MD!$U$5,MATCH(Grundlagen_Abrechnung_KAE!$E235,MD_GENDER,0),0),\"\")","v":""},{"v":0,"d":"0.00"},null,{"v":0,"d":"0.00"},{"$f":"IF(F235=\"Arbeitgeberähnliche Stellung\",OFFSET(MD!$Q$5,MATCH(Grundlagen_Abrechnung_KAE!$AK$7,MD_JAHR,0),0)*$H235,IF(J235>0,AC235,I235))","v":{"v":0,"d":"0.00"}},null,{"$f":"OFFSET(MD!$P$5,MATCH($AK$7,MD_JAHR,0),0)*12","v":{"$error":"#VALUE!"}},{"v":0,"d":"0.00"}]
[{"$nulls":14},{"$f":"IF($B236=\"\",\"\",IF(F236=\"Arbeitgeberähnliche Stellung\",OFFSET(MD!$Q$5,MATCH(Grundlagen_Abrechnung_KAE!$AK$7,MD_JAHR,0),0)*$H236,IF(((AD236/12*M236*12)+N236)>AF236,AF236/12,((AD236/12*M236*12)+N236)/12)))","v":""},null,null,{"v":0,"d":"0.00"},null,{"v":0,"d":"0.00%"},{"v":0,"d":"0.00"},{"v":0,"d":"0.00"},{"v":0,"d":"0.00"},null,"prüfen",{"$f":"IFERROR(OFFSET(MD!$U$5,MATCH(Grundlagen_Abrechnung_KAE!$E236,MD_GENDER,0),0),\"\")","v":""},{"v":0,"d":"0.00"},null,{"v":0,"d":"0.00"},{"$f":"IF(F236=\"Arbeitgeberähnliche Stellung\",OFFSET(MD!$Q$5,MATCH(Grundlagen_Abrechnung_KAE!$AK$7,MD_JAHR,0),0)*$H236,IF(J236>0,AC236,I236))","v":{"v":0,"d":"0.00"}},null,{"$f":"OFFSET(MD!$P$5,MATCH($AK$7,MD_JAHR,0),0)*12","v":{"$error":"#VALUE!"}},{"v":0,"d":"0.00"}]
[{"$nulls":14},{"$f":"IF($B237=\"\",\"\",IF(F237=\"Arbeitgeberähnliche Stellung\",OFFSET(MD!$Q$5,MATCH(Grundlagen_Abrechnung_KAE!$AK$7,MD_JAHR,0),0)*$H237,IF(((AD237/12*M237*12)+N237)>AF237,AF237/12,((AD237/12*M237*12)+N237)/12)))","v":""},null,null,{"v":0,"d":"0.00"},null,{"v":0,"d":"0.00%"},{"v":0,"d":"0.00"},{"v":0,"d":"0.00"},{"v":0,"d":"0.00"},null,"prüfen",{"$f":"IFERROR(OFFSET(MD!$U$5,MATCH(Grundlagen_Abrechnung_KAE!$E237,MD_GENDER,0),0),\"\")","v":""},{"v":0,"d":"0.00"},null,{"v":0,"d":"0.00"},{"$f":"IF(F237=\"Arbeitgeberähnliche Stellung\",OFFSET(MD!$Q$5,MATCH(Grundlagen_Abrechnung_KAE!$AK$7,MD_JAHR,0),0)*$H237,IF(J237>0,AC237,I237))","v":{"v":0,"d":"0.00"}},null,{"$f":"OFFSET(MD!$P$5,MATCH($AK$7,MD_JAHR,0),0)*12","v":{"$error":"#VALUE!"}},{"v":0,"d":"0.00"}]
[{"$nulls":14},{"$f":"IF($B238=\"\",\"\",IF(F238=\"Arbeitgeberähnliche Stellung\",OFFSET(MD!$Q$5,MATCH(Grundlagen_Abrechnung_KAE!$AK$7,MD_JAHR,0),0)*$H238,IF(((AD238/12*M238*12)+N238)>AF238,AF238/12,((AD238/12*M238*12)+N238)/12)))","v":""},null,null,{"v":0,"d":"0.00"},null,{"v":0,"d":"0.00%"},{"v":0,"d":"0.00"},{"v":0,"d":"0.00"},{"v":0,"d":"0.00"},null,"prüfen",{"$f":"IFERROR(OFFSET(MD!$U$5,MATCH(Grundlagen_Abrechnung_KAE!$E238,MD_GENDER,0),0),\"\")","v":""},{"v":0,"d":"0.00"},null,{"v":0,"d":"0.00"},{"$f":"IF(F238=\"Arbeitgeberähnliche Stellung\",OFFSET(MD!$Q$5,MATCH(Grundlagen_Abrechnung_KAE!$AK$7,MD_JAHR,0),0)*$H238,IF(J238>0,AC238,I238))","v":{"v":0,"d":"0.00"}},null,{"$f":"OFFSET(MD!$P$5,MATCH($AK$7,MD_JAHR,0),0)*12","v":{"$error":"#VALUE!"}},{"v":0,"d":"0.00"}]
[{"$nulls":14},{"$f":"IF($B239=\"\",\"\",IF(F239=\"Arbeitgeberähnliche Stellung\",OFFSET(MD!$Q$5,MATCH(Grundlagen_Abrechnung_KAE!$AK$7,MD_JAHR,0),0)*$H239,IF(((AD239/12*M239*12)+N239)>AF239,AF239/12,((AD239/12*M239*12)+N239)/12)))","v":""},null,null,{"v":0,"d":"0.00"},null,{"v":0,"d":"0.00%"},{"v":0,"d":"0.00"},{"v":0,"d":"0.00"},{"v":0,"d":"0.00"},null,"prüfen",{"$f":"IFERROR(OFFSET(MD!$U$5,MATCH(Grundlagen_Abrechnung_KAE!$E239,MD_GENDER,0),0),\"\")","v":""},{"v":0,"d":"0.00"},null,{"v":0,"d":"0.00"},{"$f":"IF(F239=\"Arbeitgeberähnliche Stellung\",OFFSET(MD!$Q$5,MATCH(Grundlagen_Abrechnung_KAE!$AK$7,MD_JAHR,0),0)*$H239,IF(J239>0,AC239,I239))","v":{"v":0,"d":"0.00"}},null,{"$f":"OFFSET(MD!$P$5,MATCH($AK$7,MD_JAHR,0),0)*12","v":{"$error":"#VALUE!"}},{"v":0,"d":"0.00"}]
[{"$nulls":14},{"$f":"IF($B240=\"\",\"\",IF(F240=\"Arbeitgeberähnliche Stellung\",OFFSET(MD!$Q$5,MATCH(Grundlagen_Abrechnung_KAE!$AK$7,MD_JAHR,0),0)*$H240,IF(((AD240/12*M240*12)+N240)>AF240,AF240/12,((AD240/12*M240*12)+N240)/12)))","v":""},null,null,{"v":0,"d":"0.00"},null,{"v":0,"d":"0.00%"},{"v":0,"d":"0.00"},{"v":0,"d":"0.00"},{"v":0,"d":"0.00"},null,"prüfen",{"$f":"IFERROR(OFFSET(MD!$U$5,MATCH(Grundlagen_Abrechnung_KAE!$E240,MD_GENDER,0),0),\"\")","v":""},{"v":0,"d":"0.00"},null,{"v":0,"d":"0.00"},{"$f":"IF(F240=\"Arbeitgeberähnliche Stellung\",OFFSET(MD!$Q$5,MATCH(Grundlagen_Abrechnung_KAE!$AK$7,MD_JAHR,0),0)*$H240,IF(J240>0,AC240,I240))","v":{"v":0,"d":"0.00"}},null,{"$f":"OFFSET(MD!$P$5,MATCH($AK$7,MD_JAHR,0),0)*12","v":{"$error":"#VALUE!"}},{"v":0,"d":"0.00"}]
[{"$nulls":14},{"$f":"IF($B241=\"\",\"\",IF(F241=\"Arbeitgeberähnliche Stellung\",OFFSET(MD!$Q$5,MATCH(Grundlagen_Abrechnung_KAE!$AK$7,MD_JAHR,0),0)*$H241,IF(((AD241/12*M241*12)+N241)>AF241,AF241/12,((AD241/12*M241*12)+N241)/12)))","v":""},null,null,{"v":0,"d":"0.00"},null,{"v":0,"d":"0.00%"},{"v":0,"d":"0.00"},{"v":0,"d":"0.00"},{"v":0,"d":"0.00"},null,"prüfen",{"$f":"IFERROR(OFFSET(MD!$U$5,MATCH(Grundlagen_Abrechnung_KAE!$E241,MD_GENDER,0),0),\"\")","v":""},{"v":0,"d":"0.00"},null,{"v":0,"d":"0.00"},{"$f":"IF(F241=\"Arbeitgeberähnliche Stellung\",OFFSET(MD!$Q$5,MATCH(Grundlagen_Abrechnung_KAE!$AK$7,MD_JAHR,0),0)*$H241,IF(J241>0,AC241,I241))","v":{"v":0,"d":"0.00"}},null,{"$f":"OFFSET(MD!$P$5,MATCH($AK$7,MD_JAHR,0),0)*12","v":{"$error":"#VALUE!"}},{"v":0,"d":"0.00"}]
[{"$nulls":14},{"$f":"IF($B242=\"\",\"\",IF(F242=\"Arbeitgeberähnliche Stellung\",OFFSET(MD!$Q$5,MATCH(Grundlagen_Abrechnung_KAE!$AK$7,MD_JAHR,0),0)*$H242,IF(((AD242/12*M242*12)+N242)>AF242,AF242/12,((AD242/12*M242*12)+N242)/12)))","v":""},null,null,{"v":0,"d":"0.00"},null,{"v":0,"d":"0.00%"},{"v":0,"d":"0.00"},{"v":0,"d":"0.00"},{"v":0,"d":"0.00"},null,"prüfen",{"$f":"IFERROR(OFFSET(MD!$U$5,MATCH(Grundlagen_Abrechnung_KAE!$E242,MD_GENDER,0),0),\"\")","v":""},{"v":0,"d":"0.00"},null,{"v":0,"d":"0.00"},{"$f":"IF(F242=\"Arbeitgeberähnliche Stellung\",OFFSET(MD!$Q$5,MATCH(Grundlagen_Abrechnung_KAE!$AK$7,MD_JAHR,0),0)*$H242,IF(J242>0,AC242,I242))","v":{"v":0,"d":"0.00"}},null,{"$f":"OFFSET(MD!$P$5,MATCH($AK$7,MD_JAHR,0),0)*12","v":{"$error":"#VALUE!"}},{"v":0,"d":"0.00"}]
[{"$nulls":14},{"$f":"IF($B243=\"\",\"\",IF(F243=\"Arbeitgeberähnliche Stellung\",OFFSET(MD!$Q$5,MATCH(Grundlagen_Abrechnung_KAE!$AK$7,MD_JAHR,0),0)*$H243,IF(((AD243/12*M243*12)+N243)>AF243,AF243/12,((AD243/12*M243*12)+N243)/12)))","v":""},null,null,{"v":0,"d":"0.00"},null,{"v":0,"d":"0.00%"},{"v":0,"d":"0.00"},{"v":0,"d":"0.00"},{"v":0,"d":"0.00"},null,"prüfen",{"$f":"IFERROR(OFFSET(MD!$U$5,MATCH(Grundlagen_Abrechnung_KAE!$E243,MD_GENDER,0),0),\"\")","v":""},{"v":0,"d":"0.00"},null,{"v":0,"d":"0.00"},{"$f":"IF(F243=\"Arbeitgeberähnliche Stellung\",OFFSET(MD!$Q$5,MATCH(Grundlagen_Abrechnung_KAE!$AK$7,MD_JAHR,0),0)*$H243,IF(J243>0,AC243,I243))","v":{"v":0,"d":"0.00"}},null,{"$f":"OFFSET(MD!$P$5,MATCH($AK$7,MD_JAHR,0),0)*12","v":{"$error":"#VALUE!"}},{"v":0,"d":"0.00"}]
[{"$nulls":14},{"$f":"IF($B244=\"\",\"\",IF(F244=\"Arbeitgeberähnliche Stellung\",OFFSET(MD!$Q$5,MATCH(Grundlagen_Abrechnung_KAE!$AK$7,MD_JAHR,0),0)*$H244,IF(((AD244/12*M244*12)+N244)>AF244,AF244/12,((AD244/12*M244*12)+N244)/12)))","v":""},null,null,{"v":0,"d":"0.00"},null,{"v":0,"d":"0.00%"},{"v":0,"d":"0.00"},{"v":0,"d":"0.00"},{"v":0,"d":"0.00"},null,"prüfen",{"$f":"IFERROR(OFFSET(MD!$U$5,MATCH(Grundlagen_Abrechnung_KAE!$E244,MD_GENDER,0),0),\"\")","v":""},{"v":0,"d":"0.00"},null,{"v":0,"d":"0.00"},{"$f":"IF(F244=\"Arbeitgeberähnliche Stellung\",OFFSET(MD!$Q$5,MATCH(Grundlagen_Abrechnung_KAE!$AK$7,MD_JAHR,0),0)*$H244,IF(J244>0,AC244,I244))","v":{"v":0,"d":"0.00"}},null,{"$f":"OFFSET(MD!$P$5,MATCH($AK$7,MD_JAHR,0),0)*12","v":{"$error":"#VALUE!"}},{"v":0,"d":"0.00"}]
[{"$nulls":14},{"$f":"IF($B245=\"\",\"\",IF(F245=\"Arbeitgeberähnliche Stellung\",OFFSET(MD!$Q$5,MATCH(Grundlagen_Abrechnung_KAE!$AK$7,MD_JAHR,0),0)*$H245,IF(((AD245/12*M245*12)+N245)>AF245,AF245/12,((AD245/12*M245*12)+N245)/12)))","v":""},null,null,{"v":0,"d":"0.00"},null,{"v":0,"d":"0.00%"},{"v":0,"d":"0.00"},{"v":0,"d":"0.00"},{"v":0,"d":"0.00"},null,"prüfen",{"$f":"IFERROR(OFFSET(MD!$U$5,MATCH(Grundlagen_Abrechnung_KAE!$E245,MD_GENDER,0),0),\"\")","v":""},{"v":0,"d":"0.00"},null,{"v":0,"d":"0.00"},{"$f":"IF(F245=\"Arbeitgeberähnliche Stellung\",OFFSET(MD!$Q$5,MATCH(Grundlagen_Abrechnung_KAE!$AK$7,MD_JAHR,0),0)*$H245,IF(J245>0,AC245,I245))","v":{"v":0,"d":"0.00"}},null,{"$f":"OFFSET(MD!$P$5,MATCH($AK$7,MD_JAHR,0),0)*12","v":{"$error":"#VALUE!"}},{"v":0,"d":"0.00"}]
[{"$nulls":14},{"$f":"IF($B246=\"\",\"\",IF(F246=\"Arbeitgeberähnliche Stellung\",OFFSET(MD!$Q$5,MATCH(Grundlagen_Abrechnung_KAE!$AK$7,MD_JAHR,0),0)*$H246,IF(((AD246/12*M246*12)+N246)>AF246,AF246/12,((AD246/12*M246*12)+N246)/12)))","v":""},null,null,{"v":0,"d":"0.00"},null,{"v":0,"d":"0.00%"},{"v":0,"d":"0.00"},{"v":0,"d":"0.00"},{"v":0,"d":"0.00"},null,"prüfen",{"$f":"IFERROR(OFFSET(MD!$U$5,MATCH(Grundlagen_Abrechnung_KAE!$E246,MD_GENDER,0),0),\"\")","v":""},{"v":0,"d":"0.00"},null,{"v":0,"d":"0.00"},{"$f":"IF(F246=\"Arbeitgeberähnliche Stellung\",OFFSET(MD!$Q$5,MATCH(Grundlagen_Abrechnung_KAE!$AK$7,MD_JAHR,0),0)*$H246,IF(J246>0,AC246,I246))","v":{"v":0,"d":"0.00"}},null,{"$f":"OFFSET(MD!$P$5,MATCH($AK$7,MD_JAHR,0),0)*12","v":{"$error":"#VALUE!"}},{"v":0,"d":"0.00"}]
[{"$nulls":14},{"$f":"IF($B247=\"\",\"\",IF(F247=\"Arbeitgeberähnliche Stellung\",OFFSET(MD!$Q$5,MATCH(Grundlagen_Abrechnung_KAE!$AK$7,MD_JAHR,0),0)*$H247,IF(((AD247/12*M247*12)+N247)>AF247,AF247/12,((AD247/12*M247*12)+N247)/12)))","v":""},null,null,{"v":0,"d":"0.00"},null,{"v":0,"d":"0.00%"},{"v":0,"d":"0.00"},{"v":0,"d":"0.00"},{"v":0,"d":"0.00"},null,"prüfen",{"$f":"IFERROR(OFFSET(MD!$U$5,MATCH(Grundlagen_Abrechnung_KAE!$E247,MD_GENDER,0),0),\"\")","v":""},{"v":0,"d":"0.00"},null,{"v":0,"d":"0.00"},{"$f":"IF(F247=\"Arbeitgeberähnliche Stellung\",OFFSET(MD!$Q$5,MATCH(Grundlagen_Abrechnung_KAE!$AK$7,MD_JAHR,0),0)*$H247,IF(J247>0,AC247,I247))","v":{"v":0,"d":"0.00"}},null,{"$f":"OFFSET(MD!$P$5,MATCH($AK$7,MD_JAHR,0),0)*12","v":{"$error":"#VALUE!"}},{"v":0,"d":"0.00"}]
[{"$nulls":14},{"$f":"IF($B248=\"\",\"\",IF(F248=\"Arbeitgeberähnliche Stellung\",OFFSET(MD!$Q$5,MATCH(Grundlagen_Abrechnung_KAE!$AK$7,MD_JAHR,0),0)*$H248,IF(((AD248/12*M248*12)+N248)>AF248,AF248/12,((AD248/12*M248*12)+N248)/12)))","v":""},null,null,{"v":0,"d":"0.00"},null,{"v":0,"d":"0.00%"},{"v":0,"d":"0.00"},{"v":0,"d":"0.00"},{"v":0,"d":"0.00"},null,"prüfen",{"$f":"IFERROR(OFFSET(MD!$U$5,MATCH(Grundlagen_Abrechnung_KAE!$E248,MD_GENDER,0),0),\"\")","v":""},{"v":0,"d":"0.00"},null,{"v":0,"d":"0.00"},{"$f":"IF(F248=\"Arbeitgeberähnliche Stellung\",OFFSET(MD!$Q$5,MATCH(Grundlagen_Abrechnung_KAE!$AK$7,MD_JAHR,0),0)*$H248,IF(J248>0,AC248,I248))","v":{"v":0,"d":"0.00"}},null,{"$f":"OFFSET(MD!$P$5,MATCH($AK$7,MD_JAHR,0),0)*12","v":{"$error":"#VALUE!"}},{"v":0,"d":"0.00"}]
[{"$nulls":14},{"$f":"IF($B249=\"\",\"\",IF(F249=\"Arbeitgeberähnliche Stellung\",OFFSET(MD!$Q$5,MATCH(Grundlagen_Abrechnung_KAE!$AK$7,MD_JAHR,0),0)*$H249,IF(((AD249/12*M249*12)+N249)>AF249,AF249/12,((AD249/12*M249*12)+N249)/12)))","v":""},null,null,{"v":0,"d":"0.00"},null,{"v":0,"d":"0.00%"},{"v":0,"d":"0.00"},{"v":0,"d":"0.00"},{"v":0,"d":"0.00"},null,"prüfen",{"$f":"IFERROR(OFFSET(MD!$U$5,MATCH(Grundlagen_Abrechnung_KAE!$E249,MD_GENDER,0),0),\"\")","v":""},{"v":0,"d":"0.00"},null,{"v":0,"d":"0.00"},{"$f":"IF(F249=\"Arbeitgeberähnliche Stellung\",OFFSET(MD!$Q$5,MATCH(Grundlagen_Abrechnung_KAE!$AK$7,MD_JAHR,0),0)*$H249,IF(J249>0,AC249,I249))","v":{"v":0,"d":"0.00"}},null,{"$f":"OFFSET(MD!$P$5,MATCH($AK$7,MD_JAHR,0),0)*12","v":{"$error":"#VALUE!"}},{"v":0,"d":"0.00"}]
[{"$nulls":14},{"$f":"IF($B250=\"\",\"\",IF(F250=\"Arbeitgeberähnliche Stellung\",OFFSET(MD!$Q$5,MATCH(Grundlagen_Abrechnung_KAE!$AK$7,MD_JAHR,0),0)*$H250,IF(((AD250/12*M250*12)+N250)>AF250,AF250/12,((AD250/12*M250*12)+N250)/12)))","v":""},null,null,{"v":0,"d":"0.00"},null,{"v":0,"d":"0.00%"},{"v":0,"d":"0.00"},{"v":0,"d":"0.00"},{"v":0,"d":"0.00"},null,"prüfen",{"$f":"IFERROR(OFFSET(MD!$U$5,MATCH(Grundlagen_Abrechnung_KAE!$E250,MD_GENDER,0),0),\"\")","v":""},{"v":0,"d":"0.00"},null,{"v":0,"d":"0.00"},{"$f":"IF(F250=\"Arbeitgeberähnliche Stellung\",OFFSET(MD!$Q$5,MATCH(Grundlagen_Abrechnung_KAE!$AK$7,MD_JAHR,0),0)*$H250,IF(J250>0,AC250,I250))","v":{"v":0,"d":"0.00"}},null,{"$f":"OFFSET(MD!$P$5,MATCH($AK$7,MD_JAHR,0),0)*12","v":{"$error":"#VALUE!"}},{"v":0,"d":"0.00"}]
[{"$nulls":14},{"$f":"IF($B251=\"\",\"\",IF(F251=\"Arbeitgeberähnliche Stellung\",OFFSET(MD!$Q$5,MATCH(Grundlagen_Abrechnung_KAE!$AK$7,MD_JAHR,0),0)*$H251,IF(((AD251/12*M251*12)+N251)>AF251,AF251/12,((AD251/12*M251*12)+N251)/12)))","v":""},null,null,{"v":0,"d":"0.00"},null,{"v":0,"d":"0.00%"},{"v":0,"d":"0.00"},{"v":0,"d":"0.00"},{"v":0,"d":"0.00"},null,"prüfen",{"$f":"IFERROR(OFFSET(MD!$U$5,MATCH(Grundlagen_Abrechnung_KAE!$E251,MD_GENDER,0),0),\"\")","v":""},{"v":0,"d":"0.00"},null,{"v":0,"d":"0.00"},{"$f":"IF(F251=\"Arbeitgeberähnliche Stellung\",OFFSET(MD!$Q$5,MATCH(Grundlagen_Abrechnung_KAE!$AK$7,MD_JAHR,0),0)*$H251,IF(J251>0,AC251,I251))","v":{"v":0,"d":"0.00"}},null,{"$f":"OFFSET(MD!$P$5,MATCH($AK$7,MD_JAHR,0),0)*12","v":{"$error":"#VALUE!"}},{"v":0,"d":"0.00"}]
[{"$nulls":14},{"$f":"IF($B252=\"\",\"\",IF(F252=\"Arbeitgeberähnliche Stellung\",OFFSET(MD!$Q$5,MATCH(Grundlagen_Abrechnung_KAE!$AK$7,MD_JAHR,0),0)*$H252,IF(((AD252/12*M252*12)+N252)>AF252,AF252/12,((AD252/12*M252*12)+N252)/12)))","v":""},null,null,{"v":0,"d":"0.00"},null,{"v":0,"d":"0.00%"},{"v":0,"d":"0.00"},{"v":0,"d":"0.00"},{"v":0,"d":"0.00"},null,"prüfen",{"$f":"IFERROR(OFFSET(MD!$U$5,MATCH(Grundlagen_Abrechnung_KAE!$E252,MD_GENDER,0),0),\"\")","v":""},{"v":0,"d":"0.00"},null,{"v":0,"d":"0.00"},{"$f":"IF(F252=\"Arbeitgeberähnliche Stellung\",OFFSET(MD!$Q$5,MATCH(Grundlagen_Abrechnung_KAE!$AK$7,MD_JAHR,0),0)*$H252,IF(J252>0,AC252,I252))","v":{"v":0,"d":"0.00"}},null,{"$f":"OFFSET(MD!$P$5,MATCH($AK$7,MD_JAHR,0),0)*12","v":{"$error":"#VALUE!"}},{"v":0,"d":"0.00"}]
[{"$nulls":14},{"$f":"IF($B253=\"\",\"\",IF(F253=\"Arbeitgeberähnliche Stellung\",OFFSET(MD!$Q$5,MATCH(Grundlagen_Abrechnung_KAE!$AK$7,MD_JAHR,0),0)*$H253,IF(((AD253/12*M253*12)+N253)>AF253,AF253/12,((AD253/12*M253*12)+N253)/12)))","v":""},null,null,{"v":0,"d":"0.00"},null,{"v":0,"d":"0.00%"},{"v":0,"d":"0.00"},{"v":0,"d":"0.00"},{"v":0,"d":"0.00"},null,"prüfen",{"$f":"IFERROR(OFFSET(MD!$U$5,MATCH(Grundlagen_Abrechnung_KAE!$E253,MD_GENDER,0),0),\"\")","v":""},{"v":0,"d":"0.00"},null,{"v":0,"d":"0.00"},{"$f":"IF(F253=\"Arbeitgeberähnliche Stellung\",OFFSET(MD!$Q$5,MATCH(Grundlagen_Abrechnung_KAE!$AK$7,MD_JAHR,0),0)*$H253,IF(J253>0,AC253,I253))","v":{"v":0,"d":"0.00"}},null,{"$f":"OFFSET(MD!$P$5,MATCH($AK$7,MD_JAHR,0),0)*12","v":{"$error":"#VALUE!"}},{"v":0,"d":"0.00"}]
[{"$nulls":14},{"$f":"IF($B254=\"\",\"\",IF(F254=\"Arbeitgeberähnliche Stellung\",OFFSET(MD!$Q$5,MATCH(Grundlagen_Abrechnung_KAE!$AK$7,MD_JAHR,0),0)*$H254,IF(((AD254/12*M254*12)+N254)>AF254,AF254/12,((AD254/12*M254*12)+N254)/12)))","v":""},null,null,{"v":0,"d":"0.00"},null,{"v":0,"d":"0.00%"},{"v":0,"d":"0.00"},{"v":0,"d":"0.00"},{"v":0,"d":"0.00"},null,"prüfen",{"$f":"IFERROR(OFFSET(MD!$U$5,MATCH(Grundlagen_Abrechnung_KAE!$E254,MD_GENDER,0),0),\"\")","v":""},{"v":0,"d":"0.00"},null,{"v":0,"d":"0.00"},{"$f":"IF(F254=\"Arbeitgeberähnliche Stellung\",OFFSET(MD!$Q$5,MATCH(Grundlagen_Abrechnung_KAE!$AK$7,MD_JAHR,0),0)*$H254,IF(J254>0,AC254,I254))","v":{"v":0,"d":"0.00"}},null,{"$f":"OFFSET(MD!$P$5,MATCH($AK$7,MD_JAHR,0),0)*12","v":{"$error":"#VALUE!"}},{"v":0,"d":"0.00"}]
[{"$nulls":14},{"$f":"IF($B255=\"\",\"\",IF(F255=\"Arbeitgeberähnliche Stellung\",OFFSET(MD!$Q$5,MATCH(Grundlagen_Abrechnung_KAE!$AK$7,MD_JAHR,0),0)*$H255,IF(((AD255/12*M255*12)+N255)>AF255,AF255/12,((AD255/12*M255*12)+N255)/12)))","v":""},null,null,{"v":0,"d":"0.00"},null,{"v":0,"d":"0.00%"},{"v":0,"d":"0.00"},{"v":0,"d":"0.00"},{"v":0,"d":"0.00"},null,"prüfen",{"$f":"IFERROR(OFFSET(MD!$U$5,MATCH(Grundlagen_Abrechnung_KAE!$E255,MD_GENDER,0),0),\"\")","v":""},{"v":0,"d":"0.00"},null,{"v":0,"d":"0.00"},{"$f":"IF(F255=\"Arbeitgeberähnliche Stellung\",OFFSET(MD!$Q$5,MATCH(Grundlagen_Abrechnung_KAE!$AK$7,MD_JAHR,0),0)*$H255,IF(J255>0,AC255,I255))","v":{"v":0,"d":"0.00"}},null,{"$f":"OFFSET(MD!$P$5,MATCH($AK$7,MD_JAHR,0),0)*12","v":{"$error":"#VALUE!"}},{"v":0,"d":"0.00"}]
[{"$nulls":14},{"$f":"IF($B256=\"\",\"\",IF(F256=\"Arbeitgeberähnliche Stellung\",OFFSET(MD!$Q$5,MATCH(Grundlagen_Abrechnung_KAE!$AK$7,MD_JAHR,0),0)*$H256,IF(((AD256/12*M256*12)+N256)>AF256,AF256/12,((AD256/12*M256*12)+N256)/12)))","v":""},null,null,{"v":0,"d":"0.00"},null,{"v":0,"d":"0.00%"},{"v":0,"d":"0.00"},{"v":0,"d":"0.00"},{"v":0,"d":"0.00"},null,"prüfen",{"$f":"IFERROR(OFFSET(MD!$U$5,MATCH(Grundlagen_Abrechnung_KAE!$E256,MD_GENDER,0),0),\"\")","v":""},{"v":0,"d":"0.00"},null,{"v":0,"d":"0.00"},{"$f":"IF(F256=\"Arbeitgeberähnliche Stellung\",OFFSET(MD!$Q$5,MATCH(Grundlagen_Abrechnung_KAE!$AK$7,MD_JAHR,0),0)*$H256,IF(J256>0,AC256,I256))","v":{"v":0,"d":"0.00"}},null,{"$f":"OFFSET(MD!$P$5,MATCH($AK$7,MD_JAHR,0),0)*12","v":{"$error":"#VALUE!"}},{"v":0,"d":"0.00"}]
[{"$nulls":14},{"$f":"IF($B257=\"\",\"\",IF(F257=\"Arbeitgeberähnliche Stellung\",OFFSET(MD!$Q$5,MATCH(Grundlagen_Abrechnung_KAE!$AK$7,MD_JAHR,0),0)*$H257,IF(((AD257/12*M257*12)+N257)>AF257,AF257/12,((AD257/12*M257*12)+N257)/12)))","v":""},null,null,{"v":0,"d":"0.00"},null,{"v":0,"d":"0.00%"},{"v":0,"d":"0.00"},{"v":0,"d":"0.00"},{"v":0,"d":"0.00"},null,"prüfen",{"$f":"IFERROR(OFFSET(MD!$U$5,MATCH(Grundlagen_Abrechnung_KAE!$E257,MD_GENDER,0),0),\"\")","v":""},{"v":0,"d":"0.00"},null,{"v":0,"d":"0.00"},{"$f":"IF(F257=\"Arbeitgeberähnliche Stellung\",OFFSET(MD!$Q$5,MATCH(Grundlagen_Abrechnung_KAE!$AK$7,MD_JAHR,0),0)*$H257,IF(J257>0,AC257,I257))","v":{"v":0,"d":"0.00"}},null,{"$f":"OFFSET(MD!$P$5,MATCH($AK$7,MD_JAHR,0),0)*12","v":{"$error":"#VALUE!"}},{"v":0,"d":"0.00"}]
[{"$nulls":14},{"$f":"IF($B258=\"\",\"\",IF(F258=\"Arbeitgeberähnliche Stellung\",OFFSET(MD!$Q$5,MATCH(Grundlagen_Abrechnung_KAE!$AK$7,MD_JAHR,0),0)*$H258,IF(((AD258/12*M258*12)+N258)>AF258,AF258/12,((AD258/12*M258*12)+N258)/12)))","v":""},null,null,{"v":0,"d":"0.00"},null,{"v":0,"d":"0.00%"},{"v":0,"d":"0.00"},{"v":0,"d":"0.00"},{"v":0,"d":"0.00"},null,"prüfen",{"$f":"IFERROR(OFFSET(MD!$U$5,MATCH(Grundlagen_Abrechnung_KAE!$E258,MD_GENDER,0),0),\"\")","v":""},{"v":0,"d":"0.00"},null,{"v":0,"d":"0.00"},{"$f":"IF(F258=\"Arbeitgeberähnliche Stellung\",OFFSET(MD!$Q$5,MATCH(Grundlagen_Abrechnung_KAE!$AK$7,MD_JAHR,0),0)*$H258,IF(J258>0,AC258,I258))","v":{"v":0,"d":"0.00"}},null,{"$f":"OFFSET(MD!$P$5,MATCH($AK$7,MD_JAHR,0),0)*12","v":{"$error":"#VALUE!"}},{"v":0,"d":"0.00"}]
[{"$nulls":14},{"$f":"IF($B259=\"\",\"\",IF(F259=\"Arbeitgeberähnliche Stellung\",OFFSET(MD!$Q$5,MATCH(Grundlagen_Abrechnung_KAE!$AK$7,MD_JAHR,0),0)*$H259,IF(((AD259/12*M259*12)+N259)>AF259,AF259/12,((AD259/12*M259*12)+N259)/12)))","v":""},null,null,{"v":0,"d":"0.00"},null,{"v":0,"d":"0.00%"},{"v":0,"d":"0.00"},{"v":0,"d":"0.00"},{"v":0,"d":"0.00"},null,"prüfen",{"$f":"IFERROR(OFFSET(MD!$U$5,MATCH(Grundlagen_Abrechnung_KAE!$E259,MD_GENDER,0),0),\"\")","v":""},{"v":0,"d":"0.00"},null,{"v":0,"d":"0.00"},{"$f":"IF(F259=\"Arbeitgeberähnliche Stellung\",OFFSET(MD!$Q$5,MATCH(Grundlagen_Abrechnung_KAE!$AK$7,MD_JAHR,0),0)*$H259,IF(J259>0,AC259,I259))","v":{"v":0,"d":"0.00"}},null,{"$f":"OFFSET(MD!$P$5,MATCH($AK$7,MD_JAHR,0),0)*12","v":{"$error":"#VALUE!"}},{"v":0,"d":"0.00"}]
[{"$nulls":14},{"$f":"IF($B260=\"\",\"\",IF(F260=\"Arbeitgeberähnliche Stellung\",OFFSET(MD!$Q$5,MATCH(Grundlagen_Abrechnung_KAE!$AK$7,MD_JAHR,0),0)*$H260,IF(((AD260/12*M260*12)+N260)>AF260,AF260/12,((AD260/12*M260*12)+N260)/12)))","v":""},null,null,{"v":0,"d":"0.00"},null,{"v":0,"d":"0.00%"},{"v":0,"d":"0.00"},{"v":0,"d":"0.00"},{"v":0,"d":"0.00"},null,"prüfen",{"$f":"IFERROR(OFFSET(MD!$U$5,MATCH(Grundlagen_Abrechnung_KAE!$E260,MD_GENDER,0),0),\"\")","v":""},{"v":0,"d":"0.00"},null,{"v":0,"d":"0.00"},{"$f":"IF(F260=\"Arbeitgeberähnliche Stellung\",OFFSET(MD!$Q$5,MATCH(Grundlagen_Abrechnung_KAE!$AK$7,MD_JAHR,0),0)*$H260,IF(J260>0,AC260,I260))","v":{"v":0,"d":"0.00"}},null,{"$f":"OFFSET(MD!$P$5,MATCH($AK$7,MD_JAHR,0),0)*12","v":{"$error":"#VALUE!"}},{"v":0,"d":"0.00"}]
[{"$nulls":14},{"$f":"IF($B261=\"\",\"\",IF(F261=\"Arbeitgeberähnliche Stellung\",OFFSET(MD!$Q$5,MATCH(Grundlagen_Abrechnung_KAE!$AK$7,MD_JAHR,0),0)*$H261,IF(((AD261/12*M261*12)+N261)>AF261,AF261/12,((AD261/12*M261*12)+N261)/12)))","v":""},null,null,{"v":0,"d":"0.00"},null,{"v":0,"d":"0.00%"},{"v":0,"d":"0.00"},{"v":0,"d":"0.00"},{"v":0,"d":"0.00"},null,"prüfen",{"$f":"IFERROR(OFFSET(MD!$U$5,MATCH(Grundlagen_Abrechnung_KAE!$E261,MD_GENDER,0),0),\"\")","v":""},{"v":0,"d":"0.00"},null,{"v":0,"d":"0.00"},{"$f":"IF(F261=\"Arbeitgeberähnliche Stellung\",OFFSET(MD!$Q$5,MATCH(Grundlagen_Abrechnung_KAE!$AK$7,MD_JAHR,0),0)*$H261,IF(J261>0,AC261,I261))","v":{"v":0,"d":"0.00"}},null,{"$f":"OFFSET(MD!$P$5,MATCH($AK$7,MD_JAHR,0),0)*12","v":{"$error":"#VALUE!"}},{"v":0,"d":"0.00"}]
[{"$nulls":14},{"$f":"IF($B262=\"\",\"\",IF(F262=\"Arbeitgeberähnliche Stellung\",OFFSET(MD!$Q$5,MATCH(Grundlagen_Abrechnung_KAE!$AK$7,MD_JAHR,0),0)*$H262,IF(((AD262/12*M262*12)+N262)>AF262,AF262/12,((AD262/12*M262*12)+N262)/12)))","v":""},null,null,{"v":0,"d":"0.00"},null,{"v":0,"d":"0.00%"},{"v":0,"d":"0.00"},{"v":0,"d":"0.00"},{"v":0,"d":"0.00"},null,"prüfen",{"$f":"IFERROR(OFFSET(MD!$U$5,MATCH(Grundlagen_Abrechnung_KAE!$E262,MD_GENDER,0),0),\"\")","v":""},{"v":0,"d":"0.00"},null,{"v":0,"d":"0.00"},{"$f":"IF(F262=\"Arbeitgeberähnliche Stellung\",OFFSET(MD!$Q$5,MATCH(Grundlagen_Abrechnung_KAE!$AK$7,MD_JAHR,0),0)*$H262,IF(J262>0,AC262,I262))","v":{"v":0,"d":"0.00"}},null,{"$f":"OFFSET(MD!$P$5,MATCH($AK$7,MD_JAHR,0),0)*12","v":{"$error":"#VALUE!"}},{"v":0,"d":"0.00"}]
[{"$nulls":14},{"$f":"IF($B263=\"\",\"\",IF(F263=\"Arbeitgeberähnliche Stellung\",OFFSET(MD!$Q$5,MATCH(Grundlagen_Abrechnung_KAE!$AK$7,MD_JAHR,0),0)*$H263,IF(((AD263/12*M263*12)+N263)>AF263,AF263/12,((AD263/12*M263*12)+N263)/12)))","v":""},null,null,{"v":0,"d":"0.00"},null,{"v":0,"d":"0.00%"},{"v":0,"d":"0.00"},{"v":0,"d":"0.00"},{"v":0,"d":"0.00"},null,"prüfen",{"$f":"IFERROR(OFFSET(MD!$U$5,MATCH(Grundlagen_Abrechnung_KAE!$E263,MD_GENDER,0),0),\"\")","v":""},{"v":0,"d":"0.00"},null,{"v":0,"d":"0.00"},{"$f":"IF(F263=\"Arbeitgeberähnliche Stellung\",OFFSET(MD!$Q$5,MATCH(Grundlagen_Abrechnung_KAE!$AK$7,MD_JAHR,0),0)*$H263,IF(J263>0,AC263,I263))","v":{"v":0,"d":"0.00"}},null,{"$f":"OFFSET(MD!$P$5,MATCH($AK$7,MD_JAHR,0),0)*12","v":{"$error":"#VALUE!"}},{"v":0,"d":"0.00"}]
[{"$nulls":14},{"$f":"IF($B264=\"\",\"\",IF(F264=\"Arbeitgeberähnliche Stellung\",OFFSET(MD!$Q$5,MATCH(Grundlagen_Abrechnung_KAE!$AK$7,MD_JAHR,0),0)*$H264,IF(((AD264/12*M264*12)+N264)>AF264,AF264/12,((AD264/12*M264*12)+N264)/12)))","v":""},null,null,{"v":0,"d":"0.00"},null,{"v":0,"d":"0.00%"},{"v":0,"d":"0.00"},{"v":0,"d":"0.00"},{"v":0,"d":"0.00"},null,"prüfen",{"$f":"IFERROR(OFFSET(MD!$U$5,MATCH(Grundlagen_Abrechnung_KAE!$E264,MD_GENDER,0),0),\"\")","v":""},{"v":0,"d":"0.00"},null,{"v":0,"d":"0.00"},{"$f":"IF(F264=\"Arbeitgeberähnliche Stellung\",OFFSET(MD!$Q$5,MATCH(Grundlagen_Abrechnung_KAE!$AK$7,MD_JAHR,0),0)*$H264,IF(J264>0,AC264,I264))","v":{"v":0,"d":"0.00"}},null,{"$f":"OFFSET(MD!$P$5,MATCH($AK$7,MD_JAHR,0),0)*12","v":{"$error":"#VALUE!"}},{"v":0,"d":"0.00"}]
[{"$nulls":14},{"$f":"IF($B265=\"\",\"\",IF(F265=\"Arbeitgeberähnliche Stellung\",OFFSET(MD!$Q$5,MATCH(Grundlagen_Abrechnung_KAE!$AK$7,MD_JAHR,0),0)*$H265,IF(((AD265/12*M265*12)+N265)>AF265,AF265/12,((AD265/12*M265*12)+N265)/12)))","v":""},null,null,{"v":0,"d":"0.00"},null,{"v":0,"d":"0.00%"},{"v":0,"d":"0.00"},{"v":0,"d":"0.00"},{"v":0,"d":"0.00"},null,"prüfen",{"$f":"IFERROR(OFFSET(MD!$U$5,MATCH(Grundlagen_Abrechnung_KAE!$E265,MD_GENDER,0),0),\"\")","v":""},{"v":0,"d":"0.00"},null,{"v":0,"d":"0.00"},{"$f":"IF(F265=\"Arbeitgeberähnliche Stellung\",OFFSET(MD!$Q$5,MATCH(Grundlagen_Abrechnung_KAE!$AK$7,MD_JAHR,0),0)*$H265,IF(J265>0,AC265,I265))","v":{"v":0,"d":"0.00"}},null,{"$f":"OFFSET(MD!$P$5,MATCH($AK$7,MD_JAHR,0),0)*12","v":{"$error":"#VALUE!"}},{"v":0,"d":"0.00"}]
[{"$nulls":14},{"$f":"IF($B266=\"\",\"\",IF(F266=\"Arbeitgeberähnliche Stellung\",OFFSET(MD!$Q$5,MATCH(Grundlagen_Abrechnung_KAE!$AK$7,MD_JAHR,0),0)*$H266,IF(((AD266/12*M266*12)+N266)>AF266,AF266/12,((AD266/12*M266*12)+N266)/12)))","v":""},null,null,{"v":0,"d":"0.00"},null,{"v":0,"d":"0.00%"},{"v":0,"d":"0.00"},{"v":0,"d":"0.00"},{"v":0,"d":"0.00"},null,"prüfen",{"$f":"IFERROR(OFFSET(MD!$U$5,MATCH(Grundlagen_Abrechnung_KAE!$E266,MD_GENDER,0),0),\"\")","v":""},{"v":0,"d":"0.00"},null,{"v":0,"d":"0.00"},{"$f":"IF(F266=\"Arbeitgeberähnliche Stellung\",OFFSET(MD!$Q$5,MATCH(Grundlagen_Abrechnung_KAE!$AK$7,MD_JAHR,0),0)*$H266,IF(J266>0,AC266,I266))","v":{"v":0,"d":"0.00"}},null,{"$f":"OFFSET(MD!$P$5,MATCH($AK$7,MD_JAHR,0),0)*12","v":{"$error":"#VALUE!"}},{"v":0,"d":"0.00"}]
[{"$nulls":14},{"$f":"IF($B267=\"\",\"\",IF(F267=\"Arbeitgeberähnliche Stellung\",OFFSET(MD!$Q$5,MATCH(Grundlagen_Abrechnung_KAE!$AK$7,MD_JAHR,0),0)*$H267,IF(((AD267/12*M267*12)+N267)>AF267,AF267/12,((AD267/12*M267*12)+N267)/12)))","v":""},null,null,{"v":0,"d":"0.00"},null,{"v":0,"d":"0.00%"},{"v":0,"d":"0.00"},{"v":0,"d":"0.00"},{"v":0,"d":"0.00"},null,"prüfen",{"$f":"IFERROR(OFFSET(MD!$U$5,MATCH(Grundlagen_Abrechnung_KAE!$E267,MD_GENDER,0),0),\"\")","v":""},{"v":0,"d":"0.00"},null,{"v":0,"d":"0.00"},{"$f":"IF(F267=\"Arbeitgeberähnliche Stellung\",OFFSET(MD!$Q$5,MATCH(Grundlagen_Abrechnung_KAE!$AK$7,MD_JAHR,0),0)*$H267,IF(J267>0,AC267,I267))","v":{"v":0,"d":"0.00"}},null,{"$f":"OFFSET(MD!$P$5,MATCH($AK$7,MD_JAHR,0),0)*12","v":{"$error":"#VALUE!"}},{"v":0,"d":"0.00"}]
[{"$nulls":14},{"$f":"IF($B268=\"\",\"\",IF(F268=\"Arbeitgeberähnliche Stellung\",OFFSET(MD!$Q$5,MATCH(Grundlagen_Abrechnung_KAE!$AK$7,MD_JAHR,0),0)*$H268,IF(((AD268/12*M268*12)+N268)>AF268,AF268/12,((AD268/12*M268*12)+N268)/12)))","v":""},null,null,{"v":0,"d":"0.00"},null,{"v":0,"d":"0.00%"},{"v":0,"d":"0.00"},{"v":0,"d":"0.00"},{"v":0,"d":"0.00"},null,"prüfen",{"$f":"IFERROR(OFFSET(MD!$U$5,MATCH(Grundlagen_Abrechnung_KAE!$E268,MD_GENDER,0),0),\"\")","v":""},{"v":0,"d":"0.00"},null,{"v":0,"d":"0.00"},{"$f":"IF(F268=\"Arbeitgeberähnliche Stellung\",OFFSET(MD!$Q$5,MATCH(Grundlagen_Abrechnung_KAE!$AK$7,MD_JAHR,0),0)*$H268,IF(J268>0,AC268,I268))","v":{"v":0,"d":"0.00"}},null,{"$f":"OFFSET(MD!$P$5,MATCH($AK$7,MD_JAHR,0),0)*12","v":{"$error":"#VALUE!"}},{"v":0,"d":"0.00"}]
[{"$nulls":14},{"$f":"IF($B269=\"\",\"\",IF(F269=\"Arbeitgeberähnliche Stellung\",OFFSET(MD!$Q$5,MATCH(Grundlagen_Abrechnung_KAE!$AK$7,MD_JAHR,0),0)*$H269,IF(((AD269/12*M269*12)+N269)>AF269,AF269/12,((AD269/12*M269*12)+N269)/12)))","v":""},null,null,{"v":0,"d":"0.00"},null,{"v":0,"d":"0.00%"},{"v":0,"d":"0.00"},{"v":0,"d":"0.00"},{"v":0,"d":"0.00"},null,"prüfen",{"$f":"IFERROR(OFFSET(MD!$U$5,MATCH(Grundlagen_Abrechnung_KAE!$E269,MD_GENDER,0),0),\"\")","v":""},{"v":0,"d":"0.00"},null,{"v":0,"d":"0.00"},{"$f":"IF(F269=\"Arbeitgeberähnliche Stellung\",OFFSET(MD!$Q$5,MATCH(Grundlagen_Abrechnung_KAE!$AK$7,MD_JAHR,0),0)*$H269,IF(J269>0,AC269,I269))","v":{"v":0,"d":"0.00"}},null,{"$f":"OFFSET(MD!$P$5,MATCH($AK$7,MD_JAHR,0),0)*12","v":{"$error":"#VALUE!"}},{"v":0,"d":"0.00"}]
[{"$nulls":14},{"$f":"IF($B270=\"\",\"\",IF(F270=\"Arbeitgeberähnliche Stellung\",OFFSET(MD!$Q$5,MATCH(Grundlagen_Abrechnung_KAE!$AK$7,MD_JAHR,0),0)*$H270,IF(((AD270/12*M270*12)+N270)>AF270,AF270/12,((AD270/12*M270*12)+N270)/12)))","v":""},null,null,{"v":0,"d":"0.00"},null,{"v":0,"d":"0.00%"},{"v":0,"d":"0.00"},{"v":0,"d":"0.00"},{"v":0,"d":"0.00"},null,"prüfen",{"$f":"IFERROR(OFFSET(MD!$U$5,MATCH(Grundlagen_Abrechnung_KAE!$E270,MD_GENDER,0),0),\"\")","v":""},{"v":0,"d":"0.00"},null,{"v":0,"d":"0.00"},{"$f":"IF(F270=\"Arbeitgeberähnliche Stellung\",OFFSET(MD!$Q$5,MATCH(Grundlagen_Abrechnung_KAE!$AK$7,MD_JAHR,0),0)*$H270,IF(J270>0,AC270,I270))","v":{"v":0,"d":"0.00"}},null,{"$f":"OFFSET(MD!$P$5,MATCH($AK$7,MD_JAHR,0),0)*12","v":{"$error":"#VALUE!"}},{"v":0,"d":"0.00"}]
[{"$nulls":14},{"$f":"IF($B271=\"\",\"\",IF(F271=\"Arbeitgeberähnliche Stellung\",OFFSET(MD!$Q$5,MATCH(Grundlagen_Abrechnung_KAE!$AK$7,MD_JAHR,0),0)*$H271,IF(((AD271/12*M271*12)+N271)>AF271,AF271/12,((AD271/12*M271*12)+N271)/12)))","v":""},null,null,{"v":0,"d":"0.00"},null,{"v":0,"d":"0.00%"},{"v":0,"d":"0.00"},{"v":0,"d":"0.00"},{"v":0,"d":"0.00"},null,"prüfen",{"$f":"IFERROR(OFFSET(MD!$U$5,MATCH(Grundlagen_Abrechnung_KAE!$E271,MD_GENDER,0),0),\"\")","v":""},{"v":0,"d":"0.00"},null,{"v":0,"d":"0.00"},{"$f":"IF(F271=\"Arbeitgeberähnliche Stellung\",OFFSET(MD!$Q$5,MATCH(Grundlagen_Abrechnung_KAE!$AK$7,MD_JAHR,0),0)*$H271,IF(J271>0,AC271,I271))","v":{"v":0,"d":"0.00"}},null,{"$f":"OFFSET(MD!$P$5,MATCH($AK$7,MD_JAHR,0),0)*12","v":{"$error":"#VALUE!"}},{"v":0,"d":"0.00"}]
[{"$nulls":14},{"$f":"IF($B272=\"\",\"\",IF(F272=\"Arbeitgeberähnliche Stellung\",OFFSET(MD!$Q$5,MATCH(Grundlagen_Abrechnung_KAE!$AK$7,MD_JAHR,0),0)*$H272,IF(((AD272/12*M272*12)+N272)>AF272,AF272/12,((AD272/12*M272*12)+N272)/12)))","v":""},null,null,{"v":0,"d":"0.00"},null,{"v":0,"d":"0.00%"},{"v":0,"d":"0.00"},{"v":0,"d":"0.00"},{"v":0,"d":"0.00"},null,"prüfen",{"$f":"IFERROR(OFFSET(MD!$U$5,MATCH(Grundlagen_Abrechnung_KAE!$E272,MD_GENDER,0),0),\"\")","v":""},{"v":0,"d":"0.00"},null,{"v":0,"d":"0.00"},{"$f":"IF(F272=\"Arbeitgeberähnliche Stellung\",OFFSET(MD!$Q$5,MATCH(Grundlagen_Abrechnung_KAE!$AK$7,MD_JAHR,0),0)*$H272,IF(J272>0,AC272,I272))","v":{"v":0,"d":"0.00"}},null,{"$f":"OFFSET(MD!$P$5,MATCH($AK$7,MD_JAHR,0),0)*12","v":{"$error":"#VALUE!"}},{"v":0,"d":"0.00"}]
[{"$nulls":14},{"$f":"IF($B273=\"\",\"\",IF(F273=\"Arbeitgeberähnliche Stellung\",OFFSET(MD!$Q$5,MATCH(Grundlagen_Abrechnung_KAE!$AK$7,MD_JAHR,0),0)*$H273,IF(((AD273/12*M273*12)+N273)>AF273,AF273/12,((AD273/12*M273*12)+N273)/12)))","v":""},null,null,{"v":0,"d":"0.00"},null,{"v":0,"d":"0.00%"},{"v":0,"d":"0.00"},{"v":0,"d":"0.00"},{"v":0,"d":"0.00"},null,"prüfen",{"$f":"IFERROR(OFFSET(MD!$U$5,MATCH(Grundlagen_Abrechnung_KAE!$E273,MD_GENDER,0),0),\"\")","v":""},{"v":0,"d":"0.00"},null,{"v":0,"d":"0.00"},{"$f":"IF(F273=\"Arbeitgeberähnliche Stellung\",OFFSET(MD!$Q$5,MATCH(Grundlagen_Abrechnung_KAE!$AK$7,MD_JAHR,0),0)*$H273,IF(J273>0,AC273,I273))","v":{"v":0,"d":"0.00"}},null,{"$f":"OFFSET(MD!$P$5,MATCH($AK$7,MD_JAHR,0),0)*12","v":{"$error":"#VALUE!"}},{"v":0,"d":"0.00"}]
[{"$nulls":14},{"$f":"IF($B274=\"\",\"\",IF(F274=\"Arbeitgeberähnliche Stellung\",OFFSET(MD!$Q$5,MATCH(Grundlagen_Abrechnung_KAE!$AK$7,MD_JAHR,0),0)*$H274,IF(((AD274/12*M274*12)+N274)>AF274,AF274/12,((AD274/12*M274*12)+N274)/12)))","v":""},null,null,{"v":0,"d":"0.00"},null,{"v":0,"d":"0.00%"},{"v":0,"d":"0.00"},{"v":0,"d":"0.00"},{"v":0,"d":"0.00"},null,"prüfen",{"$f":"IFERROR(OFFSET(MD!$U$5,MATCH(Grundlagen_Abrechnung_KAE!$E274,MD_GENDER,0),0),\"\")","v":""},{"v":0,"d":"0.00"},null,{"v":0,"d":"0.00"},{"$f":"IF(F274=\"Arbeitgeberähnliche Stellung\",OFFSET(MD!$Q$5,MATCH(Grundlagen_Abrechnung_KAE!$AK$7,MD_JAHR,0),0)*$H274,IF(J274>0,AC274,I274))","v":{"v":0,"d":"0.00"}},null,{"$f":"OFFSET(MD!$P$5,MATCH($AK$7,MD_JAHR,0),0)*12","v":{"$error":"#VALUE!"}},{"v":0,"d":"0.00"}]
[{"$nulls":14},{"$f":"IF($B275=\"\",\"\",IF(F275=\"Arbeitgeberähnliche Stellung\",OFFSET(MD!$Q$5,MATCH(Grundlagen_Abrechnung_KAE!$AK$7,MD_JAHR,0),0)*$H275,IF(((AD275/12*M275*12)+N275)>AF275,AF275/12,((AD275/12*M275*12)+N275)/12)))","v":""},null,null,{"$f":"ROUND(IF(Q275=\"\",0,IF(P275=0,0,IF(Q275>P275,0,P275-Q275))),2)","v":{"v":0,"d":"0.00"}},null,{"$f":"IFERROR(R275/P275,0)","v":{"v":0,"d":"0.00%"}},{"$f":"IFERROR(IF(O275-W275=0,O275,(O275)*(1-T275)),0)","v":{"v":0,"d":"0.00"}},{"v":0,"d":"0.00"},{"$f":"IFERROR(O275*T275,0)*0.8","v":{"v":0,"d":"0.00"}},null,{"$f":"IF(YEAR($G275)>$Y$16,\"prüfen\",\"\")","v":"prüfen"},{"$f":"IFERROR(OFFSET(MD!$U$5,MATCH(Grundlagen_Abrechnung_KAE!$E275,MD_GENDER,0),0),\"\")","v":""},{"$f":"IF(B275=\"\",0,IF(YEAR(G275)>$AA$16,0,1))","v":{"v":0,"d":"0.00"}},null,{"$f":"IF(J275*K275/6>J275*L275/12,J275*K275/6,J275*L275/12)","v":{"v":0,"d":"0.00"}},{"$f":"IF(F275=\"Arbeitgeberähnliche Stellung\",OFFSET(MD!$Q$5,MATCH(Grundlagen_Abrechnung_KAE!$AK$7,MD_JAHR,0),0)*$H275,IF(J275>0,AC275,I275))","v":{"v":0,"d":"0.00"}},null,{"$f":"OFFSET(MD!$P$5,MATCH($AK$7,MD_JAHR,0),0)*12","v":{"$error":"#VALUE!"}},{"$f":"I275*M275+N275","v":{"v":0,"d":"0.00"}}]
[{"$nulls":14},{"$f":"IF($B276=\"\",\"\",IF(F276=\"Arbeitgeberähnliche Stellung\",OFFSET(MD!$Q$5,MATCH(Grundlagen_Abrechnung_KAE!$AK$7,MD_JAHR,0),0)*$H276,IF(((AD276/12*M276*12)+N276)>AF276,AF276/12,((AD276/12*M276*12)+N276)/12)))","v":""},null,null,{"v":0,"d":"0.00"},null,{"v":0,"d":"0.00%"},{"v":0,"d":"0.00"},{"$f":"IFERROR(O276*T276,0)","v":{"v":0,"d":"0.00"}},{"v":0,"d":"0.00"},null,"prüfen",{"$f":"IFERROR(OFFSET(MD!$U$5,MATCH(Grundlagen_Abrechnung_KAE!$E276,MD_GENDER,0),0),\"\")","v":""},{"v":0,"d":"0.00"},null,{"v":0,"d":"0.00"},{"$f":"IF(F276=\"Arbeitgeberähnliche Stellung\",OFFSET(MD!$Q$5,MATCH(Grundlagen_Abrechnung_KAE!$AK$7,MD_JAHR,0),0)*$H276,IF(J276>0,AC276,I276))","v":{"v":0,"d":"0.00"}},null,{"$f":"OFFSET(MD!$P$5,MATCH($AK$7,MD_JAHR,0),0)*12","v":{"$error":"#VALUE!"}},{"v":0,"d":"0.00"}]
[{"$nulls":14},{"$f":"IF($B277=\"\",\"\",IF(F277=\"Arbeitgeberähnliche Stellung\",OFFSET(MD!$Q$5,MATCH(Grundlagen_Abrechnung_KAE!$AK$7,MD_JAHR,0),0)*$H277,IF(((AD277/12*M277*12)+N277)>AF277,AF277/12,((AD277/12*M277*12)+N277)/12)))","v":""},null,null,{"v":0,"d":"0.00"},null,{"v":0,"d":"0.00%"},{"v":0,"d":"0.00"},{"v":0,"d":"0.00"},{"v":0,"d":"0.00"},null,"prüfen",{"$f":"IFERROR(OFFSET(MD!$U$5,MATCH(Grundlagen_Abrechnung_KAE!$E277,MD_GENDER,0),0),\"\")","v":""},{"v":0,"d":"0.00"},null,{"v":0,"d":"0.00"},{"$f":"IF(F277=\"Arbeitgeberähnliche Stellung\",OFFSET(MD!$Q$5,MATCH(Grundlagen_Abrechnung_KAE!$AK$7,MD_JAHR,0),0)*$H277,IF(J277>0,AC277,I277))","v":{"v":0,"d":"0.00"}},null,{"$f":"OFFSET(MD!$P$5,MATCH($AK$7,MD_JAHR,0),0)*12","v":{"$error":"#VALUE!"}},{"v":0,"d":"0.00"}]
[{"$nulls":14},{"$f":"IF($B278=\"\",\"\",IF(F278=\"Arbeitgeberähnliche Stellung\",OFFSET(MD!$Q$5,MATCH(Grundlagen_Abrechnung_KAE!$AK$7,MD_JAHR,0),0)*$H278,IF(((AD278/12*M278*12)+N278)>AF278,AF278/12,((AD278/12*M278*12)+N278)/12)))","v":""},null,null,{"v":0,"d":"0.00"},null,{"v":0,"d":"0.00%"},{"v":0,"d":"0.00"},{"v":0,"d":"0.00"},{"v":0,"d":"0.00"},null,"prüfen",{"$f":"IFERROR(OFFSET(MD!$U$5,MATCH(Grundlagen_Abrechnung_KAE!$E278,MD_GENDER,0),0),\"\")","v":""},{"v":0,"d":"0.00"},null,{"v":0,"d":"0.00"},{"$f":"IF(F278=\"Arbeitgeberähnliche Stellung\",OFFSET(MD!$Q$5,MATCH(Grundlagen_Abrechnung_KAE!$AK$7,MD_JAHR,0),0)*$H278,IF(J278>0,AC278,I278))","v":{"v":0,"d":"0.00"}},null,{"$f":"OFFSET(MD!$P$5,MATCH($AK$7,MD_JAHR,0),0)*12","v":{"$error":"#VALUE!"}},{"v":0,"d":"0.00"}]
[{"$nulls":14},{"$f":"IF($B279=\"\",\"\",IF(F279=\"Arbeitgeberähnliche Stellung\",OFFSET(MD!$Q$5,MATCH(Grundlagen_Abrechnung_KAE!$AK$7,MD_JAHR,0),0)*$H279,IF(((AD279/12*M279*12)+N279)>AF279,AF279/12,((AD279/12*M279*12)+N279)/12)))","v":""},null,null,{"v":0,"d":"0.00"},null,{"v":0,"d":"0.00%"},{"v":0,"d":"0.00"},{"v":0,"d":"0.00"},{"v":0,"d":"0.00"},null,"prüfen",{"$f":"IFERROR(OFFSET(MD!$U$5,MATCH(Grundlagen_Abrechnung_KAE!$E279,MD_GENDER,0),0),\"\")","v":""},{"v":0,"d":"0.00"},null,{"v":0,"d":"0.00"},{"$f":"IF(F279=\"Arbeitgeberähnliche Stellung\",OFFSET(MD!$Q$5,MATCH(Grundlagen_Abrechnung_KAE!$AK$7,MD_JAHR,0),0)*$H279,IF(J279>0,AC279,I279))","v":{"v":0,"d":"0.00"}},null,{"$f":"OFFSET(MD!$P$5,MATCH($AK$7,MD_JAHR,0),0)*12","v":{"$error":"#VALUE!"}},{"v":0,"d":"0.00"}]
[{"$nulls":14},{"$f":"IF($B280=\"\",\"\",IF(F280=\"Arbeitgeberähnliche Stellung\",OFFSET(MD!$Q$5,MATCH(Grundlagen_Abrechnung_KAE!$AK$7,MD_JAHR,0),0)*$H280,IF(((AD280/12*M280*12)+N280)>AF280,AF280/12,((AD280/12*M280*12)+N280)/12)))","v":""},null,null,{"v":0,"d":"0.00"},null,{"v":0,"d":"0.00%"},{"v":0,"d":"0.00"},{"v":0,"d":"0.00"},{"v":0,"d":"0.00"},null,"prüfen",{"$f":"IFERROR(OFFSET(MD!$U$5,MATCH(Grundlagen_Abrechnung_KAE!$E280,MD_GENDER,0),0),\"\")","v":""},{"v":0,"d":"0.00"},null,{"v":0,"d":"0.00"},{"$f":"IF(F280=\"Arbeitgeberähnliche Stellung\",OFFSET(MD!$Q$5,MATCH(Grundlagen_Abrechnung_KAE!$AK$7,MD_JAHR,0),0)*$H280,IF(J280>0,AC280,I280))","v":{"v":0,"d":"0.00"}},null,{"$f":"OFFSET(MD!$P$5,MATCH($AK$7,MD_JAHR,0),0)*12","v":{"$error":"#VALUE!"}},{"v":0,"d":"0.00"}]
[{"$nulls":14},{"$f":"IF($B281=\"\",\"\",IF(F281=\"Arbeitgeberähnliche Stellung\",OFFSET(MD!$Q$5,MATCH(Grundlagen_Abrechnung_KAE!$AK$7,MD_JAHR,0),0)*$H281,IF(((AD281/12*M281*12)+N281)>AF281,AF281/12,((AD281/12*M281*12)+N281)/12)))","v":""},null,null,{"v":0,"d":"0.00"},null,{"v":0,"d":"0.00%"},{"v":0,"d":"0.00"},{"v":0,"d":"0.00"},{"v":0,"d":"0.00"},null,"prüfen",{"$f":"IFERROR(OFFSET(MD!$U$5,MATCH(Grundlagen_Abrechnung_KAE!$E281,MD_GENDER,0),0),\"\")","v":""},{"v":0,"d":"0.00"},null,{"v":0,"d":"0.00"},{"$f":"IF(F281=\"Arbeitgeberähnliche Stellung\",OFFSET(MD!$Q$5,MATCH(Grundlagen_Abrechnung_KAE!$AK$7,MD_JAHR,0),0)*$H281,IF(J281>0,AC281,I281))","v":{"v":0,"d":"0.00"}},null,{"$f":"OFFSET(MD!$P$5,MATCH($AK$7,MD_JAHR,0),0)*12","v":{"$error":"#VALUE!"}},{"v":0,"d":"0.00"}]
[{"$nulls":14},{"$f":"IF($B282=\"\",\"\",IF(F282=\"Arbeitgeberähnliche Stellung\",OFFSET(MD!$Q$5,MATCH(Grundlagen_Abrechnung_KAE!$AK$7,MD_JAHR,0),0)*$H282,IF(((AD282/12*M282*12)+N282)>AF282,AF282/12,((AD282/12*M282*12)+N282)/12)))","v":""},null,null,{"v":0,"d":"0.00"},null,{"v":0,"d":"0.00%"},{"v":0,"d":"0.00"},{"v":0,"d":"0.00"},{"v":0,"d":"0.00"},null,"prüfen",{"$f":"IFERROR(OFFSET(MD!$U$5,MATCH(Grundlagen_Abrechnung_KAE!$E282,MD_GENDER,0),0),\"\")","v":""},{"v":0,"d":"0.00"},null,{"v":0,"d":"0.00"},{"$f":"IF(F282=\"Arbeitgeberähnliche Stellung\",OFFSET(MD!$Q$5,MATCH(Grundlagen_Abrechnung_KAE!$AK$7,MD_JAHR,0),0)*$H282,IF(J282>0,AC282,I282))","v":{"v":0,"d":"0.00"}},null,{"$f":"OFFSET(MD!$P$5,MATCH($AK$7,MD_JAHR,0),0)*12","v":{"$error":"#VALUE!"}},{"v":0,"d":"0.00"}]
[{"$nulls":14},{"$f":"IF($B283=\"\",\"\",IF(F283=\"Arbeitgeberähnliche Stellung\",OFFSET(MD!$Q$5,MATCH(Grundlagen_Abrechnung_KAE!$AK$7,MD_JAHR,0),0)*$H283,IF(((AD283/12*M283*12)+N283)>AF283,AF283/12,((AD283/12*M283*12)+N283)/12)))","v":""},null,null,{"v":0,"d":"0.00"},null,{"v":0,"d":"0.00%"},{"v":0,"d":"0.00"},{"v":0,"d":"0.00"},{"v":0,"d":"0.00"},null,"prüfen",{"$f":"IFERROR(OFFSET(MD!$U$5,MATCH(Grundlagen_Abrechnung_KAE!$E283,MD_GENDER,0),0),\"\")","v":""},{"v":0,"d":"0.00"},null,{"v":0,"d":"0.00"},{"$f":"IF(F283=\"Arbeitgeberähnliche Stellung\",OFFSET(MD!$Q$5,MATCH(Grundlagen_Abrechnung_KAE!$AK$7,MD_JAHR,0),0)*$H283,IF(J283>0,AC283,I283))","v":{"v":0,"d":"0.00"}},null,{"$f":"OFFSET(MD!$P$5,MATCH($AK$7,MD_JAHR,0),0)*12","v":{"$error":"#VALUE!"}},{"v":0,"d":"0.00"}]
[{"$nulls":14},{"$f":"IF($B284=\"\",\"\",IF(F284=\"Arbeitgeberähnliche Stellung\",OFFSET(MD!$Q$5,MATCH(Grundlagen_Abrechnung_KAE!$AK$7,MD_JAHR,0),0)*$H284,IF(((AD284/12*M284*12)+N284)>AF284,AF284/12,((AD284/12*M284*12)+N284)/12)))","v":""},null,null,{"v":0,"d":"0.00"},null,{"v":0,"d":"0.00%"},{"v":0,"d":"0.00"},{"v":0,"d":"0.00"},{"v":0,"d":"0.00"},null,"prüfen",{"$f":"IFERROR(OFFSET(MD!$U$5,MATCH(Grundlagen_Abrechnung_KAE!$E284,MD_GENDER,0),0),\"\")","v":""},{"v":0,"d":"0.00"},null,{"v":0,"d":"0.00"},{"$f":"IF(F284=\"Arbeitgeberähnliche Stellung\",OFFSET(MD!$Q$5,MATCH(Grundlagen_Abrechnung_KAE!$AK$7,MD_JAHR,0),0)*$H284,IF(J284>0,AC284,I284))","v":{"v":0,"d":"0.00"}},null,{"$f":"OFFSET(MD!$P$5,MATCH($AK$7,MD_JAHR,0),0)*12","v":{"$error":"#VALUE!"}},{"v":0,"d":"0.00"}]
[{"$nulls":14},{"$f":"IF($B285=\"\",\"\",IF(F285=\"Arbeitgeberähnliche Stellung\",OFFSET(MD!$Q$5,MATCH(Grundlagen_Abrechnung_KAE!$AK$7,MD_JAHR,0),0)*$H285,IF(((AD285/12*M285*12)+N285)>AF285,AF285/12,((AD285/12*M285*12)+N285)/12)))","v":""},null,null,{"v":0,"d":"0.00"},null,{"v":0,"d":"0.00%"},{"v":0,"d":"0.00"},{"v":0,"d":"0.00"},{"v":0,"d":"0.00"},null,"prüfen",{"$f":"IFERROR(OFFSET(MD!$U$5,MATCH(Grundlagen_Abrechnung_KAE!$E285,MD_GENDER,0),0),\"\")","v":""},{"v":0,"d":"0.00"},null,{"v":0,"d":"0.00"},{"$f":"IF(F285=\"Arbeitgeberähnliche Stellung\",OFFSET(MD!$Q$5,MATCH(Grundlagen_Abrechnung_KAE!$AK$7,MD_JAHR,0),0)*$H285,IF(J285>0,AC285,I285))","v":{"v":0,"d":"0.00"}},null,{"$f":"OFFSET(MD!$P$5,MATCH($AK$7,MD_JAHR,0),0)*12","v":{"$error":"#VALUE!"}},{"v":0,"d":"0.00"}]
[{"$nulls":14},{"$f":"IF($B286=\"\",\"\",IF(F286=\"Arbeitgeberähnliche Stellung\",OFFSET(MD!$Q$5,MATCH(Grundlagen_Abrechnung_KAE!$AK$7,MD_JAHR,0),0)*$H286,IF(((AD286/12*M286*12)+N286)>AF286,AF286/12,((AD286/12*M286*12)+N286)/12)))","v":""},null,null,{"v":0,"d":"0.00"},null,{"v":0,"d":"0.00%"},{"v":0,"d":"0.00"},{"v":0,"d":"0.00"},{"v":0,"d":"0.00"},null,"prüfen",{"$f":"IFERROR(OFFSET(MD!$U$5,MATCH(Grundlagen_Abrechnung_KAE!$E286,MD_GENDER,0),0),\"\")","v":""},{"v":0,"d":"0.00"},null,{"v":0,"d":"0.00"},{"$f":"IF(F286=\"Arbeitgeberähnliche Stellung\",OFFSET(MD!$Q$5,MATCH(Grundlagen_Abrechnung_KAE!$AK$7,MD_JAHR,0),0)*$H286,IF(J286>0,AC286,I286))","v":{"v":0,"d":"0.00"}},null,{"$f":"OFFSET(MD!$P$5,MATCH($AK$7,MD_JAHR,0),0)*12","v":{"$error":"#VALUE!"}},{"v":0,"d":"0.00"}]
[{"$nulls":14},{"$f":"IF($B287=\"\",\"\",IF(F287=\"Arbeitgeberähnliche Stellung\",OFFSET(MD!$Q$5,MATCH(Grundlagen_Abrechnung_KAE!$AK$7,MD_JAHR,0),0)*$H287,IF(((AD287/12*M287*12)+N287)>AF287,AF287/12,((AD287/12*M287*12)+N287)/12)))","v":""},null,null,{"v":0,"d":"0.00"},null,{"v":0,"d":"0.00%"},{"v":0,"d":"0.00"},{"v":0,"d":"0.00"},{"v":0,"d":"0.00"},null,"prüfen",{"$f":"IFERROR(OFFSET(MD!$U$5,MATCH(Grundlagen_Abrechnung_KAE!$E287,MD_GENDER,0),0),\"\")","v":""},{"v":0,"d":"0.00"},null,{"v":0,"d":"0.00"},{"$f":"IF(F287=\"Arbeitgeberähnliche Stellung\",OFFSET(MD!$Q$5,MATCH(Grundlagen_Abrechnung_KAE!$AK$7,MD_JAHR,0),0)*$H287,IF(J287>0,AC287,I287))","v":{"v":0,"d":"0.00"}},null,{"$f":"OFFSET(MD!$P$5,MATCH($AK$7,MD_JAHR,0),0)*12","v":{"$error":"#VALUE!"}},{"v":0,"d":"0.00"}]
[{"$nulls":14},{"$f":"IF($B288=\"\",\"\",IF(F288=\"Arbeitgeberähnliche Stellung\",OFFSET(MD!$Q$5,MATCH(Grundlagen_Abrechnung_KAE!$AK$7,MD_JAHR,0),0)*$H288,IF(((AD288/12*M288*12)+N288)>AF288,AF288/12,((AD288/12*M288*12)+N288)/12)))","v":""},null,null,{"v":0,"d":"0.00"},null,{"v":0,"d":"0.00%"},{"v":0,"d":"0.00"},{"v":0,"d":"0.00"},{"v":0,"d":"0.00"},null,"prüfen",{"$f":"IFERROR(OFFSET(MD!$U$5,MATCH(Grundlagen_Abrechnung_KAE!$E288,MD_GENDER,0),0),\"\")","v":""},{"v":0,"d":"0.00"},null,{"v":0,"d":"0.00"},{"$f":"IF(F288=\"Arbeitgeberähnliche Stellung\",OFFSET(MD!$Q$5,MATCH(Grundlagen_Abrechnung_KAE!$AK$7,MD_JAHR,0),0)*$H288,IF(J288>0,AC288,I288))","v":{"v":0,"d":"0.00"}},null,{"$f":"OFFSET(MD!$P$5,MATCH($AK$7,MD_JAHR,0),0)*12","v":{"$error":"#VALUE!"}},{"v":0,"d":"0.00"}]
[{"$nulls":14},{"$f":"IF($B289=\"\",\"\",IF(F289=\"Arbeitgeberähnliche Stellung\",OFFSET(MD!$Q$5,MATCH(Grundlagen_Abrechnung_KAE!$AK$7,MD_JAHR,0),0)*$H289,IF(((AD289/12*M289*12)+N289)>AF289,AF289/12,((AD289/12*M289*12)+N289)/12)))","v":""},null,null,{"v":0,"d":"0.00"},null,{"v":0,"d":"0.00%"},{"v":0,"d":"0.00"},{"v":0,"d":"0.00"},{"v":0,"d":"0.00"},null,"prüfen",{"$f":"IFERROR(OFFSET(MD!$U$5,MATCH(Grundlagen_Abrechnung_KAE!$E289,MD_GENDER,0),0),\"\")","v":""},{"v":0,"d":"0.00"},null,{"v":0,"d":"0.00"},{"$f":"IF(F289=\"Arbeitgeberähnliche Stellung\",OFFSET(MD!$Q$5,MATCH(Grundlagen_Abrechnung_KAE!$AK$7,MD_JAHR,0),0)*$H289,IF(J289>0,AC289,I289))","v":{"v":0,"d":"0.00"}},null,{"$f":"OFFSET(MD!$P$5,MATCH($AK$7,MD_JAHR,0),0)*12","v":{"$error":"#VALUE!"}},{"v":0,"d":"0.00"}]
[{"$nulls":14},{"$f":"IF($B290=\"\",\"\",IF(F290=\"Arbeitgeberähnliche Stellung\",OFFSET(MD!$Q$5,MATCH(Grundlagen_Abrechnung_KAE!$AK$7,MD_JAHR,0),0)*$H290,IF(((AD290/12*M290*12)+N290)>AF290,AF290/12,((AD290/12*M290*12)+N290)/12)))","v":""},null,null,{"v":0,"d":"0.00"},null,{"v":0,"d":"0.00%"},{"v":0,"d":"0.00"},{"v":0,"d":"0.00"},{"v":0,"d":"0.00"},null,"prüfen",{"$f":"IFERROR(OFFSET(MD!$U$5,MATCH(Grundlagen_Abrechnung_KAE!$E290,MD_GENDER,0),0),\"\")","v":""},{"v":0,"d":"0.00"},null,{"v":0,"d":"0.00"},{"$f":"IF(F290=\"Arbeitgeberähnliche Stellung\",OFFSET(MD!$Q$5,MATCH(Grundlagen_Abrechnung_KAE!$AK$7,MD_JAHR,0),0)*$H290,IF(J290>0,AC290,I290))","v":{"v":0,"d":"0.00"}},null,{"$f":"OFFSET(MD!$P$5,MATCH($AK$7,MD_JAHR,0),0)*12","v":{"$error":"#VALUE!"}},{"v":0,"d":"0.00"}]
[{"$nulls":14},{"$f":"IF($B291=\"\",\"\",IF(F291=\"Arbeitgeberähnliche Stellung\",OFFSET(MD!$Q$5,MATCH(Grundlagen_Abrechnung_KAE!$AK$7,MD_JAHR,0),0)*$H291,IF(((AD291/12*M291*12)+N291)>AF291,AF291/12,((AD291/12*M291*12)+N291)/12)))","v":""},null,null,{"v":0,"d":"0.00"},null,{"v":0,"d":"0.00%"},{"v":0,"d":"0.00"},{"v":0,"d":"0.00"},{"v":0,"d":"0.00"},null,"prüfen",{"$f":"IFERROR(OFFSET(MD!$U$5,MATCH(Grundlagen_Abrechnung_KAE!$E291,MD_GENDER,0),0),\"\")","v":""},{"v":0,"d":"0.00"},null,{"v":0,"d":"0.00"},{"$f":"IF(F291=\"Arbeitgeberähnliche Stellung\",OFFSET(MD!$Q$5,MATCH(Grundlagen_Abrechnung_KAE!$AK$7,MD_JAHR,0),0)*$H291,IF(J291>0,AC291,I291))","v":{"v":0,"d":"0.00"}},null,{"$f":"OFFSET(MD!$P$5,MATCH($AK$7,MD_JAHR,0),0)*12","v":{"$error":"#VALUE!"}},{"v":0,"d":"0.00"}]
[{"$nulls":14},{"$f":"IF($B292=\"\",\"\",IF(F292=\"Arbeitgeberähnliche Stellung\",OFFSET(MD!$Q$5,MATCH(Grundlagen_Abrechnung_KAE!$AK$7,MD_JAHR,0),0)*$H292,IF(((AD292/12*M292*12)+N292)>AF292,AF292/12,((AD292/12*M292*12)+N292)/12)))","v":""},null,null,{"v":0,"d":"0.00"},null,{"v":0,"d":"0.00%"},{"v":0,"d":"0.00"},{"v":0,"d":"0.00"},{"v":0,"d":"0.00"},null,"prüfen",{"$f":"IFERROR(OFFSET(MD!$U$5,MATCH(Grundlagen_Abrechnung_KAE!$E292,MD_GENDER,0),0),\"\")","v":""},{"v":0,"d":"0.00"},null,{"v":0,"d":"0.00"},{"$f":"IF(F292=\"Arbeitgeberähnliche Stellung\",OFFSET(MD!$Q$5,MATCH(Grundlagen_Abrechnung_KAE!$AK$7,MD_JAHR,0),0)*$H292,IF(J292>0,AC292,I292))","v":{"v":0,"d":"0.00"}},null,{"$f":"OFFSET(MD!$P$5,MATCH($AK$7,MD_JAHR,0),0)*12","v":{"$error":"#VALUE!"}},{"v":0,"d":"0.00"}]
[{"$nulls":14},{"$f":"IF($B293=\"\",\"\",IF(F293=\"Arbeitgeberähnliche Stellung\",OFFSET(MD!$Q$5,MATCH(Grundlagen_Abrechnung_KAE!$AK$7,MD_JAHR,0),0)*$H293,IF(((AD293/12*M293*12)+N293)>AF293,AF293/12,((AD293/12*M293*12)+N293)/12)))","v":""},null,null,{"v":0,"d":"0.00"},null,{"v":0,"d":"0.00%"},{"v":0,"d":"0.00"},{"v":0,"d":"0.00"},{"v":0,"d":"0.00"},null,"prüfen",{"$f":"IFERROR(OFFSET(MD!$U$5,MATCH(Grundlagen_Abrechnung_KAE!$E293,MD_GENDER,0),0),\"\")","v":""},{"v":0,"d":"0.00"},null,{"v":0,"d":"0.00"},{"$f":"IF(F293=\"Arbeitgeberähnliche Stellung\",OFFSET(MD!$Q$5,MATCH(Grundlagen_Abrechnung_KAE!$AK$7,MD_JAHR,0),0)*$H293,IF(J293>0,AC293,I293))","v":{"v":0,"d":"0.00"}},null,{"$f":"OFFSET(MD!$P$5,MATCH($AK$7,MD_JAHR,0),0)*12","v":{"$error":"#VALUE!"}},{"v":0,"d":"0.00"}]
[{"$nulls":14},{"$f":"IF($B294=\"\",\"\",IF(F294=\"Arbeitgeberähnliche Stellung\",OFFSET(MD!$Q$5,MATCH(Grundlagen_Abrechnung_KAE!$AK$7,MD_JAHR,0),0)*$H294,IF(((AD294/12*M294*12)+N294)>AF294,AF294/12,((AD294/12*M294*12)+N294)/12)))","v":""},null,null,{"v":0,"d":"0.00"},null,{"v":0,"d":"0.00%"},{"v":0,"d":"0.00"},{"v":0,"d":"0.00"},{"v":0,"d":"0.00"},null,"prüfen",{"$f":"IFERROR(OFFSET(MD!$U$5,MATCH(Grundlagen_Abrechnung_KAE!$E294,MD_GENDER,0),0),\"\")","v":""},{"v":0,"d":"0.00"},null,{"v":0,"d":"0.00"},{"$f":"IF(F294=\"Arbeitgeberähnliche Stellung\",OFFSET(MD!$Q$5,MATCH(Grundlagen_Abrechnung_KAE!$AK$7,MD_JAHR,0),0)*$H294,IF(J294>0,AC294,I294))","v":{"v":0,"d":"0.00"}},null,{"$f":"OFFSET(MD!$P$5,MATCH($AK$7,MD_JAHR,0),0)*12","v":{"$error":"#VALUE!"}},{"v":0,"d":"0.00"}]
[{"$nulls":14},{"$f":"IF($B295=\"\",\"\",IF(F295=\"Arbeitgeberähnliche Stellung\",OFFSET(MD!$Q$5,MATCH(Grundlagen_Abrechnung_KAE!$AK$7,MD_JAHR,0),0)*$H295,IF(((AD295/12*M295*12)+N295)>AF295,AF295/12,((AD295/12*M295*12)+N295)/12)))","v":""},null,null,{"v":0,"d":"0.00"},null,{"v":0,"d":"0.00%"},{"v":0,"d":"0.00"},{"v":0,"d":"0.00"},{"v":0,"d":"0.00"},null,"prüfen",{"$f":"IFERROR(OFFSET(MD!$U$5,MATCH(Grundlagen_Abrechnung_KAE!$E295,MD_GENDER,0),0),\"\")","v":""},{"v":0,"d":"0.00"},null,{"v":0,"d":"0.00"},{"$f":"IF(F295=\"Arbeitgeberähnliche Stellung\",OFFSET(MD!$Q$5,MATCH(Grundlagen_Abrechnung_KAE!$AK$7,MD_JAHR,0),0)*$H295,IF(J295>0,AC295,I295))","v":{"v":0,"d":"0.00"}},null,{"$f":"OFFSET(MD!$P$5,MATCH($AK$7,MD_JAHR,0),0)*12","v":{"$error":"#VALUE!"}},{"v":0,"d":"0.00"}]
[{"$nulls":14},{"$f":"IF($B296=\"\",\"\",IF(F296=\"Arbeitgeberähnliche Stellung\",OFFSET(MD!$Q$5,MATCH(Grundlagen_Abrechnung_KAE!$AK$7,MD_JAHR,0),0)*$H296,IF(((AD296/12*M296*12)+N296)>AF296,AF296/12,((AD296/12*M296*12)+N296)/12)))","v":""},null,null,{"v":0,"d":"0.00"},null,{"v":0,"d":"0.00%"},{"v":0,"d":"0.00"},{"v":0,"d":"0.00"},{"v":0,"d":"0.00"},null,"prüfen",{"$f":"IFERROR(OFFSET(MD!$U$5,MATCH(Grundlagen_Abrechnung_KAE!$E296,MD_GENDER,0),0),\"\")","v":""},{"v":0,"d":"0.00"},null,{"v":0,"d":"0.00"},{"$f":"IF(F296=\"Arbeitgeberähnliche Stellung\",OFFSET(MD!$Q$5,MATCH(Grundlagen_Abrechnung_KAE!$AK$7,MD_JAHR,0),0)*$H296,IF(J296>0,AC296,I296))","v":{"v":0,"d":"0.00"}},null,{"$f":"OFFSET(MD!$P$5,MATCH($AK$7,MD_JAHR,0),0)*12","v":{"$error":"#VALUE!"}},{"v":0,"d":"0.00"}]
[{"$nulls":14},{"$f":"IF($B297=\"\",\"\",IF(F297=\"Arbeitgeberähnliche Stellung\",OFFSET(MD!$Q$5,MATCH(Grundlagen_Abrechnung_KAE!$AK$7,MD_JAHR,0),0)*$H297,IF(((AD297/12*M297*12)+N297)>AF297,AF297/12,((AD297/12*M297*12)+N297)/12)))","v":""},null,null,{"v":0,"d":"0.00"},null,{"v":0,"d":"0.00%"},{"v":0,"d":"0.00"},{"v":0,"d":"0.00"},{"v":0,"d":"0.00"},null,"prüfen",{"$f":"IFERROR(OFFSET(MD!$U$5,MATCH(Grundlagen_Abrechnung_KAE!$E297,MD_GENDER,0),0),\"\")","v":""},{"v":0,"d":"0.00"},null,{"v":0,"d":"0.00"},{"$f":"IF(F297=\"Arbeitgeberähnliche Stellung\",OFFSET(MD!$Q$5,MATCH(Grundlagen_Abrechnung_KAE!$AK$7,MD_JAHR,0),0)*$H297,IF(J297>0,AC297,I297))","v":{"v":0,"d":"0.00"}},null,{"$f":"OFFSET(MD!$P$5,MATCH($AK$7,MD_JAHR,0),0)*12","v":{"$error":"#VALUE!"}},{"v":0,"d":"0.00"}]
[{"$nulls":14},{"$f":"IF($B298=\"\",\"\",IF(F298=\"Arbeitgeberähnliche Stellung\",OFFSET(MD!$Q$5,MATCH(Grundlagen_Abrechnung_KAE!$AK$7,MD_JAHR,0),0)*$H298,IF(((AD298/12*M298*12)+N298)>AF298,AF298/12,((AD298/12*M298*12)+N298)/12)))","v":""},null,null,{"v":0,"d":"0.00"},null,{"v":0,"d":"0.00%"},{"v":0,"d":"0.00"},{"v":0,"d":"0.00"},{"v":0,"d":"0.00"},null,"prüfen",{"$f":"IFERROR(OFFSET(MD!$U$5,MATCH(Grundlagen_Abrechnung_KAE!$E298,MD_GENDER,0),0),\"\")","v":""},{"v":0,"d":"0.00"},null,{"v":0,"d":"0.00"},{"$f":"IF(F298=\"Arbeitgeberähnliche Stellung\",OFFSET(MD!$Q$5,MATCH(Grundlagen_Abrechnung_KAE!$AK$7,MD_JAHR,0),0)*$H298,IF(J298>0,AC298,I298))","v":{"v":0,"d":"0.00"}},null,{"$f":"OFFSET(MD!$P$5,MATCH($AK$7,MD_JAHR,0),0)*12","v":{"$error":"#VALUE!"}},{"v":0,"d":"0.00"}]
[{"$nulls":14},{"$f":"IF($B299=\"\",\"\",IF(F299=\"Arbeitgeberähnliche Stellung\",OFFSET(MD!$Q$5,MATCH(Grundlagen_Abrechnung_KAE!$AK$7,MD_JAHR,0),0)*$H299,IF(((AD299/12*M299*12)+N299)>AF299,AF299/12,((AD299/12*M299*12)+N299)/12)))","v":""},null,null,{"v":0,"d":"0.00"},null,{"v":0,"d":"0.00%"},{"v":0,"d":"0.00"},{"v":0,"d":"0.00"},{"v":0,"d":"0.00"},null,"prüfen",{"$f":"IFERROR(OFFSET(MD!$U$5,MATCH(Grundlagen_Abrechnung_KAE!$E299,MD_GENDER,0),0),\"\")","v":""},{"v":0,"d":"0.00"},null,{"v":0,"d":"0.00"},{"$f":"IF(F299=\"Arbeitgeberähnliche Stellung\",OFFSET(MD!$Q$5,MATCH(Grundlagen_Abrechnung_KAE!$AK$7,MD_JAHR,0),0)*$H299,IF(J299>0,AC299,I299))","v":{"v":0,"d":"0.00"}},null,{"$f":"OFFSET(MD!$P$5,MATCH($AK$7,MD_JAHR,0),0)*12","v":{"$error":"#VALUE!"}},{"v":0,"d":"0.00"}]
[{"$nulls":14},{"$f":"IF($B300=\"\",\"\",IF(F300=\"Arbeitgeberähnliche Stellung\",OFFSET(MD!$Q$5,MATCH(Grundlagen_Abrechnung_KAE!$AK$7,MD_JAHR,0),0)*$H300,IF(((AD300/12*M300*12)+N300)>AF300,AF300/12,((AD300/12*M300*12)+N300)/12)))","v":""},null,null,{"v":0,"d":"0.00"},null,{"v":0,"d":"0.00%"},{"v":0,"d":"0.00"},{"v":0,"d":"0.00"},{"v":0,"d":"0.00"},null,"prüfen",{"$f":"IFERROR(OFFSET(MD!$U$5,MATCH(Grundlagen_Abrechnung_KAE!$E300,MD_GENDER,0),0),\"\")","v":""},{"v":0,"d":"0.00"},null,{"v":0,"d":"0.00"},{"$f":"IF(F300=\"Arbeitgeberähnliche Stellung\",OFFSET(MD!$Q$5,MATCH(Grundlagen_Abrechnung_KAE!$AK$7,MD_JAHR,0),0)*$H300,IF(J300>0,AC300,I300))","v":{"v":0,"d":"0.00"}},null,{"$f":"OFFSET(MD!$P$5,MATCH($AK$7,MD_JAHR,0),0)*12","v":{"$error":"#VALUE!"}},{"v":0,"d":"0.00"}]
[{"$nulls":14},{"$f":"IF($B301=\"\",\"\",IF(F301=\"Arbeitgeberähnliche Stellung\",OFFSET(MD!$Q$5,MATCH(Grundlagen_Abrechnung_KAE!$AK$7,MD_JAHR,0),0)*$H301,IF(((AD301/12*M301*12)+N301)>AF301,AF301/12,((AD301/12*M301*12)+N301)/12)))","v":""},null,null,{"v":0,"d":"0.00"},null,{"v":0,"d":"0.00%"},{"v":0,"d":"0.00"},{"v":0,"d":"0.00"},{"v":0,"d":"0.00"},null,"prüfen",{"$f":"IFERROR(OFFSET(MD!$U$5,MATCH(Grundlagen_Abrechnung_KAE!$E301,MD_GENDER,0),0),\"\")","v":""},{"v":0,"d":"0.00"},null,{"v":0,"d":"0.00"},{"$f":"IF(F301=\"Arbeitgeberähnliche Stellung\",OFFSET(MD!$Q$5,MATCH(Grundlagen_Abrechnung_KAE!$AK$7,MD_JAHR,0),0)*$H301,IF(J301>0,AC301,I301))","v":{"v":0,"d":"0.00"}},null,{"$f":"OFFSET(MD!$P$5,MATCH($AK$7,MD_JAHR,0),0)*12","v":{"$error":"#VALUE!"}},{"v":0,"d":"0.00"}]
[{"$nulls":14},{"$f":"IF($B302=\"\",\"\",IF(F302=\"Arbeitgeberähnliche Stellung\",OFFSET(MD!$Q$5,MATCH(Grundlagen_Abrechnung_KAE!$AK$7,MD_JAHR,0),0)*$H302,IF(((AD302/12*M302*12)+N302)>AF302,AF302/12,((AD302/12*M302*12)+N302)/12)))","v":""},null,null,{"v":0,"d":"0.00"},null,{"v":0,"d":"0.00%"},{"v":0,"d":"0.00"},{"v":0,"d":"0.00"},{"v":0,"d":"0.00"},null,"prüfen",{"$f":"IFERROR(OFFSET(MD!$U$5,MATCH(Grundlagen_Abrechnung_KAE!$E302,MD_GENDER,0),0),\"\")","v":""},{"v":0,"d":"0.00"},null,{"v":0,"d":"0.00"},{"$f":"IF(F302=\"Arbeitgeberähnliche Stellung\",OFFSET(MD!$Q$5,MATCH(Grundlagen_Abrechnung_KAE!$AK$7,MD_JAHR,0),0)*$H302,IF(J302>0,AC302,I302))","v":{"v":0,"d":"0.00"}},null,{"$f":"OFFSET(MD!$P$5,MATCH($AK$7,MD_JAHR,0),0)*12","v":{"$error":"#VALUE!"}},{"v":0,"d":"0.00"}]
[{"$nulls":14},{"$f":"IF($B303=\"\",\"\",IF(F303=\"Arbeitgeberähnliche Stellung\",OFFSET(MD!$Q$5,MATCH(Grundlagen_Abrechnung_KAE!$AK$7,MD_JAHR,0),0)*$H303,IF(((AD303/12*M303*12)+N303)>AF303,AF303/12,((AD303/12*M303*12)+N303)/12)))","v":""},null,null,{"v":0,"d":"0.00"},null,{"v":0,"d":"0.00%"},{"v":0,"d":"0.00"},{"v":0,"d":"0.00"},{"v":0,"d":"0.00"},null,"prüfen",{"$f":"IFERROR(OFFSET(MD!$U$5,MATCH(Grundlagen_Abrechnung_KAE!$E303,MD_GENDER,0),0),\"\")","v":""},{"v":0,"d":"0.00"},null,{"v":0,"d":"0.00"},{"$f":"IF(F303=\"Arbeitgeberähnliche Stellung\",OFFSET(MD!$Q$5,MATCH(Grundlagen_Abrechnung_KAE!$AK$7,MD_JAHR,0),0)*$H303,IF(J303>0,AC303,I303))","v":{"v":0,"d":"0.00"}},null,{"$f":"OFFSET(MD!$P$5,MATCH($AK$7,MD_JAHR,0),0)*12","v":{"$error":"#VALUE!"}},{"v":0,"d":"0.00"}]
[{"$nulls":14},{"$f":"IF($B304=\"\",\"\",IF(F304=\"Arbeitgeberähnliche Stellung\",OFFSET(MD!$Q$5,MATCH(Grundlagen_Abrechnung_KAE!$AK$7,MD_JAHR,0),0)*$H304,IF(((AD304/12*M304*12)+N304)>AF304,AF304/12,((AD304/12*M304*12)+N304)/12)))","v":""},null,null,{"v":0,"d":"0.00"},null,{"v":0,"d":"0.00%"},{"v":0,"d":"0.00"},{"v":0,"d":"0.00"},{"v":0,"d":"0.00"},null,"prüfen",{"$f":"IFERROR(OFFSET(MD!$U$5,MATCH(Grundlagen_Abrechnung_KAE!$E304,MD_GENDER,0),0),\"\")","v":""},{"v":0,"d":"0.00"},null,{"v":0,"d":"0.00"},{"$f":"IF(F304=\"Arbeitgeberähnliche Stellung\",OFFSET(MD!$Q$5,MATCH(Grundlagen_Abrechnung_KAE!$AK$7,MD_JAHR,0),0)*$H304,IF(J304>0,AC304,I304))","v":{"v":0,"d":"0.00"}},null,{"$f":"OFFSET(MD!$P$5,MATCH($AK$7,MD_JAHR,0),0)*12","v":{"$error":"#VALUE!"}},{"v":0,"d":"0.00"}]
[{"$nulls":14},{"$f":"IF($B305=\"\",\"\",IF(F305=\"Arbeitgeberähnliche Stellung\",OFFSET(MD!$Q$5,MATCH(Grundlagen_Abrechnung_KAE!$AK$7,MD_JAHR,0),0)*$H305,IF(((AD305/12*M305*12)+N305)>AF305,AF305/12,((AD305/12*M305*12)+N305)/12)))","v":""},null,null,{"v":0,"d":"0.00"},null,{"v":0,"d":"0.00%"},{"v":0,"d":"0.00"},{"v":0,"d":"0.00"},{"v":0,"d":"0.00"},null,"prüfen",{"$f":"IFERROR(OFFSET(MD!$U$5,MATCH(Grundlagen_Abrechnung_KAE!$E305,MD_GENDER,0),0),\"\")","v":""},{"v":0,"d":"0.00"},null,{"v":0,"d":"0.00"},{"$f":"IF(F305=\"Arbeitgeberähnliche Stellung\",OFFSET(MD!$Q$5,MATCH(Grundlagen_Abrechnung_KAE!$AK$7,MD_JAHR,0),0)*$H305,IF(J305>0,AC305,I305))","v":{"v":0,"d":"0.00"}},null,{"$f":"OFFSET(MD!$P$5,MATCH($AK$7,MD_JAHR,0),0)*12","v":{"$error":"#VALUE!"}},{"v":0,"d":"0.00"}]
[{"$nulls":14},{"$f":"IF($B306=\"\",\"\",IF(F306=\"Arbeitgeberähnliche Stellung\",OFFSET(MD!$Q$5,MATCH(Grundlagen_Abrechnung_KAE!$AK$7,MD_JAHR,0),0)*$H306,IF(((AD306/12*M306*12)+N306)>AF306,AF306/12,((AD306/12*M306*12)+N306)/12)))","v":""},null,null,{"v":0,"d":"0.00"},null,{"v":0,"d":"0.00%"},{"v":0,"d":"0.00"},{"v":0,"d":"0.00"},{"v":0,"d":"0.00"},null,"prüfen",{"$f":"IFERROR(OFFSET(MD!$U$5,MATCH(Grundlagen_Abrechnung_KAE!$E306,MD_GENDER,0),0),\"\")","v":""},{"v":0,"d":"0.00"},null,{"v":0,"d":"0.00"},{"$f":"IF(F306=\"Arbeitgeberähnliche Stellung\",OFFSET(MD!$Q$5,MATCH(Grundlagen_Abrechnung_KAE!$AK$7,MD_JAHR,0),0)*$H306,IF(J306>0,AC306,I306))","v":{"v":0,"d":"0.00"}},null,{"$f":"OFFSET(MD!$P$5,MATCH($AK$7,MD_JAHR,0),0)*12","v":{"$error":"#VALUE!"}},{"v":0,"d":"0.00"}]
[{"$nulls":14},{"$f":"IF($B307=\"\",\"\",IF(F307=\"Arbeitgeberähnliche Stellung\",OFFSET(MD!$Q$5,MATCH(Grundlagen_Abrechnung_KAE!$AK$7,MD_JAHR,0),0)*$H307,IF(((AD307/12*M307*12)+N307)>AF307,AF307/12,((AD307/12*M307*12)+N307)/12)))","v":""},null,null,{"v":0,"d":"0.00"},null,{"v":0,"d":"0.00%"},{"v":0,"d":"0.00"},{"v":0,"d":"0.00"},{"v":0,"d":"0.00"},null,"prüfen",{"$f":"IFERROR(OFFSET(MD!$U$5,MATCH(Grundlagen_Abrechnung_KAE!$E307,MD_GENDER,0),0),\"\")","v":""},{"v":0,"d":"0.00"},null,{"v":0,"d":"0.00"},{"$f":"IF(F307=\"Arbeitgeberähnliche Stellung\",OFFSET(MD!$Q$5,MATCH(Grundlagen_Abrechnung_KAE!$AK$7,MD_JAHR,0),0)*$H307,IF(J307>0,AC307,I307))","v":{"v":0,"d":"0.00"}},null,{"$f":"OFFSET(MD!$P$5,MATCH($AK$7,MD_JAHR,0),0)*12","v":{"$error":"#VALUE!"}},{"v":0,"d":"0.00"}]
[{"$nulls":14},{"$f":"IF($B308=\"\",\"\",IF(F308=\"Arbeitgeberähnliche Stellung\",OFFSET(MD!$Q$5,MATCH(Grundlagen_Abrechnung_KAE!$AK$7,MD_JAHR,0),0)*$H308,IF(((AD308/12*M308*12)+N308)>AF308,AF308/12,((AD308/12*M308*12)+N308)/12)))","v":""},null,null,{"v":0,"d":"0.00"},null,{"v":0,"d":"0.00%"},{"v":0,"d":"0.00"},{"v":0,"d":"0.00"},{"v":0,"d":"0.00"},null,"prüfen",{"$f":"IFERROR(OFFSET(MD!$U$5,MATCH(Grundlagen_Abrechnung_KAE!$E308,MD_GENDER,0),0),\"\")","v":""},{"v":0,"d":"0.00"},null,{"v":0,"d":"0.00"},{"$f":"IF(F308=\"Arbeitgeberähnliche Stellung\",OFFSET(MD!$Q$5,MATCH(Grundlagen_Abrechnung_KAE!$AK$7,MD_JAHR,0),0)*$H308,IF(J308>0,AC308,I308))","v":{"v":0,"d":"0.00"}},null,{"$f":"OFFSET(MD!$P$5,MATCH($AK$7,MD_JAHR,0),0)*12","v":{"$error":"#VALUE!"}},{"v":0,"d":"0.00"}]
[{"$nulls":14},{"$f":"IF($B309=\"\",\"\",IF(F309=\"Arbeitgeberähnliche Stellung\",OFFSET(MD!$Q$5,MATCH(Grundlagen_Abrechnung_KAE!$AK$7,MD_JAHR,0),0)*$H309,IF(((AD309/12*M309*12)+N309)>AF309,AF309/12,((AD309/12*M309*12)+N309)/12)))","v":""},null,null,{"v":0,"d":"0.00"},null,{"v":0,"d":"0.00%"},{"v":0,"d":"0.00"},{"v":0,"d":"0.00"},{"v":0,"d":"0.00"},null,"prüfen",{"$f":"IFERROR(OFFSET(MD!$U$5,MATCH(Grundlagen_Abrechnung_KAE!$E309,MD_GENDER,0),0),\"\")","v":""},{"v":0,"d":"0.00"},null,{"v":0,"d":"0.00"},{"$f":"IF(F309=\"Arbeitgeberähnliche Stellung\",OFFSET(MD!$Q$5,MATCH(Grundlagen_Abrechnung_KAE!$AK$7,MD_JAHR,0),0)*$H309,IF(J309>0,AC309,I309))","v":{"v":0,"d":"0.00"}},null,{"$f":"OFFSET(MD!$P$5,MATCH($AK$7,MD_JAHR,0),0)*12","v":{"$error":"#VALUE!"}},{"v":0,"d":"0.00"}]
[{"$nulls":14},{"$f":"IF($B310=\"\",\"\",IF(F310=\"Arbeitgeberähnliche Stellung\",OFFSET(MD!$Q$5,MATCH(Grundlagen_Abrechnung_KAE!$AK$7,MD_JAHR,0),0)*$H310,IF(((AD310/12*M310*12)+N310)>AF310,AF310/12,((AD310/12*M310*12)+N310)/12)))","v":""},null,null,{"v":0,"d":"0.00"},null,{"v":0,"d":"0.00%"},{"v":0,"d":"0.00"},{"v":0,"d":"0.00"},{"v":0,"d":"0.00"},null,"prüfen",{"$f":"IFERROR(OFFSET(MD!$U$5,MATCH(Grundlagen_Abrechnung_KAE!$E310,MD_GENDER,0),0),\"\")","v":""},{"v":0,"d":"0.00"},null,{"v":0,"d":"0.00"},{"$f":"IF(F310=\"Arbeitgeberähnliche Stellung\",OFFSET(MD!$Q$5,MATCH(Grundlagen_Abrechnung_KAE!$AK$7,MD_JAHR,0),0)*$H310,IF(J310>0,AC310,I310))","v":{"v":0,"d":"0.00"}},null,{"$f":"OFFSET(MD!$P$5,MATCH($AK$7,MD_JAHR,0),0)*12","v":{"$error":"#VALUE!"}},{"v":0,"d":"0.00"}]
[{"$nulls":14},{"$f":"IF($B311=\"\",\"\",IF(F311=\"Arbeitgeberähnliche Stellung\",OFFSET(MD!$Q$5,MATCH(Grundlagen_Abrechnung_KAE!$AK$7,MD_JAHR,0),0)*$H311,IF(((AD311/12*M311*12)+N311)>AF311,AF311/12,((AD311/12*M311*12)+N311)/12)))","v":""},null,null,{"v":0,"d":"0.00"},null,{"v":0,"d":"0.00%"},{"v":0,"d":"0.00"},{"v":0,"d":"0.00"},{"v":0,"d":"0.00"},null,"prüfen",{"$f":"IFERROR(OFFSET(MD!$U$5,MATCH(Grundlagen_Abrechnung_KAE!$E311,MD_GENDER,0),0),\"\")","v":""},{"v":0,"d":"0.00"},null,{"v":0,"d":"0.00"},{"$f":"IF(F311=\"Arbeitgeberähnliche Stellung\",OFFSET(MD!$Q$5,MATCH(Grundlagen_Abrechnung_KAE!$AK$7,MD_JAHR,0),0)*$H311,IF(J311>0,AC311,I311))","v":{"v":0,"d":"0.00"}},null,{"$f":"OFFSET(MD!$P$5,MATCH($AK$7,MD_JAHR,0),0)*12","v":{"$error":"#VALUE!"}},{"v":0,"d":"0.00"}]
[{"$nulls":14},{"$f":"IF($B312=\"\",\"\",IF(F312=\"Arbeitgeberähnliche Stellung\",OFFSET(MD!$Q$5,MATCH(Grundlagen_Abrechnung_KAE!$AK$7,MD_JAHR,0),0)*$H312,IF(((AD312/12*M312*12)+N312)>AF312,AF312/12,((AD312/12*M312*12)+N312)/12)))","v":""},null,null,{"v":0,"d":"0.00"},null,{"v":0,"d":"0.00%"},{"v":0,"d":"0.00"},{"v":0,"d":"0.00"},{"v":0,"d":"0.00"},null,"prüfen",{"$f":"IFERROR(OFFSET(MD!$U$5,MATCH(Grundlagen_Abrechnung_KAE!$E312,MD_GENDER,0),0),\"\")","v":""},{"v":0,"d":"0.00"},null,{"v":0,"d":"0.00"},{"$f":"IF(F312=\"Arbeitgeberähnliche Stellung\",OFFSET(MD!$Q$5,MATCH(Grundlagen_Abrechnung_KAE!$AK$7,MD_JAHR,0),0)*$H312,IF(J312>0,AC312,I312))","v":{"v":0,"d":"0.00"}},null,{"$f":"OFFSET(MD!$P$5,MATCH($AK$7,MD_JAHR,0),0)*12","v":{"$error":"#VALUE!"}},{"v":0,"d":"0.00"}]
[{"$nulls":14},{"$f":"IF($B313=\"\",\"\",IF(F313=\"Arbeitgeberähnliche Stellung\",OFFSET(MD!$Q$5,MATCH(Grundlagen_Abrechnung_KAE!$AK$7,MD_JAHR,0),0)*$H313,IF(((AD313/12*M313*12)+N313)>AF313,AF313/12,((AD313/12*M313*12)+N313)/12)))","v":""},null,null,{"v":0,"d":"0.00"},null,{"v":0,"d":"0.00%"},{"v":0,"d":"0.00"},{"v":0,"d":"0.00"},{"v":0,"d":"0.00"},null,"prüfen",{"$f":"IFERROR(OFFSET(MD!$U$5,MATCH(Grundlagen_Abrechnung_KAE!$E313,MD_GENDER,0),0),\"\")","v":""},{"v":0,"d":"0.00"},null,{"v":0,"d":"0.00"},{"$f":"IF(F313=\"Arbeitgeberähnliche Stellung\",OFFSET(MD!$Q$5,MATCH(Grundlagen_Abrechnung_KAE!$AK$7,MD_JAHR,0),0)*$H313,IF(J313>0,AC313,I313))","v":{"v":0,"d":"0.00"}},null,{"$f":"OFFSET(MD!$P$5,MATCH($AK$7,MD_JAHR,0),0)*12","v":{"$error":"#VALUE!"}},{"v":0,"d":"0.00"}]
[{"$nulls":14},{"$f":"IF($B314=\"\",\"\",IF(F314=\"Arbeitgeberähnliche Stellung\",OFFSET(MD!$Q$5,MATCH(Grundlagen_Abrechnung_KAE!$AK$7,MD_JAHR,0),0)*$H314,IF(((AD314/12*M314*12)+N314)>AF314,AF314/12,((AD314/12*M314*12)+N314)/12)))","v":""},null,null,{"v":0,"d":"0.00"},null,{"v":0,"d":"0.00%"},{"v":0,"d":"0.00"},{"v":0,"d":"0.00"},{"v":0,"d":"0.00"},null,"prüfen",{"$f":"IFERROR(OFFSET(MD!$U$5,MATCH(Grundlagen_Abrechnung_KAE!$E314,MD_GENDER,0),0),\"\")","v":""},{"v":0,"d":"0.00"},null,{"v":0,"d":"0.00"},{"$f":"IF(F314=\"Arbeitgeberähnliche Stellung\",OFFSET(MD!$Q$5,MATCH(Grundlagen_Abrechnung_KAE!$AK$7,MD_JAHR,0),0)*$H314,IF(J314>0,AC314,I314))","v":{"v":0,"d":"0.00"}},null,{"$f":"OFFSET(MD!$P$5,MATCH($AK$7,MD_JAHR,0),0)*12","v":{"$error":"#VALUE!"}},{"v":0,"d":"0.00"}]
[{"$nulls":14},{"$f":"IF($B315=\"\",\"\",IF(F315=\"Arbeitgeberähnliche Stellung\",OFFSET(MD!$Q$5,MATCH(Grundlagen_Abrechnung_KAE!$AK$7,MD_JAHR,0),0)*$H315,IF(((AD315/12*M315*12)+N315)>AF315,AF315/12,((AD315/12*M315*12)+N315)/12)))","v":""},null,null,{"v":0,"d":"0.00"},null,{"v":0,"d":"0.00%"},{"v":0,"d":"0.00"},{"v":0,"d":"0.00"},{"v":0,"d":"0.00"},null,"prüfen",{"$f":"IFERROR(OFFSET(MD!$U$5,MATCH(Grundlagen_Abrechnung_KAE!$E315,MD_GENDER,0),0),\"\")","v":""},{"v":0,"d":"0.00"},null,{"v":0,"d":"0.00"},{"$f":"IF(F315=\"Arbeitgeberähnliche Stellung\",OFFSET(MD!$Q$5,MATCH(Grundlagen_Abrechnung_KAE!$AK$7,MD_JAHR,0),0)*$H315,IF(J315>0,AC315,I315))","v":{"v":0,"d":"0.00"}},null,{"$f":"OFFSET(MD!$P$5,MATCH($AK$7,MD_JAHR,0),0)*12","v":{"$error":"#VALUE!"}},{"v":0,"d":"0.00"}]
[{"$nulls":14},{"$f":"IF($B316=\"\",\"\",IF(F316=\"Arbeitgeberähnliche Stellung\",OFFSET(MD!$Q$5,MATCH(Grundlagen_Abrechnung_KAE!$AK$7,MD_JAHR,0),0)*$H316,IF(((AD316/12*M316*12)+N316)>AF316,AF316/12,((AD316/12*M316*12)+N316)/12)))","v":""},null,null,{"v":0,"d":"0.00"},null,{"v":0,"d":"0.00%"},{"v":0,"d":"0.00"},{"v":0,"d":"0.00"},{"v":0,"d":"0.00"},null,"prüfen",{"$f":"IFERROR(OFFSET(MD!$U$5,MATCH(Grundlagen_Abrechnung_KAE!$E316,MD_GENDER,0),0),\"\")","v":""},{"v":0,"d":"0.00"},null,{"v":0,"d":"0.00"},{"$f":"IF(F316=\"Arbeitgeberähnliche Stellung\",OFFSET(MD!$Q$5,MATCH(Grundlagen_Abrechnung_KAE!$AK$7,MD_JAHR,0),0)*$H316,IF(J316>0,AC316,I316))","v":{"v":0,"d":"0.00"}},null,{"$f":"OFFSET(MD!$P$5,MATCH($AK$7,MD_JAHR,0),0)*12","v":{"$error":"#VALUE!"}},{"v":0,"d":"0.00"}]
[{"$nulls":14},{"$f":"IF($B317=\"\",\"\",IF(F317=\"Arbeitgeberähnliche Stellung\",OFFSET(MD!$Q$5,MATCH(Grundlagen_Abrechnung_KAE!$AK$7,MD_JAHR,0),0)*$H317,IF(((AD317/12*M317*12)+N317)>AF317,AF317/12,((AD317/12*M317*12)+N317)/12)))","v":""},null,null,{"v":0,"d":"0.00"},null,{"v":0,"d":"0.00%"},{"v":0,"d":"0.00"},{"v":0,"d":"0.00"},{"v":0,"d":"0.00"},null,"prüfen",{"$f":"IFERROR(OFFSET(MD!$U$5,MATCH(Grundlagen_Abrechnung_KAE!$E317,MD_GENDER,0),0),\"\")","v":""},{"v":0,"d":"0.00"},null,{"v":0,"d":"0.00"},{"$f":"IF(F317=\"Arbeitgeberähnliche Stellung\",OFFSET(MD!$Q$5,MATCH(Grundlagen_Abrechnung_KAE!$AK$7,MD_JAHR,0),0)*$H317,IF(J317>0,AC317,I317))","v":{"v":0,"d":"0.00"}},null,{"$f":"OFFSET(MD!$P$5,MATCH($AK$7,MD_JAHR,0),0)*12","v":{"$error":"#VALUE!"}},{"v":0,"d":"0.00"}]
[{"$nulls":14},{"$f":"IF($B318=\"\",\"\",IF(F318=\"Arbeitgeberähnliche Stellung\",OFFSET(MD!$Q$5,MATCH(Grundlagen_Abrechnung_KAE!$AK$7,MD_JAHR,0),0)*$H318,IF(((AD318/12*M318*12)+N318)>AF318,AF318/12,((AD318/12*M318*12)+N318)/12)))","v":""},null,null,{"v":0,"d":"0.00"},null,{"v":0,"d":"0.00%"},{"v":0,"d":"0.00"},{"v":0,"d":"0.00"},{"v":0,"d":"0.00"},null,"prüfen",{"$f":"IFERROR(OFFSET(MD!$U$5,MATCH(Grundlagen_Abrechnung_KAE!$E318,MD_GENDER,0),0),\"\")","v":""},{"v":0,"d":"0.00"},null,{"v":0,"d":"0.00"},{"$f":"IF(F318=\"Arbeitgeberähnliche Stellung\",OFFSET(MD!$Q$5,MATCH(Grundlagen_Abrechnung_KAE!$AK$7,MD_JAHR,0),0)*$H318,IF(J318>0,AC318,I318))","v":{"v":0,"d":"0.00"}},null,{"$f":"OFFSET(MD!$P$5,MATCH($AK$7,MD_JAHR,0),0)*12","v":{"$error":"#VALUE!"}},{"v":0,"d":"0.00"}]
[{"$nulls":14},{"$f":"IF($B319=\"\",\"\",IF(F319=\"Arbeitgeberähnliche Stellung\",OFFSET(MD!$Q$5,MATCH(Grundlagen_Abrechnung_KAE!$AK$7,MD_JAHR,0),0)*$H319,IF(((AD319/12*M319*12)+N319)>AF319,AF319/12,((AD319/12*M319*12)+N319)/12)))","v":""},null,null,{"v":0,"d":"0.00"},null,{"v":0,"d":"0.00%"},{"v":0,"d":"0.00"},{"v":0,"d":"0.00"},{"v":0,"d":"0.00"},null,"prüfen",{"$f":"IFERROR(OFFSET(MD!$U$5,MATCH(Grundlagen_Abrechnung_KAE!$E319,MD_GENDER,0),0),\"\")","v":""},{"v":0,"d":"0.00"},null,{"v":0,"d":"0.00"},{"$f":"IF(F319=\"Arbeitgeberähnliche Stellung\",OFFSET(MD!$Q$5,MATCH(Grundlagen_Abrechnung_KAE!$AK$7,MD_JAHR,0),0)*$H319,IF(J319>0,AC319,I319))","v":{"v":0,"d":"0.00"}},null,{"$f":"OFFSET(MD!$P$5,MATCH($AK$7,MD_JAHR,0),0)*12","v":{"$error":"#VALUE!"}},{"v":0,"d":"0.00"}]
[{"$nulls":14},{"$f":"IF($B320=\"\",\"\",IF(F320=\"Arbeitgeberähnliche Stellung\",OFFSET(MD!$Q$5,MATCH(Grundlagen_Abrechnung_KAE!$AK$7,MD_JAHR,0),0)*$H320,IF(((AD320/12*M320*12)+N320)>AF320,AF320/12,((AD320/12*M320*12)+N320)/12)))","v":""},null,null,{"v":0,"d":"0.00"},null,{"v":0,"d":"0.00%"},{"v":0,"d":"0.00"},{"v":0,"d":"0.00"},{"v":0,"d":"0.00"},null,"prüfen",{"$f":"IFERROR(OFFSET(MD!$U$5,MATCH(Grundlagen_Abrechnung_KAE!$E320,MD_GENDER,0),0),\"\")","v":""},{"v":0,"d":"0.00"},null,{"v":0,"d":"0.00"},{"$f":"IF(F320=\"Arbeitgeberähnliche Stellung\",OFFSET(MD!$Q$5,MATCH(Grundlagen_Abrechnung_KAE!$AK$7,MD_JAHR,0),0)*$H320,IF(J320>0,AC320,I320))","v":{"v":0,"d":"0.00"}},null,{"$f":"OFFSET(MD!$P$5,MATCH($AK$7,MD_JAHR,0),0)*12","v":{"$error":"#VALUE!"}},{"v":0,"d":"0.00"}]
[{"$nulls":14},{"$f":"IF($B321=\"\",\"\",IF(F321=\"Arbeitgeberähnliche Stellung\",OFFSET(MD!$Q$5,MATCH(Grundlagen_Abrechnung_KAE!$AK$7,MD_JAHR,0),0)*$H321,IF(((AD321/12*M321*12)+N321)>AF321,AF321/12,((AD321/12*M321*12)+N321)/12)))","v":""},null,null,{"v":0,"d":"0.00"},null,{"v":0,"d":"0.00%"},{"v":0,"d":"0.00"},{"v":0,"d":"0.00"},{"v":0,"d":"0.00"},null,"prüfen",{"$f":"IFERROR(OFFSET(MD!$U$5,MATCH(Grundlagen_Abrechnung_KAE!$E321,MD_GENDER,0),0),\"\")","v":""},{"v":0,"d":"0.00"},null,{"v":0,"d":"0.00"},{"$f":"IF(F321=\"Arbeitgeberähnliche Stellung\",OFFSET(MD!$Q$5,MATCH(Grundlagen_Abrechnung_KAE!$AK$7,MD_JAHR,0),0)*$H321,IF(J321>0,AC321,I321))","v":{"v":0,"d":"0.00"}},null,{"$f":"OFFSET(MD!$P$5,MATCH($AK$7,MD_JAHR,0),0)*12","v":{"$error":"#VALUE!"}},{"v":0,"d":"0.00"}]
[{"$nulls":14},{"$f":"IF($B322=\"\",\"\",IF(F322=\"Arbeitgeberähnliche Stellung\",OFFSET(MD!$Q$5,MATCH(Grundlagen_Abrechnung_KAE!$AK$7,MD_JAHR,0),0)*$H322,IF(((AD322/12*M322*12)+N322)>AF322,AF322/12,((AD322/12*M322*12)+N322)/12)))","v":""},null,null,{"v":0,"d":"0.00"},null,{"v":0,"d":"0.00%"},{"v":0,"d":"0.00"},{"v":0,"d":"0.00"},{"v":0,"d":"0.00"},null,"prüfen",{"$f":"IFERROR(OFFSET(MD!$U$5,MATCH(Grundlagen_Abrechnung_KAE!$E322,MD_GENDER,0),0),\"\")","v":""},{"v":0,"d":"0.00"},null,{"v":0,"d":"0.00"},{"$f":"IF(F322=\"Arbeitgeberähnliche Stellung\",OFFSET(MD!$Q$5,MATCH(Grundlagen_Abrechnung_KAE!$AK$7,MD_JAHR,0),0)*$H322,IF(J322>0,AC322,I322))","v":{"v":0,"d":"0.00"}},null,{"$f":"OFFSET(MD!$P$5,MATCH($AK$7,MD_JAHR,0),0)*12","v":{"$error":"#VALUE!"}},{"v":0,"d":"0.00"}]
[{"$nulls":14},{"$f":"IF($B323=\"\",\"\",IF(F323=\"Arbeitgeberähnliche Stellung\",OFFSET(MD!$Q$5,MATCH(Grundlagen_Abrechnung_KAE!$AK$7,MD_JAHR,0),0)*$H323,IF(((AD323/12*M323*12)+N323)>AF323,AF323/12,((AD323/12*M323*12)+N323)/12)))","v":""},null,null,{"v":0,"d":"0.00"},null,{"v":0,"d":"0.00%"},{"v":0,"d":"0.00"},{"v":0,"d":"0.00"},{"v":0,"d":"0.00"},null,"prüfen",{"$f":"IFERROR(OFFSET(MD!$U$5,MATCH(Grundlagen_Abrechnung_KAE!$E323,MD_GENDER,0),0),\"\")","v":""},{"v":0,"d":"0.00"},null,{"v":0,"d":"0.00"},{"$f":"IF(F323=\"Arbeitgeberähnliche Stellung\",OFFSET(MD!$Q$5,MATCH(Grundlagen_Abrechnung_KAE!$AK$7,MD_JAHR,0),0)*$H323,IF(J323>0,AC323,I323))","v":{"v":0,"d":"0.00"}},null,{"$f":"OFFSET(MD!$P$5,MATCH($AK$7,MD_JAHR,0),0)*12","v":{"$error":"#VALUE!"}},{"v":0,"d":"0.00"}]
[{"$nulls":14},{"$f":"IF($B324=\"\",\"\",IF(F324=\"Arbeitgeberähnliche Stellung\",OFFSET(MD!$Q$5,MATCH(Grundlagen_Abrechnung_KAE!$AK$7,MD_JAHR,0),0)*$H324,IF(((AD324/12*M324*12)+N324)>AF324,AF324/12,((AD324/12*M324*12)+N324)/12)))","v":""},null,null,{"v":0,"d":"0.00"},null,{"v":0,"d":"0.00%"},{"v":0,"d":"0.00"},{"v":0,"d":"0.00"},{"v":0,"d":"0.00"},null,"prüfen",{"$f":"IFERROR(OFFSET(MD!$U$5,MATCH(Grundlagen_Abrechnung_KAE!$E324,MD_GENDER,0),0),\"\")","v":""},{"v":0,"d":"0.00"},null,{"v":0,"d":"0.00"},{"$f":"IF(F324=\"Arbeitgeberähnliche Stellung\",OFFSET(MD!$Q$5,MATCH(Grundlagen_Abrechnung_KAE!$AK$7,MD_JAHR,0),0)*$H324,IF(J324>0,AC324,I324))","v":{"v":0,"d":"0.00"}},null,{"$f":"OFFSET(MD!$P$5,MATCH($AK$7,MD_JAHR,0),0)*12","v":{"$error":"#VALUE!"}},{"v":0,"d":"0.00"}]
[{"$nulls":14},{"$f":"IF($B325=\"\",\"\",IF(F325=\"Arbeitgeberähnliche Stellung\",OFFSET(MD!$Q$5,MATCH(Grundlagen_Abrechnung_KAE!$AK$7,MD_JAHR,0),0)*$H325,IF(((AD325/12*M325*12)+N325)>AF325,AF325/12,((AD325/12*M325*12)+N325)/12)))","v":""},null,null,{"v":0,"d":"0.00"},null,{"v":0,"d":"0.00%"},{"v":0,"d":"0.00"},{"v":0,"d":"0.00"},{"v":0,"d":"0.00"},null,"prüfen",{"$f":"IFERROR(OFFSET(MD!$U$5,MATCH(Grundlagen_Abrechnung_KAE!$E325,MD_GENDER,0),0),\"\")","v":""},{"v":0,"d":"0.00"},null,{"v":0,"d":"0.00"},{"$f":"IF(F325=\"Arbeitgeberähnliche Stellung\",OFFSET(MD!$Q$5,MATCH(Grundlagen_Abrechnung_KAE!$AK$7,MD_JAHR,0),0)*$H325,IF(J325>0,AC325,I325))","v":{"v":0,"d":"0.00"}},null,{"$f":"OFFSET(MD!$P$5,MATCH($AK$7,MD_JAHR,0),0)*12","v":{"$error":"#VALUE!"}},{"v":0,"d":"0.00"}]
[{"$nulls":14},{"$f":"IF($B326=\"\",\"\",IF(F326=\"Arbeitgeberähnliche Stellung\",OFFSET(MD!$Q$5,MATCH(Grundlagen_Abrechnung_KAE!$AK$7,MD_JAHR,0),0)*$H326,IF(((AD326/12*M326*12)+N326)>AF326,AF326/12,((AD326/12*M326*12)+N326)/12)))","v":""},null,null,{"v":0,"d":"0.00"},null,{"v":0,"d":"0.00%"},{"v":0,"d":"0.00"},{"v":0,"d":"0.00"},{"v":0,"d":"0.00"},null,"prüfen",{"$f":"IFERROR(OFFSET(MD!$U$5,MATCH(Grundlagen_Abrechnung_KAE!$E326,MD_GENDER,0),0),\"\")","v":""},{"v":0,"d":"0.00"},null,{"v":0,"d":"0.00"},{"$f":"IF(F326=\"Arbeitgeberähnliche Stellung\",OFFSET(MD!$Q$5,MATCH(Grundlagen_Abrechnung_KAE!$AK$7,MD_JAHR,0),0)*$H326,IF(J326>0,AC326,I326))","v":{"v":0,"d":"0.00"}},null,{"$f":"OFFSET(MD!$P$5,MATCH($AK$7,MD_JAHR,0),0)*12","v":{"$error":"#VALUE!"}},{"v":0,"d":"0.00"}]
[{"$nulls":14},{"$f":"IF($B327=\"\",\"\",IF(F327=\"Arbeitgeberähnliche Stellung\",OFFSET(MD!$Q$5,MATCH(Grundlagen_Abrechnung_KAE!$AK$7,MD_JAHR,0),0)*$H327,IF(((AD327/12*M327*12)+N327)>AF327,AF327/12,((AD327/12*M327*12)+N327)/12)))","v":""},null,null,{"v":0,"d":"0.00"},null,{"v":0,"d":"0.00%"},{"v":0,"d":"0.00"},{"v":0,"d":"0.00"},{"v":0,"d":"0.00"},null,"prüfen",{"$f":"IFERROR(OFFSET(MD!$U$5,MATCH(Grundlagen_Abrechnung_KAE!$E327,MD_GENDER,0),0),\"\")","v":""},{"v":0,"d":"0.00"},null,{"v":0,"d":"0.00"},{"$f":"IF(F327=\"Arbeitgeberähnliche Stellung\",OFFSET(MD!$Q$5,MATCH(Grundlagen_Abrechnung_KAE!$AK$7,MD_JAHR,0),0)*$H327,IF(J327>0,AC327,I327))","v":{"v":0,"d":"0.00"}},null,{"$f":"OFFSET(MD!$P$5,MATCH($AK$7,MD_JAHR,0),0)*12","v":{"$error":"#VALUE!"}},{"v":0,"d":"0.00"}]
[{"$nulls":14},{"$f":"IF($B328=\"\",\"\",IF(F328=\"Arbeitgeberähnliche Stellung\",OFFSET(MD!$Q$5,MATCH(Grundlagen_Abrechnung_KAE!$AK$7,MD_JAHR,0),0)*$H328,IF(((AD328/12*M328*12)+N328)>AF328,AF328/12,((AD328/12*M328*12)+N328)/12)))","v":""},null,null,{"v":0,"d":"0.00"},null,{"v":0,"d":"0.00%"},{"v":0,"d":"0.00"},{"v":0,"d":"0.00"},{"v":0,"d":"0.00"},null,"prüfen",{"$f":"IFERROR(OFFSET(MD!$U$5,MATCH(Grundlagen_Abrechnung_KAE!$E328,MD_GENDER,0),0),\"\")","v":""},{"v":0,"d":"0.00"},null,{"v":0,"d":"0.00"},{"$f":"IF(F328=\"Arbeitgeberähnliche Stellung\",OFFSET(MD!$Q$5,MATCH(Grundlagen_Abrechnung_KAE!$AK$7,MD_JAHR,0),0)*$H328,IF(J328>0,AC328,I328))","v":{"v":0,"d":"0.00"}},null,{"$f":"OFFSET(MD!$P$5,MATCH($AK$7,MD_JAHR,0),0)*12","v":{"$error":"#VALUE!"}},{"v":0,"d":"0.00"}]
[{"$nulls":14},{"$f":"IF($B329=\"\",\"\",IF(F329=\"Arbeitgeberähnliche Stellung\",OFFSET(MD!$Q$5,MATCH(Grundlagen_Abrechnung_KAE!$AK$7,MD_JAHR,0),0)*$H329,IF(((AD329/12*M329*12)+N329)>AF329,AF329/12,((AD329/12*M329*12)+N329)/12)))","v":""},null,null,{"v":0,"d":"0.00"},null,{"v":0,"d":"0.00%"},{"v":0,"d":"0.00"},{"v":0,"d":"0.00"},{"v":0,"d":"0.00"},null,"prüfen",{"$f":"IFERROR(OFFSET(MD!$U$5,MATCH(Grundlagen_Abrechnung_KAE!$E329,MD_GENDER,0),0),\"\")","v":""},{"v":0,"d":"0.00"},null,{"v":0,"d":"0.00"},{"$f":"IF(F329=\"Arbeitgeberähnliche Stellung\",OFFSET(MD!$Q$5,MATCH(Grundlagen_Abrechnung_KAE!$AK$7,MD_JAHR,0),0)*$H329,IF(J329>0,AC329,I329))","v":{"v":0,"d":"0.00"}},null,{"$f":"OFFSET(MD!$P$5,MATCH($AK$7,MD_JAHR,0),0)*12","v":{"$error":"#VALUE!"}},{"v":0,"d":"0.00"}]
[{"$nulls":14},{"$f":"IF($B330=\"\",\"\",IF(F330=\"Arbeitgeberähnliche Stellung\",OFFSET(MD!$Q$5,MATCH(Grundlagen_Abrechnung_KAE!$AK$7,MD_JAHR,0),0)*$H330,IF(((AD330/12*M330*12)+N330)>AF330,AF330/12,((AD330/12*M330*12)+N330)/12)))","v":""},null,null,{"v":0,"d":"0.00"},null,{"v":0,"d":"0.00%"},{"v":0,"d":"0.00"},{"v":0,"d":"0.00"},{"v":0,"d":"0.00"},null,"prüfen",{"$f":"IFERROR(OFFSET(MD!$U$5,MATCH(Grundlagen_Abrechnung_KAE!$E330,MD_GENDER,0),0),\"\")","v":""},{"v":0,"d":"0.00"},null,{"v":0,"d":"0.00"},{"$f":"IF(F330=\"Arbeitgeberähnliche Stellung\",OFFSET(MD!$Q$5,MATCH(Grundlagen_Abrechnung_KAE!$AK$7,MD_JAHR,0),0)*$H330,IF(J330>0,AC330,I330))","v":{"v":0,"d":"0.00"}},null,{"$f":"OFFSET(MD!$P$5,MATCH($AK$7,MD_JAHR,0),0)*12","v":{"$error":"#VALUE!"}},{"v":0,"d":"0.00"}]
[{"$nulls":14},{"$f":"IF($B331=\"\",\"\",IF(F331=\"Arbeitgeberähnliche Stellung\",OFFSET(MD!$Q$5,MATCH(Grundlagen_Abrechnung_KAE!$AK$7,MD_JAHR,0),0)*$H331,IF(((AD331/12*M331*12)+N331)>AF331,AF331/12,((AD331/12*M331*12)+N331)/12)))","v":""},null,null,{"v":0,"d":"0.00"},null,{"v":0,"d":"0.00%"},{"v":0,"d":"0.00"},{"v":0,"d":"0.00"},{"v":0,"d":"0.00"},null,"prüfen",{"$f":"IFERROR(OFFSET(MD!$U$5,MATCH(Grundlagen_Abrechnung_KAE!$E331,MD_GENDER,0),0),\"\")","v":""},{"v":0,"d":"0.00"},null,{"v":0,"d":"0.00"},{"$f":"IF(F331=\"Arbeitgeberähnliche Stellung\",OFFSET(MD!$Q$5,MATCH(Grundlagen_Abrechnung_KAE!$AK$7,MD_JAHR,0),0)*$H331,IF(J331>0,AC331,I331))","v":{"v":0,"d":"0.00"}},null,{"$f":"OFFSET(MD!$P$5,MATCH($AK$7,MD_JAHR,0),0)*12","v":{"$error":"#VALUE!"}},{"v":0,"d":"0.00"}]
[{"$nulls":14},{"$f":"IF($B332=\"\",\"\",IF(F332=\"Arbeitgeberähnliche Stellung\",OFFSET(MD!$Q$5,MATCH(Grundlagen_Abrechnung_KAE!$AK$7,MD_JAHR,0),0)*$H332,IF(((AD332/12*M332*12)+N332)>AF332,AF332/12,((AD332/12*M332*12)+N332)/12)))","v":""},null,null,{"v":0,"d":"0.00"},null,{"v":0,"d":"0.00%"},{"v":0,"d":"0.00"},{"v":0,"d":"0.00"},{"v":0,"d":"0.00"},null,"prüfen",{"$f":"IFERROR(OFFSET(MD!$U$5,MATCH(Grundlagen_Abrechnung_KAE!$E332,MD_GENDER,0),0),\"\")","v":""},{"v":0,"d":"0.00"},null,{"v":0,"d":"0.00"},{"$f":"IF(F332=\"Arbeitgeberähnliche Stellung\",OFFSET(MD!$Q$5,MATCH(Grundlagen_Abrechnung_KAE!$AK$7,MD_JAHR,0),0)*$H332,IF(J332>0,AC332,I332))","v":{"v":0,"d":"0.00"}},null,{"$f":"OFFSET(MD!$P$5,MATCH($AK$7,MD_JAHR,0),0)*12","v":{"$error":"#VALUE!"}},{"v":0,"d":"0.00"}]
[{"$nulls":14},{"$f":"IF($B333=\"\",\"\",IF(F333=\"Arbeitgeberähnliche Stellung\",OFFSET(MD!$Q$5,MATCH(Grundlagen_Abrechnung_KAE!$AK$7,MD_JAHR,0),0)*$H333,IF(((AD333/12*M333*12)+N333)>AF333,AF333/12,((AD333/12*M333*12)+N333)/12)))","v":""},null,null,{"v":0,"d":"0.00"},null,{"v":0,"d":"0.00%"},{"v":0,"d":"0.00"},{"v":0,"d":"0.00"},{"v":0,"d":"0.00"},null,"prüfen",{"$f":"IFERROR(OFFSET(MD!$U$5,MATCH(Grundlagen_Abrechnung_KAE!$E333,MD_GENDER,0),0),\"\")","v":""},{"v":0,"d":"0.00"},null,{"v":0,"d":"0.00"},{"$f":"IF(F333=\"Arbeitgeberähnliche Stellung\",OFFSET(MD!$Q$5,MATCH(Grundlagen_Abrechnung_KAE!$AK$7,MD_JAHR,0),0)*$H333,IF(J333>0,AC333,I333))","v":{"v":0,"d":"0.00"}},null,{"$f":"OFFSET(MD!$P$5,MATCH($AK$7,MD_JAHR,0),0)*12","v":{"$error":"#VALUE!"}},{"v":0,"d":"0.00"}]
[{"$nulls":14},{"$f":"IF($B334=\"\",\"\",IF(F334=\"Arbeitgeberähnliche Stellung\",OFFSET(MD!$Q$5,MATCH(Grundlagen_Abrechnung_KAE!$AK$7,MD_JAHR,0),0)*$H334,IF(((AD334/12*M334*12)+N334)>AF334,AF334/12,((AD334/12*M334*12)+N334)/12)))","v":""},null,null,{"v":0,"d":"0.00"},null,{"v":0,"d":"0.00%"},{"v":0,"d":"0.00"},{"v":0,"d":"0.00"},{"v":0,"d":"0.00"},null,"prüfen",{"$f":"IFERROR(OFFSET(MD!$U$5,MATCH(Grundlagen_Abrechnung_KAE!$E334,MD_GENDER,0),0),\"\")","v":""},{"v":0,"d":"0.00"},null,{"v":0,"d":"0.00"},{"$f":"IF(F334=\"Arbeitgeberähnliche Stellung\",OFFSET(MD!$Q$5,MATCH(Grundlagen_Abrechnung_KAE!$AK$7,MD_JAHR,0),0)*$H334,IF(J334>0,AC334,I334))","v":{"v":0,"d":"0.00"}},null,{"$f":"OFFSET(MD!$P$5,MATCH($AK$7,MD_JAHR,0),0)*12","v":{"$error":"#VALUE!"}},{"v":0,"d":"0.00"}]
[{"$nulls":14},{"$f":"IF($B335=\"\",\"\",IF(F335=\"Arbeitgeberähnliche Stellung\",OFFSET(MD!$Q$5,MATCH(Grundlagen_Abrechnung_KAE!$AK$7,MD_JAHR,0),0)*$H335,IF(((AD335/12*M335*12)+N335)>AF335,AF335/12,((AD335/12*M335*12)+N335)/12)))","v":""},null,null,{"v":0,"d":"0.00"},null,{"v":0,"d":"0.00%"},{"v":0,"d":"0.00"},{"v":0,"d":"0.00"},{"v":0,"d":"0.00"},null,"prüfen",{"$f":"IFERROR(OFFSET(MD!$U$5,MATCH(Grundlagen_Abrechnung_KAE!$E335,MD_GENDER,0),0),\"\")","v":""},{"v":0,"d":"0.00"},null,{"v":0,"d":"0.00"},{"$f":"IF(F335=\"Arbeitgeberähnliche Stellung\",OFFSET(MD!$Q$5,MATCH(Grundlagen_Abrechnung_KAE!$AK$7,MD_JAHR,0),0)*$H335,IF(J335>0,AC335,I335))","v":{"v":0,"d":"0.00"}},null,{"$f":"OFFSET(MD!$P$5,MATCH($AK$7,MD_JAHR,0),0)*12","v":{"$error":"#VALUE!"}},{"v":0,"d":"0.00"}]
[{"$nulls":14},{"$f":"IF($B336=\"\",\"\",IF(F336=\"Arbeitgeberähnliche Stellung\",OFFSET(MD!$Q$5,MATCH(Grundlagen_Abrechnung_KAE!$AK$7,MD_JAHR,0),0)*$H336,IF(((AD336/12*M336*12)+N336)>AF336,AF336/12,((AD336/12*M336*12)+N336)/12)))","v":""},null,null,{"v":0,"d":"0.00"},null,{"v":0,"d":"0.00%"},{"v":0,"d":"0.00"},{"v":0,"d":"0.00"},{"v":0,"d":"0.00"},null,"prüfen",{"$f":"IFERROR(OFFSET(MD!$U$5,MATCH(Grundlagen_Abrechnung_KAE!$E336,MD_GENDER,0),0),\"\")","v":""},{"v":0,"d":"0.00"},null,{"v":0,"d":"0.00"},{"$f":"IF(F336=\"Arbeitgeberähnliche Stellung\",OFFSET(MD!$Q$5,MATCH(Grundlagen_Abrechnung_KAE!$AK$7,MD_JAHR,0),0)*$H336,IF(J336>0,AC336,I336))","v":{"v":0,"d":"0.00"}},null,{"$f":"OFFSET(MD!$P$5,MATCH($AK$7,MD_JAHR,0),0)*12","v":{"$error":"#VALUE!"}},{"v":0,"d":"0.00"}]
[{"$nulls":14},{"$f":"IF($B337=\"\",\"\",IF(F337=\"Arbeitgeberähnliche Stellung\",OFFSET(MD!$Q$5,MATCH(Grundlagen_Abrechnung_KAE!$AK$7,MD_JAHR,0),0)*$H337,IF(((AD337/12*M337*12)+N337)>AF337,AF337/12,((AD337/12*M337*12)+N337)/12)))","v":""},null,null,{"v":0,"d":"0.00"},null,{"v":0,"d":"0.00%"},{"v":0,"d":"0.00"},{"v":0,"d":"0.00"},{"v":0,"d":"0.00"},null,"prüfen",{"$f":"IFERROR(OFFSET(MD!$U$5,MATCH(Grundlagen_Abrechnung_KAE!$E337,MD_GENDER,0),0),\"\")","v":""},{"v":0,"d":"0.00"},null,{"v":0,"d":"0.00"},{"$f":"IF(F337=\"Arbeitgeberähnliche Stellung\",OFFSET(MD!$Q$5,MATCH(Grundlagen_Abrechnung_KAE!$AK$7,MD_JAHR,0),0)*$H337,IF(J337>0,AC337,I337))","v":{"v":0,"d":"0.00"}},null,{"$f":"OFFSET(MD!$P$5,MATCH($AK$7,MD_JAHR,0),0)*12","v":{"$error":"#VALUE!"}},{"v":0,"d":"0.00"}]
[{"$nulls":14},{"$f":"IF($B338=\"\",\"\",IF(F338=\"Arbeitgeberähnliche Stellung\",OFFSET(MD!$Q$5,MATCH(Grundlagen_Abrechnung_KAE!$AK$7,MD_JAHR,0),0)*$H338,IF(((AD338/12*M338*12)+N338)>AF338,AF338/12,((AD338/12*M338*12)+N338)/12)))","v":""},null,null,{"v":0,"d":"0.00"},null,{"v":0,"d":"0.00%"},{"v":0,"d":"0.00"},{"v":0,"d":"0.00"},{"v":0,"d":"0.00"},null,"prüfen",{"$f":"IFERROR(OFFSET(MD!$U$5,MATCH(Grundlagen_Abrechnung_KAE!$E338,MD_GENDER,0),0),\"\")","v":""},{"v":0,"d":"0.00"},null,{"v":0,"d":"0.00"},{"$f":"IF(F338=\"Arbeitgeberähnliche Stellung\",OFFSET(MD!$Q$5,MATCH(Grundlagen_Abrechnung_KAE!$AK$7,MD_JAHR,0),0)*$H338,IF(J338>0,AC338,I338))","v":{"v":0,"d":"0.00"}},null,{"$f":"OFFSET(MD!$P$5,MATCH($AK$7,MD_JAHR,0),0)*12","v":{"$error":"#VALUE!"}},{"v":0,"d":"0.00"}]
[{"$nulls":14},{"$f":"IF($B339=\"\",\"\",IF(F339=\"Arbeitgeberähnliche Stellung\",OFFSET(MD!$Q$5,MATCH(Grundlagen_Abrechnung_KAE!$AK$7,MD_JAHR,0),0)*$H339,IF(((AD339/12*M339*12)+N339)>AF339,AF339/12,((AD339/12*M339*12)+N339)/12)))","v":""},null,null,{"$f":"ROUND(IF(Q339=\"\",0,IF(P339=0,0,IF(Q339>P339,0,P339-Q339))),2)","v":{"v":0,"d":"0.00"}},null,{"$f":"IFERROR(R339/P339,0)","v":{"v":0,"d":"0.00%"}},{"$f":"IFERROR(IF(O339-W339=0,O339,(O339)*(1-T339)),0)","v":{"v":0,"d":"0.00"}},{"v":0,"d":"0.00"},{"$f":"IFERROR(O339*T339,0)*0.8","v":{"v":0,"d":"0.00"}},null,{"$f":"IF(YEAR($G339)>$Y$16,\"prüfen\",\"\")","v":"prüfen"},{"$f":"IFERROR(OFFSET(MD!$U$5,MATCH(Grundlagen_Abrechnung_KAE!$E339,MD_GENDER,0),0),\"\")","v":""},{"$f":"IF(B339=\"\",0,IF(YEAR(G339)>$AA$16,0,1))","v":{"v":0,"d":"0.00"}},null,{"$f":"IF(J339*K339/6>J339*L339/12,J339*K339/6,J339*L339/12)","v":{"v":0,"d":"0.00"}},{"$f":"IF(F339=\"Arbeitgeberähnliche Stellung\",OFFSET(MD!$Q$5,MATCH(Grundlagen_Abrechnung_KAE!$AK$7,MD_JAHR,0),0)*$H339,IF(J339>0,AC339,I339))","v":{"v":0,"d":"0.00"}},null,{"$f":"OFFSET(MD!$P$5,MATCH($AK$7,MD_JAHR,0),0)*12","v":{"$error":"#VALUE!"}},{"$f":"I339*M339+N339","v":{"v":0,"d":"0.00"}}]
[{"$nulls":14},{"$f":"IF($B340=\"\",\"\",IF(F340=\"Arbeitgeberähnliche Stellung\",OFFSET(MD!$Q$5,MATCH(Grundlagen_Abrechnung_KAE!$AK$7,MD_JAHR,0),0)*$H340,IF(((AD340/12*M340*12)+N340)>AF340,AF340/12,((AD340/12*M340*12)+N340)/12)))","v":""},null,null,{"v":0,"d":"0.00"},null,{"v":0,"d":"0.00%"},{"v":0,"d":"0.00"},{"$f":"IFERROR(O340*T340,0)","v":{"v":0,"d":"0.00"}},{"v":0,"d":"0.00"},null,"prüfen",{"$f":"IFERROR(OFFSET(MD!$U$5,MATCH(Grundlagen_Abrechnung_KAE!$E340,MD_GENDER,0),0),\"\")","v":""},{"v":0,"d":"0.00"},null,{"v":0,"d":"0.00"},{"$f":"IF(F340=\"Arbeitgeberähnliche Stellung\",OFFSET(MD!$Q$5,MATCH(Grundlagen_Abrechnung_KAE!$AK$7,MD_JAHR,0),0)*$H340,IF(J340>0,AC340,I340))","v":{"v":0,"d":"0.00"}},null,{"$f":"OFFSET(MD!$P$5,MATCH($AK$7,MD_JAHR,0),0)*12","v":{"$error":"#VALUE!"}},{"v":0,"d":"0.00"}]
[{"$nulls":14},{"$f":"IF($B341=\"\",\"\",IF(F341=\"Arbeitgeberähnliche Stellung\",OFFSET(MD!$Q$5,MATCH(Grundlagen_Abrechnung_KAE!$AK$7,MD_JAHR,0),0)*$H341,IF(((AD341/12*M341*12)+N341)>AF341,AF341/12,((AD341/12*M341*12)+N341)/12)))","v":""},null,null,{"v":0,"d":"0.00"},null,{"v":0,"d":"0.00%"},{"v":0,"d":"0.00"},{"v":0,"d":"0.00"},{"v":0,"d":"0.00"},null,"prüfen",{"$f":"IFERROR(OFFSET(MD!$U$5,MATCH(Grundlagen_Abrechnung_KAE!$E341,MD_GENDER,0),0),\"\")","v":""},{"v":0,"d":"0.00"},null,{"v":0,"d":"0.00"},{"$f":"IF(F341=\"Arbeitgeberähnliche Stellung\",OFFSET(MD!$Q$5,MATCH(Grundlagen_Abrechnung_KAE!$AK$7,MD_JAHR,0),0)*$H341,IF(J341>0,AC341,I341))","v":{"v":0,"d":"0.00"}},null,{"$f":"OFFSET(MD!$P$5,MATCH($AK$7,MD_JAHR,0),0)*12","v":{"$error":"#VALUE!"}},{"v":0,"d":"0.00"}]
[{"$nulls":14},{"$f":"IF($B342=\"\",\"\",IF(F342=\"Arbeitgeberähnliche Stellung\",OFFSET(MD!$Q$5,MATCH(Grundlagen_Abrechnung_KAE!$AK$7,MD_JAHR,0),0)*$H342,IF(((AD342/12*M342*12)+N342)>AF342,AF342/12,((AD342/12*M342*12)+N342)/12)))","v":""},null,null,{"v":0,"d":"0.00"},null,{"v":0,"d":"0.00%"},{"v":0,"d":"0.00"},{"v":0,"d":"0.00"},{"v":0,"d":"0.00"},null,"prüfen",{"$f":"IFERROR(OFFSET(MD!$U$5,MATCH(Grundlagen_Abrechnung_KAE!$E342,MD_GENDER,0),0),\"\")","v":""},{"v":0,"d":"0.00"},null,{"v":0,"d":"0.00"},{"$f":"IF(F342=\"Arbeitgeberähnliche Stellung\",OFFSET(MD!$Q$5,MATCH(Grundlagen_Abrechnung_KAE!$AK$7,MD_JAHR,0),0)*$H342,IF(J342>0,AC342,I342))","v":{"v":0,"d":"0.00"}},null,{"$f":"OFFSET(MD!$P$5,MATCH($AK$7,MD_JAHR,0),0)*12","v":{"$error":"#VALUE!"}},{"v":0,"d":"0.00"}]
[{"$nulls":14},{"$f":"IF($B343=\"\",\"\",IF(F343=\"Arbeitgeberähnliche Stellung\",OFFSET(MD!$Q$5,MATCH(Grundlagen_Abrechnung_KAE!$AK$7,MD_JAHR,0),0)*$H343,IF(((AD343/12*M343*12)+N343)>AF343,AF343/12,((AD343/12*M343*12)+N343)/12)))","v":""},null,null,{"v":0,"d":"0.00"},null,{"v":0,"d":"0.00%"},{"v":0,"d":"0.00"},{"v":0,"d":"0.00"},{"v":0,"d":"0.00"},null,"prüfen",{"$f":"IFERROR(OFFSET(MD!$U$5,MATCH(Grundlagen_Abrechnung_KAE!$E343,MD_GENDER,0),0),\"\")","v":""},{"v":0,"d":"0.00"},null,{"v":0,"d":"0.00"},{"$f":"IF(F343=\"Arbeitgeberähnliche Stellung\",OFFSET(MD!$Q$5,MATCH(Grundlagen_Abrechnung_KAE!$AK$7,MD_JAHR,0),0)*$H343,IF(J343>0,AC343,I343))","v":{"v":0,"d":"0.00"}},null,{"$f":"OFFSET(MD!$P$5,MATCH($AK$7,MD_JAHR,0),0)*12","v":{"$error":"#VALUE!"}},{"v":0,"d":"0.00"}]
[{"$nulls":14},{"$f":"IF($B344=\"\",\"\",IF(F344=\"Arbeitgeberähnliche Stellung\",OFFSET(MD!$Q$5,MATCH(Grundlagen_Abrechnung_KAE!$AK$7,MD_JAHR,0),0)*$H344,IF(((AD344/12*M344*12)+N344)>AF344,AF344/12,((AD344/12*M344*12)+N344)/12)))","v":""},null,null,{"v":0,"d":"0.00"},null,{"v":0,"d":"0.00%"},{"v":0,"d":"0.00"},{"v":0,"d":"0.00"},{"v":0,"d":"0.00"},null,"prüfen",{"$f":"IFERROR(OFFSET(MD!$U$5,MATCH(Grundlagen_Abrechnung_KAE!$E344,MD_GENDER,0),0),\"\")","v":""},{"v":0,"d":"0.00"},null,{"v":0,"d":"0.00"},{"$f":"IF(F344=\"Arbeitgeberähnliche Stellung\",OFFSET(MD!$Q$5,MATCH(Grundlagen_Abrechnung_KAE!$AK$7,MD_JAHR,0),0)*$H344,IF(J344>0,AC344,I344))","v":{"v":0,"d":"0.00"}},null,{"$f":"OFFSET(MD!$P$5,MATCH($AK$7,MD_JAHR,0),0)*12","v":{"$error":"#VALUE!"}},{"v":0,"d":"0.00"}]
[{"$nulls":14},{"$f":"IF($B345=\"\",\"\",IF(F345=\"Arbeitgeberähnliche Stellung\",OFFSET(MD!$Q$5,MATCH(Grundlagen_Abrechnung_KAE!$AK$7,MD_JAHR,0),0)*$H345,IF(((AD345/12*M345*12)+N345)>AF345,AF345/12,((AD345/12*M345*12)+N345)/12)))","v":""},null,null,{"v":0,"d":"0.00"},null,{"v":0,"d":"0.00%"},{"v":0,"d":"0.00"},{"v":0,"d":"0.00"},{"v":0,"d":"0.00"},null,"prüfen",{"$f":"IFERROR(OFFSET(MD!$U$5,MATCH(Grundlagen_Abrechnung_KAE!$E345,MD_GENDER,0),0),\"\")","v":""},{"v":0,"d":"0.00"},null,{"v":0,"d":"0.00"},{"$f":"IF(F345=\"Arbeitgeberähnliche Stellung\",OFFSET(MD!$Q$5,MATCH(Grundlagen_Abrechnung_KAE!$AK$7,MD_JAHR,0),0)*$H345,IF(J345>0,AC345,I345))","v":{"v":0,"d":"0.00"}},null,{"$f":"OFFSET(MD!$P$5,MATCH($AK$7,MD_JAHR,0),0)*12","v":{"$error":"#VALUE!"}},{"v":0,"d":"0.00"}]
[{"$nulls":14},{"$f":"IF($B346=\"\",\"\",IF(F346=\"Arbeitgeberähnliche Stellung\",OFFSET(MD!$Q$5,MATCH(Grundlagen_Abrechnung_KAE!$AK$7,MD_JAHR,0),0)*$H346,IF(((AD346/12*M346*12)+N346)>AF346,AF346/12,((AD346/12*M346*12)+N346)/12)))","v":""},null,null,{"v":0,"d":"0.00"},null,{"v":0,"d":"0.00%"},{"v":0,"d":"0.00"},{"v":0,"d":"0.00"},{"v":0,"d":"0.00"},null,"prüfen",{"$f":"IFERROR(OFFSET(MD!$U$5,MATCH(Grundlagen_Abrechnung_KAE!$E346,MD_GENDER,0),0),\"\")","v":""},{"v":0,"d":"0.00"},null,{"v":0,"d":"0.00"},{"$f":"IF(F346=\"Arbeitgeberähnliche Stellung\",OFFSET(MD!$Q$5,MATCH(Grundlagen_Abrechnung_KAE!$AK$7,MD_JAHR,0),0)*$H346,IF(J346>0,AC346,I346))","v":{"v":0,"d":"0.00"}},null,{"$f":"OFFSET(MD!$P$5,MATCH($AK$7,MD_JAHR,0),0)*12","v":{"$error":"#VALUE!"}},{"v":0,"d":"0.00"}]
[{"$nulls":14},{"$f":"IF($B347=\"\",\"\",IF(F347=\"Arbeitgeberähnliche Stellung\",OFFSET(MD!$Q$5,MATCH(Grundlagen_Abrechnung_KAE!$AK$7,MD_JAHR,0),0)*$H347,IF(((AD347/12*M347*12)+N347)>AF347,AF347/12,((AD347/12*M347*12)+N347)/12)))","v":""},null,null,{"v":0,"d":"0.00"},null,{"v":0,"d":"0.00%"},{"v":0,"d":"0.00"},{"v":0,"d":"0.00"},{"v":0,"d":"0.00"},null,"prüfen",{"$f":"IFERROR(OFFSET(MD!$U$5,MATCH(Grundlagen_Abrechnung_KAE!$E347,MD_GENDER,0),0),\"\")","v":""},{"v":0,"d":"0.00"},null,{"v":0,"d":"0.00"},{"$f":"IF(F347=\"Arbeitgeberähnliche Stellung\",OFFSET(MD!$Q$5,MATCH(Grundlagen_Abrechnung_KAE!$AK$7,MD_JAHR,0),0)*$H347,IF(J347>0,AC347,I347))","v":{"v":0,"d":"0.00"}},null,{"$f":"OFFSET(MD!$P$5,MATCH($AK$7,MD_JAHR,0),0)*12","v":{"$error":"#VALUE!"}},{"v":0,"d":"0.00"}]
[{"$nulls":14},{"$f":"IF($B348=\"\",\"\",IF(F348=\"Arbeitgeberähnliche Stellung\",OFFSET(MD!$Q$5,MATCH(Grundlagen_Abrechnung_KAE!$AK$7,MD_JAHR,0),0)*$H348,IF(((AD348/12*M348*12)+N348)>AF348,AF348/12,((AD348/12*M348*12)+N348)/12)))","v":""},null,null,{"v":0,"d":"0.00"},null,{"v":0,"d":"0.00%"},{"v":0,"d":"0.00"},{"v":0,"d":"0.00"},{"v":0,"d":"0.00"},null,"prüfen",{"$f":"IFERROR(OFFSET(MD!$U$5,MATCH(Grundlagen_Abrechnung_KAE!$E348,MD_GENDER,0),0),\"\")","v":""},{"v":0,"d":"0.00"},null,{"v":0,"d":"0.00"},{"$f":"IF(F348=\"Arbeitgeberähnliche Stellung\",OFFSET(MD!$Q$5,MATCH(Grundlagen_Abrechnung_KAE!$AK$7,MD_JAHR,0),0)*$H348,IF(J348>0,AC348,I348))","v":{"v":0,"d":"0.00"}},null,{"$f":"OFFSET(MD!$P$5,MATCH($AK$7,MD_JAHR,0),0)*12","v":{"$error":"#VALUE!"}},{"v":0,"d":"0.00"}]
[{"$nulls":14},{"$f":"IF($B349=\"\",\"\",IF(F349=\"Arbeitgeberähnliche Stellung\",OFFSET(MD!$Q$5,MATCH(Grundlagen_Abrechnung_KAE!$AK$7,MD_JAHR,0),0)*$H349,IF(((AD349/12*M349*12)+N349)>AF349,AF349/12,((AD349/12*M349*12)+N349)/12)))","v":""},null,null,{"v":0,"d":"0.00"},null,{"v":0,"d":"0.00%"},{"v":0,"d":"0.00"},{"v":0,"d":"0.00"},{"v":0,"d":"0.00"},null,"prüfen",{"$f":"IFERROR(OFFSET(MD!$U$5,MATCH(Grundlagen_Abrechnung_KAE!$E349,MD_GENDER,0),0),\"\")","v":""},{"v":0,"d":"0.00"},null,{"v":0,"d":"0.00"},{"$f":"IF(F349=\"Arbeitgeberähnliche Stellung\",OFFSET(MD!$Q$5,MATCH(Grundlagen_Abrechnung_KAE!$AK$7,MD_JAHR,0),0)*$H349,IF(J349>0,AC349,I349))","v":{"v":0,"d":"0.00"}},null,{"$f":"OFFSET(MD!$P$5,MATCH($AK$7,MD_JAHR,0),0)*12","v":{"$error":"#VALUE!"}},{"v":0,"d":"0.00"}]
[{"$nulls":14},{"$f":"IF($B350=\"\",\"\",IF(F350=\"Arbeitgeberähnliche Stellung\",OFFSET(MD!$Q$5,MATCH(Grundlagen_Abrechnung_KAE!$AK$7,MD_JAHR,0),0)*$H350,IF(((AD350/12*M350*12)+N350)>AF350,AF350/12,((AD350/12*M350*12)+N350)/12)))","v":""},null,null,{"v":0,"d":"0.00"},null,{"v":0,"d":"0.00%"},{"v":0,"d":"0.00"},{"v":0,"d":"0.00"},{"v":0,"d":"0.00"},null,"prüfen",{"$f":"IFERROR(OFFSET(MD!$U$5,MATCH(Grundlagen_Abrechnung_KAE!$E350,MD_GENDER,0),0),\"\")","v":""},{"v":0,"d":"0.00"},null,{"v":0,"d":"0.00"},{"$f":"IF(F350=\"Arbeitgeberähnliche Stellung\",OFFSET(MD!$Q$5,MATCH(Grundlagen_Abrechnung_KAE!$AK$7,MD_JAHR,0),0)*$H350,IF(J350>0,AC350,I350))","v":{"v":0,"d":"0.00"}},null,{"$f":"OFFSET(MD!$P$5,MATCH($AK$7,MD_JAHR,0),0)*12","v":{"$error":"#VALUE!"}},{"v":0,"d":"0.00"}]
[{"$nulls":14},{"$f":"IF($B351=\"\",\"\",IF(F351=\"Arbeitgeberähnliche Stellung\",OFFSET(MD!$Q$5,MATCH(Grundlagen_Abrechnung_KAE!$AK$7,MD_JAHR,0),0)*$H351,IF(((AD351/12*M351*12)+N351)>AF351,AF351/12,((AD351/12*M351*12)+N351)/12)))","v":""},null,null,{"v":0,"d":"0.00"},null,{"v":0,"d":"0.00%"},{"v":0,"d":"0.00"},{"v":0,"d":"0.00"},{"v":0,"d":"0.00"},null,"prüfen",{"$f":"IFERROR(OFFSET(MD!$U$5,MATCH(Grundlagen_Abrechnung_KAE!$E351,MD_GENDER,0),0),\"\")","v":""},{"v":0,"d":"0.00"},null,{"v":0,"d":"0.00"},{"$f":"IF(F351=\"Arbeitgeberähnliche Stellung\",OFFSET(MD!$Q$5,MATCH(Grundlagen_Abrechnung_KAE!$AK$7,MD_JAHR,0),0)*$H351,IF(J351>0,AC351,I351))","v":{"v":0,"d":"0.00"}},null,{"$f":"OFFSET(MD!$P$5,MATCH($AK$7,MD_JAHR,0),0)*12","v":{"$error":"#VALUE!"}},{"v":0,"d":"0.00"}]
[{"$nulls":14},{"$f":"IF($B352=\"\",\"\",IF(F352=\"Arbeitgeberähnliche Stellung\",OFFSET(MD!$Q$5,MATCH(Grundlagen_Abrechnung_KAE!$AK$7,MD_JAHR,0),0)*$H352,IF(((AD352/12*M352*12)+N352)>AF352,AF352/12,((AD352/12*M352*12)+N352)/12)))","v":""},null,null,{"v":0,"d":"0.00"},null,{"v":0,"d":"0.00%"},{"v":0,"d":"0.00"},{"v":0,"d":"0.00"},{"v":0,"d":"0.00"},null,"prüfen",{"$f":"IFERROR(OFFSET(MD!$U$5,MATCH(Grundlagen_Abrechnung_KAE!$E352,MD_GENDER,0),0),\"\")","v":""},{"v":0,"d":"0.00"},null,{"v":0,"d":"0.00"},{"$f":"IF(F352=\"Arbeitgeberähnliche Stellung\",OFFSET(MD!$Q$5,MATCH(Grundlagen_Abrechnung_KAE!$AK$7,MD_JAHR,0),0)*$H352,IF(J352>0,AC352,I352))","v":{"v":0,"d":"0.00"}},null,{"$f":"OFFSET(MD!$P$5,MATCH($AK$7,MD_JAHR,0),0)*12","v":{"$error":"#VALUE!"}},{"v":0,"d":"0.00"}]
[{"$nulls":14},{"$f":"IF($B353=\"\",\"\",IF(F353=\"Arbeitgeberähnliche Stellung\",OFFSET(MD!$Q$5,MATCH(Grundlagen_Abrechnung_KAE!$AK$7,MD_JAHR,0),0)*$H353,IF(((AD353/12*M353*12)+N353)>AF353,AF353/12,((AD353/12*M353*12)+N353)/12)))","v":""},null,null,{"v":0,"d":"0.00"},null,{"v":0,"d":"0.00%"},{"v":0,"d":"0.00"},{"v":0,"d":"0.00"},{"v":0,"d":"0.00"},null,"prüfen",{"$f":"IFERROR(OFFSET(MD!$U$5,MATCH(Grundlagen_Abrechnung_KAE!$E353,MD_GENDER,0),0),\"\")","v":""},{"v":0,"d":"0.00"},null,{"v":0,"d":"0.00"},{"$f":"IF(F353=\"Arbeitgeberähnliche Stellung\",OFFSET(MD!$Q$5,MATCH(Grundlagen_Abrechnung_KAE!$AK$7,MD_JAHR,0),0)*$H353,IF(J353>0,AC353,I353))","v":{"v":0,"d":"0.00"}},null,{"$f":"OFFSET(MD!$P$5,MATCH($AK$7,MD_JAHR,0),0)*12","v":{"$error":"#VALUE!"}},{"v":0,"d":"0.00"}]
[{"$nulls":14},{"$f":"IF($B354=\"\",\"\",IF(F354=\"Arbeitgeberähnliche Stellung\",OFFSET(MD!$Q$5,MATCH(Grundlagen_Abrechnung_KAE!$AK$7,MD_JAHR,0),0)*$H354,IF(((AD354/12*M354*12)+N354)>AF354,AF354/12,((AD354/12*M354*12)+N354)/12)))","v":""},null,null,{"v":0,"d":"0.00"},null,{"v":0,"d":"0.00%"},{"v":0,"d":"0.00"},{"v":0,"d":"0.00"},{"v":0,"d":"0.00"},null,"prüfen",{"$f":"IFERROR(OFFSET(MD!$U$5,MATCH(Grundlagen_Abrechnung_KAE!$E354,MD_GENDER,0),0),\"\")","v":""},{"v":0,"d":"0.00"},null,{"v":0,"d":"0.00"},{"$f":"IF(F354=\"Arbeitgeberähnliche Stellung\",OFFSET(MD!$Q$5,MATCH(Grundlagen_Abrechnung_KAE!$AK$7,MD_JAHR,0),0)*$H354,IF(J354>0,AC354,I354))","v":{"v":0,"d":"0.00"}},null,{"$f":"OFFSET(MD!$P$5,MATCH($AK$7,MD_JAHR,0),0)*12","v":{"$error":"#VALUE!"}},{"v":0,"d":"0.00"}]
[{"$nulls":14},{"$f":"IF($B355=\"\",\"\",IF(F355=\"Arbeitgeberähnliche Stellung\",OFFSET(MD!$Q$5,MATCH(Grundlagen_Abrechnung_KAE!$AK$7,MD_JAHR,0),0)*$H355,IF(((AD355/12*M355*12)+N355)>AF355,AF355/12,((AD355/12*M355*12)+N355)/12)))","v":""},null,null,{"v":0,"d":"0.00"},null,{"v":0,"d":"0.00%"},{"v":0,"d":"0.00"},{"v":0,"d":"0.00"},{"v":0,"d":"0.00"},null,"prüfen",{"$f":"IFERROR(OFFSET(MD!$U$5,MATCH(Grundlagen_Abrechnung_KAE!$E355,MD_GENDER,0),0),\"\")","v":""},{"v":0,"d":"0.00"},null,{"v":0,"d":"0.00"},{"$f":"IF(F355=\"Arbeitgeberähnliche Stellung\",OFFSET(MD!$Q$5,MATCH(Grundlagen_Abrechnung_KAE!$AK$7,MD_JAHR,0),0)*$H355,IF(J355>0,AC355,I355))","v":{"v":0,"d":"0.00"}},null,{"$f":"OFFSET(MD!$P$5,MATCH($AK$7,MD_JAHR,0),0)*12","v":{"$error":"#VALUE!"}},{"v":0,"d":"0.00"}]
[{"$nulls":14},{"$f":"IF($B356=\"\",\"\",IF(F356=\"Arbeitgeberähnliche Stellung\",OFFSET(MD!$Q$5,MATCH(Grundlagen_Abrechnung_KAE!$AK$7,MD_JAHR,0),0)*$H356,IF(((AD356/12*M356*12)+N356)>AF356,AF356/12,((AD356/12*M356*12)+N356)/12)))","v":""},null,null,{"v":0,"d":"0.00"},null,{"v":0,"d":"0.00%"},{"v":0,"d":"0.00"},{"v":0,"d":"0.00"},{"v":0,"d":"0.00"},null,"prüfen",{"$f":"IFERROR(OFFSET(MD!$U$5,MATCH(Grundlagen_Abrechnung_KAE!$E356,MD_GENDER,0),0),\"\")","v":""},{"v":0,"d":"0.00"},null,{"v":0,"d":"0.00"},{"$f":"IF(F356=\"Arbeitgeberähnliche Stellung\",OFFSET(MD!$Q$5,MATCH(Grundlagen_Abrechnung_KAE!$AK$7,MD_JAHR,0),0)*$H356,IF(J356>0,AC356,I356))","v":{"v":0,"d":"0.00"}},null,{"$f":"OFFSET(MD!$P$5,MATCH($AK$7,MD_JAHR,0),0)*12","v":{"$error":"#VALUE!"}},{"v":0,"d":"0.00"}]
[{"$nulls":14},{"$f":"IF($B357=\"\",\"\",IF(F357=\"Arbeitgeberähnliche Stellung\",OFFSET(MD!$Q$5,MATCH(Grundlagen_Abrechnung_KAE!$AK$7,MD_JAHR,0),0)*$H357,IF(((AD357/12*M357*12)+N357)>AF357,AF357/12,((AD357/12*M357*12)+N357)/12)))","v":""},null,null,{"v":0,"d":"0.00"},null,{"v":0,"d":"0.00%"},{"v":0,"d":"0.00"},{"v":0,"d":"0.00"},{"v":0,"d":"0.00"},null,"prüfen",{"$f":"IFERROR(OFFSET(MD!$U$5,MATCH(Grundlagen_Abrechnung_KAE!$E357,MD_GENDER,0),0),\"\")","v":""},{"v":0,"d":"0.00"},null,{"v":0,"d":"0.00"},{"$f":"IF(F357=\"Arbeitgeberähnliche Stellung\",OFFSET(MD!$Q$5,MATCH(Grundlagen_Abrechnung_KAE!$AK$7,MD_JAHR,0),0)*$H357,IF(J357>0,AC357,I357))","v":{"v":0,"d":"0.00"}},null,{"$f":"OFFSET(MD!$P$5,MATCH($AK$7,MD_JAHR,0),0)*12","v":{"$error":"#VALUE!"}},{"v":0,"d":"0.00"}]
[{"$nulls":14},{"$f":"IF($B358=\"\",\"\",IF(F358=\"Arbeitgeberähnliche Stellung\",OFFSET(MD!$Q$5,MATCH(Grundlagen_Abrechnung_KAE!$AK$7,MD_JAHR,0),0)*$H358,IF(((AD358/12*M358*12)+N358)>AF358,AF358/12,((AD358/12*M358*12)+N358)/12)))","v":""},null,null,{"v":0,"d":"0.00"},null,{"v":0,"d":"0.00%"},{"v":0,"d":"0.00"},{"v":0,"d":"0.00"},{"v":0,"d":"0.00"},null,"prüfen",{"$f":"IFERROR(OFFSET(MD!$U$5,MATCH(Grundlagen_Abrechnung_KAE!$E358,MD_GENDER,0),0),\"\")","v":""},{"v":0,"d":"0.00"},null,{"v":0,"d":"0.00"},{"$f":"IF(F358=\"Arbeitgeberähnliche Stellung\",OFFSET(MD!$Q$5,MATCH(Grundlagen_Abrechnung_KAE!$AK$7,MD_JAHR,0),0)*$H358,IF(J358>0,AC358,I358))","v":{"v":0,"d":"0.00"}},null,{"$f":"OFFSET(MD!$P$5,MATCH($AK$7,MD_JAHR,0),0)*12","v":{"$error":"#VALUE!"}},{"v":0,"d":"0.00"}]
[{"$nulls":14},{"$f":"IF($B359=\"\",\"\",IF(F359=\"Arbeitgeberähnliche Stellung\",OFFSET(MD!$Q$5,MATCH(Grundlagen_Abrechnung_KAE!$AK$7,MD_JAHR,0),0)*$H359,IF(((AD359/12*M359*12)+N359)>AF359,AF359/12,((AD359/12*M359*12)+N359)/12)))","v":""},null,null,{"v":0,"d":"0.00"},null,{"v":0,"d":"0.00%"},{"v":0,"d":"0.00"},{"v":0,"d":"0.00"},{"v":0,"d":"0.00"},null,"prüfen",{"$f":"IFERROR(OFFSET(MD!$U$5,MATCH(Grundlagen_Abrechnung_KAE!$E359,MD_GENDER,0),0),\"\")","v":""},{"v":0,"d":"0.00"},null,{"v":0,"d":"0.00"},{"$f":"IF(F359=\"Arbeitgeberähnliche Stellung\",OFFSET(MD!$Q$5,MATCH(Grundlagen_Abrechnung_KAE!$AK$7,MD_JAHR,0),0)*$H359,IF(J359>0,AC359,I359))","v":{"v":0,"d":"0.00"}},null,{"$f":"OFFSET(MD!$P$5,MATCH($AK$7,MD_JAHR,0),0)*12","v":{"$error":"#VALUE!"}},{"v":0,"d":"0.00"}]
[{"$nulls":14},{"$f":"IF($B360=\"\",\"\",IF(F360=\"Arbeitgeberähnliche Stellung\",OFFSET(MD!$Q$5,MATCH(Grundlagen_Abrechnung_KAE!$AK$7,MD_JAHR,0),0)*$H360,IF(((AD360/12*M360*12)+N360)>AF360,AF360/12,((AD360/12*M360*12)+N360)/12)))","v":""},null,null,{"v":0,"d":"0.00"},null,{"v":0,"d":"0.00%"},{"v":0,"d":"0.00"},{"v":0,"d":"0.00"},{"v":0,"d":"0.00"},null,"prüfen",{"$f":"IFERROR(OFFSET(MD!$U$5,MATCH(Grundlagen_Abrechnung_KAE!$E360,MD_GENDER,0),0),\"\")","v":""},{"v":0,"d":"0.00"},null,{"v":0,"d":"0.00"},{"$f":"IF(F360=\"Arbeitgeberähnliche Stellung\",OFFSET(MD!$Q$5,MATCH(Grundlagen_Abrechnung_KAE!$AK$7,MD_JAHR,0),0)*$H360,IF(J360>0,AC360,I360))","v":{"v":0,"d":"0.00"}},null,{"$f":"OFFSET(MD!$P$5,MATCH($AK$7,MD_JAHR,0),0)*12","v":{"$error":"#VALUE!"}},{"v":0,"d":"0.00"}]
[{"$nulls":14},{"$f":"IF($B361=\"\",\"\",IF(F361=\"Arbeitgeberähnliche Stellung\",OFFSET(MD!$Q$5,MATCH(Grundlagen_Abrechnung_KAE!$AK$7,MD_JAHR,0),0)*$H361,IF(((AD361/12*M361*12)+N361)>AF361,AF361/12,((AD361/12*M361*12)+N361)/12)))","v":""},null,null,{"v":0,"d":"0.00"},null,{"v":0,"d":"0.00%"},{"v":0,"d":"0.00"},{"v":0,"d":"0.00"},{"v":0,"d":"0.00"},null,"prüfen",{"$f":"IFERROR(OFFSET(MD!$U$5,MATCH(Grundlagen_Abrechnung_KAE!$E361,MD_GENDER,0),0),\"\")","v":""},{"v":0,"d":"0.00"},null,{"v":0,"d":"0.00"},{"$f":"IF(F361=\"Arbeitgeberähnliche Stellung\",OFFSET(MD!$Q$5,MATCH(Grundlagen_Abrechnung_KAE!$AK$7,MD_JAHR,0),0)*$H361,IF(J361>0,AC361,I361))","v":{"v":0,"d":"0.00"}},null,{"$f":"OFFSET(MD!$P$5,MATCH($AK$7,MD_JAHR,0),0)*12","v":{"$error":"#VALUE!"}},{"v":0,"d":"0.00"}]
[{"$nulls":14},{"$f":"IF($B362=\"\",\"\",IF(F362=\"Arbeitgeberähnliche Stellung\",OFFSET(MD!$Q$5,MATCH(Grundlagen_Abrechnung_KAE!$AK$7,MD_JAHR,0),0)*$H362,IF(((AD362/12*M362*12)+N362)>AF362,AF362/12,((AD362/12*M362*12)+N362)/12)))","v":""},null,null,{"v":0,"d":"0.00"},null,{"v":0,"d":"0.00%"},{"v":0,"d":"0.00"},{"v":0,"d":"0.00"},{"v":0,"d":"0.00"},null,"prüfen",{"$f":"IFERROR(OFFSET(MD!$U$5,MATCH(Grundlagen_Abrechnung_KAE!$E362,MD_GENDER,0),0),\"\")","v":""},{"v":0,"d":"0.00"},null,{"v":0,"d":"0.00"},{"$f":"IF(F362=\"Arbeitgeberähnliche Stellung\",OFFSET(MD!$Q$5,MATCH(Grundlagen_Abrechnung_KAE!$AK$7,MD_JAHR,0),0)*$H362,IF(J362>0,AC362,I362))","v":{"v":0,"d":"0.00"}},null,{"$f":"OFFSET(MD!$P$5,MATCH($AK$7,MD_JAHR,0),0)*12","v":{"$error":"#VALUE!"}},{"v":0,"d":"0.00"}]
[{"$nulls":14},{"$f":"IF($B363=\"\",\"\",IF(F363=\"Arbeitgeberähnliche Stellung\",OFFSET(MD!$Q$5,MATCH(Grundlagen_Abrechnung_KAE!$AK$7,MD_JAHR,0),0)*$H363,IF(((AD363/12*M363*12)+N363)>AF363,AF363/12,((AD363/12*M363*12)+N363)/12)))","v":""},null,null,{"v":0,"d":"0.00"},null,{"v":0,"d":"0.00%"},{"v":0,"d":"0.00"},{"v":0,"d":"0.00"},{"v":0,"d":"0.00"},null,"prüfen",{"$f":"IFERROR(OFFSET(MD!$U$5,MATCH(Grundlagen_Abrechnung_KAE!$E363,MD_GENDER,0),0),\"\")","v":""},{"v":0,"d":"0.00"},null,{"v":0,"d":"0.00"},{"$f":"IF(F363=\"Arbeitgeberähnliche Stellung\",OFFSET(MD!$Q$5,MATCH(Grundlagen_Abrechnung_KAE!$AK$7,MD_JAHR,0),0)*$H363,IF(J363>0,AC363,I363))","v":{"v":0,"d":"0.00"}},null,{"$f":"OFFSET(MD!$P$5,MATCH($AK$7,MD_JAHR,0),0)*12","v":{"$error":"#VALUE!"}},{"v":0,"d":"0.00"}]
[{"$nulls":14},{"$f":"IF($B364=\"\",\"\",IF(F364=\"Arbeitgeberähnliche Stellung\",OFFSET(MD!$Q$5,MATCH(Grundlagen_Abrechnung_KAE!$AK$7,MD_JAHR,0),0)*$H364,IF(((AD364/12*M364*12)+N364)>AF364,AF364/12,((AD364/12*M364*12)+N364)/12)))","v":""},null,null,{"v":0,"d":"0.00"},null,{"v":0,"d":"0.00%"},{"v":0,"d":"0.00"},{"v":0,"d":"0.00"},{"v":0,"d":"0.00"},null,"prüfen",{"$f":"IFERROR(OFFSET(MD!$U$5,MATCH(Grundlagen_Abrechnung_KAE!$E364,MD_GENDER,0),0),\"\")","v":""},{"v":0,"d":"0.00"},null,{"v":0,"d":"0.00"},{"$f":"IF(F364=\"Arbeitgeberähnliche Stellung\",OFFSET(MD!$Q$5,MATCH(Grundlagen_Abrechnung_KAE!$AK$7,MD_JAHR,0),0)*$H364,IF(J364>0,AC364,I364))","v":{"v":0,"d":"0.00"}},null,{"$f":"OFFSET(MD!$P$5,MATCH($AK$7,MD_JAHR,0),0)*12","v":{"$error":"#VALUE!"}},{"v":0,"d":"0.00"}]
[{"$nulls":14},{"$f":"IF($B365=\"\",\"\",IF(F365=\"Arbeitgeberähnliche Stellung\",OFFSET(MD!$Q$5,MATCH(Grundlagen_Abrechnung_KAE!$AK$7,MD_JAHR,0),0)*$H365,IF(((AD365/12*M365*12)+N365)>AF365,AF365/12,((AD365/12*M365*12)+N365)/12)))","v":""},null,null,{"v":0,"d":"0.00"},null,{"v":0,"d":"0.00%"},{"v":0,"d":"0.00"},{"v":0,"d":"0.00"},{"v":0,"d":"0.00"},null,"prüfen",{"$f":"IFERROR(OFFSET(MD!$U$5,MATCH(Grundlagen_Abrechnung_KAE!$E365,MD_GENDER,0),0),\"\")","v":""},{"v":0,"d":"0.00"},null,{"v":0,"d":"0.00"},{"$f":"IF(F365=\"Arbeitgeberähnliche Stellung\",OFFSET(MD!$Q$5,MATCH(Grundlagen_Abrechnung_KAE!$AK$7,MD_JAHR,0),0)*$H365,IF(J365>0,AC365,I365))","v":{"v":0,"d":"0.00"}},null,{"$f":"OFFSET(MD!$P$5,MATCH($AK$7,MD_JAHR,0),0)*12","v":{"$error":"#VALUE!"}},{"v":0,"d":"0.00"}]
[{"$nulls":14},{"$f":"IF($B366=\"\",\"\",IF(F366=\"Arbeitgeberähnliche Stellung\",OFFSET(MD!$Q$5,MATCH(Grundlagen_Abrechnung_KAE!$AK$7,MD_JAHR,0),0)*$H366,IF(((AD366/12*M366*12)+N366)>AF366,AF366/12,((AD366/12*M366*12)+N366)/12)))","v":""},null,null,{"v":0,"d":"0.00"},null,{"v":0,"d":"0.00%"},{"v":0,"d":"0.00"},{"v":0,"d":"0.00"},{"v":0,"d":"0.00"},null,"prüfen",{"$f":"IFERROR(OFFSET(MD!$U$5,MATCH(Grundlagen_Abrechnung_KAE!$E366,MD_GENDER,0),0),\"\")","v":""},{"v":0,"d":"0.00"},null,{"v":0,"d":"0.00"},{"$f":"IF(F366=\"Arbeitgeberähnliche Stellung\",OFFSET(MD!$Q$5,MATCH(Grundlagen_Abrechnung_KAE!$AK$7,MD_JAHR,0),0)*$H366,IF(J366>0,AC366,I366))","v":{"v":0,"d":"0.00"}},null,{"$f":"OFFSET(MD!$P$5,MATCH($AK$7,MD_JAHR,0),0)*12","v":{"$error":"#VALUE!"}},{"v":0,"d":"0.00"}]
[{"$nulls":14},{"$f":"IF($B367=\"\",\"\",IF(F367=\"Arbeitgeberähnliche Stellung\",OFFSET(MD!$Q$5,MATCH(Grundlagen_Abrechnung_KAE!$AK$7,MD_JAHR,0),0)*$H367,IF(((AD367/12*M367*12)+N367)>AF367,AF367/12,((AD367/12*M367*12)+N367)/12)))","v":""},null,null,{"v":0,"d":"0.00"},null,{"v":0,"d":"0.00%"},{"v":0,"d":"0.00"},{"v":0,"d":"0.00"},{"v":0,"d":"0.00"},null,"prüfen",{"$f":"IFERROR(OFFSET(MD!$U$5,MATCH(Grundlagen_Abrechnung_KAE!$E367,MD_GENDER,0),0),\"\")","v":""},{"v":0,"d":"0.00"},null,{"v":0,"d":"0.00"},{"$f":"IF(F367=\"Arbeitgeberähnliche Stellung\",OFFSET(MD!$Q$5,MATCH(Grundlagen_Abrechnung_KAE!$AK$7,MD_JAHR,0),0)*$H367,IF(J367>0,AC367,I367))","v":{"v":0,"d":"0.00"}},null,{"$f":"OFFSET(MD!$P$5,MATCH($AK$7,MD_JAHR,0),0)*12","v":{"$error":"#VALUE!"}},{"v":0,"d":"0.00"}]
[{"$nulls":14},{"$f":"IF($B368=\"\",\"\",IF(F368=\"Arbeitgeberähnliche Stellung\",OFFSET(MD!$Q$5,MATCH(Grundlagen_Abrechnung_KAE!$AK$7,MD_JAHR,0),0)*$H368,IF(((AD368/12*M368*12)+N368)>AF368,AF368/12,((AD368/12*M368*12)+N368)/12)))","v":""},null,null,{"v":0,"d":"0.00"},null,{"v":0,"d":"0.00%"},{"v":0,"d":"0.00"},{"v":0,"d":"0.00"},{"v":0,"d":"0.00"},null,"prüfen",{"$f":"IFERROR(OFFSET(MD!$U$5,MATCH(Grundlagen_Abrechnung_KAE!$E368,MD_GENDER,0),0),\"\")","v":""},{"v":0,"d":"0.00"},null,{"v":0,"d":"0.00"},{"$f":"IF(F368=\"Arbeitgeberähnliche Stellung\",OFFSET(MD!$Q$5,MATCH(Grundlagen_Abrechnung_KAE!$AK$7,MD_JAHR,0),0)*$H368,IF(J368>0,AC368,I368))","v":{"v":0,"d":"0.00"}},null,{"$f":"OFFSET(MD!$P$5,MATCH($AK$7,MD_JAHR,0),0)*12","v":{"$error":"#VALUE!"}},{"v":0,"d":"0.00"}]
[{"$nulls":14},{"$f":"IF($B369=\"\",\"\",IF(F369=\"Arbeitgeberähnliche Stellung\",OFFSET(MD!$Q$5,MATCH(Grundlagen_Abrechnung_KAE!$AK$7,MD_JAHR,0),0)*$H369,IF(((AD369/12*M369*12)+N369)>AF369,AF369/12,((AD369/12*M369*12)+N369)/12)))","v":""},null,null,{"v":0,"d":"0.00"},null,{"v":0,"d":"0.00%"},{"v":0,"d":"0.00"},{"v":0,"d":"0.00"},{"v":0,"d":"0.00"},null,"prüfen",{"$f":"IFERROR(OFFSET(MD!$U$5,MATCH(Grundlagen_Abrechnung_KAE!$E369,MD_GENDER,0),0),\"\")","v":""},{"v":0,"d":"0.00"},null,{"v":0,"d":"0.00"},{"$f":"IF(F369=\"Arbeitgeberähnliche Stellung\",OFFSET(MD!$Q$5,MATCH(Grundlagen_Abrechnung_KAE!$AK$7,MD_JAHR,0),0)*$H369,IF(J369>0,AC369,I369))","v":{"v":0,"d":"0.00"}},null,{"$f":"OFFSET(MD!$P$5,MATCH($AK$7,MD_JAHR,0),0)*12","v":{"$error":"#VALUE!"}},{"v":0,"d":"0.00"}]
[{"$nulls":14},{"$f":"IF($B370=\"\",\"\",IF(F370=\"Arbeitgeberähnliche Stellung\",OFFSET(MD!$Q$5,MATCH(Grundlagen_Abrechnung_KAE!$AK$7,MD_JAHR,0),0)*$H370,IF(((AD370/12*M370*12)+N370)>AF370,AF370/12,((AD370/12*M370*12)+N370)/12)))","v":""},null,null,{"v":0,"d":"0.00"},null,{"v":0,"d":"0.00%"},{"v":0,"d":"0.00"},{"v":0,"d":"0.00"},{"v":0,"d":"0.00"},null,"prüfen",{"$f":"IFERROR(OFFSET(MD!$U$5,MATCH(Grundlagen_Abrechnung_KAE!$E370,MD_GENDER,0),0),\"\")","v":""},{"v":0,"d":"0.00"},null,{"v":0,"d":"0.00"},{"$f":"IF(F370=\"Arbeitgeberähnliche Stellung\",OFFSET(MD!$Q$5,MATCH(Grundlagen_Abrechnung_KAE!$AK$7,MD_JAHR,0),0)*$H370,IF(J370>0,AC370,I370))","v":{"v":0,"d":"0.00"}},null,{"$f":"OFFSET(MD!$P$5,MATCH($AK$7,MD_JAHR,0),0)*12","v":{"$error":"#VALUE!"}},{"v":0,"d":"0.00"}]
[{"$nulls":14},{"$f":"IF($B371=\"\",\"\",IF(F371=\"Arbeitgeberähnliche Stellung\",OFFSET(MD!$Q$5,MATCH(Grundlagen_Abrechnung_KAE!$AK$7,MD_JAHR,0),0)*$H371,IF(((AD371/12*M371*12)+N371)>AF371,AF371/12,((AD371/12*M371*12)+N371)/12)))","v":""},null,null,{"v":0,"d":"0.00"},null,{"v":0,"d":"0.00%"},{"v":0,"d":"0.00"},{"v":0,"d":"0.00"},{"v":0,"d":"0.00"},null,"prüfen",{"$f":"IFERROR(OFFSET(MD!$U$5,MATCH(Grundlagen_Abrechnung_KAE!$E371,MD_GENDER,0),0),\"\")","v":""},{"v":0,"d":"0.00"},null,{"v":0,"d":"0.00"},{"$f":"IF(F371=\"Arbeitgeberähnliche Stellung\",OFFSET(MD!$Q$5,MATCH(Grundlagen_Abrechnung_KAE!$AK$7,MD_JAHR,0),0)*$H371,IF(J371>0,AC371,I371))","v":{"v":0,"d":"0.00"}},null,{"$f":"OFFSET(MD!$P$5,MATCH($AK$7,MD_JAHR,0),0)*12","v":{"$error":"#VALUE!"}},{"v":0,"d":"0.00"}]
[{"$nulls":14},{"$f":"IF($B372=\"\",\"\",IF(F372=\"Arbeitgeberähnliche Stellung\",OFFSET(MD!$Q$5,MATCH(Grundlagen_Abrechnung_KAE!$AK$7,MD_JAHR,0),0)*$H372,IF(((AD372/12*M372*12)+N372)>AF372,AF372/12,((AD372/12*M372*12)+N372)/12)))","v":""},null,null,{"v":0,"d":"0.00"},null,{"v":0,"d":"0.00%"},{"v":0,"d":"0.00"},{"v":0,"d":"0.00"},{"v":0,"d":"0.00"},null,"prüfen",{"$f":"IFERROR(OFFSET(MD!$U$5,MATCH(Grundlagen_Abrechnung_KAE!$E372,MD_GENDER,0),0),\"\")","v":""},{"v":0,"d":"0.00"},null,{"v":0,"d":"0.00"},{"$f":"IF(F372=\"Arbeitgeberähnliche Stellung\",OFFSET(MD!$Q$5,MATCH(Grundlagen_Abrechnung_KAE!$AK$7,MD_JAHR,0),0)*$H372,IF(J372>0,AC372,I372))","v":{"v":0,"d":"0.00"}},null,{"$f":"OFFSET(MD!$P$5,MATCH($AK$7,MD_JAHR,0),0)*12","v":{"$error":"#VALUE!"}},{"v":0,"d":"0.00"}]
[{"$nulls":14},{"$f":"IF($B373=\"\",\"\",IF(F373=\"Arbeitgeberähnliche Stellung\",OFFSET(MD!$Q$5,MATCH(Grundlagen_Abrechnung_KAE!$AK$7,MD_JAHR,0),0)*$H373,IF(((AD373/12*M373*12)+N373)>AF373,AF373/12,((AD373/12*M373*12)+N373)/12)))","v":""},null,null,{"v":0,"d":"0.00"},null,{"v":0,"d":"0.00%"},{"v":0,"d":"0.00"},{"v":0,"d":"0.00"},{"v":0,"d":"0.00"},null,"prüfen",{"$f":"IFERROR(OFFSET(MD!$U$5,MATCH(Grundlagen_Abrechnung_KAE!$E373,MD_GENDER,0),0),\"\")","v":""},{"v":0,"d":"0.00"},null,{"v":0,"d":"0.00"},{"$f":"IF(F373=\"Arbeitgeberähnliche Stellung\",OFFSET(MD!$Q$5,MATCH(Grundlagen_Abrechnung_KAE!$AK$7,MD_JAHR,0),0)*$H373,IF(J373>0,AC373,I373))","v":{"v":0,"d":"0.00"}},null,{"$f":"OFFSET(MD!$P$5,MATCH($AK$7,MD_JAHR,0),0)*12","v":{"$error":"#VALUE!"}},{"v":0,"d":"0.00"}]
[{"$nulls":14},{"$f":"IF($B374=\"\",\"\",IF(F374=\"Arbeitgeberähnliche Stellung\",OFFSET(MD!$Q$5,MATCH(Grundlagen_Abrechnung_KAE!$AK$7,MD_JAHR,0),0)*$H374,IF(((AD374/12*M374*12)+N374)>AF374,AF374/12,((AD374/12*M374*12)+N374)/12)))","v":""},null,null,{"v":0,"d":"0.00"},null,{"v":0,"d":"0.00%"},{"v":0,"d":"0.00"},{"v":0,"d":"0.00"},{"v":0,"d":"0.00"},null,"prüfen",{"$f":"IFERROR(OFFSET(MD!$U$5,MATCH(Grundlagen_Abrechnung_KAE!$E374,MD_GENDER,0),0),\"\")","v":""},{"v":0,"d":"0.00"},null,{"v":0,"d":"0.00"},{"$f":"IF(F374=\"Arbeitgeberähnliche Stellung\",OFFSET(MD!$Q$5,MATCH(Grundlagen_Abrechnung_KAE!$AK$7,MD_JAHR,0),0)*$H374,IF(J374>0,AC374,I374))","v":{"v":0,"d":"0.00"}},null,{"$f":"OFFSET(MD!$P$5,MATCH($AK$7,MD_JAHR,0),0)*12","v":{"$error":"#VALUE!"}},{"v":0,"d":"0.00"}]
[{"$nulls":14},{"$f":"IF($B375=\"\",\"\",IF(F375=\"Arbeitgeberähnliche Stellung\",OFFSET(MD!$Q$5,MATCH(Grundlagen_Abrechnung_KAE!$AK$7,MD_JAHR,0),0)*$H375,IF(((AD375/12*M375*12)+N375)>AF375,AF375/12,((AD375/12*M375*12)+N375)/12)))","v":""},null,null,{"v":0,"d":"0.00"},null,{"v":0,"d":"0.00%"},{"v":0,"d":"0.00"},{"v":0,"d":"0.00"},{"v":0,"d":"0.00"},null,"prüfen",{"$f":"IFERROR(OFFSET(MD!$U$5,MATCH(Grundlagen_Abrechnung_KAE!$E375,MD_GENDER,0),0),\"\")","v":""},{"v":0,"d":"0.00"},null,{"v":0,"d":"0.00"},{"$f":"IF(F375=\"Arbeitgeberähnliche Stellung\",OFFSET(MD!$Q$5,MATCH(Grundlagen_Abrechnung_KAE!$AK$7,MD_JAHR,0),0)*$H375,IF(J375>0,AC375,I375))","v":{"v":0,"d":"0.00"}},null,{"$f":"OFFSET(MD!$P$5,MATCH($AK$7,MD_JAHR,0),0)*12","v":{"$error":"#VALUE!"}},{"v":0,"d":"0.00"}]
[{"$nulls":14},{"$f":"IF($B376=\"\",\"\",IF(F376=\"Arbeitgeberähnliche Stellung\",OFFSET(MD!$Q$5,MATCH(Grundlagen_Abrechnung_KAE!$AK$7,MD_JAHR,0),0)*$H376,IF(((AD376/12*M376*12)+N376)>AF376,AF376/12,((AD376/12*M376*12)+N376)/12)))","v":""},null,null,{"v":0,"d":"0.00"},null,{"v":0,"d":"0.00%"},{"v":0,"d":"0.00"},{"v":0,"d":"0.00"},{"v":0,"d":"0.00"},null,"prüfen",{"$f":"IFERROR(OFFSET(MD!$U$5,MATCH(Grundlagen_Abrechnung_KAE!$E376,MD_GENDER,0),0),\"\")","v":""},{"v":0,"d":"0.00"},null,{"v":0,"d":"0.00"},{"$f":"IF(F376=\"Arbeitgeberähnliche Stellung\",OFFSET(MD!$Q$5,MATCH(Grundlagen_Abrechnung_KAE!$AK$7,MD_JAHR,0),0)*$H376,IF(J376>0,AC376,I376))","v":{"v":0,"d":"0.00"}},null,{"$f":"OFFSET(MD!$P$5,MATCH($AK$7,MD_JAHR,0),0)*12","v":{"$error":"#VALUE!"}},{"v":0,"d":"0.00"}]
[{"$nulls":14},{"$f":"IF($B377=\"\",\"\",IF(F377=\"Arbeitgeberähnliche Stellung\",OFFSET(MD!$Q$5,MATCH(Grundlagen_Abrechnung_KAE!$AK$7,MD_JAHR,0),0)*$H377,IF(((AD377/12*M377*12)+N377)>AF377,AF377/12,((AD377/12*M377*12)+N377)/12)))","v":""},null,null,{"v":0,"d":"0.00"},null,{"v":0,"d":"0.00%"},{"v":0,"d":"0.00"},{"v":0,"d":"0.00"},{"v":0,"d":"0.00"},null,"prüfen",{"$f":"IFERROR(OFFSET(MD!$U$5,MATCH(Grundlagen_Abrechnung_KAE!$E377,MD_GENDER,0),0),\"\")","v":""},{"v":0,"d":"0.00"},null,{"v":0,"d":"0.00"},{"$f":"IF(F377=\"Arbeitgeberähnliche Stellung\",OFFSET(MD!$Q$5,MATCH(Grundlagen_Abrechnung_KAE!$AK$7,MD_JAHR,0),0)*$H377,IF(J377>0,AC377,I377))","v":{"v":0,"d":"0.00"}},null,{"$f":"OFFSET(MD!$P$5,MATCH($AK$7,MD_JAHR,0),0)*12","v":{"$error":"#VALUE!"}},{"v":0,"d":"0.00"}]
[{"$nulls":14},{"$f":"IF($B378=\"\",\"\",IF(F378=\"Arbeitgeberähnliche Stellung\",OFFSET(MD!$Q$5,MATCH(Grundlagen_Abrechnung_KAE!$AK$7,MD_JAHR,0),0)*$H378,IF(((AD378/12*M378*12)+N378)>AF378,AF378/12,((AD378/12*M378*12)+N378)/12)))","v":""},null,null,{"v":0,"d":"0.00"},null,{"v":0,"d":"0.00%"},{"v":0,"d":"0.00"},{"v":0,"d":"0.00"},{"v":0,"d":"0.00"},null,"prüfen",{"$f":"IFERROR(OFFSET(MD!$U$5,MATCH(Grundlagen_Abrechnung_KAE!$E378,MD_GENDER,0),0),\"\")","v":""},{"v":0,"d":"0.00"},null,{"v":0,"d":"0.00"},{"$f":"IF(F378=\"Arbeitgeberähnliche Stellung\",OFFSET(MD!$Q$5,MATCH(Grundlagen_Abrechnung_KAE!$AK$7,MD_JAHR,0),0)*$H378,IF(J378>0,AC378,I378))","v":{"v":0,"d":"0.00"}},null,{"$f":"OFFSET(MD!$P$5,MATCH($AK$7,MD_JAHR,0),0)*12","v":{"$error":"#VALUE!"}},{"v":0,"d":"0.00"}]
[{"$nulls":14},{"$f":"IF($B379=\"\",\"\",IF(F379=\"Arbeitgeberähnliche Stellung\",OFFSET(MD!$Q$5,MATCH(Grundlagen_Abrechnung_KAE!$AK$7,MD_JAHR,0),0)*$H379,IF(((AD379/12*M379*12)+N379)>AF379,AF379/12,((AD379/12*M379*12)+N379)/12)))","v":""},null,null,{"v":0,"d":"0.00"},null,{"v":0,"d":"0.00%"},{"v":0,"d":"0.00"},{"v":0,"d":"0.00"},{"v":0,"d":"0.00"},null,"prüfen",{"$f":"IFERROR(OFFSET(MD!$U$5,MATCH(Grundlagen_Abrechnung_KAE!$E379,MD_GENDER,0),0),\"\")","v":""},{"v":0,"d":"0.00"},null,{"v":0,"d":"0.00"},{"$f":"IF(F379=\"Arbeitgeberähnliche Stellung\",OFFSET(MD!$Q$5,MATCH(Grundlagen_Abrechnung_KAE!$AK$7,MD_JAHR,0),0)*$H379,IF(J379>0,AC379,I379))","v":{"v":0,"d":"0.00"}},null,{"$f":"OFFSET(MD!$P$5,MATCH($AK$7,MD_JAHR,0),0)*12","v":{"$error":"#VALUE!"}},{"v":0,"d":"0.00"}]
[{"$nulls":14},{"$f":"IF($B380=\"\",\"\",IF(F380=\"Arbeitgeberähnliche Stellung\",OFFSET(MD!$Q$5,MATCH(Grundlagen_Abrechnung_KAE!$AK$7,MD_JAHR,0),0)*$H380,IF(((AD380/12*M380*12)+N380)>AF380,AF380/12,((AD380/12*M380*12)+N380)/12)))","v":""},null,null,{"v":0,"d":"0.00"},null,{"v":0,"d":"0.00%"},{"v":0,"d":"0.00"},{"v":0,"d":"0.00"},{"v":0,"d":"0.00"},null,"prüfen",{"$f":"IFERROR(OFFSET(MD!$U$5,MATCH(Grundlagen_Abrechnung_KAE!$E380,MD_GENDER,0),0),\"\")","v":""},{"v":0,"d":"0.00"},null,{"v":0,"d":"0.00"},{"$f":"IF(F380=\"Arbeitgeberähnliche Stellung\",OFFSET(MD!$Q$5,MATCH(Grundlagen_Abrechnung_KAE!$AK$7,MD_JAHR,0),0)*$H380,IF(J380>0,AC380,I380))","v":{"v":0,"d":"0.00"}},null,{"$f":"OFFSET(MD!$P$5,MATCH($AK$7,MD_JAHR,0),0)*12","v":{"$error":"#VALUE!"}},{"v":0,"d":"0.00"}]
[{"$nulls":14},{"$f":"IF($B381=\"\",\"\",IF(F381=\"Arbeitgeberähnliche Stellung\",OFFSET(MD!$Q$5,MATCH(Grundlagen_Abrechnung_KAE!$AK$7,MD_JAHR,0),0)*$H381,IF(((AD381/12*M381*12)+N381)>AF381,AF381/12,((AD381/12*M381*12)+N381)/12)))","v":""},null,null,{"v":0,"d":"0.00"},null,{"v":0,"d":"0.00%"},{"v":0,"d":"0.00"},{"v":0,"d":"0.00"},{"v":0,"d":"0.00"},null,"prüfen",{"$f":"IFERROR(OFFSET(MD!$U$5,MATCH(Grundlagen_Abrechnung_KAE!$E381,MD_GENDER,0),0),\"\")","v":""},{"v":0,"d":"0.00"},null,{"v":0,"d":"0.00"},{"$f":"IF(F381=\"Arbeitgeberähnliche Stellung\",OFFSET(MD!$Q$5,MATCH(Grundlagen_Abrechnung_KAE!$AK$7,MD_JAHR,0),0)*$H381,IF(J381>0,AC381,I381))","v":{"v":0,"d":"0.00"}},null,{"$f":"OFFSET(MD!$P$5,MATCH($AK$7,MD_JAHR,0),0)*12","v":{"$error":"#VALUE!"}},{"v":0,"d":"0.00"}]
[{"$nulls":14},{"$f":"IF($B382=\"\",\"\",IF(F382=\"Arbeitgeberähnliche Stellung\",OFFSET(MD!$Q$5,MATCH(Grundlagen_Abrechnung_KAE!$AK$7,MD_JAHR,0),0)*$H382,IF(((AD382/12*M382*12)+N382)>AF382,AF382/12,((AD382/12*M382*12)+N382)/12)))","v":""},null,null,{"v":0,"d":"0.00"},null,{"v":0,"d":"0.00%"},{"v":0,"d":"0.00"},{"v":0,"d":"0.00"},{"v":0,"d":"0.00"},null,"prüfen",{"$f":"IFERROR(OFFSET(MD!$U$5,MATCH(Grundlagen_Abrechnung_KAE!$E382,MD_GENDER,0),0),\"\")","v":""},{"v":0,"d":"0.00"},null,{"v":0,"d":"0.00"},{"$f":"IF(F382=\"Arbeitgeberähnliche Stellung\",OFFSET(MD!$Q$5,MATCH(Grundlagen_Abrechnung_KAE!$AK$7,MD_JAHR,0),0)*$H382,IF(J382>0,AC382,I382))","v":{"v":0,"d":"0.00"}},null,{"$f":"OFFSET(MD!$P$5,MATCH($AK$7,MD_JAHR,0),0)*12","v":{"$error":"#VALUE!"}},{"v":0,"d":"0.00"}]
[{"$nulls":14},{"$f":"IF($B383=\"\",\"\",IF(F383=\"Arbeitgeberähnliche Stellung\",OFFSET(MD!$Q$5,MATCH(Grundlagen_Abrechnung_KAE!$AK$7,MD_JAHR,0),0)*$H383,IF(((AD383/12*M383*12)+N383)>AF383,AF383/12,((AD383/12*M383*12)+N383)/12)))","v":""},null,null,{"v":0,"d":"0.00"},null,{"v":0,"d":"0.00%"},{"v":0,"d":"0.00"},{"v":0,"d":"0.00"},{"v":0,"d":"0.00"},null,"prüfen",{"$f":"IFERROR(OFFSET(MD!$U$5,MATCH(Grundlagen_Abrechnung_KAE!$E383,MD_GENDER,0),0),\"\")","v":""},{"v":0,"d":"0.00"},null,{"v":0,"d":"0.00"},{"$f":"IF(F383=\"Arbeitgeberähnliche Stellung\",OFFSET(MD!$Q$5,MATCH(Grundlagen_Abrechnung_KAE!$AK$7,MD_JAHR,0),0)*$H383,IF(J383>0,AC383,I383))","v":{"v":0,"d":"0.00"}},null,{"$f":"OFFSET(MD!$P$5,MATCH($AK$7,MD_JAHR,0),0)*12","v":{"$error":"#VALUE!"}},{"v":0,"d":"0.00"}]
[{"$nulls":14},{"$f":"IF($B384=\"\",\"\",IF(F384=\"Arbeitgeberähnliche Stellung\",OFFSET(MD!$Q$5,MATCH(Grundlagen_Abrechnung_KAE!$AK$7,MD_JAHR,0),0)*$H384,IF(((AD384/12*M384*12)+N384)>AF384,AF384/12,((AD384/12*M384*12)+N384)/12)))","v":""},null,null,{"v":0,"d":"0.00"},null,{"v":0,"d":"0.00%"},{"v":0,"d":"0.00"},{"v":0,"d":"0.00"},{"v":0,"d":"0.00"},null,"prüfen",{"$f":"IFERROR(OFFSET(MD!$U$5,MATCH(Grundlagen_Abrechnung_KAE!$E384,MD_GENDER,0),0),\"\")","v":""},{"v":0,"d":"0.00"},null,{"v":0,"d":"0.00"},{"$f":"IF(F384=\"Arbeitgeberähnliche Stellung\",OFFSET(MD!$Q$5,MATCH(Grundlagen_Abrechnung_KAE!$AK$7,MD_JAHR,0),0)*$H384,IF(J384>0,AC384,I384))","v":{"v":0,"d":"0.00"}},null,{"$f":"OFFSET(MD!$P$5,MATCH($AK$7,MD_JAHR,0),0)*12","v":{"$error":"#VALUE!"}},{"v":0,"d":"0.00"}]
[{"$nulls":14},{"$f":"IF($B385=\"\",\"\",IF(F385=\"Arbeitgeberähnliche Stellung\",OFFSET(MD!$Q$5,MATCH(Grundlagen_Abrechnung_KAE!$AK$7,MD_JAHR,0),0)*$H385,IF(((AD385/12*M385*12)+N385)>AF385,AF385/12,((AD385/12*M385*12)+N385)/12)))","v":""},null,null,{"v":0,"d":"0.00"},null,{"v":0,"d":"0.00%"},{"v":0,"d":"0.00"},{"v":0,"d":"0.00"},{"v":0,"d":"0.00"},null,"prüfen",{"$f":"IFERROR(OFFSET(MD!$U$5,MATCH(Grundlagen_Abrechnung_KAE!$E385,MD_GENDER,0),0),\"\")","v":""},{"v":0,"d":"0.00"},null,{"v":0,"d":"0.00"},{"$f":"IF(F385=\"Arbeitgeberähnliche Stellung\",OFFSET(MD!$Q$5,MATCH(Grundlagen_Abrechnung_KAE!$AK$7,MD_JAHR,0),0)*$H385,IF(J385>0,AC385,I385))","v":{"v":0,"d":"0.00"}},null,{"$f":"OFFSET(MD!$P$5,MATCH($AK$7,MD_JAHR,0),0)*12","v":{"$error":"#VALUE!"}},{"v":0,"d":"0.00"}]
[{"$nulls":14},{"$f":"IF($B386=\"\",\"\",IF(F386=\"Arbeitgeberähnliche Stellung\",OFFSET(MD!$Q$5,MATCH(Grundlagen_Abrechnung_KAE!$AK$7,MD_JAHR,0),0)*$H386,IF(((AD386/12*M386*12)+N386)>AF386,AF386/12,((AD386/12*M386*12)+N386)/12)))","v":""},null,null,{"v":0,"d":"0.00"},null,{"v":0,"d":"0.00%"},{"v":0,"d":"0.00"},{"v":0,"d":"0.00"},{"v":0,"d":"0.00"},null,"prüfen",{"$f":"IFERROR(OFFSET(MD!$U$5,MATCH(Grundlagen_Abrechnung_KAE!$E386,MD_GENDER,0),0),\"\")","v":""},{"v":0,"d":"0.00"},null,{"v":0,"d":"0.00"},{"$f":"IF(F386=\"Arbeitgeberähnliche Stellung\",OFFSET(MD!$Q$5,MATCH(Grundlagen_Abrechnung_KAE!$AK$7,MD_JAHR,0),0)*$H386,IF(J386>0,AC386,I386))","v":{"v":0,"d":"0.00"}},null,{"$f":"OFFSET(MD!$P$5,MATCH($AK$7,MD_JAHR,0),0)*12","v":{"$error":"#VALUE!"}},{"v":0,"d":"0.00"}]
[{"$nulls":14},{"$f":"IF($B387=\"\",\"\",IF(F387=\"Arbeitgeberähnliche Stellung\",OFFSET(MD!$Q$5,MATCH(Grundlagen_Abrechnung_KAE!$AK$7,MD_JAHR,0),0)*$H387,IF(((AD387/12*M387*12)+N387)>AF387,AF387/12,((AD387/12*M387*12)+N387)/12)))","v":""},null,null,{"v":0,"d":"0.00"},null,{"v":0,"d":"0.00%"},{"v":0,"d":"0.00"},{"v":0,"d":"0.00"},{"v":0,"d":"0.00"},null,"prüfen",{"$f":"IFERROR(OFFSET(MD!$U$5,MATCH(Grundlagen_Abrechnung_KAE!$E387,MD_GENDER,0),0),\"\")","v":""},{"v":0,"d":"0.00"},null,{"v":0,"d":"0.00"},{"$f":"IF(F387=\"Arbeitgeberähnliche Stellung\",OFFSET(MD!$Q$5,MATCH(Grundlagen_Abrechnung_KAE!$AK$7,MD_JAHR,0),0)*$H387,IF(J387>0,AC387,I387))","v":{"v":0,"d":"0.00"}},null,{"$f":"OFFSET(MD!$P$5,MATCH($AK$7,MD_JAHR,0),0)*12","v":{"$error":"#VALUE!"}},{"v":0,"d":"0.00"}]
[{"$nulls":14},{"$f":"IF($B388=\"\",\"\",IF(F388=\"Arbeitgeberähnliche Stellung\",OFFSET(MD!$Q$5,MATCH(Grundlagen_Abrechnung_KAE!$AK$7,MD_JAHR,0),0)*$H388,IF(((AD388/12*M388*12)+N388)>AF388,AF388/12,((AD388/12*M388*12)+N388)/12)))","v":""},null,null,{"v":0,"d":"0.00"},null,{"v":0,"d":"0.00%"},{"v":0,"d":"0.00"},{"v":0,"d":"0.00"},{"v":0,"d":"0.00"},null,"prüfen",{"$f":"IFERROR(OFFSET(MD!$U$5,MATCH(Grundlagen_Abrechnung_KAE!$E388,MD_GENDER,0),0),\"\")","v":""},{"v":0,"d":"0.00"},null,{"v":0,"d":"0.00"},{"$f":"IF(F388=\"Arbeitgeberähnliche Stellung\",OFFSET(MD!$Q$5,MATCH(Grundlagen_Abrechnung_KAE!$AK$7,MD_JAHR,0),0)*$H388,IF(J388>0,AC388,I388))","v":{"v":0,"d":"0.00"}},null,{"$f":"OFFSET(MD!$P$5,MATCH($AK$7,MD_JAHR,0),0)*12","v":{"$error":"#VALUE!"}},{"v":0,"d":"0.00"}]
[{"$nulls":14},{"$f":"IF($B389=\"\",\"\",IF(F389=\"Arbeitgeberähnliche Stellung\",OFFSET(MD!$Q$5,MATCH(Grundlagen_Abrechnung_KAE!$AK$7,MD_JAHR,0),0)*$H389,IF(((AD389/12*M389*12)+N389)>AF389,AF389/12,((AD389/12*M389*12)+N389)/12)))","v":""},null,null,{"v":0,"d":"0.00"},null,{"v":0,"d":"0.00%"},{"v":0,"d":"0.00"},{"v":0,"d":"0.00"},{"v":0,"d":"0.00"},null,"prüfen",{"$f":"IFERROR(OFFSET(MD!$U$5,MATCH(Grundlagen_Abrechnung_KAE!$E389,MD_GENDER,0),0),\"\")","v":""},{"v":0,"d":"0.00"},null,{"v":0,"d":"0.00"},{"$f":"IF(F389=\"Arbeitgeberähnliche Stellung\",OFFSET(MD!$Q$5,MATCH(Grundlagen_Abrechnung_KAE!$AK$7,MD_JAHR,0),0)*$H389,IF(J389>0,AC389,I389))","v":{"v":0,"d":"0.00"}},null,{"$f":"OFFSET(MD!$P$5,MATCH($AK$7,MD_JAHR,0),0)*12","v":{"$error":"#VALUE!"}},{"v":0,"d":"0.00"}]
[{"$nulls":14},{"$f":"IF($B390=\"\",\"\",IF(F390=\"Arbeitgeberähnliche Stellung\",OFFSET(MD!$Q$5,MATCH(Grundlagen_Abrechnung_KAE!$AK$7,MD_JAHR,0),0)*$H390,IF(((AD390/12*M390*12)+N390)>AF390,AF390/12,((AD390/12*M390*12)+N390)/12)))","v":""},null,null,{"v":0,"d":"0.00"},null,{"v":0,"d":"0.00%"},{"v":0,"d":"0.00"},{"v":0,"d":"0.00"},{"v":0,"d":"0.00"},null,"prüfen",{"$f":"IFERROR(OFFSET(MD!$U$5,MATCH(Grundlagen_Abrechnung_KAE!$E390,MD_GENDER,0),0),\"\")","v":""},{"v":0,"d":"0.00"},null,{"v":0,"d":"0.00"},{"$f":"IF(F390=\"Arbeitgeberähnliche Stellung\",OFFSET(MD!$Q$5,MATCH(Grundlagen_Abrechnung_KAE!$AK$7,MD_JAHR,0),0)*$H390,IF(J390>0,AC390,I390))","v":{"v":0,"d":"0.00"}},null,{"$f":"OFFSET(MD!$P$5,MATCH($AK$7,MD_JAHR,0),0)*12","v":{"$error":"#VALUE!"}},{"v":0,"d":"0.00"}]
[{"$nulls":14},{"$f":"IF($B391=\"\",\"\",IF(F391=\"Arbeitgeberähnliche Stellung\",OFFSET(MD!$Q$5,MATCH(Grundlagen_Abrechnung_KAE!$AK$7,MD_JAHR,0),0)*$H391,IF(((AD391/12*M391*12)+N391)>AF391,AF391/12,((AD391/12*M391*12)+N391)/12)))","v":""},null,null,{"v":0,"d":"0.00"},null,{"v":0,"d":"0.00%"},{"v":0,"d":"0.00"},{"v":0,"d":"0.00"},{"v":0,"d":"0.00"},null,"prüfen",{"$f":"IFERROR(OFFSET(MD!$U$5,MATCH(Grundlagen_Abrechnung_KAE!$E391,MD_GENDER,0),0),\"\")","v":""},{"v":0,"d":"0.00"},null,{"v":0,"d":"0.00"},{"$f":"IF(F391=\"Arbeitgeberähnliche Stellung\",OFFSET(MD!$Q$5,MATCH(Grundlagen_Abrechnung_KAE!$AK$7,MD_JAHR,0),0)*$H391,IF(J391>0,AC391,I391))","v":{"v":0,"d":"0.00"}},null,{"$f":"OFFSET(MD!$P$5,MATCH($AK$7,MD_JAHR,0),0)*12","v":{"$error":"#VALUE!"}},{"v":0,"d":"0.00"}]
[{"$nulls":14},{"$f":"IF($B392=\"\",\"\",IF(F392=\"Arbeitgeberähnliche Stellung\",OFFSET(MD!$Q$5,MATCH(Grundlagen_Abrechnung_KAE!$AK$7,MD_JAHR,0),0)*$H392,IF(((AD392/12*M392*12)+N392)>AF392,AF392/12,((AD392/12*M392*12)+N392)/12)))","v":""},null,null,{"v":0,"d":"0.00"},null,{"v":0,"d":"0.00%"},{"v":0,"d":"0.00"},{"v":0,"d":"0.00"},{"v":0,"d":"0.00"},null,"prüfen",{"$f":"IFERROR(OFFSET(MD!$U$5,MATCH(Grundlagen_Abrechnung_KAE!$E392,MD_GENDER,0),0),\"\")","v":""},{"v":0,"d":"0.00"},null,{"v":0,"d":"0.00"},{"$f":"IF(F392=\"Arbeitgeberähnliche Stellung\",OFFSET(MD!$Q$5,MATCH(Grundlagen_Abrechnung_KAE!$AK$7,MD_JAHR,0),0)*$H392,IF(J392>0,AC392,I392))","v":{"v":0,"d":"0.00"}},null,{"$f":"OFFSET(MD!$P$5,MATCH($AK$7,MD_JAHR,0),0)*12","v":{"$error":"#VALUE!"}},{"v":0,"d":"0.00"}]
[{"$nulls":14},{"$f":"IF($B393=\"\",\"\",IF(F393=\"Arbeitgeberähnliche Stellung\",OFFSET(MD!$Q$5,MATCH(Grundlagen_Abrechnung_KAE!$AK$7,MD_JAHR,0),0)*$H393,IF(((AD393/12*M393*12)+N393)>AF393,AF393/12,((AD393/12*M393*12)+N393)/12)))","v":""},null,null,{"v":0,"d":"0.00"},null,{"v":0,"d":"0.00%"},{"v":0,"d":"0.00"},{"v":0,"d":"0.00"},{"v":0,"d":"0.00"},null,"prüfen",{"$f":"IFERROR(OFFSET(MD!$U$5,MATCH(Grundlagen_Abrechnung_KAE!$E393,MD_GENDER,0),0),\"\")","v":""},{"v":0,"d":"0.00"},null,{"v":0,"d":"0.00"},{"$f":"IF(F393=\"Arbeitgeberähnliche Stellung\",OFFSET(MD!$Q$5,MATCH(Grundlagen_Abrechnung_KAE!$AK$7,MD_JAHR,0),0)*$H393,IF(J393>0,AC393,I393))","v":{"v":0,"d":"0.00"}},null,{"$f":"OFFSET(MD!$P$5,MATCH($AK$7,MD_JAHR,0),0)*12","v":{"$error":"#VALUE!"}},{"v":0,"d":"0.00"}]
[{"$nulls":14},{"$f":"IF($B394=\"\",\"\",IF(F394=\"Arbeitgeberähnliche Stellung\",OFFSET(MD!$Q$5,MATCH(Grundlagen_Abrechnung_KAE!$AK$7,MD_JAHR,0),0)*$H394,IF(((AD394/12*M394*12)+N394)>AF394,AF394/12,((AD394/12*M394*12)+N394)/12)))","v":""},null,null,{"v":0,"d":"0.00"},null,{"v":0,"d":"0.00%"},{"v":0,"d":"0.00"},{"v":0,"d":"0.00"},{"v":0,"d":"0.00"},null,"prüfen",{"$f":"IFERROR(OFFSET(MD!$U$5,MATCH(Grundlagen_Abrechnung_KAE!$E394,MD_GENDER,0),0),\"\")","v":""},{"v":0,"d":"0.00"},null,{"v":0,"d":"0.00"},{"$f":"IF(F394=\"Arbeitgeberähnliche Stellung\",OFFSET(MD!$Q$5,MATCH(Grundlagen_Abrechnung_KAE!$AK$7,MD_JAHR,0),0)*$H394,IF(J394>0,AC394,I394))","v":{"v":0,"d":"0.00"}},null,{"$f":"OFFSET(MD!$P$5,MATCH($AK$7,MD_JAHR,0),0)*12","v":{"$error":"#VALUE!"}},{"v":0,"d":"0.00"}]
[{"$nulls":14},{"$f":"IF($B395=\"\",\"\",IF(F395=\"Arbeitgeberähnliche Stellung\",OFFSET(MD!$Q$5,MATCH(Grundlagen_Abrechnung_KAE!$AK$7,MD_JAHR,0),0)*$H395,IF(((AD395/12*M395*12)+N395)>AF395,AF395/12,((AD395/12*M395*12)+N395)/12)))","v":""},null,null,{"v":0,"d":"0.00"},null,{"v":0,"d":"0.00%"},{"v":0,"d":"0.00"},{"v":0,"d":"0.00"},{"v":0,"d":"0.00"},null,"prüfen",{"$f":"IFERROR(OFFSET(MD!$U$5,MATCH(Grundlagen_Abrechnung_KAE!$E395,MD_GENDER,0),0),\"\")","v":""},{"v":0,"d":"0.00"},null,{"v":0,"d":"0.00"},{"$f":"IF(F395=\"Arbeitgeberähnliche Stellung\",OFFSET(MD!$Q$5,MATCH(Grundlagen_Abrechnung_KAE!$AK$7,MD_JAHR,0),0)*$H395,IF(J395>0,AC395,I395))","v":{"v":0,"d":"0.00"}},null,{"$f":"OFFSET(MD!$P$5,MATCH($AK$7,MD_JAHR,0),0)*12","v":{"$error":"#VALUE!"}},{"v":0,"d":"0.00"}]
[{"$nulls":14},{"$f":"IF($B396=\"\",\"\",IF(F396=\"Arbeitgeberähnliche Stellung\",OFFSET(MD!$Q$5,MATCH(Grundlagen_Abrechnung_KAE!$AK$7,MD_JAHR,0),0)*$H396,IF(((AD396/12*M396*12)+N396)>AF396,AF396/12,((AD396/12*M396*12)+N396)/12)))","v":""},null,null,{"v":0,"d":"0.00"},null,{"v":0,"d":"0.00%"},{"v":0,"d":"0.00"},{"v":0,"d":"0.00"},{"v":0,"d":"0.00"},null,"prüfen",{"$f":"IFERROR(OFFSET(MD!$U$5,MATCH(Grundlagen_Abrechnung_KAE!$E396,MD_GENDER,0),0),\"\")","v":""},{"v":0,"d":"0.00"},null,{"v":0,"d":"0.00"},{"$f":"IF(F396=\"Arbeitgeberähnliche Stellung\",OFFSET(MD!$Q$5,MATCH(Grundlagen_Abrechnung_KAE!$AK$7,MD_JAHR,0),0)*$H396,IF(J396>0,AC396,I396))","v":{"v":0,"d":"0.00"}},null,{"$f":"OFFSET(MD!$P$5,MATCH($AK$7,MD_JAHR,0),0)*12","v":{"$error":"#VALUE!"}},{"v":0,"d":"0.00"}]
[{"$nulls":14},{"$f":"IF($B397=\"\",\"\",IF(F397=\"Arbeitgeberähnliche Stellung\",OFFSET(MD!$Q$5,MATCH(Grundlagen_Abrechnung_KAE!$AK$7,MD_JAHR,0),0)*$H397,IF(((AD397/12*M397*12)+N397)>AF397,AF397/12,((AD397/12*M397*12)+N397)/12)))","v":""},null,null,{"v":0,"d":"0.00"},null,{"v":0,"d":"0.00%"},{"v":0,"d":"0.00"},{"v":0,"d":"0.00"},{"v":0,"d":"0.00"},null,"prüfen",{"$f":"IFERROR(OFFSET(MD!$U$5,MATCH(Grundlagen_Abrechnung_KAE!$E397,MD_GENDER,0),0),\"\")","v":""},{"v":0,"d":"0.00"},null,{"v":0,"d":"0.00"},{"$f":"IF(F397=\"Arbeitgeberähnliche Stellung\",OFFSET(MD!$Q$5,MATCH(Grundlagen_Abrechnung_KAE!$AK$7,MD_JAHR,0),0)*$H397,IF(J397>0,AC397,I397))","v":{"v":0,"d":"0.00"}},null,{"$f":"OFFSET(MD!$P$5,MATCH($AK$7,MD_JAHR,0),0)*12","v":{"$error":"#VALUE!"}},{"v":0,"d":"0.00"}]
[{"$nulls":14},{"$f":"IF($B398=\"\",\"\",IF(F398=\"Arbeitgeberähnliche Stellung\",OFFSET(MD!$Q$5,MATCH(Grundlagen_Abrechnung_KAE!$AK$7,MD_JAHR,0),0)*$H398,IF(((AD398/12*M398*12)+N398)>AF398,AF398/12,((AD398/12*M398*12)+N398)/12)))","v":""},null,null,{"v":0,"d":"0.00"},null,{"v":0,"d":"0.00%"},{"v":0,"d":"0.00"},{"v":0,"d":"0.00"},{"v":0,"d":"0.00"},null,"prüfen",{"$f":"IFERROR(OFFSET(MD!$U$5,MATCH(Grundlagen_Abrechnung_KAE!$E398,MD_GENDER,0),0),\"\")","v":""},{"v":0,"d":"0.00"},null,{"v":0,"d":"0.00"},{"$f":"IF(F398=\"Arbeitgeberähnliche Stellung\",OFFSET(MD!$Q$5,MATCH(Grundlagen_Abrechnung_KAE!$AK$7,MD_JAHR,0),0)*$H398,IF(J398>0,AC398,I398))","v":{"v":0,"d":"0.00"}},null,{"$f":"OFFSET(MD!$P$5,MATCH($AK$7,MD_JAHR,0),0)*12","v":{"$error":"#VALUE!"}},{"v":0,"d":"0.00"}]
[{"$nulls":14},{"$f":"IF($B399=\"\",\"\",IF(F399=\"Arbeitgeberähnliche Stellung\",OFFSET(MD!$Q$5,MATCH(Grundlagen_Abrechnung_KAE!$AK$7,MD_JAHR,0),0)*$H399,IF(((AD399/12*M399*12)+N399)>AF399,AF399/12,((AD399/12*M399*12)+N399)/12)))","v":""},null,null,{"v":0,"d":"0.00"},null,{"v":0,"d":"0.00%"},{"v":0,"d":"0.00"},{"v":0,"d":"0.00"},{"v":0,"d":"0.00"},null,"prüfen",{"$f":"IFERROR(OFFSET(MD!$U$5,MATCH(Grundlagen_Abrechnung_KAE!$E399,MD_GENDER,0),0),\"\")","v":""},{"v":0,"d":"0.00"},null,{"v":0,"d":"0.00"},{"$f":"IF(F399=\"Arbeitgeberähnliche Stellung\",OFFSET(MD!$Q$5,MATCH(Grundlagen_Abrechnung_KAE!$AK$7,MD_JAHR,0),0)*$H399,IF(J399>0,AC399,I399))","v":{"v":0,"d":"0.00"}},null,{"$f":"OFFSET(MD!$P$5,MATCH($AK$7,MD_JAHR,0),0)*12","v":{"$error":"#VALUE!"}},{"v":0,"d":"0.00"}]
[{"$nulls":14},{"$f":"IF($B400=\"\",\"\",IF(F400=\"Arbeitgeberähnliche Stellung\",OFFSET(MD!$Q$5,MATCH(Grundlagen_Abrechnung_KAE!$AK$7,MD_JAHR,0),0)*$H400,IF(((AD400/12*M400*12)+N400)>AF400,AF400/12,((AD400/12*M400*12)+N400)/12)))","v":""},null,null,{"v":0,"d":"0.00"},null,{"v":0,"d":"0.00%"},{"v":0,"d":"0.00"},{"v":0,"d":"0.00"},{"v":0,"d":"0.00"},null,"prüfen",{"$f":"IFERROR(OFFSET(MD!$U$5,MATCH(Grundlagen_Abrechnung_KAE!$E400,MD_GENDER,0),0),\"\")","v":""},{"v":0,"d":"0.00"},null,{"v":0,"d":"0.00"},{"$f":"IF(F400=\"Arbeitgeberähnliche Stellung\",OFFSET(MD!$Q$5,MATCH(Grundlagen_Abrechnung_KAE!$AK$7,MD_JAHR,0),0)*$H400,IF(J400>0,AC400,I400))","v":{"v":0,"d":"0.00"}},null,{"$f":"OFFSET(MD!$P$5,MATCH($AK$7,MD_JAHR,0),0)*12","v":{"$error":"#VALUE!"}},{"v":0,"d":"0.00"}]
[{"$nulls":14},{"$f":"IF($B401=\"\",\"\",IF(F401=\"Arbeitgeberähnliche Stellung\",OFFSET(MD!$Q$5,MATCH(Grundlagen_Abrechnung_KAE!$AK$7,MD_JAHR,0),0)*$H401,IF(((AD401/12*M401*12)+N401)>AF401,AF401/12,((AD401/12*M401*12)+N401)/12)))","v":""},null,null,{"v":0,"d":"0.00"},null,{"v":0,"d":"0.00%"},{"v":0,"d":"0.00"},{"v":0,"d":"0.00"},{"v":0,"d":"0.00"},null,"prüfen",{"$f":"IFERROR(OFFSET(MD!$U$5,MATCH(Grundlagen_Abrechnung_KAE!$E401,MD_GENDER,0),0),\"\")","v":""},{"v":0,"d":"0.00"},null,{"v":0,"d":"0.00"},{"$f":"IF(F401=\"Arbeitgeberähnliche Stellung\",OFFSET(MD!$Q$5,MATCH(Grundlagen_Abrechnung_KAE!$AK$7,MD_JAHR,0),0)*$H401,IF(J401>0,AC401,I401))","v":{"v":0,"d":"0.00"}},null,{"$f":"OFFSET(MD!$P$5,MATCH($AK$7,MD_JAHR,0),0)*12","v":{"$error":"#VALUE!"}},{"v":0,"d":"0.00"}]
[{"$nulls":14},{"$f":"IF($B402=\"\",\"\",IF(F402=\"Arbeitgeberähnliche Stellung\",OFFSET(MD!$Q$5,MATCH(Grundlagen_Abrechnung_KAE!$AK$7,MD_JAHR,0),0)*$H402,IF(((AD402/12*M402*12)+N402)>AF402,AF402/12,((AD402/12*M402*12)+N402)/12)))","v":""},null,null,{"v":0,"d":"0.00"},null,{"v":0,"d":"0.00%"},{"v":0,"d":"0.00"},{"v":0,"d":"0.00"},{"v":0,"d":"0.00"},null,"prüfen",{"$f":"IFERROR(OFFSET(MD!$U$5,MATCH(Grundlagen_Abrechnung_KAE!$E402,MD_GENDER,0),0),\"\")","v":""},{"v":0,"d":"0.00"},null,{"v":0,"d":"0.00"},{"$f":"IF(F402=\"Arbeitgeberähnliche Stellung\",OFFSET(MD!$Q$5,MATCH(Grundlagen_Abrechnung_KAE!$AK$7,MD_JAHR,0),0)*$H402,IF(J402>0,AC402,I402))","v":{"v":0,"d":"0.00"}},null,{"$f":"OFFSET(MD!$P$5,MATCH($AK$7,MD_JAHR,0),0)*12","v":{"$error":"#VALUE!"}},{"v":0,"d":"0.00"}]
[{"$nulls":14},{"$f":"IF($B403=\"\",\"\",IF(F403=\"Arbeitgeberähnliche Stellung\",OFFSET(MD!$Q$5,MATCH(Grundlagen_Abrechnung_KAE!$AK$7,MD_JAHR,0),0)*$H403,IF(((AD403/12*M403*12)+N403)>AF403,AF403/12,((AD403/12*M403*12)+N403)/12)))","v":""},null,null,{"$f":"ROUND(IF(Q403=\"\",0,IF(P403=0,0,IF(Q403>P403,0,P403-Q403))),2)","v":{"v":0,"d":"0.00"}},null,{"$f":"IFERROR(R403/P403,0)","v":{"v":0,"d":"0.00%"}},{"$f":"IFERROR(IF(O403-W403=0,O403,(O403)*(1-T403)),0)","v":{"v":0,"d":"0.00"}},{"v":0,"d":"0.00"},{"$f":"IFERROR(O403*T403,0)*0.8","v":{"v":0,"d":"0.00"}},null,{"$f":"IF(YEAR($G403)>$Y$16,\"prüfen\",\"\")","v":"prüfen"},{"$f":"IFERROR(OFFSET(MD!$U$5,MATCH(Grundlagen_Abrechnung_KAE!$E403,MD_GENDER,0),0),\"\")","v":""},{"$f":"IF(B403=\"\",0,IF(YEAR(G403)>$AA$16,0,1))","v":{"v":0,"d":"0.00"}},null,{"$f":"IF(J403*K403/6>J403*L403/12,J403*K403/6,J403*L403/12)","v":{"v":0,"d":"0.00"}},{"$f":"IF(F403=\"Arbeitgeberähnliche Stellung\",OFFSET(MD!$Q$5,MATCH(Grundlagen_Abrechnung_KAE!$AK$7,MD_JAHR,0),0)*$H403,IF(J403>0,AC403,I403))","v":{"v":0,"d":"0.00"}},null,{"$f":"OFFSET(MD!$P$5,MATCH($AK$7,MD_JAHR,0),0)*12","v":{"$error":"#VALUE!"}},{"$f":"I403*M403+N403","v":{"v":0,"d":"0.00"}}]
[{"$nulls":14},{"$f":"IF($B404=\"\",\"\",IF(F404=\"Arbeitgeberähnliche Stellung\",OFFSET(MD!$Q$5,MATCH(Grundlagen_Abrechnung_KAE!$AK$7,MD_JAHR,0),0)*$H404,IF(((AD404/12*M404*12)+N404)>AF404,AF404/12,((AD404/12*M404*12)+N404)/12)))","v":""},null,null,{"v":0,"d":"0.00"},null,{"v":0,"d":"0.00%"},{"v":0,"d":"0.00"},{"$f":"IFERROR(O404*T404,0)","v":{"v":0,"d":"0.00"}},{"v":0,"d":"0.00"},null,"prüfen",{"$f":"IFERROR(OFFSET(MD!$U$5,MATCH(Grundlagen_Abrechnung_KAE!$E404,MD_GENDER,0),0),\"\")","v":""},{"v":0,"d":"0.00"},null,{"v":0,"d":"0.00"},{"$f":"IF(F404=\"Arbeitgeberähnliche Stellung\",OFFSET(MD!$Q$5,MATCH(Grundlagen_Abrechnung_KAE!$AK$7,MD_JAHR,0),0)*$H404,IF(J404>0,AC404,I404))","v":{"v":0,"d":"0.00"}},null,{"$f":"OFFSET(MD!$P$5,MATCH($AK$7,MD_JAHR,0),0)*12","v":{"$error":"#VALUE!"}},{"v":0,"d":"0.00"}]
[{"$nulls":14},{"$f":"IF($B405=\"\",\"\",IF(F405=\"Arbeitgeberähnliche Stellung\",OFFSET(MD!$Q$5,MATCH(Grundlagen_Abrechnung_KAE!$AK$7,MD_JAHR,0),0)*$H405,IF(((AD405/12*M405*12)+N405)>AF405,AF405/12,((AD405/12*M405*12)+N405)/12)))","v":""},null,null,{"v":0,"d":"0.00"},null,{"v":0,"d":"0.00%"},{"v":0,"d":"0.00"},{"v":0,"d":"0.00"},{"v":0,"d":"0.00"},null,"prüfen",{"$f":"IFERROR(OFFSET(MD!$U$5,MATCH(Grundlagen_Abrechnung_KAE!$E405,MD_GENDER,0),0),\"\")","v":""},{"v":0,"d":"0.00"},null,{"v":0,"d":"0.00"},{"$f":"IF(F405=\"Arbeitgeberähnliche Stellung\",OFFSET(MD!$Q$5,MATCH(Grundlagen_Abrechnung_KAE!$AK$7,MD_JAHR,0),0)*$H405,IF(J405>0,AC405,I405))","v":{"v":0,"d":"0.00"}},null,{"$f":"OFFSET(MD!$P$5,MATCH($AK$7,MD_JAHR,0),0)*12","v":{"$error":"#VALUE!"}},{"v":0,"d":"0.00"}]
[{"$nulls":14},{"$f":"IF($B406=\"\",\"\",IF(F406=\"Arbeitgeberähnliche Stellung\",OFFSET(MD!$Q$5,MATCH(Grundlagen_Abrechnung_KAE!$AK$7,MD_JAHR,0),0)*$H406,IF(((AD406/12*M406*12)+N406)>AF406,AF406/12,((AD406/12*M406*12)+N406)/12)))","v":""},null,null,{"v":0,"d":"0.00"},null,{"v":0,"d":"0.00%"},{"v":0,"d":"0.00"},{"v":0,"d":"0.00"},{"v":0,"d":"0.00"},null,"prüfen",{"$f":"IFERROR(OFFSET(MD!$U$5,MATCH(Grundlagen_Abrechnung_KAE!$E406,MD_GENDER,0),0),\"\")","v":""},{"v":0,"d":"0.00"},null,{"v":0,"d":"0.00"},{"$f":"IF(F406=\"Arbeitgeberähnliche Stellung\",OFFSET(MD!$Q$5,MATCH(Grundlagen_Abrechnung_KAE!$AK$7,MD_JAHR,0),0)*$H406,IF(J406>0,AC406,I406))","v":{"v":0,"d":"0.00"}},null,{"$f":"OFFSET(MD!$P$5,MATCH($AK$7,MD_JAHR,0),0)*12","v":{"$error":"#VALUE!"}},{"v":0,"d":"0.00"}]
[{"$nulls":14},{"$f":"IF($B407=\"\",\"\",IF(F407=\"Arbeitgeberähnliche Stellung\",OFFSET(MD!$Q$5,MATCH(Grundlagen_Abrechnung_KAE!$AK$7,MD_JAHR,0),0)*$H407,IF(((AD407/12*M407*12)+N407)>AF407,AF407/12,((AD407/12*M407*12)+N407)/12)))","v":""},null,null,{"v":0,"d":"0.00"},null,{"v":0,"d":"0.00%"},{"v":0,"d":"0.00"},{"v":0,"d":"0.00"},{"v":0,"d":"0.00"},null,"prüfen",{"$f":"IFERROR(OFFSET(MD!$U$5,MATCH(Grundlagen_Abrechnung_KAE!$E407,MD_GENDER,0),0),\"\")","v":""},{"v":0,"d":"0.00"},null,{"v":0,"d":"0.00"},{"$f":"IF(F407=\"Arbeitgeberähnliche Stellung\",OFFSET(MD!$Q$5,MATCH(Grundlagen_Abrechnung_KAE!$AK$7,MD_JAHR,0),0)*$H407,IF(J407>0,AC407,I407))","v":{"v":0,"d":"0.00"}},null,{"$f":"OFFSET(MD!$P$5,MATCH($AK$7,MD_JAHR,0),0)*12","v":{"$error":"#VALUE!"}},{"v":0,"d":"0.00"}]
[{"$nulls":14},{"$f":"IF($B408=\"\",\"\",IF(F408=\"Arbeitgeberähnliche Stellung\",OFFSET(MD!$Q$5,MATCH(Grundlagen_Abrechnung_KAE!$AK$7,MD_JAHR,0),0)*$H408,IF(((AD408/12*M408*12)+N408)>AF408,AF408/12,((AD408/12*M408*12)+N408)/12)))","v":""},null,null,{"v":0,"d":"0.00"},null,{"v":0,"d":"0.00%"},{"v":0,"d":"0.00"},{"v":0,"d":"0.00"},{"v":0,"d":"0.00"},null,"prüfen",{"$f":"IFERROR(OFFSET(MD!$U$5,MATCH(Grundlagen_Abrechnung_KAE!$E408,MD_GENDER,0),0),\"\")","v":""},{"v":0,"d":"0.00"},null,{"v":0,"d":"0.00"},{"$f":"IF(F408=\"Arbeitgeberähnliche Stellung\",OFFSET(MD!$Q$5,MATCH(Grundlagen_Abrechnung_KAE!$AK$7,MD_JAHR,0),0)*$H408,IF(J408>0,AC408,I408))","v":{"v":0,"d":"0.00"}},null,{"$f":"OFFSET(MD!$P$5,MATCH($AK$7,MD_JAHR,0),0)*12","v":{"$error":"#VALUE!"}},{"v":0,"d":"0.00"}]
[{"$nulls":14},{"$f":"IF($B409=\"\",\"\",IF(F409=\"Arbeitgeberähnliche Stellung\",OFFSET(MD!$Q$5,MATCH(Grundlagen_Abrechnung_KAE!$AK$7,MD_JAHR,0),0)*$H409,IF(((AD409/12*M409*12)+N409)>AF409,AF409/12,((AD409/12*M409*12)+N409)/12)))","v":""},null,null,{"v":0,"d":"0.00"},null,{"v":0,"d":"0.00%"},{"v":0,"d":"0.00"},{"v":0,"d":"0.00"},{"v":0,"d":"0.00"},null,"prüfen",{"$f":"IFERROR(OFFSET(MD!$U$5,MATCH(Grundlagen_Abrechnung_KAE!$E409,MD_GENDER,0),0),\"\")","v":""},{"v":0,"d":"0.00"},null,{"v":0,"d":"0.00"},{"$f":"IF(F409=\"Arbeitgeberähnliche Stellung\",OFFSET(MD!$Q$5,MATCH(Grundlagen_Abrechnung_KAE!$AK$7,MD_JAHR,0),0)*$H409,IF(J409>0,AC409,I409))","v":{"v":0,"d":"0.00"}},null,{"$f":"OFFSET(MD!$P$5,MATCH($AK$7,MD_JAHR,0),0)*12","v":{"$error":"#VALUE!"}},{"v":0,"d":"0.00"}]
[{"$nulls":14},{"$f":"IF($B410=\"\",\"\",IF(F410=\"Arbeitgeberähnliche Stellung\",OFFSET(MD!$Q$5,MATCH(Grundlagen_Abrechnung_KAE!$AK$7,MD_JAHR,0),0)*$H410,IF(((AD410/12*M410*12)+N410)>AF410,AF410/12,((AD410/12*M410*12)+N410)/12)))","v":""},null,null,{"v":0,"d":"0.00"},null,{"v":0,"d":"0.00%"},{"v":0,"d":"0.00"},{"v":0,"d":"0.00"},{"v":0,"d":"0.00"},null,"prüfen",{"$f":"IFERROR(OFFSET(MD!$U$5,MATCH(Grundlagen_Abrechnung_KAE!$E410,MD_GENDER,0),0),\"\")","v":""},{"v":0,"d":"0.00"},null,{"v":0,"d":"0.00"},{"$f":"IF(F410=\"Arbeitgeberähnliche Stellung\",OFFSET(MD!$Q$5,MATCH(Grundlagen_Abrechnung_KAE!$AK$7,MD_JAHR,0),0)*$H410,IF(J410>0,AC410,I410))","v":{"v":0,"d":"0.00"}},null,{"$f":"OFFSET(MD!$P$5,MATCH($AK$7,MD_JAHR,0),0)*12","v":{"$error":"#VALUE!"}},{"v":0,"d":"0.00"}]
[{"$nulls":14},{"$f":"IF($B411=\"\",\"\",IF(F411=\"Arbeitgeberähnliche Stellung\",OFFSET(MD!$Q$5,MATCH(Grundlagen_Abrechnung_KAE!$AK$7,MD_JAHR,0),0)*$H411,IF(((AD411/12*M411*12)+N411)>AF411,AF411/12,((AD411/12*M411*12)+N411)/12)))","v":""},null,null,{"v":0,"d":"0.00"},null,{"v":0,"d":"0.00%"},{"v":0,"d":"0.00"},{"v":0,"d":"0.00"},{"v":0,"d":"0.00"},null,"prüfen",{"$f":"IFERROR(OFFSET(MD!$U$5,MATCH(Grundlagen_Abrechnung_KAE!$E411,MD_GENDER,0),0),\"\")","v":""},{"v":0,"d":"0.00"},null,{"v":0,"d":"0.00"},{"$f":"IF(F411=\"Arbeitgeberähnliche Stellung\",OFFSET(MD!$Q$5,MATCH(Grundlagen_Abrechnung_KAE!$AK$7,MD_JAHR,0),0)*$H411,IF(J411>0,AC411,I411))","v":{"v":0,"d":"0.00"}},null,{"$f":"OFFSET(MD!$P$5,MATCH($AK$7,MD_JAHR,0),0)*12","v":{"$error":"#VALUE!"}},{"v":0,"d":"0.00"}]
[{"$nulls":14},{"$f":"IF($B412=\"\",\"\",IF(F412=\"Arbeitgeberähnliche Stellung\",OFFSET(MD!$Q$5,MATCH(Grundlagen_Abrechnung_KAE!$AK$7,MD_JAHR,0),0)*$H412,IF(((AD412/12*M412*12)+N412)>AF412,AF412/12,((AD412/12*M412*12)+N412)/12)))","v":""},null,null,{"v":0,"d":"0.00"},null,{"v":0,"d":"0.00%"},{"v":0,"d":"0.00"},{"v":0,"d":"0.00"},{"v":0,"d":"0.00"},null,"prüfen",{"$f":"IFERROR(OFFSET(MD!$U$5,MATCH(Grundlagen_Abrechnung_KAE!$E412,MD_GENDER,0),0),\"\")","v":""},{"v":0,"d":"0.00"},null,{"v":0,"d":"0.00"},{"$f":"IF(F412=\"Arbeitgeberähnliche Stellung\",OFFSET(MD!$Q$5,MATCH(Grundlagen_Abrechnung_KAE!$AK$7,MD_JAHR,0),0)*$H412,IF(J412>0,AC412,I412))","v":{"v":0,"d":"0.00"}},null,{"$f":"OFFSET(MD!$P$5,MATCH($AK$7,MD_JAHR,0),0)*12","v":{"$error":"#VALUE!"}},{"v":0,"d":"0.00"}]
[{"$nulls":14},{"$f":"IF($B413=\"\",\"\",IF(F413=\"Arbeitgeberähnliche Stellung\",OFFSET(MD!$Q$5,MATCH(Grundlagen_Abrechnung_KAE!$AK$7,MD_JAHR,0),0)*$H413,IF(((AD413/12*M413*12)+N413)>AF413,AF413/12,((AD413/12*M413*12)+N413)/12)))","v":""},null,null,{"v":0,"d":"0.00"},null,{"v":0,"d":"0.00%"},{"v":0,"d":"0.00"},{"v":0,"d":"0.00"},{"v":0,"d":"0.00"},null,"prüfen",{"$f":"IFERROR(OFFSET(MD!$U$5,MATCH(Grundlagen_Abrechnung_KAE!$E413,MD_GENDER,0),0),\"\")","v":""},{"v":0,"d":"0.00"},null,{"v":0,"d":"0.00"},{"$f":"IF(F413=\"Arbeitgeberähnliche Stellung\",OFFSET(MD!$Q$5,MATCH(Grundlagen_Abrechnung_KAE!$AK$7,MD_JAHR,0),0)*$H413,IF(J413>0,AC413,I413))","v":{"v":0,"d":"0.00"}},null,{"$f":"OFFSET(MD!$P$5,MATCH($AK$7,MD_JAHR,0),0)*12","v":{"$error":"#VALUE!"}},{"v":0,"d":"0.00"}]
[{"$nulls":14},{"$f":"IF($B414=\"\",\"\",IF(F414=\"Arbeitgeberähnliche Stellung\",OFFSET(MD!$Q$5,MATCH(Grundlagen_Abrechnung_KAE!$AK$7,MD_JAHR,0),0)*$H414,IF(((AD414/12*M414*12)+N414)>AF414,AF414/12,((AD414/12*M414*12)+N414)/12)))","v":""},null,null,{"v":0,"d":"0.00"},null,{"v":0,"d":"0.00%"},{"v":0,"d":"0.00"},{"v":0,"d":"0.00"},{"v":0,"d":"0.00"},null,"prüfen",{"$f":"IFERROR(OFFSET(MD!$U$5,MATCH(Grundlagen_Abrechnung_KAE!$E414,MD_GENDER,0),0),\"\")","v":""},{"v":0,"d":"0.00"},null,{"v":0,"d":"0.00"},{"$f":"IF(F414=\"Arbeitgeberähnliche Stellung\",OFFSET(MD!$Q$5,MATCH(Grundlagen_Abrechnung_KAE!$AK$7,MD_JAHR,0),0)*$H414,IF(J414>0,AC414,I414))","v":{"v":0,"d":"0.00"}},null,{"$f":"OFFSET(MD!$P$5,MATCH($AK$7,MD_JAHR,0),0)*12","v":{"$error":"#VALUE!"}},{"v":0,"d":"0.00"}]
[{"$nulls":14},{"$f":"IF($B415=\"\",\"\",IF(F415=\"Arbeitgeberähnliche Stellung\",OFFSET(MD!$Q$5,MATCH(Grundlagen_Abrechnung_KAE!$AK$7,MD_JAHR,0),0)*$H415,IF(((AD415/12*M415*12)+N415)>AF415,AF415/12,((AD415/12*M415*12)+N415)/12)))","v":""},null,null,{"v":0,"d":"0.00"},null,{"v":0,"d":"0.00%"},{"v":0,"d":"0.00"},{"v":0,"d":"0.00"},{"v":0,"d":"0.00"},null,"prüfen",{"$f":"IFERROR(OFFSET(MD!$U$5,MATCH(Grundlagen_Abrechnung_KAE!$E415,MD_GENDER,0),0),\"\")","v":""},{"v":0,"d":"0.00"},null,{"v":0,"d":"0.00"},{"$f":"IF(F415=\"Arbeitgeberähnliche Stellung\",OFFSET(MD!$Q$5,MATCH(Grundlagen_Abrechnung_KAE!$AK$7,MD_JAHR,0),0)*$H415,IF(J415>0,AC415,I415))","v":{"v":0,"d":"0.00"}},null,{"$f":"OFFSET(MD!$P$5,MATCH($AK$7,MD_JAHR,0),0)*12","v":{"$error":"#VALUE!"}},{"v":0,"d":"0.00"}]
[{"$nulls":14},{"$f":"IF($B416=\"\",\"\",IF(F416=\"Arbeitgeberähnliche Stellung\",OFFSET(MD!$Q$5,MATCH(Grundlagen_Abrechnung_KAE!$AK$7,MD_JAHR,0),0)*$H416,IF(((AD416/12*M416*12)+N416)>AF416,AF416/12,((AD416/12*M416*12)+N416)/12)))","v":""},null,null,{"v":0,"d":"0.00"},null,{"v":0,"d":"0.00%"},{"v":0,"d":"0.00"},{"v":0,"d":"0.00"},{"v":0,"d":"0.00"},null,"prüfen",{"$f":"IFERROR(OFFSET(MD!$U$5,MATCH(Grundlagen_Abrechnung_KAE!$E416,MD_GENDER,0),0),\"\")","v":""},{"v":0,"d":"0.00"},null,{"v":0,"d":"0.00"},{"$f":"IF(F416=\"Arbeitgeberähnliche Stellung\",OFFSET(MD!$Q$5,MATCH(Grundlagen_Abrechnung_KAE!$AK$7,MD_JAHR,0),0)*$H416,IF(J416>0,AC416,I416))","v":{"v":0,"d":"0.00"}},null,{"$f":"OFFSET(MD!$P$5,MATCH($AK$7,MD_JAHR,0),0)*12","v":{"$error":"#VALUE!"}},{"v":0,"d":"0.00"}]
[{"$nulls":14},{"$f":"IF($B417=\"\",\"\",IF(F417=\"Arbeitgeberähnliche Stellung\",OFFSET(MD!$Q$5,MATCH(Grundlagen_Abrechnung_KAE!$AK$7,MD_JAHR,0),0)*$H417,IF(((AD417/12*M417*12)+N417)>AF417,AF417/12,((AD417/12*M417*12)+N417)/12)))","v":""},null,null,{"v":0,"d":"0.00"},null,{"v":0,"d":"0.00%"},{"v":0,"d":"0.00"},{"v":0,"d":"0.00"},{"v":0,"d":"0.00"},null,"prüfen",{"$f":"IFERROR(OFFSET(MD!$U$5,MATCH(Grundlagen_Abrechnung_KAE!$E417,MD_GENDER,0),0),\"\")","v":""},{"v":0,"d":"0.00"},null,{"v":0,"d":"0.00"},{"$f":"IF(F417=\"Arbeitgeberähnliche Stellung\",OFFSET(MD!$Q$5,MATCH(Grundlagen_Abrechnung_KAE!$AK$7,MD_JAHR,0),0)*$H417,IF(J417>0,AC417,I417))","v":{"v":0,"d":"0.00"}},null,{"$f":"OFFSET(MD!$P$5,MATCH($AK$7,MD_JAHR,0),0)*12","v":{"$error":"#VALUE!"}},{"v":0,"d":"0.00"}]
[{"$nulls":14},{"$f":"IF($B418=\"\",\"\",IF(F418=\"Arbeitgeberähnliche Stellung\",OFFSET(MD!$Q$5,MATCH(Grundlagen_Abrechnung_KAE!$AK$7,MD_JAHR,0),0)*$H418,IF(((AD418/12*M418*12)+N418)>AF418,AF418/12,((AD418/12*M418*12)+N418)/12)))","v":""},null,null,{"v":0,"d":"0.00"},null,{"v":0,"d":"0.00%"},{"v":0,"d":"0.00"},{"v":0,"d":"0.00"},{"v":0,"d":"0.00"},null,"prüfen",{"$f":"IFERROR(OFFSET(MD!$U$5,MATCH(Grundlagen_Abrechnung_KAE!$E418,MD_GENDER,0),0),\"\")","v":""},{"v":0,"d":"0.00"},null,{"v":0,"d":"0.00"},{"$f":"IF(F418=\"Arbeitgeberähnliche Stellung\",OFFSET(MD!$Q$5,MATCH(Grundlagen_Abrechnung_KAE!$AK$7,MD_JAHR,0),0)*$H418,IF(J418>0,AC418,I418))","v":{"v":0,"d":"0.00"}},null,{"$f":"OFFSET(MD!$P$5,MATCH($AK$7,MD_JAHR,0),0)*12","v":{"$error":"#VALUE!"}},{"v":0,"d":"0.00"}]
[{"$nulls":14},{"$f":"IF($B419=\"\",\"\",IF(F419=\"Arbeitgeberähnliche Stellung\",OFFSET(MD!$Q$5,MATCH(Grundlagen_Abrechnung_KAE!$AK$7,MD_JAHR,0),0)*$H419,IF(((AD419/12*M419*12)+N419)>AF419,AF419/12,((AD419/12*M419*12)+N419)/12)))","v":""},null,null,{"v":0,"d":"0.00"},null,{"v":0,"d":"0.00%"},{"v":0,"d":"0.00"},{"v":0,"d":"0.00"},{"v":0,"d":"0.00"},null,"prüfen",{"$f":"IFERROR(OFFSET(MD!$U$5,MATCH(Grundlagen_Abrechnung_KAE!$E419,MD_GENDER,0),0),\"\")","v":""},{"v":0,"d":"0.00"},null,{"v":0,"d":"0.00"},{"$f":"IF(F419=\"Arbeitgeberähnliche Stellung\",OFFSET(MD!$Q$5,MATCH(Grundlagen_Abrechnung_KAE!$AK$7,MD_JAHR,0),0)*$H419,IF(J419>0,AC419,I419))","v":{"v":0,"d":"0.00"}},null,{"$f":"OFFSET(MD!$P$5,MATCH($AK$7,MD_JAHR,0),0)*12","v":{"$error":"#VALUE!"}},{"v":0,"d":"0.00"}]
[{"$nulls":14},{"$f":"IF($B420=\"\",\"\",IF(F420=\"Arbeitgeberähnliche Stellung\",OFFSET(MD!$Q$5,MATCH(Grundlagen_Abrechnung_KAE!$AK$7,MD_JAHR,0),0)*$H420,IF(((AD420/12*M420*12)+N420)>AF420,AF420/12,((AD420/12*M420*12)+N420)/12)))","v":""},null,null,{"v":0,"d":"0.00"},null,{"v":0,"d":"0.00%"},{"v":0,"d":"0.00"},{"v":0,"d":"0.00"},{"v":0,"d":"0.00"},null,"prüfen",{"$f":"IFERROR(OFFSET(MD!$U$5,MATCH(Grundlagen_Abrechnung_KAE!$E420,MD_GENDER,0),0),\"\")","v":""},{"v":0,"d":"0.00"},null,{"v":0,"d":"0.00"},{"$f":"IF(F420=\"Arbeitgeberähnliche Stellung\",OFFSET(MD!$Q$5,MATCH(Grundlagen_Abrechnung_KAE!$AK$7,MD_JAHR,0),0)*$H420,IF(J420>0,AC420,I420))","v":{"v":0,"d":"0.00"}},null,{"$f":"OFFSET(MD!$P$5,MATCH($AK$7,MD_JAHR,0),0)*12","v":{"$error":"#VALUE!"}},{"v":0,"d":"0.00"}]
[{"$nulls":14},{"$f":"IF($B421=\"\",\"\",IF(F421=\"Arbeitgeberähnliche Stellung\",OFFSET(MD!$Q$5,MATCH(Grundlagen_Abrechnung_KAE!$AK$7,MD_JAHR,0),0)*$H421,IF(((AD421/12*M421*12)+N421)>AF421,AF421/12,((AD421/12*M421*12)+N421)/12)))","v":""},null,null,{"v":0,"d":"0.00"},null,{"v":0,"d":"0.00%"},{"v":0,"d":"0.00"},{"v":0,"d":"0.00"},{"v":0,"d":"0.00"},null,"prüfen",{"$f":"IFERROR(OFFSET(MD!$U$5,MATCH(Grundlagen_Abrechnung_KAE!$E421,MD_GENDER,0),0),\"\")","v":""},{"v":0,"d":"0.00"},null,{"v":0,"d":"0.00"},{"$f":"IF(F421=\"Arbeitgeberähnliche Stellung\",OFFSET(MD!$Q$5,MATCH(Grundlagen_Abrechnung_KAE!$AK$7,MD_JAHR,0),0)*$H421,IF(J421>0,AC421,I421))","v":{"v":0,"d":"0.00"}},null,{"$f":"OFFSET(MD!$P$5,MATCH($AK$7,MD_JAHR,0),0)*12","v":{"$error":"#VALUE!"}},{"v":0,"d":"0.00"}]
[{"$nulls":14},{"$f":"IF($B422=\"\",\"\",IF(F422=\"Arbeitgeberähnliche Stellung\",OFFSET(MD!$Q$5,MATCH(Grundlagen_Abrechnung_KAE!$AK$7,MD_JAHR,0),0)*$H422,IF(((AD422/12*M422*12)+N422)>AF422,AF422/12,((AD422/12*M422*12)+N422)/12)))","v":""},null,null,{"v":0,"d":"0.00"},null,{"v":0,"d":"0.00%"},{"v":0,"d":"0.00"},{"v":0,"d":"0.00"},{"v":0,"d":"0.00"},null,"prüfen",{"$f":"IFERROR(OFFSET(MD!$U$5,MATCH(Grundlagen_Abrechnung_KAE!$E422,MD_GENDER,0),0),\"\")","v":""},{"v":0,"d":"0.00"},null,{"v":0,"d":"0.00"},{"$f":"IF(F422=\"Arbeitgeberähnliche Stellung\",OFFSET(MD!$Q$5,MATCH(Grundlagen_Abrechnung_KAE!$AK$7,MD_JAHR,0),0)*$H422,IF(J422>0,AC422,I422))","v":{"v":0,"d":"0.00"}},null,{"$f":"OFFSET(MD!$P$5,MATCH($AK$7,MD_JAHR,0),0)*12","v":{"$error":"#VALUE!"}},{"v":0,"d":"0.00"}]
[{"$nulls":14},{"$f":"IF($B423=\"\",\"\",IF(F423=\"Arbeitgeberähnliche Stellung\",OFFSET(MD!$Q$5,MATCH(Grundlagen_Abrechnung_KAE!$AK$7,MD_JAHR,0),0)*$H423,IF(((AD423/12*M423*12)+N423)>AF423,AF423/12,((AD423/12*M423*12)+N423)/12)))","v":""},null,null,{"v":0,"d":"0.00"},null,{"v":0,"d":"0.00%"},{"v":0,"d":"0.00"},{"v":0,"d":"0.00"},{"v":0,"d":"0.00"},null,"prüfen",{"$f":"IFERROR(OFFSET(MD!$U$5,MATCH(Grundlagen_Abrechnung_KAE!$E423,MD_GENDER,0),0),\"\")","v":""},{"v":0,"d":"0.00"},null,{"v":0,"d":"0.00"},{"$f":"IF(F423=\"Arbeitgeberähnliche Stellung\",OFFSET(MD!$Q$5,MATCH(Grundlagen_Abrechnung_KAE!$AK$7,MD_JAHR,0),0)*$H423,IF(J423>0,AC423,I423))","v":{"v":0,"d":"0.00"}},null,{"$f":"OFFSET(MD!$P$5,MATCH($AK$7,MD_JAHR,0),0)*12","v":{"$error":"#VALUE!"}},{"v":0,"d":"0.00"}]
[{"$nulls":14},{"$f":"IF($B424=\"\",\"\",IF(F424=\"Arbeitgeberähnliche Stellung\",OFFSET(MD!$Q$5,MATCH(Grundlagen_Abrechnung_KAE!$AK$7,MD_JAHR,0),0)*$H424,IF(((AD424/12*M424*12)+N424)>AF424,AF424/12,((AD424/12*M424*12)+N424)/12)))","v":""},null,null,{"v":0,"d":"0.00"},null,{"v":0,"d":"0.00%"},{"v":0,"d":"0.00"},{"v":0,"d":"0.00"},{"v":0,"d":"0.00"},null,"prüfen",{"$f":"IFERROR(OFFSET(MD!$U$5,MATCH(Grundlagen_Abrechnung_KAE!$E424,MD_GENDER,0),0),\"\")","v":""},{"v":0,"d":"0.00"},null,{"v":0,"d":"0.00"},{"$f":"IF(F424=\"Arbeitgeberähnliche Stellung\",OFFSET(MD!$Q$5,MATCH(Grundlagen_Abrechnung_KAE!$AK$7,MD_JAHR,0),0)*$H424,IF(J424>0,AC424,I424))","v":{"v":0,"d":"0.00"}},null,{"$f":"OFFSET(MD!$P$5,MATCH($AK$7,MD_JAHR,0),0)*12","v":{"$error":"#VALUE!"}},{"v":0,"d":"0.00"}]
[{"$nulls":14},{"$f":"IF($B425=\"\",\"\",IF(F425=\"Arbeitgeberähnliche Stellung\",OFFSET(MD!$Q$5,MATCH(Grundlagen_Abrechnung_KAE!$AK$7,MD_JAHR,0),0)*$H425,IF(((AD425/12*M425*12)+N425)>AF425,AF425/12,((AD425/12*M425*12)+N425)/12)))","v":""},null,null,{"v":0,"d":"0.00"},null,{"v":0,"d":"0.00%"},{"v":0,"d":"0.00"},{"v":0,"d":"0.00"},{"v":0,"d":"0.00"},null,"prüfen",{"$f":"IFERROR(OFFSET(MD!$U$5,MATCH(Grundlagen_Abrechnung_KAE!$E425,MD_GENDER,0),0),\"\")","v":""},{"v":0,"d":"0.00"},null,{"v":0,"d":"0.00"},{"$f":"IF(F425=\"Arbeitgeberähnliche Stellung\",OFFSET(MD!$Q$5,MATCH(Grundlagen_Abrechnung_KAE!$AK$7,MD_JAHR,0),0)*$H425,IF(J425>0,AC425,I425))","v":{"v":0,"d":"0.00"}},null,{"$f":"OFFSET(MD!$P$5,MATCH($AK$7,MD_JAHR,0),0)*12","v":{"$error":"#VALUE!"}},{"v":0,"d":"0.00"}]
[{"$nulls":14},{"$f":"IF($B426=\"\",\"\",IF(F426=\"Arbeitgeberähnliche Stellung\",OFFSET(MD!$Q$5,MATCH(Grundlagen_Abrechnung_KAE!$AK$7,MD_JAHR,0),0)*$H426,IF(((AD426/12*M426*12)+N426)>AF426,AF426/12,((AD426/12*M426*12)+N426)/12)))","v":""},null,null,{"v":0,"d":"0.00"},null,{"v":0,"d":"0.00%"},{"v":0,"d":"0.00"},{"v":0,"d":"0.00"},{"v":0,"d":"0.00"},null,"prüfen",{"$f":"IFERROR(OFFSET(MD!$U$5,MATCH(Grundlagen_Abrechnung_KAE!$E426,MD_GENDER,0),0),\"\")","v":""},{"v":0,"d":"0.00"},null,{"v":0,"d":"0.00"},{"$f":"IF(F426=\"Arbeitgeberähnliche Stellung\",OFFSET(MD!$Q$5,MATCH(Grundlagen_Abrechnung_KAE!$AK$7,MD_JAHR,0),0)*$H426,IF(J426>0,AC426,I426))","v":{"v":0,"d":"0.00"}},null,{"$f":"OFFSET(MD!$P$5,MATCH($AK$7,MD_JAHR,0),0)*12","v":{"$error":"#VALUE!"}},{"v":0,"d":"0.00"}]
[{"$nulls":14},{"$f":"IF($B427=\"\",\"\",IF(F427=\"Arbeitgeberähnliche Stellung\",OFFSET(MD!$Q$5,MATCH(Grundlagen_Abrechnung_KAE!$AK$7,MD_JAHR,0),0)*$H427,IF(((AD427/12*M427*12)+N427)>AF427,AF427/12,((AD427/12*M427*12)+N427)/12)))","v":""},null,null,{"v":0,"d":"0.00"},null,{"v":0,"d":"0.00%"},{"v":0,"d":"0.00"},{"v":0,"d":"0.00"},{"v":0,"d":"0.00"},null,"prüfen",{"$f":"IFERROR(OFFSET(MD!$U$5,MATCH(Grundlagen_Abrechnung_KAE!$E427,MD_GENDER,0),0),\"\")","v":""},{"v":0,"d":"0.00"},null,{"v":0,"d":"0.00"},{"$f":"IF(F427=\"Arbeitgeberähnliche Stellung\",OFFSET(MD!$Q$5,MATCH(Grundlagen_Abrechnung_KAE!$AK$7,MD_JAHR,0),0)*$H427,IF(J427>0,AC427,I427))","v":{"v":0,"d":"0.00"}},null,{"$f":"OFFSET(MD!$P$5,MATCH($AK$7,MD_JAHR,0),0)*12","v":{"$error":"#VALUE!"}},{"v":0,"d":"0.00"}]
[{"$nulls":14},{"$f":"IF($B428=\"\",\"\",IF(F428=\"Arbeitgeberähnliche Stellung\",OFFSET(MD!$Q$5,MATCH(Grundlagen_Abrechnung_KAE!$AK$7,MD_JAHR,0),0)*$H428,IF(((AD428/12*M428*12)+N428)>AF428,AF428/12,((AD428/12*M428*12)+N428)/12)))","v":""},null,null,{"v":0,"d":"0.00"},null,{"v":0,"d":"0.00%"},{"v":0,"d":"0.00"},{"v":0,"d":"0.00"},{"v":0,"d":"0.00"},null,"prüfen",{"$f":"IFERROR(OFFSET(MD!$U$5,MATCH(Grundlagen_Abrechnung_KAE!$E428,MD_GENDER,0),0),\"\")","v":""},{"v":0,"d":"0.00"},null,{"v":0,"d":"0.00"},{"$f":"IF(F428=\"Arbeitgeberähnliche Stellung\",OFFSET(MD!$Q$5,MATCH(Grundlagen_Abrechnung_KAE!$AK$7,MD_JAHR,0),0)*$H428,IF(J428>0,AC428,I428))","v":{"v":0,"d":"0.00"}},null,{"$f":"OFFSET(MD!$P$5,MATCH($AK$7,MD_JAHR,0),0)*12","v":{"$error":"#VALUE!"}},{"v":0,"d":"0.00"}]
[{"$nulls":14},{"$f":"IF($B429=\"\",\"\",IF(F429=\"Arbeitgeberähnliche Stellung\",OFFSET(MD!$Q$5,MATCH(Grundlagen_Abrechnung_KAE!$AK$7,MD_JAHR,0),0)*$H429,IF(((AD429/12*M429*12)+N429)>AF429,AF429/12,((AD429/12*M429*12)+N429)/12)))","v":""},null,null,{"v":0,"d":"0.00"},null,{"v":0,"d":"0.00%"},{"v":0,"d":"0.00"},{"v":0,"d":"0.00"},{"v":0,"d":"0.00"},null,"prüfen",{"$f":"IFERROR(OFFSET(MD!$U$5,MATCH(Grundlagen_Abrechnung_KAE!$E429,MD_GENDER,0),0),\"\")","v":""},{"v":0,"d":"0.00"},null,{"v":0,"d":"0.00"},{"$f":"IF(F429=\"Arbeitgeberähnliche Stellung\",OFFSET(MD!$Q$5,MATCH(Grundlagen_Abrechnung_KAE!$AK$7,MD_JAHR,0),0)*$H429,IF(J429>0,AC429,I429))","v":{"v":0,"d":"0.00"}},null,{"$f":"OFFSET(MD!$P$5,MATCH($AK$7,MD_JAHR,0),0)*12","v":{"$error":"#VALUE!"}},{"v":0,"d":"0.00"}]
[{"$nulls":14},{"$f":"IF($B430=\"\",\"\",IF(F430=\"Arbeitgeberähnliche Stellung\",OFFSET(MD!$Q$5,MATCH(Grundlagen_Abrechnung_KAE!$AK$7,MD_JAHR,0),0)*$H430,IF(((AD430/12*M430*12)+N430)>AF430,AF430/12,((AD430/12*M430*12)+N430)/12)))","v":""},null,null,{"v":0,"d":"0.00"},null,{"v":0,"d":"0.00%"},{"v":0,"d":"0.00"},{"v":0,"d":"0.00"},{"v":0,"d":"0.00"},null,"prüfen",{"$f":"IFERROR(OFFSET(MD!$U$5,MATCH(Grundlagen_Abrechnung_KAE!$E430,MD_GENDER,0),0),\"\")","v":""},{"v":0,"d":"0.00"},null,{"v":0,"d":"0.00"},{"$f":"IF(F430=\"Arbeitgeberähnliche Stellung\",OFFSET(MD!$Q$5,MATCH(Grundlagen_Abrechnung_KAE!$AK$7,MD_JAHR,0),0)*$H430,IF(J430>0,AC430,I430))","v":{"v":0,"d":"0.00"}},null,{"$f":"OFFSET(MD!$P$5,MATCH($AK$7,MD_JAHR,0),0)*12","v":{"$error":"#VALUE!"}},{"v":0,"d":"0.00"}]
[{"$nulls":14},{"$f":"IF($B431=\"\",\"\",IF(F431=\"Arbeitgeberähnliche Stellung\",OFFSET(MD!$Q$5,MATCH(Grundlagen_Abrechnung_KAE!$AK$7,MD_JAHR,0),0)*$H431,IF(((AD431/12*M431*12)+N431)>AF431,AF431/12,((AD431/12*M431*12)+N431)/12)))","v":""},null,null,{"v":0,"d":"0.00"},null,{"v":0,"d":"0.00%"},{"v":0,"d":"0.00"},{"v":0,"d":"0.00"},{"v":0,"d":"0.00"},null,"prüfen",{"$f":"IFERROR(OFFSET(MD!$U$5,MATCH(Grundlagen_Abrechnung_KAE!$E431,MD_GENDER,0),0),\"\")","v":""},{"v":0,"d":"0.00"},null,{"v":0,"d":"0.00"},{"$f":"IF(F431=\"Arbeitgeberähnliche Stellung\",OFFSET(MD!$Q$5,MATCH(Grundlagen_Abrechnung_KAE!$AK$7,MD_JAHR,0),0)*$H431,IF(J431>0,AC431,I431))","v":{"v":0,"d":"0.00"}},null,{"$f":"OFFSET(MD!$P$5,MATCH($AK$7,MD_JAHR,0),0)*12","v":{"$error":"#VALUE!"}},{"v":0,"d":"0.00"}]
[{"$nulls":14},{"$f":"IF($B432=\"\",\"\",IF(F432=\"Arbeitgeberähnliche Stellung\",OFFSET(MD!$Q$5,MATCH(Grundlagen_Abrechnung_KAE!$AK$7,MD_JAHR,0),0)*$H432,IF(((AD432/12*M432*12)+N432)>AF432,AF432/12,((AD432/12*M432*12)+N432)/12)))","v":""},null,null,{"v":0,"d":"0.00"},null,{"v":0,"d":"0.00%"},{"v":0,"d":"0.00"},{"v":0,"d":"0.00"},{"v":0,"d":"0.00"},null,"prüfen",{"$f":"IFERROR(OFFSET(MD!$U$5,MATCH(Grundlagen_Abrechnung_KAE!$E432,MD_GENDER,0),0),\"\")","v":""},{"v":0,"d":"0.00"},null,{"v":0,"d":"0.00"},{"$f":"IF(F432=\"Arbeitgeberähnliche Stellung\",OFFSET(MD!$Q$5,MATCH(Grundlagen_Abrechnung_KAE!$AK$7,MD_JAHR,0),0)*$H432,IF(J432>0,AC432,I432))","v":{"v":0,"d":"0.00"}},null,{"$f":"OFFSET(MD!$P$5,MATCH($AK$7,MD_JAHR,0),0)*12","v":{"$error":"#VALUE!"}},{"v":0,"d":"0.00"}]
[{"$nulls":14},{"$f":"IF($B433=\"\",\"\",IF(F433=\"Arbeitgeberähnliche Stellung\",OFFSET(MD!$Q$5,MATCH(Grundlagen_Abrechnung_KAE!$AK$7,MD_JAHR,0),0)*$H433,IF(((AD433/12*M433*12)+N433)>AF433,AF433/12,((AD433/12*M433*12)+N433)/12)))","v":""},null,null,{"v":0,"d":"0.00"},null,{"v":0,"d":"0.00%"},{"v":0,"d":"0.00"},{"v":0,"d":"0.00"},{"v":0,"d":"0.00"},null,"prüfen",{"$f":"IFERROR(OFFSET(MD!$U$5,MATCH(Grundlagen_Abrechnung_KAE!$E433,MD_GENDER,0),0),\"\")","v":""},{"v":0,"d":"0.00"},null,{"v":0,"d":"0.00"},{"$f":"IF(F433=\"Arbeitgeberähnliche Stellung\",OFFSET(MD!$Q$5,MATCH(Grundlagen_Abrechnung_KAE!$AK$7,MD_JAHR,0),0)*$H433,IF(J433>0,AC433,I433))","v":{"v":0,"d":"0.00"}},null,{"$f":"OFFSET(MD!$P$5,MATCH($AK$7,MD_JAHR,0),0)*12","v":{"$error":"#VALUE!"}},{"v":0,"d":"0.00"}]
[{"$nulls":14},{"$f":"IF($B434=\"\",\"\",IF(F434=\"Arbeitgeberähnliche Stellung\",OFFSET(MD!$Q$5,MATCH(Grundlagen_Abrechnung_KAE!$AK$7,MD_JAHR,0),0)*$H434,IF(((AD434/12*M434*12)+N434)>AF434,AF434/12,((AD434/12*M434*12)+N434)/12)))","v":""},null,null,{"v":0,"d":"0.00"},null,{"v":0,"d":"0.00%"},{"v":0,"d":"0.00"},{"v":0,"d":"0.00"},{"v":0,"d":"0.00"},null,"prüfen",{"$f":"IFERROR(OFFSET(MD!$U$5,MATCH(Grundlagen_Abrechnung_KAE!$E434,MD_GENDER,0),0),\"\")","v":""},{"v":0,"d":"0.00"},null,{"v":0,"d":"0.00"},{"$f":"IF(F434=\"Arbeitgeberähnliche Stellung\",OFFSET(MD!$Q$5,MATCH(Grundlagen_Abrechnung_KAE!$AK$7,MD_JAHR,0),0)*$H434,IF(J434>0,AC434,I434))","v":{"v":0,"d":"0.00"}},null,{"$f":"OFFSET(MD!$P$5,MATCH($AK$7,MD_JAHR,0),0)*12","v":{"$error":"#VALUE!"}},{"v":0,"d":"0.00"}]
[{"$nulls":14},{"$f":"IF($B435=\"\",\"\",IF(F435=\"Arbeitgeberähnliche Stellung\",OFFSET(MD!$Q$5,MATCH(Grundlagen_Abrechnung_KAE!$AK$7,MD_JAHR,0),0)*$H435,IF(((AD435/12*M435*12)+N435)>AF435,AF435/12,((AD435/12*M435*12)+N435)/12)))","v":""},null,null,{"v":0,"d":"0.00"},null,{"v":0,"d":"0.00%"},{"v":0,"d":"0.00"},{"v":0,"d":"0.00"},{"v":0,"d":"0.00"},null,"prüfen",{"$f":"IFERROR(OFFSET(MD!$U$5,MATCH(Grundlagen_Abrechnung_KAE!$E435,MD_GENDER,0),0),\"\")","v":""},{"v":0,"d":"0.00"},null,{"v":0,"d":"0.00"},{"$f":"IF(F435=\"Arbeitgeberähnliche Stellung\",OFFSET(MD!$Q$5,MATCH(Grundlagen_Abrechnung_KAE!$AK$7,MD_JAHR,0),0)*$H435,IF(J435>0,AC435,I435))","v":{"v":0,"d":"0.00"}},null,{"$f":"OFFSET(MD!$P$5,MATCH($AK$7,MD_JAHR,0),0)*12","v":{"$error":"#VALUE!"}},{"v":0,"d":"0.00"}]
[{"$nulls":14},{"$f":"IF($B436=\"\",\"\",IF(F436=\"Arbeitgeberähnliche Stellung\",OFFSET(MD!$Q$5,MATCH(Grundlagen_Abrechnung_KAE!$AK$7,MD_JAHR,0),0)*$H436,IF(((AD436/12*M436*12)+N436)>AF436,AF436/12,((AD436/12*M436*12)+N436)/12)))","v":""},null,null,{"v":0,"d":"0.00"},null,{"v":0,"d":"0.00%"},{"v":0,"d":"0.00"},{"v":0,"d":"0.00"},{"v":0,"d":"0.00"},null,"prüfen",{"$f":"IFERROR(OFFSET(MD!$U$5,MATCH(Grundlagen_Abrechnung_KAE!$E436,MD_GENDER,0),0),\"\")","v":""},{"v":0,"d":"0.00"},null,{"v":0,"d":"0.00"},{"$f":"IF(F436=\"Arbeitgeberähnliche Stellung\",OFFSET(MD!$Q$5,MATCH(Grundlagen_Abrechnung_KAE!$AK$7,MD_JAHR,0),0)*$H436,IF(J436>0,AC436,I436))","v":{"v":0,"d":"0.00"}},null,{"$f":"OFFSET(MD!$P$5,MATCH($AK$7,MD_JAHR,0),0)*12","v":{"$error":"#VALUE!"}},{"v":0,"d":"0.00"}]
[{"$nulls":14},{"$f":"IF($B437=\"\",\"\",IF(F437=\"Arbeitgeberähnliche Stellung\",OFFSET(MD!$Q$5,MATCH(Grundlagen_Abrechnung_KAE!$AK$7,MD_JAHR,0),0)*$H437,IF(((AD437/12*M437*12)+N437)>AF437,AF437/12,((AD437/12*M437*12)+N437)/12)))","v":""},null,null,{"v":0,"d":"0.00"},null,{"v":0,"d":"0.00%"},{"v":0,"d":"0.00"},{"v":0,"d":"0.00"},{"v":0,"d":"0.00"},null,"prüfen",{"$f":"IFERROR(OFFSET(MD!$U$5,MATCH(Grundlagen_Abrechnung_KAE!$E437,MD_GENDER,0),0),\"\")","v":""},{"v":0,"d":"0.00"},null,{"v":0,"d":"0.00"},{"$f":"IF(F437=\"Arbeitgeberähnliche Stellung\",OFFSET(MD!$Q$5,MATCH(Grundlagen_Abrechnung_KAE!$AK$7,MD_JAHR,0),0)*$H437,IF(J437>0,AC437,I437))","v":{"v":0,"d":"0.00"}},null,{"$f":"OFFSET(MD!$P$5,MATCH($AK$7,MD_JAHR,0),0)*12","v":{"$error":"#VALUE!"}},{"v":0,"d":"0.00"}]
[{"$nulls":14},{"$f":"IF($B438=\"\",\"\",IF(F438=\"Arbeitgeberähnliche Stellung\",OFFSET(MD!$Q$5,MATCH(Grundlagen_Abrechnung_KAE!$AK$7,MD_JAHR,0),0)*$H438,IF(((AD438/12*M438*12)+N438)>AF438,AF438/12,((AD438/12*M438*12)+N438)/12)))","v":""},null,null,{"v":0,"d":"0.00"},null,{"v":0,"d":"0.00%"},{"v":0,"d":"0.00"},{"v":0,"d":"0.00"},{"v":0,"d":"0.00"},null,"prüfen",{"$f":"IFERROR(OFFSET(MD!$U$5,MATCH(Grundlagen_Abrechnung_KAE!$E438,MD_GENDER,0),0),\"\")","v":""},{"v":0,"d":"0.00"},null,{"v":0,"d":"0.00"},{"$f":"IF(F438=\"Arbeitgeberähnliche Stellung\",OFFSET(MD!$Q$5,MATCH(Grundlagen_Abrechnung_KAE!$AK$7,MD_JAHR,0),0)*$H438,IF(J438>0,AC438,I438))","v":{"v":0,"d":"0.00"}},null,{"$f":"OFFSET(MD!$P$5,MATCH($AK$7,MD_JAHR,0),0)*12","v":{"$error":"#VALUE!"}},{"v":0,"d":"0.00"}]
[{"$nulls":14},{"$f":"IF($B439=\"\",\"\",IF(F439=\"Arbeitgeberähnliche Stellung\",OFFSET(MD!$Q$5,MATCH(Grundlagen_Abrechnung_KAE!$AK$7,MD_JAHR,0),0)*$H439,IF(((AD439/12*M439*12)+N439)>AF439,AF439/12,((AD439/12*M439*12)+N439)/12)))","v":""},null,null,{"v":0,"d":"0.00"},null,{"v":0,"d":"0.00%"},{"v":0,"d":"0.00"},{"v":0,"d":"0.00"},{"v":0,"d":"0.00"},null,"prüfen",{"$f":"IFERROR(OFFSET(MD!$U$5,MATCH(Grundlagen_Abrechnung_KAE!$E439,MD_GENDER,0),0),\"\")","v":""},{"v":0,"d":"0.00"},null,{"v":0,"d":"0.00"},{"$f":"IF(F439=\"Arbeitgeberähnliche Stellung\",OFFSET(MD!$Q$5,MATCH(Grundlagen_Abrechnung_KAE!$AK$7,MD_JAHR,0),0)*$H439,IF(J439>0,AC439,I439))","v":{"v":0,"d":"0.00"}},null,{"$f":"OFFSET(MD!$P$5,MATCH($AK$7,MD_JAHR,0),0)*12","v":{"$error":"#VALUE!"}},{"v":0,"d":"0.00"}]
[{"$nulls":14},{"$f":"IF($B440=\"\",\"\",IF(F440=\"Arbeitgeberähnliche Stellung\",OFFSET(MD!$Q$5,MATCH(Grundlagen_Abrechnung_KAE!$AK$7,MD_JAHR,0),0)*$H440,IF(((AD440/12*M440*12)+N440)>AF440,AF440/12,((AD440/12*M440*12)+N440)/12)))","v":""},null,null,{"v":0,"d":"0.00"},null,{"v":0,"d":"0.00%"},{"v":0,"d":"0.00"},{"v":0,"d":"0.00"},{"v":0,"d":"0.00"},null,"prüfen",{"$f":"IFERROR(OFFSET(MD!$U$5,MATCH(Grundlagen_Abrechnung_KAE!$E440,MD_GENDER,0),0),\"\")","v":""},{"v":0,"d":"0.00"},null,{"v":0,"d":"0.00"},{"$f":"IF(F440=\"Arbeitgeberähnliche Stellung\",OFFSET(MD!$Q$5,MATCH(Grundlagen_Abrechnung_KAE!$AK$7,MD_JAHR,0),0)*$H440,IF(J440>0,AC440,I440))","v":{"v":0,"d":"0.00"}},null,{"$f":"OFFSET(MD!$P$5,MATCH($AK$7,MD_JAHR,0),0)*12","v":{"$error":"#VALUE!"}},{"v":0,"d":"0.00"}]
[{"$nulls":14},{"$f":"IF($B441=\"\",\"\",IF(F441=\"Arbeitgeberähnliche Stellung\",OFFSET(MD!$Q$5,MATCH(Grundlagen_Abrechnung_KAE!$AK$7,MD_JAHR,0),0)*$H441,IF(((AD441/12*M441*12)+N441)>AF441,AF441/12,((AD441/12*M441*12)+N441)/12)))","v":""},null,null,{"v":0,"d":"0.00"},null,{"v":0,"d":"0.00%"},{"v":0,"d":"0.00"},{"v":0,"d":"0.00"},{"v":0,"d":"0.00"},null,"prüfen",{"$f":"IFERROR(OFFSET(MD!$U$5,MATCH(Grundlagen_Abrechnung_KAE!$E441,MD_GENDER,0),0),\"\")","v":""},{"v":0,"d":"0.00"},null,{"v":0,"d":"0.00"},{"$f":"IF(F441=\"Arbeitgeberähnliche Stellung\",OFFSET(MD!$Q$5,MATCH(Grundlagen_Abrechnung_KAE!$AK$7,MD_JAHR,0),0)*$H441,IF(J441>0,AC441,I441))","v":{"v":0,"d":"0.00"}},null,{"$f":"OFFSET(MD!$P$5,MATCH($AK$7,MD_JAHR,0),0)*12","v":{"$error":"#VALUE!"}},{"v":0,"d":"0.00"}]
[{"$nulls":14},{"$f":"IF($B442=\"\",\"\",IF(F442=\"Arbeitgeberähnliche Stellung\",OFFSET(MD!$Q$5,MATCH(Grundlagen_Abrechnung_KAE!$AK$7,MD_JAHR,0),0)*$H442,IF(((AD442/12*M442*12)+N442)>AF442,AF442/12,((AD442/12*M442*12)+N442)/12)))","v":""},null,null,{"v":0,"d":"0.00"},null,{"v":0,"d":"0.00%"},{"v":0,"d":"0.00"},{"v":0,"d":"0.00"},{"v":0,"d":"0.00"},null,"prüfen",{"$f":"IFERROR(OFFSET(MD!$U$5,MATCH(Grundlagen_Abrechnung_KAE!$E442,MD_GENDER,0),0),\"\")","v":""},{"v":0,"d":"0.00"},null,{"v":0,"d":"0.00"},{"$f":"IF(F442=\"Arbeitgeberähnliche Stellung\",OFFSET(MD!$Q$5,MATCH(Grundlagen_Abrechnung_KAE!$AK$7,MD_JAHR,0),0)*$H442,IF(J442>0,AC442,I442))","v":{"v":0,"d":"0.00"}},null,{"$f":"OFFSET(MD!$P$5,MATCH($AK$7,MD_JAHR,0),0)*12","v":{"$error":"#VALUE!"}},{"v":0,"d":"0.00"}]
[{"$nulls":14},{"$f":"IF($B443=\"\",\"\",IF(F443=\"Arbeitgeberähnliche Stellung\",OFFSET(MD!$Q$5,MATCH(Grundlagen_Abrechnung_KAE!$AK$7,MD_JAHR,0),0)*$H443,IF(((AD443/12*M443*12)+N443)>AF443,AF443/12,((AD443/12*M443*12)+N443)/12)))","v":""},null,null,{"v":0,"d":"0.00"},null,{"v":0,"d":"0.00%"},{"v":0,"d":"0.00"},{"v":0,"d":"0.00"},{"v":0,"d":"0.00"},null,"prüfen",{"$f":"IFERROR(OFFSET(MD!$U$5,MATCH(Grundlagen_Abrechnung_KAE!$E443,MD_GENDER,0),0),\"\")","v":""},{"v":0,"d":"0.00"},null,{"v":0,"d":"0.00"},{"$f":"IF(F443=\"Arbeitgeberähnliche Stellung\",OFFSET(MD!$Q$5,MATCH(Grundlagen_Abrechnung_KAE!$AK$7,MD_JAHR,0),0)*$H443,IF(J443>0,AC443,I443))","v":{"v":0,"d":"0.00"}},null,{"$f":"OFFSET(MD!$P$5,MATCH($AK$7,MD_JAHR,0),0)*12","v":{"$error":"#VALUE!"}},{"v":0,"d":"0.00"}]
[{"$nulls":14},{"$f":"IF($B444=\"\",\"\",IF(F444=\"Arbeitgeberähnliche Stellung\",OFFSET(MD!$Q$5,MATCH(Grundlagen_Abrechnung_KAE!$AK$7,MD_JAHR,0),0)*$H444,IF(((AD444/12*M444*12)+N444)>AF444,AF444/12,((AD444/12*M444*12)+N444)/12)))","v":""},null,null,{"v":0,"d":"0.00"},null,{"v":0,"d":"0.00%"},{"v":0,"d":"0.00"},{"v":0,"d":"0.00"},{"v":0,"d":"0.00"},null,"prüfen",{"$f":"IFERROR(OFFSET(MD!$U$5,MATCH(Grundlagen_Abrechnung_KAE!$E444,MD_GENDER,0),0),\"\")","v":""},{"v":0,"d":"0.00"},null,{"v":0,"d":"0.00"},{"$f":"IF(F444=\"Arbeitgeberähnliche Stellung\",OFFSET(MD!$Q$5,MATCH(Grundlagen_Abrechnung_KAE!$AK$7,MD_JAHR,0),0)*$H444,IF(J444>0,AC444,I444))","v":{"v":0,"d":"0.00"}},null,{"$f":"OFFSET(MD!$P$5,MATCH($AK$7,MD_JAHR,0),0)*12","v":{"$error":"#VALUE!"}},{"v":0,"d":"0.00"}]
[{"$nulls":14},{"$f":"IF($B445=\"\",\"\",IF(F445=\"Arbeitgeberähnliche Stellung\",OFFSET(MD!$Q$5,MATCH(Grundlagen_Abrechnung_KAE!$AK$7,MD_JAHR,0),0)*$H445,IF(((AD445/12*M445*12)+N445)>AF445,AF445/12,((AD445/12*M445*12)+N445)/12)))","v":""},null,null,{"v":0,"d":"0.00"},null,{"v":0,"d":"0.00%"},{"v":0,"d":"0.00"},{"v":0,"d":"0.00"},{"v":0,"d":"0.00"},null,"prüfen",{"$f":"IFERROR(OFFSET(MD!$U$5,MATCH(Grundlagen_Abrechnung_KAE!$E445,MD_GENDER,0),0),\"\")","v":""},{"v":0,"d":"0.00"},null,{"v":0,"d":"0.00"},{"$f":"IF(F445=\"Arbeitgeberähnliche Stellung\",OFFSET(MD!$Q$5,MATCH(Grundlagen_Abrechnung_KAE!$AK$7,MD_JAHR,0),0)*$H445,IF(J445>0,AC445,I445))","v":{"v":0,"d":"0.00"}},null,{"$f":"OFFSET(MD!$P$5,MATCH($AK$7,MD_JAHR,0),0)*12","v":{"$error":"#VALUE!"}},{"v":0,"d":"0.00"}]
[{"$nulls":14},{"$f":"IF($B446=\"\",\"\",IF(F446=\"Arbeitgeberähnliche Stellung\",OFFSET(MD!$Q$5,MATCH(Grundlagen_Abrechnung_KAE!$AK$7,MD_JAHR,0),0)*$H446,IF(((AD446/12*M446*12)+N446)>AF446,AF446/12,((AD446/12*M446*12)+N446)/12)))","v":""},null,null,{"v":0,"d":"0.00"},null,{"v":0,"d":"0.00%"},{"v":0,"d":"0.00"},{"v":0,"d":"0.00"},{"v":0,"d":"0.00"},null,"prüfen",{"$f":"IFERROR(OFFSET(MD!$U$5,MATCH(Grundlagen_Abrechnung_KAE!$E446,MD_GENDER,0),0),\"\")","v":""},{"v":0,"d":"0.00"},null,{"v":0,"d":"0.00"},{"$f":"IF(F446=\"Arbeitgeberähnliche Stellung\",OFFSET(MD!$Q$5,MATCH(Grundlagen_Abrechnung_KAE!$AK$7,MD_JAHR,0),0)*$H446,IF(J446>0,AC446,I446))","v":{"v":0,"d":"0.00"}},null,{"$f":"OFFSET(MD!$P$5,MATCH($AK$7,MD_JAHR,0),0)*12","v":{"$error":"#VALUE!"}},{"v":0,"d":"0.00"}]
[{"$nulls":14},{"$f":"IF($B447=\"\",\"\",IF(F447=\"Arbeitgeberähnliche Stellung\",OFFSET(MD!$Q$5,MATCH(Grundlagen_Abrechnung_KAE!$AK$7,MD_JAHR,0),0)*$H447,IF(((AD447/12*M447*12)+N447)>AF447,AF447/12,((AD447/12*M447*12)+N447)/12)))","v":""},null,null,{"v":0,"d":"0.00"},null,{"v":0,"d":"0.00%"},{"v":0,"d":"0.00"},{"v":0,"d":"0.00"},{"v":0,"d":"0.00"},null,"prüfen",{"$f":"IFERROR(OFFSET(MD!$U$5,MATCH(Grundlagen_Abrechnung_KAE!$E447,MD_GENDER,0),0),\"\")","v":""},{"v":0,"d":"0.00"},null,{"v":0,"d":"0.00"},{"$f":"IF(F447=\"Arbeitgeberähnliche Stellung\",OFFSET(MD!$Q$5,MATCH(Grundlagen_Abrechnung_KAE!$AK$7,MD_JAHR,0),0)*$H447,IF(J447>0,AC447,I447))","v":{"v":0,"d":"0.00"}},null,{"$f":"OFFSET(MD!$P$5,MATCH($AK$7,MD_JAHR,0),0)*12","v":{"$error":"#VALUE!"}},{"v":0,"d":"0.00"}]
[{"$nulls":14},{"$f":"IF($B448=\"\",\"\",IF(F448=\"Arbeitgeberähnliche Stellung\",OFFSET(MD!$Q$5,MATCH(Grundlagen_Abrechnung_KAE!$AK$7,MD_JAHR,0),0)*$H448,IF(((AD448/12*M448*12)+N448)>AF448,AF448/12,((AD448/12*M448*12)+N448)/12)))","v":""},null,null,{"v":0,"d":"0.00"},null,{"v":0,"d":"0.00%"},{"v":0,"d":"0.00"},{"v":0,"d":"0.00"},{"v":0,"d":"0.00"},null,"prüfen",{"$f":"IFERROR(OFFSET(MD!$U$5,MATCH(Grundlagen_Abrechnung_KAE!$E448,MD_GENDER,0),0),\"\")","v":""},{"v":0,"d":"0.00"},null,{"v":0,"d":"0.00"},{"$f":"IF(F448=\"Arbeitgeberähnliche Stellung\",OFFSET(MD!$Q$5,MATCH(Grundlagen_Abrechnung_KAE!$AK$7,MD_JAHR,0),0)*$H448,IF(J448>0,AC448,I448))","v":{"v":0,"d":"0.00"}},null,{"$f":"OFFSET(MD!$P$5,MATCH($AK$7,MD_JAHR,0),0)*12","v":{"$error":"#VALUE!"}},{"v":0,"d":"0.00"}]
[{"$nulls":14},{"$f":"IF($B449=\"\",\"\",IF(F449=\"Arbeitgeberähnliche Stellung\",OFFSET(MD!$Q$5,MATCH(Grundlagen_Abrechnung_KAE!$AK$7,MD_JAHR,0),0)*$H449,IF(((AD449/12*M449*12)+N449)>AF449,AF449/12,((AD449/12*M449*12)+N449)/12)))","v":""},null,null,{"v":0,"d":"0.00"},null,{"v":0,"d":"0.00%"},{"v":0,"d":"0.00"},{"v":0,"d":"0.00"},{"v":0,"d":"0.00"},null,"prüfen",{"$f":"IFERROR(OFFSET(MD!$U$5,MATCH(Grundlagen_Abrechnung_KAE!$E449,MD_GENDER,0),0),\"\")","v":""},{"v":0,"d":"0.00"},null,{"v":0,"d":"0.00"},{"$f":"IF(F449=\"Arbeitgeberähnliche Stellung\",OFFSET(MD!$Q$5,MATCH(Grundlagen_Abrechnung_KAE!$AK$7,MD_JAHR,0),0)*$H449,IF(J449>0,AC449,I449))","v":{"v":0,"d":"0.00"}},null,{"$f":"OFFSET(MD!$P$5,MATCH($AK$7,MD_JAHR,0),0)*12","v":{"$error":"#VALUE!"}},{"v":0,"d":"0.00"}]
[{"$nulls":14},{"$f":"IF($B450=\"\",\"\",IF(F450=\"Arbeitgeberähnliche Stellung\",OFFSET(MD!$Q$5,MATCH(Grundlagen_Abrechnung_KAE!$AK$7,MD_JAHR,0),0)*$H450,IF(((AD450/12*M450*12)+N450)>AF450,AF450/12,((AD450/12*M450*12)+N450)/12)))","v":""},null,null,{"v":0,"d":"0.00"},null,{"v":0,"d":"0.00%"},{"v":0,"d":"0.00"},{"v":0,"d":"0.00"},{"v":0,"d":"0.00"},null,"prüfen",{"$f":"IFERROR(OFFSET(MD!$U$5,MATCH(Grundlagen_Abrechnung_KAE!$E450,MD_GENDER,0),0),\"\")","v":""},{"v":0,"d":"0.00"},null,{"v":0,"d":"0.00"},{"$f":"IF(F450=\"Arbeitgeberähnliche Stellung\",OFFSET(MD!$Q$5,MATCH(Grundlagen_Abrechnung_KAE!$AK$7,MD_JAHR,0),0)*$H450,IF(J450>0,AC450,I450))","v":{"v":0,"d":"0.00"}},null,{"$f":"OFFSET(MD!$P$5,MATCH($AK$7,MD_JAHR,0),0)*12","v":{"$error":"#VALUE!"}},{"v":0,"d":"0.00"}]
[{"$nulls":14},{"$f":"IF($B451=\"\",\"\",IF(F451=\"Arbeitgeberähnliche Stellung\",OFFSET(MD!$Q$5,MATCH(Grundlagen_Abrechnung_KAE!$AK$7,MD_JAHR,0),0)*$H451,IF(((AD451/12*M451*12)+N451)>AF451,AF451/12,((AD451/12*M451*12)+N451)/12)))","v":""},null,null,{"v":0,"d":"0.00"},null,{"v":0,"d":"0.00%"},{"v":0,"d":"0.00"},{"v":0,"d":"0.00"},{"v":0,"d":"0.00"},null,"prüfen",{"$f":"IFERROR(OFFSET(MD!$U$5,MATCH(Grundlagen_Abrechnung_KAE!$E451,MD_GENDER,0),0),\"\")","v":""},{"v":0,"d":"0.00"},null,{"v":0,"d":"0.00"},{"$f":"IF(F451=\"Arbeitgeberähnliche Stellung\",OFFSET(MD!$Q$5,MATCH(Grundlagen_Abrechnung_KAE!$AK$7,MD_JAHR,0),0)*$H451,IF(J451>0,AC451,I451))","v":{"v":0,"d":"0.00"}},null,{"$f":"OFFSET(MD!$P$5,MATCH($AK$7,MD_JAHR,0),0)*12","v":{"$error":"#VALUE!"}},{"v":0,"d":"0.00"}]
[{"$nulls":14},{"$f":"IF($B452=\"\",\"\",IF(F452=\"Arbeitgeberähnliche Stellung\",OFFSET(MD!$Q$5,MATCH(Grundlagen_Abrechnung_KAE!$AK$7,MD_JAHR,0),0)*$H452,IF(((AD452/12*M452*12)+N452)>AF452,AF452/12,((AD452/12*M452*12)+N452)/12)))","v":""},null,null,{"v":0,"d":"0.00"},null,{"v":0,"d":"0.00%"},{"v":0,"d":"0.00"},{"v":0,"d":"0.00"},{"v":0,"d":"0.00"},null,"prüfen",{"$f":"IFERROR(OFFSET(MD!$U$5,MATCH(Grundlagen_Abrechnung_KAE!$E452,MD_GENDER,0),0),\"\")","v":""},{"v":0,"d":"0.00"},null,{"v":0,"d":"0.00"},{"$f":"IF(F452=\"Arbeitgeberähnliche Stellung\",OFFSET(MD!$Q$5,MATCH(Grundlagen_Abrechnung_KAE!$AK$7,MD_JAHR,0),0)*$H452,IF(J452>0,AC452,I452))","v":{"v":0,"d":"0.00"}},null,{"$f":"OFFSET(MD!$P$5,MATCH($AK$7,MD_JAHR,0),0)*12","v":{"$error":"#VALUE!"}},{"v":0,"d":"0.00"}]
[{"$nulls":14},{"$f":"IF($B453=\"\",\"\",IF(F453=\"Arbeitgeberähnliche Stellung\",OFFSET(MD!$Q$5,MATCH(Grundlagen_Abrechnung_KAE!$AK$7,MD_JAHR,0),0)*$H453,IF(((AD453/12*M453*12)+N453)>AF453,AF453/12,((AD453/12*M453*12)+N453)/12)))","v":""},null,null,{"v":0,"d":"0.00"},null,{"v":0,"d":"0.00%"},{"v":0,"d":"0.00"},{"v":0,"d":"0.00"},{"v":0,"d":"0.00"},null,"prüfen",{"$f":"IFERROR(OFFSET(MD!$U$5,MATCH(Grundlagen_Abrechnung_KAE!$E453,MD_GENDER,0),0),\"\")","v":""},{"v":0,"d":"0.00"},null,{"v":0,"d":"0.00"},{"$f":"IF(F453=\"Arbeitgeberähnliche Stellung\",OFFSET(MD!$Q$5,MATCH(Grundlagen_Abrechnung_KAE!$AK$7,MD_JAHR,0),0)*$H453,IF(J453>0,AC453,I453))","v":{"v":0,"d":"0.00"}},null,{"$f":"OFFSET(MD!$P$5,MATCH($AK$7,MD_JAHR,0),0)*12","v":{"$error":"#VALUE!"}},{"v":0,"d":"0.00"}]
[{"$nulls":14},{"$f":"IF($B454=\"\",\"\",IF(F454=\"Arbeitgeberähnliche Stellung\",OFFSET(MD!$Q$5,MATCH(Grundlagen_Abrechnung_KAE!$AK$7,MD_JAHR,0),0)*$H454,IF(((AD454/12*M454*12)+N454)>AF454,AF454/12,((AD454/12*M454*12)+N454)/12)))","v":""},null,null,{"v":0,"d":"0.00"},null,{"v":0,"d":"0.00%"},{"v":0,"d":"0.00"},{"v":0,"d":"0.00"},{"v":0,"d":"0.00"},null,"prüfen",{"$f":"IFERROR(OFFSET(MD!$U$5,MATCH(Grundlagen_Abrechnung_KAE!$E454,MD_GENDER,0),0),\"\")","v":""},{"v":0,"d":"0.00"},null,{"v":0,"d":"0.00"},{"$f":"IF(F454=\"Arbeitgeberähnliche Stellung\",OFFSET(MD!$Q$5,MATCH(Grundlagen_Abrechnung_KAE!$AK$7,MD_JAHR,0),0)*$H454,IF(J454>0,AC454,I454))","v":{"v":0,"d":"0.00"}},null,{"$f":"OFFSET(MD!$P$5,MATCH($AK$7,MD_JAHR,0),0)*12","v":{"$error":"#VALUE!"}},{"v":0,"d":"0.00"}]
[{"$nulls":14},{"$f":"IF($B455=\"\",\"\",IF(F455=\"Arbeitgeberähnliche Stellung\",OFFSET(MD!$Q$5,MATCH(Grundlagen_Abrechnung_KAE!$AK$7,MD_JAHR,0),0)*$H455,IF(((AD455/12*M455*12)+N455)>AF455,AF455/12,((AD455/12*M455*12)+N455)/12)))","v":""},null,null,{"v":0,"d":"0.00"},null,{"v":0,"d":"0.00%"},{"v":0,"d":"0.00"},{"v":0,"d":"0.00"},{"v":0,"d":"0.00"},null,"prüfen",{"$f":"IFERROR(OFFSET(MD!$U$5,MATCH(Grundlagen_Abrechnung_KAE!$E455,MD_GENDER,0),0),\"\")","v":""},{"v":0,"d":"0.00"},null,{"v":0,"d":"0.00"},{"$f":"IF(F455=\"Arbeitgeberähnliche Stellung\",OFFSET(MD!$Q$5,MATCH(Grundlagen_Abrechnung_KAE!$AK$7,MD_JAHR,0),0)*$H455,IF(J455>0,AC455,I455))","v":{"v":0,"d":"0.00"}},null,{"$f":"OFFSET(MD!$P$5,MATCH($AK$7,MD_JAHR,0),0)*12","v":{"$error":"#VALUE!"}},{"v":0,"d":"0.00"}]
[{"$nulls":14},{"$f":"IF($B456=\"\",\"\",IF(F456=\"Arbeitgeberähnliche Stellung\",OFFSET(MD!$Q$5,MATCH(Grundlagen_Abrechnung_KAE!$AK$7,MD_JAHR,0),0)*$H456,IF(((AD456/12*M456*12)+N456)>AF456,AF456/12,((AD456/12*M456*12)+N456)/12)))","v":""},null,null,{"v":0,"d":"0.00"},null,{"v":0,"d":"0.00%"},{"v":0,"d":"0.00"},{"v":0,"d":"0.00"},{"v":0,"d":"0.00"},null,"prüfen",{"$f":"IFERROR(OFFSET(MD!$U$5,MATCH(Grundlagen_Abrechnung_KAE!$E456,MD_GENDER,0),0),\"\")","v":""},{"v":0,"d":"0.00"},null,{"v":0,"d":"0.00"},{"$f":"IF(F456=\"Arbeitgeberähnliche Stellung\",OFFSET(MD!$Q$5,MATCH(Grundlagen_Abrechnung_KAE!$AK$7,MD_JAHR,0),0)*$H456,IF(J456>0,AC456,I456))","v":{"v":0,"d":"0.00"}},null,{"$f":"OFFSET(MD!$P$5,MATCH($AK$7,MD_JAHR,0),0)*12","v":{"$error":"#VALUE!"}},{"v":0,"d":"0.00"}]
[{"$nulls":14},{"$f":"IF($B457=\"\",\"\",IF(F457=\"Arbeitgeberähnliche Stellung\",OFFSET(MD!$Q$5,MATCH(Grundlagen_Abrechnung_KAE!$AK$7,MD_JAHR,0),0)*$H457,IF(((AD457/12*M457*12)+N457)>AF457,AF457/12,((AD457/12*M457*12)+N457)/12)))","v":""},null,null,{"v":0,"d":"0.00"},null,{"v":0,"d":"0.00%"},{"v":0,"d":"0.00"},{"v":0,"d":"0.00"},{"v":0,"d":"0.00"},null,"prüfen",{"$f":"IFERROR(OFFSET(MD!$U$5,MATCH(Grundlagen_Abrechnung_KAE!$E457,MD_GENDER,0),0),\"\")","v":""},{"v":0,"d":"0.00"},null,{"v":0,"d":"0.00"},{"$f":"IF(F457=\"Arbeitgeberähnliche Stellung\",OFFSET(MD!$Q$5,MATCH(Grundlagen_Abrechnung_KAE!$AK$7,MD_JAHR,0),0)*$H457,IF(J457>0,AC457,I457))","v":{"v":0,"d":"0.00"}},null,{"$f":"OFFSET(MD!$P$5,MATCH($AK$7,MD_JAHR,0),0)*12","v":{"$error":"#VALUE!"}},{"v":0,"d":"0.00"}]
[{"$nulls":14},{"$f":"IF($B458=\"\",\"\",IF(F458=\"Arbeitgeberähnliche Stellung\",OFFSET(MD!$Q$5,MATCH(Grundlagen_Abrechnung_KAE!$AK$7,MD_JAHR,0),0)*$H458,IF(((AD458/12*M458*12)+N458)>AF458,AF458/12,((AD458/12*M458*12)+N458)/12)))","v":""},null,null,{"v":0,"d":"0.00"},null,{"v":0,"d":"0.00%"},{"v":0,"d":"0.00"},{"v":0,"d":"0.00"},{"v":0,"d":"0.00"},null,"prüfen",{"$f":"IFERROR(OFFSET(MD!$U$5,MATCH(Grundlagen_Abrechnung_KAE!$E458,MD_GENDER,0),0),\"\")","v":""},{"v":0,"d":"0.00"},null,{"v":0,"d":"0.00"},{"$f":"IF(F458=\"Arbeitgeberähnliche Stellung\",OFFSET(MD!$Q$5,MATCH(Grundlagen_Abrechnung_KAE!$AK$7,MD_JAHR,0),0)*$H458,IF(J458>0,AC458,I458))","v":{"v":0,"d":"0.00"}},null,{"$f":"OFFSET(MD!$P$5,MATCH($AK$7,MD_JAHR,0),0)*12","v":{"$error":"#VALUE!"}},{"v":0,"d":"0.00"}]
[{"$nulls":14},{"$f":"IF($B459=\"\",\"\",IF(F459=\"Arbeitgeberähnliche Stellung\",OFFSET(MD!$Q$5,MATCH(Grundlagen_Abrechnung_KAE!$AK$7,MD_JAHR,0),0)*$H459,IF(((AD459/12*M459*12)+N459)>AF459,AF459/12,((AD459/12*M459*12)+N459)/12)))","v":""},null,null,{"v":0,"d":"0.00"},null,{"v":0,"d":"0.00%"},{"v":0,"d":"0.00"},{"v":0,"d":"0.00"},{"v":0,"d":"0.00"},null,"prüfen",{"$f":"IFERROR(OFFSET(MD!$U$5,MATCH(Grundlagen_Abrechnung_KAE!$E459,MD_GENDER,0),0),\"\")","v":""},{"v":0,"d":"0.00"},null,{"v":0,"d":"0.00"},{"$f":"IF(F459=\"Arbeitgeberähnliche Stellung\",OFFSET(MD!$Q$5,MATCH(Grundlagen_Abrechnung_KAE!$AK$7,MD_JAHR,0),0)*$H459,IF(J459>0,AC459,I459))","v":{"v":0,"d":"0.00"}},null,{"$f":"OFFSET(MD!$P$5,MATCH($AK$7,MD_JAHR,0),0)*12","v":{"$error":"#VALUE!"}},{"v":0,"d":"0.00"}]
[{"$nulls":14},{"$f":"IF($B460=\"\",\"\",IF(F460=\"Arbeitgeberähnliche Stellung\",OFFSET(MD!$Q$5,MATCH(Grundlagen_Abrechnung_KAE!$AK$7,MD_JAHR,0),0)*$H460,IF(((AD460/12*M460*12)+N460)>AF460,AF460/12,((AD460/12*M460*12)+N460)/12)))","v":""},null,null,{"v":0,"d":"0.00"},null,{"v":0,"d":"0.00%"},{"v":0,"d":"0.00"},{"v":0,"d":"0.00"},{"v":0,"d":"0.00"},null,"prüfen",{"$f":"IFERROR(OFFSET(MD!$U$5,MATCH(Grundlagen_Abrechnung_KAE!$E460,MD_GENDER,0),0),\"\")","v":""},{"v":0,"d":"0.00"},null,{"v":0,"d":"0.00"},{"$f":"IF(F460=\"Arbeitgeberähnliche Stellung\",OFFSET(MD!$Q$5,MATCH(Grundlagen_Abrechnung_KAE!$AK$7,MD_JAHR,0),0)*$H460,IF(J460>0,AC460,I460))","v":{"v":0,"d":"0.00"}},null,{"$f":"OFFSET(MD!$P$5,MATCH($AK$7,MD_JAHR,0),0)*12","v":{"$error":"#VALUE!"}},{"v":0,"d":"0.00"}]
[{"$nulls":14},{"$f":"IF($B461=\"\",\"\",IF(F461=\"Arbeitgeberähnliche Stellung\",OFFSET(MD!$Q$5,MATCH(Grundlagen_Abrechnung_KAE!$AK$7,MD_JAHR,0),0)*$H461,IF(((AD461/12*M461*12)+N461)>AF461,AF461/12,((AD461/12*M461*12)+N461)/12)))","v":""},null,null,{"v":0,"d":"0.00"},null,{"v":0,"d":"0.00%"},{"v":0,"d":"0.00"},{"v":0,"d":"0.00"},{"v":0,"d":"0.00"},null,"prüfen",{"$f":"IFERROR(OFFSET(MD!$U$5,MATCH(Grundlagen_Abrechnung_KAE!$E461,MD_GENDER,0),0),\"\")","v":""},{"v":0,"d":"0.00"},null,{"v":0,"d":"0.00"},{"$f":"IF(F461=\"Arbeitgeberähnliche Stellung\",OFFSET(MD!$Q$5,MATCH(Grundlagen_Abrechnung_KAE!$AK$7,MD_JAHR,0),0)*$H461,IF(J461>0,AC461,I461))","v":{"v":0,"d":"0.00"}},null,{"$f":"OFFSET(MD!$P$5,MATCH($AK$7,MD_JAHR,0),0)*12","v":{"$error":"#VALUE!"}},{"v":0,"d":"0.00"}]
[{"$nulls":14},{"$f":"IF($B462=\"\",\"\",IF(F462=\"Arbeitgeberähnliche Stellung\",OFFSET(MD!$Q$5,MATCH(Grundlagen_Abrechnung_KAE!$AK$7,MD_JAHR,0),0)*$H462,IF(((AD462/12*M462*12)+N462)>AF462,AF462/12,((AD462/12*M462*12)+N462)/12)))","v":""},null,null,{"v":0,"d":"0.00"},null,{"v":0,"d":"0.00%"},{"v":0,"d":"0.00"},{"v":0,"d":"0.00"},{"v":0,"d":"0.00"},null,"prüfen",{"$f":"IFERROR(OFFSET(MD!$U$5,MATCH(Grundlagen_Abrechnung_KAE!$E462,MD_GENDER,0),0),\"\")","v":""},{"v":0,"d":"0.00"},null,{"v":0,"d":"0.00"},{"$f":"IF(F462=\"Arbeitgeberähnliche Stellung\",OFFSET(MD!$Q$5,MATCH(Grundlagen_Abrechnung_KAE!$AK$7,MD_JAHR,0),0)*$H462,IF(J462>0,AC462,I462))","v":{"v":0,"d":"0.00"}},null,{"$f":"OFFSET(MD!$P$5,MATCH($AK$7,MD_JAHR,0),0)*12","v":{"$error":"#VALUE!"}},{"v":0,"d":"0.00"}]
[{"$nulls":14},{"$f":"IF($B463=\"\",\"\",IF(F463=\"Arbeitgeberähnliche Stellung\",OFFSET(MD!$Q$5,MATCH(Grundlagen_Abrechnung_KAE!$AK$7,MD_JAHR,0),0)*$H463,IF(((AD463/12*M463*12)+N463)>AF463,AF463/12,((AD463/12*M463*12)+N463)/12)))","v":""},null,null,{"v":0,"d":"0.00"},null,{"v":0,"d":"0.00%"},{"v":0,"d":"0.00"},{"v":0,"d":"0.00"},{"v":0,"d":"0.00"},null,"prüfen",{"$f":"IFERROR(OFFSET(MD!$U$5,MATCH(Grundlagen_Abrechnung_KAE!$E463,MD_GENDER,0),0),\"\")","v":""},{"v":0,"d":"0.00"},null,{"v":0,"d":"0.00"},{"$f":"IF(F463=\"Arbeitgeberähnliche Stellung\",OFFSET(MD!$Q$5,MATCH(Grundlagen_Abrechnung_KAE!$AK$7,MD_JAHR,0),0)*$H463,IF(J463>0,AC463,I463))","v":{"v":0,"d":"0.00"}},null,{"$f":"OFFSET(MD!$P$5,MATCH($AK$7,MD_JAHR,0),0)*12","v":{"$error":"#VALUE!"}},{"v":0,"d":"0.00"}]
[{"$nulls":14},{"$f":"IF($B464=\"\",\"\",IF(F464=\"Arbeitgeberähnliche Stellung\",OFFSET(MD!$Q$5,MATCH(Grundlagen_Abrechnung_KAE!$AK$7,MD_JAHR,0),0)*$H464,IF(((AD464/12*M464*12)+N464)>AF464,AF464/12,((AD464/12*M464*12)+N464)/12)))","v":""},null,null,{"v":0,"d":"0.00"},null,{"v":0,"d":"0.00%"},{"v":0,"d":"0.00"},{"v":0,"d":"0.00"},{"v":0,"d":"0.00"},null,"prüfen",{"$f":"IFERROR(OFFSET(MD!$U$5,MATCH(Grundlagen_Abrechnung_KAE!$E464,MD_GENDER,0),0),\"\")","v":""},{"v":0,"d":"0.00"},null,{"v":0,"d":"0.00"},{"$f":"IF(F464=\"Arbeitgeberähnliche Stellung\",OFFSET(MD!$Q$5,MATCH(Grundlagen_Abrechnung_KAE!$AK$7,MD_JAHR,0),0)*$H464,IF(J464>0,AC464,I464))","v":{"v":0,"d":"0.00"}},null,{"$f":"OFFSET(MD!$P$5,MATCH($AK$7,MD_JAHR,0),0)*12","v":{"$error":"#VALUE!"}},{"v":0,"d":"0.00"}]
[{"$nulls":14},{"$f":"IF($B465=\"\",\"\",IF(F465=\"Arbeitgeberähnliche Stellung\",OFFSET(MD!$Q$5,MATCH(Grundlagen_Abrechnung_KAE!$AK$7,MD_JAHR,0),0)*$H465,IF(((AD465/12*M465*12)+N465)>AF465,AF465/12,((AD465/12*M465*12)+N465)/12)))","v":""},null,null,{"v":0,"d":"0.00"},null,{"v":0,"d":"0.00%"},{"v":0,"d":"0.00"},{"v":0,"d":"0.00"},{"v":0,"d":"0.00"},null,"prüfen",{"$f":"IFERROR(OFFSET(MD!$U$5,MATCH(Grundlagen_Abrechnung_KAE!$E465,MD_GENDER,0),0),\"\")","v":""},{"v":0,"d":"0.00"},null,{"v":0,"d":"0.00"},{"$f":"IF(F465=\"Arbeitgeberähnliche Stellung\",OFFSET(MD!$Q$5,MATCH(Grundlagen_Abrechnung_KAE!$AK$7,MD_JAHR,0),0)*$H465,IF(J465>0,AC465,I465))","v":{"v":0,"d":"0.00"}},null,{"$f":"OFFSET(MD!$P$5,MATCH($AK$7,MD_JAHR,0),0)*12","v":{"$error":"#VALUE!"}},{"v":0,"d":"0.00"}]
[{"$nulls":14},{"$f":"IF($B466=\"\",\"\",IF(F466=\"Arbeitgeberähnliche Stellung\",OFFSET(MD!$Q$5,MATCH(Grundlagen_Abrechnung_KAE!$AK$7,MD_JAHR,0),0)*$H466,IF(((AD466/12*M466*12)+N466)>AF466,AF466/12,((AD466/12*M466*12)+N466)/12)))","v":""},null,null,{"v":0,"d":"0.00"},null,{"v":0,"d":"0.00%"},{"v":0,"d":"0.00"},{"v":0,"d":"0.00"},{"v":0,"d":"0.00"},null,"prüfen",{"$f":"IFERROR(OFFSET(MD!$U$5,MATCH(Grundlagen_Abrechnung_KAE!$E466,MD_GENDER,0),0),\"\")","v":""},{"v":0,"d":"0.00"},null,{"v":0,"d":"0.00"},{"$f":"IF(F466=\"Arbeitgeberähnliche Stellung\",OFFSET(MD!$Q$5,MATCH(Grundlagen_Abrechnung_KAE!$AK$7,MD_JAHR,0),0)*$H466,IF(J466>0,AC466,I466))","v":{"v":0,"d":"0.00"}},null,{"$f":"OFFSET(MD!$P$5,MATCH($AK$7,MD_JAHR,0),0)*12","v":{"$error":"#VALUE!"}},{"v":0,"d":"0.00"}]
[{"$nulls":14},{"$f":"IF($B467=\"\",\"\",IF(F467=\"Arbeitgeberähnliche Stellung\",OFFSET(MD!$Q$5,MATCH(Grundlagen_Abrechnung_KAE!$AK$7,MD_JAHR,0),0)*$H467,IF(((AD467/12*M467*12)+N467)>AF467,AF467/12,((AD467/12*M467*12)+N467)/12)))","v":""},null,null,{"$f":"ROUND(IF(Q467=\"\",0,IF(P467=0,0,IF(Q467>P467,0,P467-Q467))),2)","v":{"v":0,"d":"0.00"}},null,{"$f":"IFERROR(R467/P467,0)","v":{"v":0,"d":"0.00%"}},{"$f":"IFERROR(IF(O467-W467=0,O467,(O467)*(1-T467)),0)","v":{"v":0,"d":"0.00"}},{"v":0,"d":"0.00"},{"$f":"IFERROR(O467*T467,0)*0.8","v":{"v":0,"d":"0.00"}},null,{"$f":"IF(YEAR($G467)>$Y$16,\"prüfen\",\"\")","v":"prüfen"},{"$f":"IFERROR(OFFSET(MD!$U$5,MATCH(Grundlagen_Abrechnung_KAE!$E467,MD_GENDER,0),0),\"\")","v":""},{"$f":"IF(B467=\"\",0,IF(YEAR(G467)>$AA$16,0,1))","v":{"v":0,"d":"0.00"}},null,{"$f":"IF(J467*K467/6>J467*L467/12,J467*K467/6,J467*L467/12)","v":{"v":0,"d":"0.00"}},{"$f":"IF(F467=\"Arbeitgeberähnliche Stellung\",OFFSET(MD!$Q$5,MATCH(Grundlagen_Abrechnung_KAE!$AK$7,MD_JAHR,0),0)*$H467,IF(J467>0,AC467,I467))","v":{"v":0,"d":"0.00"}},null,{"$f":"OFFSET(MD!$P$5,MATCH($AK$7,MD_JAHR,0),0)*12","v":{"$error":"#VALUE!"}},{"$f":"I467*M467+N467","v":{"v":0,"d":"0.00"}}]
[{"$nulls":14},{"$f":"IF($B468=\"\",\"\",IF(F468=\"Arbeitgeberähnliche Stellung\",OFFSET(MD!$Q$5,MATCH(Grundlagen_Abrechnung_KAE!$AK$7,MD_JAHR,0),0)*$H468,IF(((AD468/12*M468*12)+N468)>AF468,AF468/12,((AD468/12*M468*12)+N468)/12)))","v":""},null,null,{"v":0,"d":"0.00"},null,{"v":0,"d":"0.00%"},{"v":0,"d":"0.00"},{"$f":"IFERROR(O468*T468,0)","v":{"v":0,"d":"0.00"}},{"v":0,"d":"0.00"},null,"prüfen",{"$f":"IFERROR(OFFSET(MD!$U$5,MATCH(Grundlagen_Abrechnung_KAE!$E468,MD_GENDER,0),0),\"\")","v":""},{"v":0,"d":"0.00"},null,{"v":0,"d":"0.00"},{"$f":"IF(F468=\"Arbeitgeberähnliche Stellung\",OFFSET(MD!$Q$5,MATCH(Grundlagen_Abrechnung_KAE!$AK$7,MD_JAHR,0),0)*$H468,IF(J468>0,AC468,I468))","v":{"v":0,"d":"0.00"}},null,{"$f":"OFFSET(MD!$P$5,MATCH($AK$7,MD_JAHR,0),0)*12","v":{"$error":"#VALUE!"}},{"v":0,"d":"0.00"}]
[{"$nulls":14},{"$f":"IF($B469=\"\",\"\",IF(F469=\"Arbeitgeberähnliche Stellung\",OFFSET(MD!$Q$5,MATCH(Grundlagen_Abrechnung_KAE!$AK$7,MD_JAHR,0),0)*$H469,IF(((AD469/12*M469*12)+N469)>AF469,AF469/12,((AD469/12*M469*12)+N469)/12)))","v":""},null,null,{"v":0,"d":"0.00"},null,{"v":0,"d":"0.00%"},{"v":0,"d":"0.00"},{"v":0,"d":"0.00"},{"v":0,"d":"0.00"},null,"prüfen",{"$f":"IFERROR(OFFSET(MD!$U$5,MATCH(Grundlagen_Abrechnung_KAE!$E469,MD_GENDER,0),0),\"\")","v":""},{"v":0,"d":"0.00"},null,{"v":0,"d":"0.00"},{"$f":"IF(F469=\"Arbeitgeberähnliche Stellung\",OFFSET(MD!$Q$5,MATCH(Grundlagen_Abrechnung_KAE!$AK$7,MD_JAHR,0),0)*$H469,IF(J469>0,AC469,I469))","v":{"v":0,"d":"0.00"}},null,{"$f":"OFFSET(MD!$P$5,MATCH($AK$7,MD_JAHR,0),0)*12","v":{"$error":"#VALUE!"}},{"v":0,"d":"0.00"}]
[{"$nulls":14},{"$f":"IF($B470=\"\",\"\",IF(F470=\"Arbeitgeberähnliche Stellung\",OFFSET(MD!$Q$5,MATCH(Grundlagen_Abrechnung_KAE!$AK$7,MD_JAHR,0),0)*$H470,IF(((AD470/12*M470*12)+N470)>AF470,AF470/12,((AD470/12*M470*12)+N470)/12)))","v":""},null,null,{"v":0,"d":"0.00"},null,{"v":0,"d":"0.00%"},{"v":0,"d":"0.00"},{"v":0,"d":"0.00"},{"v":0,"d":"0.00"},null,"prüfen",{"$f":"IFERROR(OFFSET(MD!$U$5,MATCH(Grundlagen_Abrechnung_KAE!$E470,MD_GENDER,0),0),\"\")","v":""},{"v":0,"d":"0.00"},null,{"v":0,"d":"0.00"},{"$f":"IF(F470=\"Arbeitgeberähnliche Stellung\",OFFSET(MD!$Q$5,MATCH(Grundlagen_Abrechnung_KAE!$AK$7,MD_JAHR,0),0)*$H470,IF(J470>0,AC470,I470))","v":{"v":0,"d":"0.00"}},null,{"$f":"OFFSET(MD!$P$5,MATCH($AK$7,MD_JAHR,0),0)*12","v":{"$error":"#VALUE!"}},{"v":0,"d":"0.00"}]
[{"$nulls":14},{"$f":"IF($B471=\"\",\"\",IF(F471=\"Arbeitgeberähnliche Stellung\",OFFSET(MD!$Q$5,MATCH(Grundlagen_Abrechnung_KAE!$AK$7,MD_JAHR,0),0)*$H471,IF(((AD471/12*M471*12)+N471)>AF471,AF471/12,((AD471/12*M471*12)+N471)/12)))","v":""},null,null,{"v":0,"d":"0.00"},null,{"v":0,"d":"0.00%"},{"v":0,"d":"0.00"},{"v":0,"d":"0.00"},{"v":0,"d":"0.00"},null,"prüfen",{"$f":"IFERROR(OFFSET(MD!$U$5,MATCH(Grundlagen_Abrechnung_KAE!$E471,MD_GENDER,0),0),\"\")","v":""},{"v":0,"d":"0.00"},null,{"v":0,"d":"0.00"},{"$f":"IF(F471=\"Arbeitgeberähnliche Stellung\",OFFSET(MD!$Q$5,MATCH(Grundlagen_Abrechnung_KAE!$AK$7,MD_JAHR,0),0)*$H471,IF(J471>0,AC471,I471))","v":{"v":0,"d":"0.00"}},null,{"$f":"OFFSET(MD!$P$5,MATCH($AK$7,MD_JAHR,0),0)*12","v":{"$error":"#VALUE!"}},{"v":0,"d":"0.00"}]
[{"$nulls":14},{"$f":"IF($B472=\"\",\"\",IF(F472=\"Arbeitgeberähnliche Stellung\",OFFSET(MD!$Q$5,MATCH(Grundlagen_Abrechnung_KAE!$AK$7,MD_JAHR,0),0)*$H472,IF(((AD472/12*M472*12)+N472)>AF472,AF472/12,((AD472/12*M472*12)+N472)/12)))","v":""},null,null,{"v":0,"d":"0.00"},null,{"v":0,"d":"0.00%"},{"v":0,"d":"0.00"},{"v":0,"d":"0.00"},{"v":0,"d":"0.00"},null,"prüfen",{"$f":"IFERROR(OFFSET(MD!$U$5,MATCH(Grundlagen_Abrechnung_KAE!$E472,MD_GENDER,0),0),\"\")","v":""},{"v":0,"d":"0.00"},null,{"v":0,"d":"0.00"},{"$f":"IF(F472=\"Arbeitgeberähnliche Stellung\",OFFSET(MD!$Q$5,MATCH(Grundlagen_Abrechnung_KAE!$AK$7,MD_JAHR,0),0)*$H472,IF(J472>0,AC472,I472))","v":{"v":0,"d":"0.00"}},null,{"$f":"OFFSET(MD!$P$5,MATCH($AK$7,MD_JAHR,0),0)*12","v":{"$error":"#VALUE!"}},{"v":0,"d":"0.00"}]
[{"$nulls":14},{"$f":"IF($B473=\"\",\"\",IF(F473=\"Arbeitgeberähnliche Stellung\",OFFSET(MD!$Q$5,MATCH(Grundlagen_Abrechnung_KAE!$AK$7,MD_JAHR,0),0)*$H473,IF(((AD473/12*M473*12)+N473)>AF473,AF473/12,((AD473/12*M473*12)+N473)/12)))","v":""},null,null,{"v":0,"d":"0.00"},null,{"v":0,"d":"0.00%"},{"v":0,"d":"0.00"},{"v":0,"d":"0.00"},{"v":0,"d":"0.00"},null,"prüfen",{"$f":"IFERROR(OFFSET(MD!$U$5,MATCH(Grundlagen_Abrechnung_KAE!$E473,MD_GENDER,0),0),\"\")","v":""},{"v":0,"d":"0.00"},null,{"v":0,"d":"0.00"},{"$f":"IF(F473=\"Arbeitgeberähnliche Stellung\",OFFSET(MD!$Q$5,MATCH(Grundlagen_Abrechnung_KAE!$AK$7,MD_JAHR,0),0)*$H473,IF(J473>0,AC473,I473))","v":{"v":0,"d":"0.00"}},null,{"$f":"OFFSET(MD!$P$5,MATCH($AK$7,MD_JAHR,0),0)*12","v":{"$error":"#VALUE!"}},{"v":0,"d":"0.00"}]
[{"$nulls":14},{"$f":"IF($B474=\"\",\"\",IF(F474=\"Arbeitgeberähnliche Stellung\",OFFSET(MD!$Q$5,MATCH(Grundlagen_Abrechnung_KAE!$AK$7,MD_JAHR,0),0)*$H474,IF(((AD474/12*M474*12)+N474)>AF474,AF474/12,((AD474/12*M474*12)+N474)/12)))","v":""},null,null,{"v":0,"d":"0.00"},null,{"v":0,"d":"0.00%"},{"v":0,"d":"0.00"},{"v":0,"d":"0.00"},{"v":0,"d":"0.00"},null,"prüfen",{"$f":"IFERROR(OFFSET(MD!$U$5,MATCH(Grundlagen_Abrechnung_KAE!$E474,MD_GENDER,0),0),\"\")","v":""},{"v":0,"d":"0.00"},null,{"v":0,"d":"0.00"},{"$f":"IF(F474=\"Arbeitgeberähnliche Stellung\",OFFSET(MD!$Q$5,MATCH(Grundlagen_Abrechnung_KAE!$AK$7,MD_JAHR,0),0)*$H474,IF(J474>0,AC474,I474))","v":{"v":0,"d":"0.00"}},null,{"$f":"OFFSET(MD!$P$5,MATCH($AK$7,MD_JAHR,0),0)*12","v":{"$error":"#VALUE!"}},{"v":0,"d":"0.00"}]
[{"$nulls":14},{"$f":"IF($B475=\"\",\"\",IF(F475=\"Arbeitgeberähnliche Stellung\",OFFSET(MD!$Q$5,MATCH(Grundlagen_Abrechnung_KAE!$AK$7,MD_JAHR,0),0)*$H475,IF(((AD475/12*M475*12)+N475)>AF475,AF475/12,((AD475/12*M475*12)+N475)/12)))","v":""},null,null,{"v":0,"d":"0.00"},null,{"v":0,"d":"0.00%"},{"v":0,"d":"0.00"},{"v":0,"d":"0.00"},{"v":0,"d":"0.00"},null,"prüfen",{"$f":"IFERROR(OFFSET(MD!$U$5,MATCH(Grundlagen_Abrechnung_KAE!$E475,MD_GENDER,0),0),\"\")","v":""},{"v":0,"d":"0.00"},null,{"v":0,"d":"0.00"},{"$f":"IF(F475=\"Arbeitgeberähnliche Stellung\",OFFSET(MD!$Q$5,MATCH(Grundlagen_Abrechnung_KAE!$AK$7,MD_JAHR,0),0)*$H475,IF(J475>0,AC475,I475))","v":{"v":0,"d":"0.00"}},null,{"$f":"OFFSET(MD!$P$5,MATCH($AK$7,MD_JAHR,0),0)*12","v":{"$error":"#VALUE!"}},{"v":0,"d":"0.00"}]
[{"$nulls":14},{"$f":"IF($B476=\"\",\"\",IF(F476=\"Arbeitgeberähnliche Stellung\",OFFSET(MD!$Q$5,MATCH(Grundlagen_Abrechnung_KAE!$AK$7,MD_JAHR,0),0)*$H476,IF(((AD476/12*M476*12)+N476)>AF476,AF476/12,((AD476/12*M476*12)+N476)/12)))","v":""},null,null,{"v":0,"d":"0.00"},null,{"v":0,"d":"0.00%"},{"v":0,"d":"0.00"},{"v":0,"d":"0.00"},{"v":0,"d":"0.00"},null,"prüfen",{"$f":"IFERROR(OFFSET(MD!$U$5,MATCH(Grundlagen_Abrechnung_KAE!$E476,MD_GENDER,0),0),\"\")","v":""},{"v":0,"d":"0.00"},null,{"v":0,"d":"0.00"},{"$f":"IF(F476=\"Arbeitgeberähnliche Stellung\",OFFSET(MD!$Q$5,MATCH(Grundlagen_Abrechnung_KAE!$AK$7,MD_JAHR,0),0)*$H476,IF(J476>0,AC476,I476))","v":{"v":0,"d":"0.00"}},null,{"$f":"OFFSET(MD!$P$5,MATCH($AK$7,MD_JAHR,0),0)*12","v":{"$error":"#VALUE!"}},{"v":0,"d":"0.00"}]
[{"$nulls":14},{"$f":"IF($B477=\"\",\"\",IF(F477=\"Arbeitgeberähnliche Stellung\",OFFSET(MD!$Q$5,MATCH(Grundlagen_Abrechnung_KAE!$AK$7,MD_JAHR,0),0)*$H477,IF(((AD477/12*M477*12)+N477)>AF477,AF477/12,((AD477/12*M477*12)+N477)/12)))","v":""},null,null,{"v":0,"d":"0.00"},null,{"v":0,"d":"0.00%"},{"v":0,"d":"0.00"},{"v":0,"d":"0.00"},{"v":0,"d":"0.00"},null,"prüfen",{"$f":"IFERROR(OFFSET(MD!$U$5,MATCH(Grundlagen_Abrechnung_KAE!$E477,MD_GENDER,0),0),\"\")","v":""},{"v":0,"d":"0.00"},null,{"v":0,"d":"0.00"},{"$f":"IF(F477=\"Arbeitgeberähnliche Stellung\",OFFSET(MD!$Q$5,MATCH(Grundlagen_Abrechnung_KAE!$AK$7,MD_JAHR,0),0)*$H477,IF(J477>0,AC477,I477))","v":{"v":0,"d":"0.00"}},null,{"$f":"OFFSET(MD!$P$5,MATCH($AK$7,MD_JAHR,0),0)*12","v":{"$error":"#VALUE!"}},{"v":0,"d":"0.00"}]
[{"$nulls":14},{"$f":"IF($B478=\"\",\"\",IF(F478=\"Arbeitgeberähnliche Stellung\",OFFSET(MD!$Q$5,MATCH(Grundlagen_Abrechnung_KAE!$AK$7,MD_JAHR,0),0)*$H478,IF(((AD478/12*M478*12)+N478)>AF478,AF478/12,((AD478/12*M478*12)+N478)/12)))","v":""},null,null,{"v":0,"d":"0.00"},null,{"v":0,"d":"0.00%"},{"v":0,"d":"0.00"},{"v":0,"d":"0.00"},{"v":0,"d":"0.00"},null,"prüfen",{"$f":"IFERROR(OFFSET(MD!$U$5,MATCH(Grundlagen_Abrechnung_KAE!$E478,MD_GENDER,0),0),\"\")","v":""},{"v":0,"d":"0.00"},null,{"v":0,"d":"0.00"},{"$f":"IF(F478=\"Arbeitgeberähnliche Stellung\",OFFSET(MD!$Q$5,MATCH(Grundlagen_Abrechnung_KAE!$AK$7,MD_JAHR,0),0)*$H478,IF(J478>0,AC478,I478))","v":{"v":0,"d":"0.00"}},null,{"$f":"OFFSET(MD!$P$5,MATCH($AK$7,MD_JAHR,0),0)*12","v":{"$error":"#VALUE!"}},{"v":0,"d":"0.00"}]
[{"$nulls":14},{"$f":"IF($B479=\"\",\"\",IF(F479=\"Arbeitgeberähnliche Stellung\",OFFSET(MD!$Q$5,MATCH(Grundlagen_Abrechnung_KAE!$AK$7,MD_JAHR,0),0)*$H479,IF(((AD479/12*M479*12)+N479)>AF479,AF479/12,((AD479/12*M479*12)+N479)/12)))","v":""},null,null,{"v":0,"d":"0.00"},null,{"v":0,"d":"0.00%"},{"v":0,"d":"0.00"},{"v":0,"d":"0.00"},{"v":0,"d":"0.00"},null,"prüfen",{"$f":"IFERROR(OFFSET(MD!$U$5,MATCH(Grundlagen_Abrechnung_KAE!$E479,MD_GENDER,0),0),\"\")","v":""},{"v":0,"d":"0.00"},null,{"v":0,"d":"0.00"},{"$f":"IF(F479=\"Arbeitgeberähnliche Stellung\",OFFSET(MD!$Q$5,MATCH(Grundlagen_Abrechnung_KAE!$AK$7,MD_JAHR,0),0)*$H479,IF(J479>0,AC479,I479))","v":{"v":0,"d":"0.00"}},null,{"$f":"OFFSET(MD!$P$5,MATCH($AK$7,MD_JAHR,0),0)*12","v":{"$error":"#VALUE!"}},{"v":0,"d":"0.00"}]
[{"$nulls":14},{"$f":"IF($B480=\"\",\"\",IF(F480=\"Arbeitgeberähnliche Stellung\",OFFSET(MD!$Q$5,MATCH(Grundlagen_Abrechnung_KAE!$AK$7,MD_JAHR,0),0)*$H480,IF(((AD480/12*M480*12)+N480)>AF480,AF480/12,((AD480/12*M480*12)+N480)/12)))","v":""},null,null,{"v":0,"d":"0.00"},null,{"v":0,"d":"0.00%"},{"v":0,"d":"0.00"},{"v":0,"d":"0.00"},{"v":0,"d":"0.00"},null,"prüfen",{"$f":"IFERROR(OFFSET(MD!$U$5,MATCH(Grundlagen_Abrechnung_KAE!$E480,MD_GENDER,0),0),\"\")","v":""},{"v":0,"d":"0.00"},null,{"v":0,"d":"0.00"},{"$f":"IF(F480=\"Arbeitgeberähnliche Stellung\",OFFSET(MD!$Q$5,MATCH(Grundlagen_Abrechnung_KAE!$AK$7,MD_JAHR,0),0)*$H480,IF(J480>0,AC480,I480))","v":{"v":0,"d":"0.00"}},null,{"$f":"OFFSET(MD!$P$5,MATCH($AK$7,MD_JAHR,0),0)*12","v":{"$error":"#VALUE!"}},{"v":0,"d":"0.00"}]
[{"$nulls":14},{"$f":"IF($B481=\"\",\"\",IF(F481=\"Arbeitgeberähnliche Stellung\",OFFSET(MD!$Q$5,MATCH(Grundlagen_Abrechnung_KAE!$AK$7,MD_JAHR,0),0)*$H481,IF(((AD481/12*M481*12)+N481)>AF481,AF481/12,((AD481/12*M481*12)+N481)/12)))","v":""},null,null,{"v":0,"d":"0.00"},null,{"v":0,"d":"0.00%"},{"v":0,"d":"0.00"},{"v":0,"d":"0.00"},{"v":0,"d":"0.00"},null,"prüfen",{"$f":"IFERROR(OFFSET(MD!$U$5,MATCH(Grundlagen_Abrechnung_KAE!$E481,MD_GENDER,0),0),\"\")","v":""},{"v":0,"d":"0.00"},null,{"v":0,"d":"0.00"},{"$f":"IF(F481=\"Arbeitgeberähnliche Stellung\",OFFSET(MD!$Q$5,MATCH(Grundlagen_Abrechnung_KAE!$AK$7,MD_JAHR,0),0)*$H481,IF(J481>0,AC481,I481))","v":{"v":0,"d":"0.00"}},null,{"$f":"OFFSET(MD!$P$5,MATCH($AK$7,MD_JAHR,0),0)*12","v":{"$error":"#VALUE!"}},{"v":0,"d":"0.00"}]
[{"$nulls":14},{"$f":"IF($B482=\"\",\"\",IF(F482=\"Arbeitgeberähnliche Stellung\",OFFSET(MD!$Q$5,MATCH(Grundlagen_Abrechnung_KAE!$AK$7,MD_JAHR,0),0)*$H482,IF(((AD482/12*M482*12)+N482)>AF482,AF482/12,((AD482/12*M482*12)+N482)/12)))","v":""},null,null,{"v":0,"d":"0.00"},null,{"v":0,"d":"0.00%"},{"v":0,"d":"0.00"},{"v":0,"d":"0.00"},{"v":0,"d":"0.00"},null,"prüfen",{"$f":"IFERROR(OFFSET(MD!$U$5,MATCH(Grundlagen_Abrechnung_KAE!$E482,MD_GENDER,0),0),\"\")","v":""},{"v":0,"d":"0.00"},null,{"v":0,"d":"0.00"},{"$f":"IF(F482=\"Arbeitgeberähnliche Stellung\",OFFSET(MD!$Q$5,MATCH(Grundlagen_Abrechnung_KAE!$AK$7,MD_JAHR,0),0)*$H482,IF(J482>0,AC482,I482))","v":{"v":0,"d":"0.00"}},null,{"$f":"OFFSET(MD!$P$5,MATCH($AK$7,MD_JAHR,0),0)*12","v":{"$error":"#VALUE!"}},{"v":0,"d":"0.00"}]
[{"$nulls":14},{"$f":"IF($B483=\"\",\"\",IF(F483=\"Arbeitgeberähnliche Stellung\",OFFSET(MD!$Q$5,MATCH(Grundlagen_Abrechnung_KAE!$AK$7,MD_JAHR,0),0)*$H483,IF(((AD483/12*M483*12)+N483)>AF483,AF483/12,((AD483/12*M483*12)+N483)/12)))","v":""},null,null,{"v":0,"d":"0.00"},null,{"v":0,"d":"0.00%"},{"v":0,"d":"0.00"},{"v":0,"d":"0.00"},{"v":0,"d":"0.00"},null,"prüfen",{"$f":"IFERROR(OFFSET(MD!$U$5,MATCH(Grundlagen_Abrechnung_KAE!$E483,MD_GENDER,0),0),\"\")","v":""},{"v":0,"d":"0.00"},null,{"v":0,"d":"0.00"},{"$f":"IF(F483=\"Arbeitgeberähnliche Stellung\",OFFSET(MD!$Q$5,MATCH(Grundlagen_Abrechnung_KAE!$AK$7,MD_JAHR,0),0)*$H483,IF(J483>0,AC483,I483))","v":{"v":0,"d":"0.00"}},null,{"$f":"OFFSET(MD!$P$5,MATCH($AK$7,MD_JAHR,0),0)*12","v":{"$error":"#VALUE!"}},{"v":0,"d":"0.00"}]
[{"$nulls":14},{"$f":"IF($B484=\"\",\"\",IF(F484=\"Arbeitgeberähnliche Stellung\",OFFSET(MD!$Q$5,MATCH(Grundlagen_Abrechnung_KAE!$AK$7,MD_JAHR,0),0)*$H484,IF(((AD484/12*M484*12)+N484)>AF484,AF484/12,((AD484/12*M484*12)+N484)/12)))","v":""},null,null,{"v":0,"d":"0.00"},null,{"v":0,"d":"0.00%"},{"v":0,"d":"0.00"},{"v":0,"d":"0.00"},{"v":0,"d":"0.00"},null,"prüfen",{"$f":"IFERROR(OFFSET(MD!$U$5,MATCH(Grundlagen_Abrechnung_KAE!$E484,MD_GENDER,0),0),\"\")","v":""},{"v":0,"d":"0.00"},null,{"v":0,"d":"0.00"},{"$f":"IF(F484=\"Arbeitgeberähnliche Stellung\",OFFSET(MD!$Q$5,MATCH(Grundlagen_Abrechnung_KAE!$AK$7,MD_JAHR,0),0)*$H484,IF(J484>0,AC484,I484))","v":{"v":0,"d":"0.00"}},null,{"$f":"OFFSET(MD!$P$5,MATCH($AK$7,MD_JAHR,0),0)*12","v":{"$error":"#VALUE!"}},{"v":0,"d":"0.00"}]
[{"$nulls":14},{"$f":"IF($B485=\"\",\"\",IF(F485=\"Arbeitgeberähnliche Stellung\",OFFSET(MD!$Q$5,MATCH(Grundlagen_Abrechnung_KAE!$AK$7,MD_JAHR,0),0)*$H485,IF(((AD485/12*M485*12)+N485)>AF485,AF485/12,((AD485/12*M485*12)+N485)/12)))","v":""},null,null,{"v":0,"d":"0.00"},null,{"v":0,"d":"0.00%"},{"v":0,"d":"0.00"},{"v":0,"d":"0.00"},{"v":0,"d":"0.00"},null,"prüfen",{"$f":"IFERROR(OFFSET(MD!$U$5,MATCH(Grundlagen_Abrechnung_KAE!$E485,MD_GENDER,0),0),\"\")","v":""},{"v":0,"d":"0.00"},null,{"v":0,"d":"0.00"},{"$f":"IF(F485=\"Arbeitgeberähnliche Stellung\",OFFSET(MD!$Q$5,MATCH(Grundlagen_Abrechnung_KAE!$AK$7,MD_JAHR,0),0)*$H485,IF(J485>0,AC485,I485))","v":{"v":0,"d":"0.00"}},null,{"$f":"OFFSET(MD!$P$5,MATCH($AK$7,MD_JAHR,0),0)*12","v":{"$error":"#VALUE!"}},{"v":0,"d":"0.00"}]
[{"$nulls":14},{"$f":"IF($B486=\"\",\"\",IF(F486=\"Arbeitgeberähnliche Stellung\",OFFSET(MD!$Q$5,MATCH(Grundlagen_Abrechnung_KAE!$AK$7,MD_JAHR,0),0)*$H486,IF(((AD486/12*M486*12)+N486)>AF486,AF486/12,((AD486/12*M486*12)+N486)/12)))","v":""},null,null,{"v":0,"d":"0.00"},null,{"v":0,"d":"0.00%"},{"v":0,"d":"0.00"},{"v":0,"d":"0.00"},{"v":0,"d":"0.00"},null,"prüfen",{"$f":"IFERROR(OFFSET(MD!$U$5,MATCH(Grundlagen_Abrechnung_KAE!$E486,MD_GENDER,0),0),\"\")","v":""},{"v":0,"d":"0.00"},null,{"v":0,"d":"0.00"},{"$f":"IF(F486=\"Arbeitgeberähnliche Stellung\",OFFSET(MD!$Q$5,MATCH(Grundlagen_Abrechnung_KAE!$AK$7,MD_JAHR,0),0)*$H486,IF(J486>0,AC486,I486))","v":{"v":0,"d":"0.00"}},null,{"$f":"OFFSET(MD!$P$5,MATCH($AK$7,MD_JAHR,0),0)*12","v":{"$error":"#VALUE!"}},{"v":0,"d":"0.00"}]
[{"$nulls":14},{"$f":"IF($B487=\"\",\"\",IF(F487=\"Arbeitgeberähnliche Stellung\",OFFSET(MD!$Q$5,MATCH(Grundlagen_Abrechnung_KAE!$AK$7,MD_JAHR,0),0)*$H487,IF(((AD487/12*M487*12)+N487)>AF487,AF487/12,((AD487/12*M487*12)+N487)/12)))","v":""},null,null,{"v":0,"d":"0.00"},null,{"v":0,"d":"0.00%"},{"v":0,"d":"0.00"},{"v":0,"d":"0.00"},{"v":0,"d":"0.00"},null,"prüfen",{"$f":"IFERROR(OFFSET(MD!$U$5,MATCH(Grundlagen_Abrechnung_KAE!$E487,MD_GENDER,0),0),\"\")","v":""},{"v":0,"d":"0.00"},null,{"v":0,"d":"0.00"},{"$f":"IF(F487=\"Arbeitgeberähnliche Stellung\",OFFSET(MD!$Q$5,MATCH(Grundlagen_Abrechnung_KAE!$AK$7,MD_JAHR,0),0)*$H487,IF(J487>0,AC487,I487))","v":{"v":0,"d":"0.00"}},null,{"$f":"OFFSET(MD!$P$5,MATCH($AK$7,MD_JAHR,0),0)*12","v":{"$error":"#VALUE!"}},{"v":0,"d":"0.00"}]
[{"$nulls":14},{"$f":"IF($B488=\"\",\"\",IF(F488=\"Arbeitgeberähnliche Stellung\",OFFSET(MD!$Q$5,MATCH(Grundlagen_Abrechnung_KAE!$AK$7,MD_JAHR,0),0)*$H488,IF(((AD488/12*M488*12)+N488)>AF488,AF488/12,((AD488/12*M488*12)+N488)/12)))","v":""},null,null,{"v":0,"d":"0.00"},null,{"v":0,"d":"0.00%"},{"v":0,"d":"0.00"},{"v":0,"d":"0.00"},{"v":0,"d":"0.00"},null,"prüfen",{"$f":"IFERROR(OFFSET(MD!$U$5,MATCH(Grundlagen_Abrechnung_KAE!$E488,MD_GENDER,0),0),\"\")","v":""},{"v":0,"d":"0.00"},null,{"v":0,"d":"0.00"},{"$f":"IF(F488=\"Arbeitgeberähnliche Stellung\",OFFSET(MD!$Q$5,MATCH(Grundlagen_Abrechnung_KAE!$AK$7,MD_JAHR,0),0)*$H488,IF(J488>0,AC488,I488))","v":{"v":0,"d":"0.00"}},null,{"$f":"OFFSET(MD!$P$5,MATCH($AK$7,MD_JAHR,0),0)*12","v":{"$error":"#VALUE!"}},{"v":0,"d":"0.00"}]
[{"$nulls":14},{"$f":"IF($B489=\"\",\"\",IF(F489=\"Arbeitgeberähnliche Stellung\",OFFSET(MD!$Q$5,MATCH(Grundlagen_Abrechnung_KAE!$AK$7,MD_JAHR,0),0)*$H489,IF(((AD489/12*M489*12)+N489)>AF489,AF489/12,((AD489/12*M489*12)+N489)/12)))","v":""},null,null,{"v":0,"d":"0.00"},null,{"v":0,"d":"0.00%"},{"v":0,"d":"0.00"},{"v":0,"d":"0.00"},{"v":0,"d":"0.00"},null,"prüfen",{"$f":"IFERROR(OFFSET(MD!$U$5,MATCH(Grundlagen_Abrechnung_KAE!$E489,MD_GENDER,0),0),\"\")","v":""},{"v":0,"d":"0.00"},null,{"v":0,"d":"0.00"},{"$f":"IF(F489=\"Arbeitgeberähnliche Stellung\",OFFSET(MD!$Q$5,MATCH(Grundlagen_Abrechnung_KAE!$AK$7,MD_JAHR,0),0)*$H489,IF(J489>0,AC489,I489))","v":{"v":0,"d":"0.00"}},null,{"$f":"OFFSET(MD!$P$5,MATCH($AK$7,MD_JAHR,0),0)*12","v":{"$error":"#VALUE!"}},{"v":0,"d":"0.00"}]
[{"$nulls":14},{"$f":"IF($B490=\"\",\"\",IF(F490=\"Arbeitgeberähnliche Stellung\",OFFSET(MD!$Q$5,MATCH(Grundlagen_Abrechnung_KAE!$AK$7,MD_JAHR,0),0)*$H490,IF(((AD490/12*M490*12)+N490)>AF490,AF490/12,((AD490/12*M490*12)+N490)/12)))","v":""},null,null,{"v":0,"d":"0.00"},null,{"v":0,"d":"0.00%"},{"v":0,"d":"0.00"},{"v":0,"d":"0.00"},{"v":0,"d":"0.00"},null,"prüfen",{"$f":"IFERROR(OFFSET(MD!$U$5,MATCH(Grundlagen_Abrechnung_KAE!$E490,MD_GENDER,0),0),\"\")","v":""},{"v":0,"d":"0.00"},null,{"v":0,"d":"0.00"},{"$f":"IF(F490=\"Arbeitgeberähnliche Stellung\",OFFSET(MD!$Q$5,MATCH(Grundlagen_Abrechnung_KAE!$AK$7,MD_JAHR,0),0)*$H490,IF(J490>0,AC490,I490))","v":{"v":0,"d":"0.00"}},null,{"$f":"OFFSET(MD!$P$5,MATCH($AK$7,MD_JAHR,0),0)*12","v":{"$error":"#VALUE!"}},{"v":0,"d":"0.00"}]
[{"$nulls":14},{"$f":"IF($B491=\"\",\"\",IF(F491=\"Arbeitgeberähnliche Stellung\",OFFSET(MD!$Q$5,MATCH(Grundlagen_Abrechnung_KAE!$AK$7,MD_JAHR,0),0)*$H491,IF(((AD491/12*M491*12)+N491)>AF491,AF491/12,((AD491/12*M491*12)+N491)/12)))","v":""},null,null,{"v":0,"d":"0.00"},null,{"v":0,"d":"0.00%"},{"v":0,"d":"0.00"},{"v":0,"d":"0.00"},{"v":0,"d":"0.00"},null,"prüfen",{"$f":"IFERROR(OFFSET(MD!$U$5,MATCH(Grundlagen_Abrechnung_KAE!$E491,MD_GENDER,0),0),\"\")","v":""},{"v":0,"d":"0.00"},null,{"v":0,"d":"0.00"},{"$f":"IF(F491=\"Arbeitgeberähnliche Stellung\",OFFSET(MD!$Q$5,MATCH(Grundlagen_Abrechnung_KAE!$AK$7,MD_JAHR,0),0)*$H491,IF(J491>0,AC491,I491))","v":{"v":0,"d":"0.00"}},null,{"$f":"OFFSET(MD!$P$5,MATCH($AK$7,MD_JAHR,0),0)*12","v":{"$error":"#VALUE!"}},{"v":0,"d":"0.00"}]
[{"$nulls":14},{"$f":"IF($B492=\"\",\"\",IF(F492=\"Arbeitgeberähnliche Stellung\",OFFSET(MD!$Q$5,MATCH(Grundlagen_Abrechnung_KAE!$AK$7,MD_JAHR,0),0)*$H492,IF(((AD492/12*M492*12)+N492)>AF492,AF492/12,((AD492/12*M492*12)+N492)/12)))","v":""},null,null,{"v":0,"d":"0.00"},null,{"v":0,"d":"0.00%"},{"v":0,"d":"0.00"},{"v":0,"d":"0.00"},{"v":0,"d":"0.00"},null,"prüfen",{"$f":"IFERROR(OFFSET(MD!$U$5,MATCH(Grundlagen_Abrechnung_KAE!$E492,MD_GENDER,0),0),\"\")","v":""},{"v":0,"d":"0.00"},null,{"v":0,"d":"0.00"},{"$f":"IF(F492=\"Arbeitgeberähnliche Stellung\",OFFSET(MD!$Q$5,MATCH(Grundlagen_Abrechnung_KAE!$AK$7,MD_JAHR,0),0)*$H492,IF(J492>0,AC492,I492))","v":{"v":0,"d":"0.00"}},null,{"$f":"OFFSET(MD!$P$5,MATCH($AK$7,MD_JAHR,0),0)*12","v":{"$error":"#VALUE!"}},{"v":0,"d":"0.00"}]
[{"$nulls":14},{"$f":"IF($B493=\"\",\"\",IF(F493=\"Arbeitgeberähnliche Stellung\",OFFSET(MD!$Q$5,MATCH(Grundlagen_Abrechnung_KAE!$AK$7,MD_JAHR,0),0)*$H493,IF(((AD493/12*M493*12)+N493)>AF493,AF493/12,((AD493/12*M493*12)+N493)/12)))","v":""},null,null,{"v":0,"d":"0.00"},null,{"v":0,"d":"0.00%"},{"v":0,"d":"0.00"},{"v":0,"d":"0.00"},{"v":0,"d":"0.00"},null,"prüfen",{"$f":"IFERROR(OFFSET(MD!$U$5,MATCH(Grundlagen_Abrechnung_KAE!$E493,MD_GENDER,0),0),\"\")","v":""},{"v":0,"d":"0.00"},null,{"v":0,"d":"0.00"},{"$f":"IF(F493=\"Arbeitgeberähnliche Stellung\",OFFSET(MD!$Q$5,MATCH(Grundlagen_Abrechnung_KAE!$AK$7,MD_JAHR,0),0)*$H493,IF(J493>0,AC493,I493))","v":{"v":0,"d":"0.00"}},null,{"$f":"OFFSET(MD!$P$5,MATCH($AK$7,MD_JAHR,0),0)*12","v":{"$error":"#VALUE!"}},{"v":0,"d":"0.00"}]
[{"$nulls":14},{"$f":"IF($B494=\"\",\"\",IF(F494=\"Arbeitgeberähnliche Stellung\",OFFSET(MD!$Q$5,MATCH(Grundlagen_Abrechnung_KAE!$AK$7,MD_JAHR,0),0)*$H494,IF(((AD494/12*M494*12)+N494)>AF494,AF494/12,((AD494/12*M494*12)+N494)/12)))","v":""},null,null,{"v":0,"d":"0.00"},null,{"v":0,"d":"0.00%"},{"v":0,"d":"0.00"},{"v":0,"d":"0.00"},{"v":0,"d":"0.00"},null,"prüfen",{"$f":"IFERROR(OFFSET(MD!$U$5,MATCH(Grundlagen_Abrechnung_KAE!$E494,MD_GENDER,0),0),\"\")","v":""},{"v":0,"d":"0.00"},null,{"v":0,"d":"0.00"},{"$f":"IF(F494=\"Arbeitgeberähnliche Stellung\",OFFSET(MD!$Q$5,MATCH(Grundlagen_Abrechnung_KAE!$AK$7,MD_JAHR,0),0)*$H494,IF(J494>0,AC494,I494))","v":{"v":0,"d":"0.00"}},null,{"$f":"OFFSET(MD!$P$5,MATCH($AK$7,MD_JAHR,0),0)*12","v":{"$error":"#VALUE!"}},{"v":0,"d":"0.00"}]
[{"$nulls":14},{"$f":"IF($B495=\"\",\"\",IF(F495=\"Arbeitgeberähnliche Stellung\",OFFSET(MD!$Q$5,MATCH(Grundlagen_Abrechnung_KAE!$AK$7,MD_JAHR,0),0)*$H495,IF(((AD495/12*M495*12)+N495)>AF495,AF495/12,((AD495/12*M495*12)+N495)/12)))","v":""},null,null,{"v":0,"d":"0.00"},null,{"v":0,"d":"0.00%"},{"v":0,"d":"0.00"},{"v":0,"d":"0.00"},{"v":0,"d":"0.00"},null,"prüfen",{"$f":"IFERROR(OFFSET(MD!$U$5,MATCH(Grundlagen_Abrechnung_KAE!$E495,MD_GENDER,0),0),\"\")","v":""},{"v":0,"d":"0.00"},null,{"v":0,"d":"0.00"},{"$f":"IF(F495=\"Arbeitgeberähnliche Stellung\",OFFSET(MD!$Q$5,MATCH(Grundlagen_Abrechnung_KAE!$AK$7,MD_JAHR,0),0)*$H495,IF(J495>0,AC495,I495))","v":{"v":0,"d":"0.00"}},null,{"$f":"OFFSET(MD!$P$5,MATCH($AK$7,MD_JAHR,0),0)*12","v":{"$error":"#VALUE!"}},{"v":0,"d":"0.00"}]
[{"$nulls":14},{"$f":"IF($B496=\"\",\"\",IF(F496=\"Arbeitgeberähnliche Stellung\",OFFSET(MD!$Q$5,MATCH(Grundlagen_Abrechnung_KAE!$AK$7,MD_JAHR,0),0)*$H496,IF(((AD496/12*M496*12)+N496)>AF496,AF496/12,((AD496/12*M496*12)+N496)/12)))","v":""},null,null,{"v":0,"d":"0.00"},null,{"v":0,"d":"0.00%"},{"v":0,"d":"0.00"},{"v":0,"d":"0.00"},{"v":0,"d":"0.00"},null,"prüfen",{"$f":"IFERROR(OFFSET(MD!$U$5,MATCH(Grundlagen_Abrechnung_KAE!$E496,MD_GENDER,0),0),\"\")","v":""},{"v":0,"d":"0.00"},null,{"v":0,"d":"0.00"},{"$f":"IF(F496=\"Arbeitgeberähnliche Stellung\",OFFSET(MD!$Q$5,MATCH(Grundlagen_Abrechnung_KAE!$AK$7,MD_JAHR,0),0)*$H496,IF(J496>0,AC496,I496))","v":{"v":0,"d":"0.00"}},null,{"$f":"OFFSET(MD!$P$5,MATCH($AK$7,MD_JAHR,0),0)*12","v":{"$error":"#VALUE!"}},{"v":0,"d":"0.00"}]
[{"$nulls":14},{"$f":"IF($B497=\"\",\"\",IF(F497=\"Arbeitgeberähnliche Stellung\",OFFSET(MD!$Q$5,MATCH(Grundlagen_Abrechnung_KAE!$AK$7,MD_JAHR,0),0)*$H497,IF(((AD497/12*M497*12)+N497)>AF497,AF497/12,((AD497/12*M497*12)+N497)/12)))","v":""},null,null,{"v":0,"d":"0.00"},null,{"v":0,"d":"0.00%"},{"v":0,"d":"0.00"},{"v":0,"d":"0.00"},{"v":0,"d":"0.00"},null,"prüfen",{"$f":"IFERROR(OFFSET(MD!$U$5,MATCH(Grundlagen_Abrechnung_KAE!$E497,MD_GENDER,0),0),\"\")","v":""},{"v":0,"d":"0.00"},null,{"v":0,"d":"0.00"},{"$f":"IF(F497=\"Arbeitgeberähnliche Stellung\",OFFSET(MD!$Q$5,MATCH(Grundlagen_Abrechnung_KAE!$AK$7,MD_JAHR,0),0)*$H497,IF(J497>0,AC497,I497))","v":{"v":0,"d":"0.00"}},null,{"$f":"OFFSET(MD!$P$5,MATCH($AK$7,MD_JAHR,0),0)*12","v":{"$error":"#VALUE!"}},{"v":0,"d":"0.00"}]
[{"$nulls":14},{"$f":"IF($B498=\"\",\"\",IF(F498=\"Arbeitgeberähnliche Stellung\",OFFSET(MD!$Q$5,MATCH(Grundlagen_Abrechnung_KAE!$AK$7,MD_JAHR,0),0)*$H498,IF(((AD498/12*M498*12)+N498)>AF498,AF498/12,((AD498/12*M498*12)+N498)/12)))","v":""},null,null,{"v":0,"d":"0.00"},null,{"v":0,"d":"0.00%"},{"v":0,"d":"0.00"},{"v":0,"d":"0.00"},{"v":0,"d":"0.00"},null,"prüfen",{"$f":"IFERROR(OFFSET(MD!$U$5,MATCH(Grundlagen_Abrechnung_KAE!$E498,MD_GENDER,0),0),\"\")","v":""},{"v":0,"d":"0.00"},null,{"v":0,"d":"0.00"},{"$f":"IF(F498=\"Arbeitgeberähnliche Stellung\",OFFSET(MD!$Q$5,MATCH(Grundlagen_Abrechnung_KAE!$AK$7,MD_JAHR,0),0)*$H498,IF(J498>0,AC498,I498))","v":{"v":0,"d":"0.00"}},null,{"$f":"OFFSET(MD!$P$5,MATCH($AK$7,MD_JAHR,0),0)*12","v":{"$error":"#VALUE!"}},{"v":0,"d":"0.00"}]
[{"$nulls":14},{"$f":"IF($B499=\"\",\"\",IF(F499=\"Arbeitgeberähnliche Stellung\",OFFSET(MD!$Q$5,MATCH(Grundlagen_Abrechnung_KAE!$AK$7,MD_JAHR,0),0)*$H499,IF(((AD499/12*M499*12)+N499)>AF499,AF499/12,((AD499/12*M499*12)+N499)/12)))","v":""},null,null,{"v":0,"d":"0.00"},null,{"v":0,"d":"0.00%"},{"v":0,"d":"0.00"},{"v":0,"d":"0.00"},{"v":0,"d":"0.00"},null,"prüfen",{"$f":"IFERROR(OFFSET(MD!$U$5,MATCH(Grundlagen_Abrechnung_KAE!$E499,MD_GENDER,0),0),\"\")","v":""},{"v":0,"d":"0.00"},null,{"v":0,"d":"0.00"},{"$f":"IF(F499=\"Arbeitgeberähnliche Stellung\",OFFSET(MD!$Q$5,MATCH(Grundlagen_Abrechnung_KAE!$AK$7,MD_JAHR,0),0)*$H499,IF(J499>0,AC499,I499))","v":{"v":0,"d":"0.00"}},null,{"$f":"OFFSET(MD!$P$5,MATCH($AK$7,MD_JAHR,0),0)*12","v":{"$error":"#VALUE!"}},{"v":0,"d":"0.00"}]
[{"$nulls":14},{"$f":"IF($B500=\"\",\"\",IF(F500=\"Arbeitgeberähnliche Stellung\",OFFSET(MD!$Q$5,MATCH(Grundlagen_Abrechnung_KAE!$AK$7,MD_JAHR,0),0)*$H500,IF(((AD500/12*M500*12)+N500)>AF500,AF500/12,((AD500/12*M500*12)+N500)/12)))","v":""},null,null,{"v":0,"d":"0.00"},null,{"v":0,"d":"0.00%"},{"v":0,"d":"0.00"},{"v":0,"d":"0.00"},{"v":0,"d":"0.00"},null,"prüfen",{"$f":"IFERROR(OFFSET(MD!$U$5,MATCH(Grundlagen_Abrechnung_KAE!$E500,MD_GENDER,0),0),\"\")","v":""},{"v":0,"d":"0.00"},null,{"v":0,"d":"0.00"},{"$f":"IF(F500=\"Arbeitgeberähnliche Stellung\",OFFSET(MD!$Q$5,MATCH(Grundlagen_Abrechnung_KAE!$AK$7,MD_JAHR,0),0)*$H500,IF(J500>0,AC500,I500))","v":{"v":0,"d":"0.00"}},null,{"$f":"OFFSET(MD!$P$5,MATCH($AK$7,MD_JAHR,0),0)*12","v":{"$error":"#VALUE!"}},{"v":0,"d":"0.00"}]
[{"$nulls":14},{"$f":"IF($B501=\"\",\"\",IF(F501=\"Arbeitgeberähnliche Stellung\",OFFSET(MD!$Q$5,MATCH(Grundlagen_Abrechnung_KAE!$AK$7,MD_JAHR,0),0)*$H501,IF(((AD501/12*M501*12)+N501)>AF501,AF501/12,((AD501/12*M501*12)+N501)/12)))","v":""},null,null,{"v":0,"d":"0.00"},null,{"v":0,"d":"0.00%"},{"v":0,"d":"0.00"},{"v":0,"d":"0.00"},{"v":0,"d":"0.00"},null,"prüfen",{"$f":"IFERROR(OFFSET(MD!$U$5,MATCH(Grundlagen_Abrechnung_KAE!$E501,MD_GENDER,0),0),\"\")","v":""},{"v":0,"d":"0.00"},null,{"v":0,"d":"0.00"},{"$f":"IF(F501=\"Arbeitgeberähnliche Stellung\",OFFSET(MD!$Q$5,MATCH(Grundlagen_Abrechnung_KAE!$AK$7,MD_JAHR,0),0)*$H501,IF(J501>0,AC501,I501))","v":{"v":0,"d":"0.00"}},null,{"$f":"OFFSET(MD!$P$5,MATCH($AK$7,MD_JAHR,0),0)*12","v":{"$error":"#VALUE!"}},{"v":0,"d":"0.00"}]
[{"$nulls":14},{"$f":"IF($B502=\"\",\"\",IF(F502=\"Arbeitgeberähnliche Stellung\",OFFSET(MD!$Q$5,MATCH(Grundlagen_Abrechnung_KAE!$AK$7,MD_JAHR,0),0)*$H502,IF(((AD502/12*M502*12)+N502)>AF502,AF502/12,((AD502/12*M502*12)+N502)/12)))","v":""},null,null,{"v":0,"d":"0.00"},null,{"v":0,"d":"0.00%"},{"v":0,"d":"0.00"},{"v":0,"d":"0.00"},{"v":0,"d":"0.00"},null,"prüfen",{"$f":"IFERROR(OFFSET(MD!$U$5,MATCH(Grundlagen_Abrechnung_KAE!$E502,MD_GENDER,0),0),\"\")","v":""},{"v":0,"d":"0.00"},null,{"v":0,"d":"0.00"},{"$f":"IF(F502=\"Arbeitgeberähnliche Stellung\",OFFSET(MD!$Q$5,MATCH(Grundlagen_Abrechnung_KAE!$AK$7,MD_JAHR,0),0)*$H502,IF(J502>0,AC502,I502))","v":{"v":0,"d":"0.00"}},null,{"$f":"OFFSET(MD!$P$5,MATCH($AK$7,MD_JAHR,0),0)*12","v":{"$error":"#VALUE!"}},{"v":0,"d":"0.00"}]
[{"$nulls":14},{"$f":"IF($B503=\"\",\"\",IF(F503=\"Arbeitgeberähnliche Stellung\",OFFSET(MD!$Q$5,MATCH(Grundlagen_Abrechnung_KAE!$AK$7,MD_JAHR,0),0)*$H503,IF(((AD503/12*M503*12)+N503)>AF503,AF503/12,((AD503/12*M503*12)+N503)/12)))","v":""},null,null,{"v":0,"d":"0.00"},null,{"v":0,"d":"0.00%"},{"v":0,"d":"0.00"},{"v":0,"d":"0.00"},{"v":0,"d":"0.00"},null,"prüfen",{"$f":"IFERROR(OFFSET(MD!$U$5,MATCH(Grundlagen_Abrechnung_KAE!$E503,MD_GENDER,0),0),\"\")","v":""},{"v":0,"d":"0.00"},null,{"v":0,"d":"0.00"},{"$f":"IF(F503=\"Arbeitgeberähnliche Stellung\",OFFSET(MD!$Q$5,MATCH(Grundlagen_Abrechnung_KAE!$AK$7,MD_JAHR,0),0)*$H503,IF(J503>0,AC503,I503))","v":{"v":0,"d":"0.00"}},null,{"$f":"OFFSET(MD!$P$5,MATCH($AK$7,MD_JAHR,0),0)*12","v":{"$error":"#VALUE!"}},{"v":0,"d":"0.00"}]
[{"$nulls":14},{"$f":"IF($B504=\"\",\"\",IF(F504=\"Arbeitgeberähnliche Stellung\",OFFSET(MD!$Q$5,MATCH(Grundlagen_Abrechnung_KAE!$AK$7,MD_JAHR,0),0)*$H504,IF(((AD504/12*M504*12)+N504)>AF504,AF504/12,((AD504/12*M504*12)+N504)/12)))","v":""},null,null,{"v":0,"d":"0.00"},null,{"v":0,"d":"0.00%"},{"v":0,"d":"0.00"},{"v":0,"d":"0.00"},{"v":0,"d":"0.00"},null,"prüfen",{"$f":"IFERROR(OFFSET(MD!$U$5,MATCH(Grundlagen_Abrechnung_KAE!$E504,MD_GENDER,0),0),\"\")","v":""},{"v":0,"d":"0.00"},null,{"v":0,"d":"0.00"},{"$f":"IF(F504=\"Arbeitgeberähnliche Stellung\",OFFSET(MD!$Q$5,MATCH(Grundlagen_Abrechnung_KAE!$AK$7,MD_JAHR,0),0)*$H504,IF(J504>0,AC504,I504))","v":{"v":0,"d":"0.00"}},null,{"$f":"OFFSET(MD!$P$5,MATCH($AK$7,MD_JAHR,0),0)*12","v":{"$error":"#VALUE!"}},{"v":0,"d":"0.00"}]
[{"$nulls":14},{"$f":"IF($B505=\"\",\"\",IF(F505=\"Arbeitgeberähnliche Stellung\",OFFSET(MD!$Q$5,MATCH(Grundlagen_Abrechnung_KAE!$AK$7,MD_JAHR,0),0)*$H505,IF(((AD505/12*M505*12)+N505)>AF505,AF505/12,((AD505/12*M505*12)+N505)/12)))","v":""},null,null,{"v":0,"d":"0.00"},null,{"v":0,"d":"0.00%"},{"v":0,"d":"0.00"},{"v":0,"d":"0.00"},{"v":0,"d":"0.00"},null,"prüfen",{"$f":"IFERROR(OFFSET(MD!$U$5,MATCH(Grundlagen_Abrechnung_KAE!$E505,MD_GENDER,0),0),\"\")","v":""},{"v":0,"d":"0.00"},null,{"v":0,"d":"0.00"},{"$f":"IF(F505=\"Arbeitgeberähnliche Stellung\",OFFSET(MD!$Q$5,MATCH(Grundlagen_Abrechnung_KAE!$AK$7,MD_JAHR,0),0)*$H505,IF(J505>0,AC505,I505))","v":{"v":0,"d":"0.00"}},null,{"$f":"OFFSET(MD!$P$5,MATCH($AK$7,MD_JAHR,0),0)*12","v":{"$error":"#VALUE!"}},{"v":0,"d":"0.00"}]
[{"$nulls":14},{"$f":"IF($B506=\"\",\"\",IF(F506=\"Arbeitgeberähnliche Stellung\",OFFSET(MD!$Q$5,MATCH(Grundlagen_Abrechnung_KAE!$AK$7,MD_JAHR,0),0)*$H506,IF(((AD506/12*M506*12)+N506)>AF506,AF506/12,((AD506/12*M506*12)+N506)/12)))","v":""},null,null,{"v":0,"d":"0.00"},null,{"v":0,"d":"0.00%"},{"v":0,"d":"0.00"},{"v":0,"d":"0.00"},{"v":0,"d":"0.00"},null,"prüfen",{"$f":"IFERROR(OFFSET(MD!$U$5,MATCH(Grundlagen_Abrechnung_KAE!$E506,MD_GENDER,0),0),\"\")","v":""},{"v":0,"d":"0.00"},null,{"v":0,"d":"0.00"},{"$f":"IF(F506=\"Arbeitgeberähnliche Stellung\",OFFSET(MD!$Q$5,MATCH(Grundlagen_Abrechnung_KAE!$AK$7,MD_JAHR,0),0)*$H506,IF(J506>0,AC506,I506))","v":{"v":0,"d":"0.00"}},null,{"$f":"OFFSET(MD!$P$5,MATCH($AK$7,MD_JAHR,0),0)*12","v":{"$error":"#VALUE!"}},{"v":0,"d":"0.00"}]
[{"$nulls":14},{"$f":"IF($B507=\"\",\"\",IF(F507=\"Arbeitgeberähnliche Stellung\",OFFSET(MD!$Q$5,MATCH(Grundlagen_Abrechnung_KAE!$AK$7,MD_JAHR,0),0)*$H507,IF(((AD507/12*M507*12)+N507)>AF507,AF507/12,((AD507/12*M507*12)+N507)/12)))","v":""},null,null,{"v":0,"d":"0.00"},null,{"v":0,"d":"0.00%"},{"v":0,"d":"0.00"},{"v":0,"d":"0.00"},{"v":0,"d":"0.00"},null,"prüfen",{"$f":"IFERROR(OFFSET(MD!$U$5,MATCH(Grundlagen_Abrechnung_KAE!$E507,MD_GENDER,0),0),\"\")","v":""},{"v":0,"d":"0.00"},null,{"v":0,"d":"0.00"},{"$f":"IF(F507=\"Arbeitgeberähnliche Stellung\",OFFSET(MD!$Q$5,MATCH(Grundlagen_Abrechnung_KAE!$AK$7,MD_JAHR,0),0)*$H507,IF(J507>0,AC507,I507))","v":{"v":0,"d":"0.00"}},null,{"$f":"OFFSET(MD!$P$5,MATCH($AK$7,MD_JAHR,0),0)*12","v":{"$error":"#VALUE!"}},{"v":0,"d":"0.00"}]
[{"$nulls":14},{"$f":"IF($B508=\"\",\"\",IF(F508=\"Arbeitgeberähnliche Stellung\",OFFSET(MD!$Q$5,MATCH(Grundlagen_Abrechnung_KAE!$AK$7,MD_JAHR,0),0)*$H508,IF(((AD508/12*M508*12)+N508)>AF508,AF508/12,((AD508/12*M508*12)+N508)/12)))","v":""},null,null,{"v":0,"d":"0.00"},null,{"v":0,"d":"0.00%"},{"v":0,"d":"0.00"},{"v":0,"d":"0.00"},{"v":0,"d":"0.00"},null,"prüfen",{"$f":"IFERROR(OFFSET(MD!$U$5,MATCH(Grundlagen_Abrechnung_KAE!$E508,MD_GENDER,0),0),\"\")","v":""},{"v":0,"d":"0.00"},null,{"v":0,"d":"0.00"},{"$f":"IF(F508=\"Arbeitgeberähnliche Stellung\",OFFSET(MD!$Q$5,MATCH(Grundlagen_Abrechnung_KAE!$AK$7,MD_JAHR,0),0)*$H508,IF(J508>0,AC508,I508))","v":{"v":0,"d":"0.00"}},null,{"$f":"OFFSET(MD!$P$5,MATCH($AK$7,MD_JAHR,0),0)*12","v":{"$error":"#VALUE!"}},{"v":0,"d":"0.00"}]
[{"$nulls":14},{"$f":"IF($B509=\"\",\"\",IF(F509=\"Arbeitgeberähnliche Stellung\",OFFSET(MD!$Q$5,MATCH(Grundlagen_Abrechnung_KAE!$AK$7,MD_JAHR,0),0)*$H509,IF(((AD509/12*M509*12)+N509)>AF509,AF509/12,((AD509/12*M509*12)+N509)/12)))","v":""},null,null,{"v":0,"d":"0.00"},null,{"v":0,"d":"0.00%"},{"v":0,"d":"0.00"},{"v":0,"d":"0.00"},{"v":0,"d":"0.00"},null,"prüfen",{"$f":"IFERROR(OFFSET(MD!$U$5,MATCH(Grundlagen_Abrechnung_KAE!$E509,MD_GENDER,0),0),\"\")","v":""},{"v":0,"d":"0.00"},null,{"v":0,"d":"0.00"},{"$f":"IF(F509=\"Arbeitgeberähnliche Stellung\",OFFSET(MD!$Q$5,MATCH(Grundlagen_Abrechnung_KAE!$AK$7,MD_JAHR,0),0)*$H509,IF(J509>0,AC509,I509))","v":{"v":0,"d":"0.00"}},null,{"$f":"OFFSET(MD!$P$5,MATCH($AK$7,MD_JAHR,0),0)*12","v":{"$error":"#VALUE!"}},{"v":0,"d":"0.00"}]
[{"$nulls":14},{"$f":"IF($B510=\"\",\"\",IF(F510=\"Arbeitgeberähnliche Stellung\",OFFSET(MD!$Q$5,MATCH(Grundlagen_Abrechnung_KAE!$AK$7,MD_JAHR,0),0)*$H510,IF(((AD510/12*M510*12)+N510)>AF510,AF510/12,((AD510/12*M510*12)+N510)/12)))","v":""},null,null,{"v":0,"d":"0.00"},null,{"v":0,"d":"0.00%"},{"v":0,"d":"0.00"},{"v":0,"d":"0.00"},{"v":0,"d":"0.00"},null,"prüfen",{"$f":"IFERROR(OFFSET(MD!$U$5,MATCH(Grundlagen_Abrechnung_KAE!$E510,MD_GENDER,0),0),\"\")","v":""},{"v":0,"d":"0.00"},null,{"v":0,"d":"0.00"},{"$f":"IF(F510=\"Arbeitgeberähnliche Stellung\",OFFSET(MD!$Q$5,MATCH(Grundlagen_Abrechnung_KAE!$AK$7,MD_JAHR,0),0)*$H510,IF(J510>0,AC510,I510))","v":{"v":0,"d":"0.00"}},null,{"$f":"OFFSET(MD!$P$5,MATCH($AK$7,MD_JAHR,0),0)*12","v":{"$error":"#VALUE!"}},{"v":0,"d":"0.00"}]
[{"$nulls":14},{"$f":"IF($B511=\"\",\"\",IF(F511=\"Arbeitgeberähnliche Stellung\",OFFSET(MD!$Q$5,MATCH(Grundlagen_Abrechnung_KAE!$AK$7,MD_JAHR,0),0)*$H511,IF(((AD511/12*M511*12)+N511)>AF511,AF511/12,((AD511/12*M511*12)+N511)/12)))","v":""},null,null,{"v":0,"d":"0.00"},null,{"v":0,"d":"0.00%"},{"v":0,"d":"0.00"},{"v":0,"d":"0.00"},{"v":0,"d":"0.00"},null,"prüfen",{"$f":"IFERROR(OFFSET(MD!$U$5,MATCH(Grundlagen_Abrechnung_KAE!$E511,MD_GENDER,0),0),\"\")","v":""},{"v":0,"d":"0.00"},null,{"v":0,"d":"0.00"},{"$f":"IF(F511=\"Arbeitgeberähnliche Stellung\",OFFSET(MD!$Q$5,MATCH(Grundlagen_Abrechnung_KAE!$AK$7,MD_JAHR,0),0)*$H511,IF(J511>0,AC511,I511))","v":{"v":0,"d":"0.00"}},null,{"$f":"OFFSET(MD!$P$5,MATCH($AK$7,MD_JAHR,0),0)*12","v":{"$error":"#VALUE!"}},{"v":0,"d":"0.00"}]
[{"$nulls":14},{"$f":"IF($B512=\"\",\"\",IF(F512=\"Arbeitgeberähnliche Stellung\",OFFSET(MD!$Q$5,MATCH(Grundlagen_Abrechnung_KAE!$AK$7,MD_JAHR,0),0)*$H512,IF(((AD512/12*M512*12)+N512)>AF512,AF512/12,((AD512/12*M512*12)+N512)/12)))","v":""},null,null,{"v":0,"d":"0.00"},null,{"v":0,"d":"0.00%"},{"v":0,"d":"0.00"},{"v":0,"d":"0.00"},{"v":0,"d":"0.00"},null,"prüfen",{"$f":"IFERROR(OFFSET(MD!$U$5,MATCH(Grundlagen_Abrechnung_KAE!$E512,MD_GENDER,0),0),\"\")","v":""},{"v":0,"d":"0.00"},null,{"v":0,"d":"0.00"},{"$f":"IF(F512=\"Arbeitgeberähnliche Stellung\",OFFSET(MD!$Q$5,MATCH(Grundlagen_Abrechnung_KAE!$AK$7,MD_JAHR,0),0)*$H512,IF(J512>0,AC512,I512))","v":{"v":0,"d":"0.00"}},null,{"$f":"OFFSET(MD!$P$5,MATCH($AK$7,MD_JAHR,0),0)*12","v":{"$error":"#VALUE!"}},{"v":0,"d":"0.00"}]
[{"$nulls":14},{"$f":"IF($B513=\"\",\"\",IF(F513=\"Arbeitgeberähnliche Stellung\",OFFSET(MD!$Q$5,MATCH(Grundlagen_Abrechnung_KAE!$AK$7,MD_JAHR,0),0)*$H513,IF(((AD513/12*M513*12)+N513)>AF513,AF513/12,((AD513/12*M513*12)+N513)/12)))","v":""},null,null,{"v":0,"d":"0.00"},null,{"v":0,"d":"0.00%"},{"v":0,"d":"0.00"},{"v":0,"d":"0.00"},{"v":0,"d":"0.00"},null,"prüfen",{"$f":"IFERROR(OFFSET(MD!$U$5,MATCH(Grundlagen_Abrechnung_KAE!$E513,MD_GENDER,0),0),\"\")","v":""},{"v":0,"d":"0.00"},null,{"v":0,"d":"0.00"},{"$f":"IF(F513=\"Arbeitgeberähnliche Stellung\",OFFSET(MD!$Q$5,MATCH(Grundlagen_Abrechnung_KAE!$AK$7,MD_JAHR,0),0)*$H513,IF(J513>0,AC513,I513))","v":{"v":0,"d":"0.00"}},null,{"$f":"OFFSET(MD!$P$5,MATCH($AK$7,MD_JAHR,0),0)*12","v":{"$error":"#VALUE!"}},{"v":0,"d":"0.00"}]
[{"$nulls":14},{"$f":"IF($B514=\"\",\"\",IF(F514=\"Arbeitgeberähnliche Stellung\",OFFSET(MD!$Q$5,MATCH(Grundlagen_Abrechnung_KAE!$AK$7,MD_JAHR,0),0)*$H514,IF(((AD514/12*M514*12)+N514)>AF514,AF514/12,((AD514/12*M514*12)+N514)/12)))","v":""},null,null,{"v":0,"d":"0.00"},null,{"v":0,"d":"0.00%"},{"v":0,"d":"0.00"},{"v":0,"d":"0.00"},{"v":0,"d":"0.00"},null,"prüfen",{"$f":"IFERROR(OFFSET(MD!$U$5,MATCH(Grundlagen_Abrechnung_KAE!$E514,MD_GENDER,0),0),\"\")","v":""},{"v":0,"d":"0.00"},null,{"v":0,"d":"0.00"},{"$f":"IF(F514=\"Arbeitgeberähnliche Stellung\",OFFSET(MD!$Q$5,MATCH(Grundlagen_Abrechnung_KAE!$AK$7,MD_JAHR,0),0)*$H514,IF(J514>0,AC514,I514))","v":{"v":0,"d":"0.00"}},null,{"$f":"OFFSET(MD!$P$5,MATCH($AK$7,MD_JAHR,0),0)*12","v":{"$error":"#VALUE!"}},{"v":0,"d":"0.00"}]
[{"$nulls":14},{"$f":"IF($B515=\"\",\"\",IF(F515=\"Arbeitgeberähnliche Stellung\",OFFSET(MD!$Q$5,MATCH(Grundlagen_Abrechnung_KAE!$AK$7,MD_JAHR,0),0)*$H515,IF(((AD515/12*M515*12)+N515)>AF515,AF515/12,((AD515/12*M515*12)+N515)/12)))","v":""},null,null,{"v":0,"d":"0.00"},null,{"v":0,"d":"0.00%"},{"v":0,"d":"0.00"},{"v":0,"d":"0.00"},{"v":0,"d":"0.00"},null,"prüfen",{"$f":"IFERROR(OFFSET(MD!$U$5,MATCH(Grundlagen_Abrechnung_KAE!$E515,MD_GENDER,0),0),\"\")","v":""},{"v":0,"d":"0.00"},null,{"v":0,"d":"0.00"},{"$f":"IF(F515=\"Arbeitgeberähnliche Stellung\",OFFSET(MD!$Q$5,MATCH(Grundlagen_Abrechnung_KAE!$AK$7,MD_JAHR,0),0)*$H515,IF(J515>0,AC515,I515))","v":{"v":0,"d":"0.00"}},null,{"$f":"OFFSET(MD!$P$5,MATCH($AK$7,MD_JAHR,0),0)*12","v":{"$error":"#VALUE!"}},{"v":0,"d":"0.00"}]
[{"$nulls":14},{"$f":"IF($B516=\"\",\"\",IF(F516=\"Arbeitgeberähnliche Stellung\",OFFSET(MD!$Q$5,MATCH(Grundlagen_Abrechnung_KAE!$AK$7,MD_JAHR,0),0)*$H516,IF(((AD516/12*M516*12)+N516)>AF516,AF516/12,((AD516/12*M516*12)+N516)/12)))","v":""},null,null,{"v":0,"d":"0.00"},null,{"v":0,"d":"0.00%"},{"v":0,"d":"0.00"},{"v":0,"d":"0.00"},{"v":0,"d":"0.00"},null,"prüfen",{"$f":"IFERROR(OFFSET(MD!$U$5,MATCH(Grundlagen_Abrechnung_KAE!$E516,MD_GENDER,0),0),\"\")","v":""},{"v":0,"d":"0.00"},null,{"v":0,"d":"0.00"},{"$f":"IF(F516=\"Arbeitgeberähnliche Stellung\",OFFSET(MD!$Q$5,MATCH(Grundlagen_Abrechnung_KAE!$AK$7,MD_JAHR,0),0)*$H516,IF(J516>0,AC516,I516))","v":{"v":0,"d":"0.00"}},null,{"$f":"OFFSET(MD!$P$5,MATCH($AK$7,MD_JAHR,0),0)*12","v":{"$error":"#VALUE!"}},{"v":0,"d":"0.00"}]
[{"$nulls":14},{"$f":"IF($B517=\"\",\"\",IF(F517=\"Arbeitgeberähnliche Stellung\",OFFSET(MD!$Q$5,MATCH(Grundlagen_Abrechnung_KAE!$AK$7,MD_JAHR,0),0)*$H517,IF(((AD517/12*M517*12)+N517)>AF517,AF517/12,((AD517/12*M517*12)+N517)/12)))","v":""},null,null,{"v":0,"d":"0.00"},null,{"v":0,"d":"0.00%"},{"v":0,"d":"0.00"},{"v":0,"d":"0.00"},{"v":0,"d":"0.00"},null,"prüfen",{"$f":"IFERROR(OFFSET(MD!$U$5,MATCH(Grundlagen_Abrechnung_KAE!$E517,MD_GENDER,0),0),\"\")","v":""},{"v":0,"d":"0.00"},null,{"v":0,"d":"0.00"},{"$f":"IF(F517=\"Arbeitgeberähnliche Stellung\",OFFSET(MD!$Q$5,MATCH(Grundlagen_Abrechnung_KAE!$AK$7,MD_JAHR,0),0)*$H517,IF(J517>0,AC517,I517))","v":{"v":0,"d":"0.00"}},null,{"$f":"OFFSET(MD!$P$5,MATCH($AK$7,MD_JAHR,0),0)*12","v":{"$error":"#VALUE!"}},{"v":0,"d":"0.00"}]
[{"$nulls":14},{"$f":"IF($B518=\"\",\"\",IF(F518=\"Arbeitgeberähnliche Stellung\",OFFSET(MD!$Q$5,MATCH(Grundlagen_Abrechnung_KAE!$AK$7,MD_JAHR,0),0)*$H518,IF(((AD518/12*M518*12)+N518)>AF518,AF518/12,((AD518/12*M518*12)+N518)/12)))","v":""},null,null,{"v":0,"d":"0.00"},null,{"v":0,"d":"0.00%"},{"v":0,"d":"0.00"},{"v":0,"d":"0.00"},{"v":0,"d":"0.00"},null,"prüfen",{"$f":"IFERROR(OFFSET(MD!$U$5,MATCH(Grundlagen_Abrechnung_KAE!$E518,MD_GENDER,0),0),\"\")","v":""},{"v":0,"d":"0.00"},null,{"v":0,"d":"0.00"},{"$f":"IF(F518=\"Arbeitgeberähnliche Stellung\",OFFSET(MD!$Q$5,MATCH(Grundlagen_Abrechnung_KAE!$AK$7,MD_JAHR,0),0)*$H518,IF(J518>0,AC518,I518))","v":{"v":0,"d":"0.00"}},null,{"$f":"OFFSET(MD!$P$5,MATCH($AK$7,MD_JAHR,0),0)*12","v":{"$error":"#VALUE!"}},{"v":0,"d":"0.00"}]
[{"$nulls":14},{"$f":"IF($B519=\"\",\"\",IF(F519=\"Arbeitgeberähnliche Stellung\",OFFSET(MD!$Q$5,MATCH(Grundlagen_Abrechnung_KAE!$AK$7,MD_JAHR,0),0)*$H519,IF(((AD519/12*M519*12)+N519)>AF519,AF519/12,((AD519/12*M519*12)+N519)/12)))","v":""},null,null,{"v":0,"d":"0.00"},null,{"v":0,"d":"0.00%"},{"v":0,"d":"0.00"},{"v":0,"d":"0.00"},{"v":0,"d":"0.00"},null,"prüfen",{"$f":"IFERROR(OFFSET(MD!$U$5,MATCH(Grundlagen_Abrechnung_KAE!$E519,MD_GENDER,0),0),\"\")","v":""},{"v":0,"d":"0.00"},null,{"v":0,"d":"0.00"},{"$f":"IF(F519=\"Arbeitgeberähnliche Stellung\",OFFSET(MD!$Q$5,MATCH(Grundlagen_Abrechnung_KAE!$AK$7,MD_JAHR,0),0)*$H519,IF(J519>0,AC519,I519))","v":{"v":0,"d":"0.00"}},null,{"$f":"OFFSET(MD!$P$5,MATCH($AK$7,MD_JAHR,0),0)*12","v":{"$error":"#VALUE!"}},{"v":0,"d":"0.00"}]
[{"$nulls":14},{"$f":"IF($B520=\"\",\"\",IF(F520=\"Arbeitgeberähnliche Stellung\",OFFSET(MD!$Q$5,MATCH(Grundlagen_Abrechnung_KAE!$AK$7,MD_JAHR,0),0)*$H520,IF(((AD520/12*M520*12)+N520)>AF520,AF520/12,((AD520/12*M520*12)+N520)/12)))","v":""},null,null,{"v":0,"d":"0.00"},null,{"v":0,"d":"0.00%"},{"v":0,"d":"0.00"},{"v":0,"d":"0.00"},{"v":0,"d":"0.00"},null,"prüfen",{"$f":"IFERROR(OFFSET(MD!$U$5,MATCH(Grundlagen_Abrechnung_KAE!$E520,MD_GENDER,0),0),\"\")","v":""},{"v":0,"d":"0.00"},null,{"v":0,"d":"0.00"},{"$f":"IF(F520=\"Arbeitgeberähnliche Stellung\",OFFSET(MD!$Q$5,MATCH(Grundlagen_Abrechnung_KAE!$AK$7,MD_JAHR,0),0)*$H520,IF(J520>0,AC520,I520))","v":{"v":0,"d":"0.00"}},null,{"$f":"OFFSET(MD!$P$5,MATCH($AK$7,MD_JAHR,0),0)*12","v":{"$error":"#VALUE!"}},{"v":0,"d":"0.00"}]
[{"$nulls":14},{"$f":"IF($B521=\"\",\"\",IF(F521=\"Arbeitgeberähnliche Stellung\",OFFSET(MD!$Q$5,MATCH(Grundlagen_Abrechnung_KAE!$AK$7,MD_JAHR,0),0)*$H521,IF(((AD521/12*M521*12)+N521)>AF521,AF521/12,((AD521/12*M521*12)+N521)/12)))","v":""},null,null,{"v":0,"d":"0.00"},null,{"v":0,"d":"0.00%"},{"v":0,"d":"0.00"},{"v":0,"d":"0.00"},{"v":0,"d":"0.00"},null,"prüfen",{"$f":"IFERROR(OFFSET(MD!$U$5,MATCH(Grundlagen_Abrechnung_KAE!$E521,MD_GENDER,0),0),\"\")","v":""},{"v":0,"d":"0.00"},null,{"v":0,"d":"0.00"},{"$f":"IF(F521=\"Arbeitgeberähnliche Stellung\",OFFSET(MD!$Q$5,MATCH(Grundlagen_Abrechnung_KAE!$AK$7,MD_JAHR,0),0)*$H521,IF(J521>0,AC521,I521))","v":{"v":0,"d":"0.00"}},null,{"$f":"OFFSET(MD!$P$5,MATCH($AK$7,MD_JAHR,0),0)*12","v":{"$error":"#VALUE!"}},{"v":0,"d":"0.00"}]
[{"$nulls":14},{"$f":"IF($B522=\"\",\"\",IF(F522=\"Arbeitgeberähnliche Stellung\",OFFSET(MD!$Q$5,MATCH(Grundlagen_Abrechnung_KAE!$AK$7,MD_JAHR,0),0)*$H522,IF(((AD522/12*M522*12)+N522)>AF522,AF522/12,((AD522/12*M522*12)+N522)/12)))","v":""},null,null,{"v":0,"d":"0.00"},null,{"v":0,"d":"0.00%"},{"v":0,"d":"0.00"},{"v":0,"d":"0.00"},{"v":0,"d":"0.00"},null,"prüfen",{"$f":"IFERROR(OFFSET(MD!$U$5,MATCH(Grundlagen_Abrechnung_KAE!$E522,MD_GENDER,0),0),\"\")","v":""},{"v":0,"d":"0.00"},null,{"v":0,"d":"0.00"},{"$f":"IF(F522=\"Arbeitgeberähnliche Stellung\",OFFSET(MD!$Q$5,MATCH(Grundlagen_Abrechnung_KAE!$AK$7,MD_JAHR,0),0)*$H522,IF(J522>0,AC522,I522))","v":{"v":0,"d":"0.00"}},null,{"$f":"OFFSET(MD!$P$5,MATCH($AK$7,MD_JAHR,0),0)*12","v":{"$error":"#VALUE!"}},{"v":0,"d":"0.00"}]
[{"$nulls":14},{"$f":"IF($B523=\"\",\"\",IF(F523=\"Arbeitgeberähnliche Stellung\",OFFSET(MD!$Q$5,MATCH(Grundlagen_Abrechnung_KAE!$AK$7,MD_JAHR,0),0)*$H523,IF(((AD523/12*M523*12)+N523)>AF523,AF523/12,((AD523/12*M523*12)+N523)/12)))","v":""},null,null,{"v":0,"d":"0.00"},null,{"v":0,"d":"0.00%"},{"v":0,"d":"0.00"},{"v":0,"d":"0.00"},{"v":0,"d":"0.00"},null,"prüfen",{"$f":"IFERROR(OFFSET(MD!$U$5,MATCH(Grundlagen_Abrechnung_KAE!$E523,MD_GENDER,0),0),\"\")","v":""},{"v":0,"d":"0.00"},null,{"v":0,"d":"0.00"},{"$f":"IF(F523=\"Arbeitgeberähnliche Stellung\",OFFSET(MD!$Q$5,MATCH(Grundlagen_Abrechnung_KAE!$AK$7,MD_JAHR,0),0)*$H523,IF(J523>0,AC523,I523))","v":{"v":0,"d":"0.00"}},null,{"$f":"OFFSET(MD!$P$5,MATCH($AK$7,MD_JAHR,0),0)*12","v":{"$error":"#VALUE!"}},{"v":0,"d":"0.00"}]
[{"$nulls":14},{"$f":"IF($B524=\"\",\"\",IF(F524=\"Arbeitgeberähnliche Stellung\",OFFSET(MD!$Q$5,MATCH(Grundlagen_Abrechnung_KAE!$AK$7,MD_JAHR,0),0)*$H524,IF(((AD524/12*M524*12)+N524)>AF524,AF524/12,((AD524/12*M524*12)+N524)/12)))","v":""},null,null,{"v":0,"d":"0.00"},null,{"v":0,"d":"0.00%"},{"v":0,"d":"0.00"},{"v":0,"d":"0.00"},{"v":0,"d":"0.00"},null,"prüfen",{"$f":"IFERROR(OFFSET(MD!$U$5,MATCH(Grundlagen_Abrechnung_KAE!$E524,MD_GENDER,0),0),\"\")","v":""},{"v":0,"d":"0.00"},null,{"v":0,"d":"0.00"},{"$f":"IF(F524=\"Arbeitgeberähnliche Stellung\",OFFSET(MD!$Q$5,MATCH(Grundlagen_Abrechnung_KAE!$AK$7,MD_JAHR,0),0)*$H524,IF(J524>0,AC524,I524))","v":{"v":0,"d":"0.00"}},null,{"$f":"OFFSET(MD!$P$5,MATCH($AK$7,MD_JAHR,0),0)*12","v":{"$error":"#VALUE!"}},{"v":0,"d":"0.00"}]
[{"$nulls":14},{"$f":"IF($B525=\"\",\"\",IF(F525=\"Arbeitgeberähnliche Stellung\",OFFSET(MD!$Q$5,MATCH(Grundlagen_Abrechnung_KAE!$AK$7,MD_JAHR,0),0)*$H525,IF(((AD525/12*M525*12)+N525)>AF525,AF525/12,((AD525/12*M525*12)+N525)/12)))","v":""},null,null,{"v":0,"d":"0.00"},null,{"v":0,"d":"0.00%"},{"v":0,"d":"0.00"},{"v":0,"d":"0.00"},{"v":0,"d":"0.00"},null,"prüfen",{"$f":"IFERROR(OFFSET(MD!$U$5,MATCH(Grundlagen_Abrechnung_KAE!$E525,MD_GENDER,0),0),\"\")","v":""},{"v":0,"d":"0.00"},null,{"v":0,"d":"0.00"},{"$f":"IF(F525=\"Arbeitgeberähnliche Stellung\",OFFSET(MD!$Q$5,MATCH(Grundlagen_Abrechnung_KAE!$AK$7,MD_JAHR,0),0)*$H525,IF(J525>0,AC525,I525))","v":{"v":0,"d":"0.00"}},null,{"$f":"OFFSET(MD!$P$5,MATCH($AK$7,MD_JAHR,0),0)*12","v":{"$error":"#VALUE!"}},{"v":0,"d":"0.00"}]
[{"$nulls":14},{"$f":"IF($B526=\"\",\"\",IF(F526=\"Arbeitgeberähnliche Stellung\",OFFSET(MD!$Q$5,MATCH(Grundlagen_Abrechnung_KAE!$AK$7,MD_JAHR,0),0)*$H526,IF(((AD526/12*M526*12)+N526)>AF526,AF526/12,((AD526/12*M526*12)+N526)/12)))","v":""},null,null,{"v":0,"d":"0.00"},null,{"v":0,"d":"0.00%"},{"v":0,"d":"0.00"},{"v":0,"d":"0.00"},{"v":0,"d":"0.00"},null,"prüfen",{"$f":"IFERROR(OFFSET(MD!$U$5,MATCH(Grundlagen_Abrechnung_KAE!$E526,MD_GENDER,0),0),\"\")","v":""},{"v":0,"d":"0.00"},null,{"v":0,"d":"0.00"},{"$f":"IF(F526=\"Arbeitgeberähnliche Stellung\",OFFSET(MD!$Q$5,MATCH(Grundlagen_Abrechnung_KAE!$AK$7,MD_JAHR,0),0)*$H526,IF(J526>0,AC526,I526))","v":{"v":0,"d":"0.00"}},null,{"$f":"OFFSET(MD!$P$5,MATCH($AK$7,MD_JAHR,0),0)*12","v":{"$error":"#VALUE!"}},{"v":0,"d":"0.00"}]
[{"$nulls":14},{"$f":"IF($B527=\"\",\"\",IF(F527=\"Arbeitgeberähnliche Stellung\",OFFSET(MD!$Q$5,MATCH(Grundlagen_Abrechnung_KAE!$AK$7,MD_JAHR,0),0)*$H527,IF(((AD527/12*M527*12)+N527)>AF527,AF527/12,((AD527/12*M527*12)+N527)/12)))","v":""},null,null,{"v":0,"d":"0.00"},null,{"v":0,"d":"0.00%"},{"v":0,"d":"0.00"},{"v":0,"d":"0.00"},{"v":0,"d":"0.00"},null,"prüfen",{"$f":"IFERROR(OFFSET(MD!$U$5,MATCH(Grundlagen_Abrechnung_KAE!$E527,MD_GENDER,0),0),\"\")","v":""},{"v":0,"d":"0.00"},null,{"v":0,"d":"0.00"},{"$f":"IF(F527=\"Arbeitgeberähnliche Stellung\",OFFSET(MD!$Q$5,MATCH(Grundlagen_Abrechnung_KAE!$AK$7,MD_JAHR,0),0)*$H527,IF(J527>0,AC527,I527))","v":{"v":0,"d":"0.00"}},null,{"$f":"OFFSET(MD!$P$5,MATCH($AK$7,MD_JAHR,0),0)*12","v":{"$error":"#VALUE!"}},{"v":0,"d":"0.00"}]
[{"$nulls":14},{"$f":"IF($B528=\"\",\"\",IF(F528=\"Arbeitgeberähnliche Stellung\",OFFSET(MD!$Q$5,MATCH(Grundlagen_Abrechnung_KAE!$AK$7,MD_JAHR,0),0)*$H528,IF(((AD528/12*M528*12)+N528)>AF528,AF528/12,((AD528/12*M528*12)+N528)/12)))","v":""},null,null,{"v":0,"d":"0.00"},null,{"v":0,"d":"0.00%"},{"v":0,"d":"0.00"},{"v":0,"d":"0.00"},{"v":0,"d":"0.00"},null,"prüfen",{"$f":"IFERROR(OFFSET(MD!$U$5,MATCH(Grundlagen_Abrechnung_KAE!$E528,MD_GENDER,0),0),\"\")","v":""},{"v":0,"d":"0.00"},null,{"v":0,"d":"0.00"},{"$f":"IF(F528=\"Arbeitgeberähnliche Stellung\",OFFSET(MD!$Q$5,MATCH(Grundlagen_Abrechnung_KAE!$AK$7,MD_JAHR,0),0)*$H528,IF(J528>0,AC528,I528))","v":{"v":0,"d":"0.00"}},null,{"$f":"OFFSET(MD!$P$5,MATCH($AK$7,MD_JAHR,0),0)*12","v":{"$error":"#VALUE!"}},{"v":0,"d":"0.00"}]
[{"$nulls":14},{"$f":"IF($B529=\"\",\"\",IF(F529=\"Arbeitgeberähnliche Stellung\",OFFSET(MD!$Q$5,MATCH(Grundlagen_Abrechnung_KAE!$AK$7,MD_JAHR,0),0)*$H529,IF(((AD529/12*M529*12)+N529)>AF529,AF529/12,((AD529/12*M529*12)+N529)/12)))","v":""},null,null,{"v":0,"d":"0.00"},null,{"v":0,"d":"0.00%"},{"v":0,"d":"0.00"},{"v":0,"d":"0.00"},{"v":0,"d":"0.00"},null,"prüfen",{"$f":"IFERROR(OFFSET(MD!$U$5,MATCH(Grundlagen_Abrechnung_KAE!$E529,MD_GENDER,0),0),\"\")","v":""},{"v":0,"d":"0.00"},null,{"v":0,"d":"0.00"},{"$f":"IF(F529=\"Arbeitgeberähnliche Stellung\",OFFSET(MD!$Q$5,MATCH(Grundlagen_Abrechnung_KAE!$AK$7,MD_JAHR,0),0)*$H529,IF(J529>0,AC529,I529))","v":{"v":0,"d":"0.00"}},null,{"$f":"OFFSET(MD!$P$5,MATCH($AK$7,MD_JAHR,0),0)*12","v":{"$error":"#VALUE!"}},{"v":0,"d":"0.00"}]
[{"$nulls":14},{"$f":"IF($B530=\"\",\"\",IF(F530=\"Arbeitgeberähnliche Stellung\",OFFSET(MD!$Q$5,MATCH(Grundlagen_Abrechnung_KAE!$AK$7,MD_JAHR,0),0)*$H530,IF(((AD530/12*M530*12)+N530)>AF530,AF530/12,((AD530/12*M530*12)+N530)/12)))","v":""},null,null,{"v":0,"d":"0.00"},null,{"v":0,"d":"0.00%"},{"v":0,"d":"0.00"},{"v":0,"d":"0.00"},{"v":0,"d":"0.00"},null,"prüfen",{"$f":"IFERROR(OFFSET(MD!$U$5,MATCH(Grundlagen_Abrechnung_KAE!$E530,MD_GENDER,0),0),\"\")","v":""},{"v":0,"d":"0.00"},null,{"v":0,"d":"0.00"},{"$f":"IF(F530=\"Arbeitgeberähnliche Stellung\",OFFSET(MD!$Q$5,MATCH(Grundlagen_Abrechnung_KAE!$AK$7,MD_JAHR,0),0)*$H530,IF(J530>0,AC530,I530))","v":{"v":0,"d":"0.00"}},null,{"$f":"OFFSET(MD!$P$5,MATCH($AK$7,MD_JAHR,0),0)*12","v":{"$error":"#VALUE!"}},{"v":0,"d":"0.00"}]
[{"$nulls":14},{"$f":"IF($B531=\"\",\"\",IF(F531=\"Arbeitgeberähnliche Stellung\",OFFSET(MD!$Q$5,MATCH(Grundlagen_Abrechnung_KAE!$AK$7,MD_JAHR,0),0)*$H531,IF(((AD531/12*M531*12)+N531)>AF531,AF531/12,((AD531/12*M531*12)+N531)/12)))","v":""},null,null,{"$f":"ROUND(IF(Q531=\"\",0,IF(P531=0,0,IF(Q531>P531,0,P531-Q531))),2)","v":{"v":0,"d":"0.00"}},null,{"$f":"IFERROR(R531/P531,0)","v":{"v":0,"d":"0.00%"}},{"$f":"IFERROR(IF(O531-W531=0,O531,(O531)*(1-T531)),0)","v":{"v":0,"d":"0.00"}},{"v":0,"d":"0.00"},{"$f":"IFERROR(O531*T531,0)*0.8","v":{"v":0,"d":"0.00"}},null,{"$f":"IF(YEAR($G531)>$Y$16,\"prüfen\",\"\")","v":"prüfen"},{"$f":"IFERROR(OFFSET(MD!$U$5,MATCH(Grundlagen_Abrechnung_KAE!$E531,MD_GENDER,0),0),\"\")","v":""},{"$f":"IF(B531=\"\",0,IF(YEAR(G531)>$AA$16,0,1))","v":{"v":0,"d":"0.00"}},null,{"$f":"IF(J531*K531/6>J531*L531/12,J531*K531/6,J531*L531/12)","v":{"v":0,"d":"0.00"}},{"$f":"IF(F531=\"Arbeitgeberähnliche Stellung\",OFFSET(MD!$Q$5,MATCH(Grundlagen_Abrechnung_KAE!$AK$7,MD_JAHR,0),0)*$H531,IF(J531>0,AC531,I531))","v":{"v":0,"d":"0.00"}},null,{"$f":"OFFSET(MD!$P$5,MATCH($AK$7,MD_JAHR,0),0)*12","v":{"$error":"#VALUE!"}},{"$f":"I531*M531+N531","v":{"v":0,"d":"0.00"}}]
[{"$nulls":14},{"$f":"IF($B532=\"\",\"\",IF(F532=\"Arbeitgeberähnliche Stellung\",OFFSET(MD!$Q$5,MATCH(Grundlagen_Abrechnung_KAE!$AK$7,MD_JAHR,0),0)*$H532,IF(((AD532/12*M532*12)+N532)>AF532,AF532/12,((AD532/12*M532*12)+N532)/12)))","v":""},null,null,{"v":0,"d":"0.00"},null,{"v":0,"d":"0.00%"},{"v":0,"d":"0.00"},{"$f":"IFERROR(O532*T532,0)","v":{"v":0,"d":"0.00"}},{"v":0,"d":"0.00"},null,"prüfen",{"$f":"IFERROR(OFFSET(MD!$U$5,MATCH(Grundlagen_Abrechnung_KAE!$E532,MD_GENDER,0),0),\"\")","v":""},{"v":0,"d":"0.00"},null,{"v":0,"d":"0.00"},{"$f":"IF(F532=\"Arbeitgeberähnliche Stellung\",OFFSET(MD!$Q$5,MATCH(Grundlagen_Abrechnung_KAE!$AK$7,MD_JAHR,0),0)*$H532,IF(J532>0,AC532,I532))","v":{"v":0,"d":"0.00"}},null,{"$f":"OFFSET(MD!$P$5,MATCH($AK$7,MD_JAHR,0),0)*12","v":{"$error":"#VALUE!"}},{"v":0,"d":"0.00"}]
[{"$nulls":14},{"$f":"IF($B533=\"\",\"\",IF(F533=\"Arbeitgeberähnliche Stellung\",OFFSET(MD!$Q$5,MATCH(Grundlagen_Abrechnung_KAE!$AK$7,MD_JAHR,0),0)*$H533,IF(((AD533/12*M533*12)+N533)>AF533,AF533/12,((AD533/12*M533*12)+N533)/12)))","v":""},null,null,{"v":0,"d":"0.00"},null,{"v":0,"d":"0.00%"},{"v":0,"d":"0.00"},{"v":0,"d":"0.00"},{"v":0,"d":"0.00"},null,"prüfen",{"$f":"IFERROR(OFFSET(MD!$U$5,MATCH(Grundlagen_Abrechnung_KAE!$E533,MD_GENDER,0),0),\"\")","v":""},{"v":0,"d":"0.00"},null,{"v":0,"d":"0.00"},{"$f":"IF(F533=\"Arbeitgeberähnliche Stellung\",OFFSET(MD!$Q$5,MATCH(Grundlagen_Abrechnung_KAE!$AK$7,MD_JAHR,0),0)*$H533,IF(J533>0,AC533,I533))","v":{"v":0,"d":"0.00"}},null,{"$f":"OFFSET(MD!$P$5,MATCH($AK$7,MD_JAHR,0),0)*12","v":{"$error":"#VALUE!"}},{"v":0,"d":"0.00"}]
[{"$nulls":14},{"$f":"IF($B534=\"\",\"\",IF(F534=\"Arbeitgeberähnliche Stellung\",OFFSET(MD!$Q$5,MATCH(Grundlagen_Abrechnung_KAE!$AK$7,MD_JAHR,0),0)*$H534,IF(((AD534/12*M534*12)+N534)>AF534,AF534/12,((AD534/12*M534*12)+N534)/12)))","v":""},null,null,{"v":0,"d":"0.00"},null,{"v":0,"d":"0.00%"},{"v":0,"d":"0.00"},{"v":0,"d":"0.00"},{"v":0,"d":"0.00"},null,"prüfen",{"$f":"IFERROR(OFFSET(MD!$U$5,MATCH(Grundlagen_Abrechnung_KAE!$E534,MD_GENDER,0),0),\"\")","v":""},{"v":0,"d":"0.00"},null,{"v":0,"d":"0.00"},{"$f":"IF(F534=\"Arbeitgeberähnliche Stellung\",OFFSET(MD!$Q$5,MATCH(Grundlagen_Abrechnung_KAE!$AK$7,MD_JAHR,0),0)*$H534,IF(J534>0,AC534,I534))","v":{"v":0,"d":"0.00"}},null,{"$f":"OFFSET(MD!$P$5,MATCH($AK$7,MD_JAHR,0),0)*12","v":{"$error":"#VALUE!"}},{"v":0,"d":"0.00"}]
[{"$nulls":14},{"$f":"IF($B535=\"\",\"\",IF(F535=\"Arbeitgeberähnliche Stellung\",OFFSET(MD!$Q$5,MATCH(Grundlagen_Abrechnung_KAE!$AK$7,MD_JAHR,0),0)*$H535,IF(((AD535/12*M535*12)+N535)>AF535,AF535/12,((AD535/12*M535*12)+N535)/12)))","v":""},null,null,{"v":0,"d":"0.00"},null,{"v":0,"d":"0.00%"},{"v":0,"d":"0.00"},{"v":0,"d":"0.00"},{"v":0,"d":"0.00"},null,"prüfen",{"$f":"IFERROR(OFFSET(MD!$U$5,MATCH(Grundlagen_Abrechnung_KAE!$E535,MD_GENDER,0),0),\"\")","v":""},{"v":0,"d":"0.00"},null,{"v":0,"d":"0.00"},{"$f":"IF(F535=\"Arbeitgeberähnliche Stellung\",OFFSET(MD!$Q$5,MATCH(Grundlagen_Abrechnung_KAE!$AK$7,MD_JAHR,0),0)*$H535,IF(J535>0,AC535,I535))","v":{"v":0,"d":"0.00"}},null,{"$f":"OFFSET(MD!$P$5,MATCH($AK$7,MD_JAHR,0),0)*12","v":{"$error":"#VALUE!"}},{"v":0,"d":"0.00"}]
[{"$nulls":14},{"$f":"IF($B536=\"\",\"\",IF(F536=\"Arbeitgeberähnliche Stellung\",OFFSET(MD!$Q$5,MATCH(Grundlagen_Abrechnung_KAE!$AK$7,MD_JAHR,0),0)*$H536,IF(((AD536/12*M536*12)+N536)>AF536,AF536/12,((AD536/12*M536*12)+N536)/12)))","v":""},null,null,{"v":0,"d":"0.00"},null,{"v":0,"d":"0.00%"},{"v":0,"d":"0.00"},{"v":0,"d":"0.00"},{"v":0,"d":"0.00"},null,"prüfen",{"$f":"IFERROR(OFFSET(MD!$U$5,MATCH(Grundlagen_Abrechnung_KAE!$E536,MD_GENDER,0),0),\"\")","v":""},{"v":0,"d":"0.00"},null,{"v":0,"d":"0.00"},{"$f":"IF(F536=\"Arbeitgeberähnliche Stellung\",OFFSET(MD!$Q$5,MATCH(Grundlagen_Abrechnung_KAE!$AK$7,MD_JAHR,0),0)*$H536,IF(J536>0,AC536,I536))","v":{"v":0,"d":"0.00"}},null,{"$f":"OFFSET(MD!$P$5,MATCH($AK$7,MD_JAHR,0),0)*12","v":{"$error":"#VALUE!"}},{"v":0,"d":"0.00"}]
[{"$nulls":14},{"$f":"IF($B537=\"\",\"\",IF(F537=\"Arbeitgeberähnliche Stellung\",OFFSET(MD!$Q$5,MATCH(Grundlagen_Abrechnung_KAE!$AK$7,MD_JAHR,0),0)*$H537,IF(((AD537/12*M537*12)+N537)>AF537,AF537/12,((AD537/12*M537*12)+N537)/12)))","v":""},null,null,{"v":0,"d":"0.00"},null,{"v":0,"d":"0.00%"},{"v":0,"d":"0.00"},{"v":0,"d":"0.00"},{"v":0,"d":"0.00"},null,"prüfen",{"$f":"IFERROR(OFFSET(MD!$U$5,MATCH(Grundlagen_Abrechnung_KAE!$E537,MD_GENDER,0),0),\"\")","v":""},{"v":0,"d":"0.00"},null,{"v":0,"d":"0.00"},{"$f":"IF(F537=\"Arbeitgeberähnliche Stellung\",OFFSET(MD!$Q$5,MATCH(Grundlagen_Abrechnung_KAE!$AK$7,MD_JAHR,0),0)*$H537,IF(J537>0,AC537,I537))","v":{"v":0,"d":"0.00"}},null,{"$f":"OFFSET(MD!$P$5,MATCH($AK$7,MD_JAHR,0),0)*12","v":{"$error":"#VALUE!"}},{"v":0,"d":"0.00"}]
[{"$nulls":14},{"$f":"IF($B538=\"\",\"\",IF(F538=\"Arbeitgeberähnliche Stellung\",OFFSET(MD!$Q$5,MATCH(Grundlagen_Abrechnung_KAE!$AK$7,MD_JAHR,0),0)*$H538,IF(((AD538/12*M538*12)+N538)>AF538,AF538/12,((AD538/12*M538*12)+N538)/12)))","v":""},null,null,{"v":0,"d":"0.00"},null,{"v":0,"d":"0.00%"},{"v":0,"d":"0.00"},{"v":0,"d":"0.00"},{"v":0,"d":"0.00"},null,"prüfen",{"$f":"IFERROR(OFFSET(MD!$U$5,MATCH(Grundlagen_Abrechnung_KAE!$E538,MD_GENDER,0),0),\"\")","v":""},{"v":0,"d":"0.00"},null,{"v":0,"d":"0.00"},{"$f":"IF(F538=\"Arbeitgeberähnliche Stellung\",OFFSET(MD!$Q$5,MATCH(Grundlagen_Abrechnung_KAE!$AK$7,MD_JAHR,0),0)*$H538,IF(J538>0,AC538,I538))","v":{"v":0,"d":"0.00"}},null,{"$f":"OFFSET(MD!$P$5,MATCH($AK$7,MD_JAHR,0),0)*12","v":{"$error":"#VALUE!"}},{"v":0,"d":"0.00"}]
[{"$nulls":14},{"$f":"IF($B539=\"\",\"\",IF(F539=\"Arbeitgeberähnliche Stellung\",OFFSET(MD!$Q$5,MATCH(Grundlagen_Abrechnung_KAE!$AK$7,MD_JAHR,0),0)*$H539,IF(((AD539/12*M539*12)+N539)>AF539,AF539/12,((AD539/12*M539*12)+N539)/12)))","v":""},null,null,{"v":0,"d":"0.00"},null,{"v":0,"d":"0.00%"},{"v":0,"d":"0.00"},{"v":0,"d":"0.00"},{"v":0,"d":"0.00"},null,"prüfen",{"$f":"IFERROR(OFFSET(MD!$U$5,MATCH(Grundlagen_Abrechnung_KAE!$E539,MD_GENDER,0),0),\"\")","v":""},{"v":0,"d":"0.00"},null,{"v":0,"d":"0.00"},{"$f":"IF(F539=\"Arbeitgeberähnliche Stellung\",OFFSET(MD!$Q$5,MATCH(Grundlagen_Abrechnung_KAE!$AK$7,MD_JAHR,0),0)*$H539,IF(J539>0,AC539,I539))","v":{"v":0,"d":"0.00"}},null,{"$f":"OFFSET(MD!$P$5,MATCH($AK$7,MD_JAHR,0),0)*12","v":{"$error":"#VALUE!"}},{"v":0,"d":"0.00"}]
[{"$nulls":14},{"$f":"IF($B540=\"\",\"\",IF(F540=\"Arbeitgeberähnliche Stellung\",OFFSET(MD!$Q$5,MATCH(Grundlagen_Abrechnung_KAE!$AK$7,MD_JAHR,0),0)*$H540,IF(((AD540/12*M540*12)+N540)>AF540,AF540/12,((AD540/12*M540*12)+N540)/12)))","v":""},null,null,{"v":0,"d":"0.00"},null,{"v":0,"d":"0.00%"},{"v":0,"d":"0.00"},{"v":0,"d":"0.00"},{"v":0,"d":"0.00"},null,"prüfen",{"$f":"IFERROR(OFFSET(MD!$U$5,MATCH(Grundlagen_Abrechnung_KAE!$E540,MD_GENDER,0),0),\"\")","v":""},{"v":0,"d":"0.00"},null,{"v":0,"d":"0.00"},{"$f":"IF(F540=\"Arbeitgeberähnliche Stellung\",OFFSET(MD!$Q$5,MATCH(Grundlagen_Abrechnung_KAE!$AK$7,MD_JAHR,0),0)*$H540,IF(J540>0,AC540,I540))","v":{"v":0,"d":"0.00"}},null,{"$f":"OFFSET(MD!$P$5,MATCH($AK$7,MD_JAHR,0),0)*12","v":{"$error":"#VALUE!"}},{"v":0,"d":"0.00"}]
[{"$nulls":14},{"$f":"IF($B541=\"\",\"\",IF(F541=\"Arbeitgeberähnliche Stellung\",OFFSET(MD!$Q$5,MATCH(Grundlagen_Abrechnung_KAE!$AK$7,MD_JAHR,0),0)*$H541,IF(((AD541/12*M541*12)+N541)>AF541,AF541/12,((AD541/12*M541*12)+N541)/12)))","v":""},null,null,{"v":0,"d":"0.00"},null,{"v":0,"d":"0.00%"},{"v":0,"d":"0.00"},{"v":0,"d":"0.00"},{"v":0,"d":"0.00"},null,"prüfen",{"$f":"IFERROR(OFFSET(MD!$U$5,MATCH(Grundlagen_Abrechnung_KAE!$E541,MD_GENDER,0),0),\"\")","v":""},{"v":0,"d":"0.00"},null,{"v":0,"d":"0.00"},{"$f":"IF(F541=\"Arbeitgeberähnliche Stellung\",OFFSET(MD!$Q$5,MATCH(Grundlagen_Abrechnung_KAE!$AK$7,MD_JAHR,0),0)*$H541,IF(J541>0,AC541,I541))","v":{"v":0,"d":"0.00"}},null,{"$f":"OFFSET(MD!$P$5,MATCH($AK$7,MD_JAHR,0),0)*12","v":{"$error":"#VALUE!"}},{"v":0,"d":"0.00"}]
[{"$nulls":14},{"$f":"IF($B542=\"\",\"\",IF(F542=\"Arbeitgeberähnliche Stellung\",OFFSET(MD!$Q$5,MATCH(Grundlagen_Abrechnung_KAE!$AK$7,MD_JAHR,0),0)*$H542,IF(((AD542/12*M542*12)+N542)>AF542,AF542/12,((AD542/12*M542*12)+N542)/12)))","v":""},null,null,{"v":0,"d":"0.00"},null,{"v":0,"d":"0.00%"},{"v":0,"d":"0.00"},{"v":0,"d":"0.00"},{"v":0,"d":"0.00"},null,"prüfen",{"$f":"IFERROR(OFFSET(MD!$U$5,MATCH(Grundlagen_Abrechnung_KAE!$E542,MD_GENDER,0),0),\"\")","v":""},{"v":0,"d":"0.00"},null,{"v":0,"d":"0.00"},{"$f":"IF(F542=\"Arbeitgeberähnliche Stellung\",OFFSET(MD!$Q$5,MATCH(Grundlagen_Abrechnung_KAE!$AK$7,MD_JAHR,0),0)*$H542,IF(J542>0,AC542,I542))","v":{"v":0,"d":"0.00"}},null,{"$f":"OFFSET(MD!$P$5,MATCH($AK$7,MD_JAHR,0),0)*12","v":{"$error":"#VALUE!"}},{"v":0,"d":"0.00"}]
[{"$nulls":14},{"$f":"IF($B543=\"\",\"\",IF(F543=\"Arbeitgeberähnliche Stellung\",OFFSET(MD!$Q$5,MATCH(Grundlagen_Abrechnung_KAE!$AK$7,MD_JAHR,0),0)*$H543,IF(((AD543/12*M543*12)+N543)>AF543,AF543/12,((AD543/12*M543*12)+N543)/12)))","v":""},null,null,{"v":0,"d":"0.00"},null,{"v":0,"d":"0.00%"},{"v":0,"d":"0.00"},{"v":0,"d":"0.00"},{"v":0,"d":"0.00"},null,"prüfen",{"$f":"IFERROR(OFFSET(MD!$U$5,MATCH(Grundlagen_Abrechnung_KAE!$E543,MD_GENDER,0),0),\"\")","v":""},{"v":0,"d":"0.00"},null,{"v":0,"d":"0.00"},{"$f":"IF(F543=\"Arbeitgeberähnliche Stellung\",OFFSET(MD!$Q$5,MATCH(Grundlagen_Abrechnung_KAE!$AK$7,MD_JAHR,0),0)*$H543,IF(J543>0,AC543,I543))","v":{"v":0,"d":"0.00"}},null,{"$f":"OFFSET(MD!$P$5,MATCH($AK$7,MD_JAHR,0),0)*12","v":{"$error":"#VALUE!"}},{"v":0,"d":"0.00"}]
[{"$nulls":14},{"$f":"IF($B544=\"\",\"\",IF(F544=\"Arbeitgeberähnliche Stellung\",OFFSET(MD!$Q$5,MATCH(Grundlagen_Abrechnung_KAE!$AK$7,MD_JAHR,0),0)*$H544,IF(((AD544/12*M544*12)+N544)>AF544,AF544/12,((AD544/12*M544*12)+N544)/12)))","v":""},null,null,{"v":0,"d":"0.00"},null,{"v":0,"d":"0.00%"},{"v":0,"d":"0.00"},{"v":0,"d":"0.00"},{"v":0,"d":"0.00"},null,"prüfen",{"$f":"IFERROR(OFFSET(MD!$U$5,MATCH(Grundlagen_Abrechnung_KAE!$E544,MD_GENDER,0),0),\"\")","v":""},{"v":0,"d":"0.00"},null,{"v":0,"d":"0.00"},{"$f":"IF(F544=\"Arbeitgeberähnliche Stellung\",OFFSET(MD!$Q$5,MATCH(Grundlagen_Abrechnung_KAE!$AK$7,MD_JAHR,0),0)*$H544,IF(J544>0,AC544,I544))","v":{"v":0,"d":"0.00"}},null,{"$f":"OFFSET(MD!$P$5,MATCH($AK$7,MD_JAHR,0),0)*12","v":{"$error":"#VALUE!"}},{"v":0,"d":"0.00"}]
[{"$nulls":14},{"$f":"IF($B545=\"\",\"\",IF(F545=\"Arbeitgeberähnliche Stellung\",OFFSET(MD!$Q$5,MATCH(Grundlagen_Abrechnung_KAE!$AK$7,MD_JAHR,0),0)*$H545,IF(((AD545/12*M545*12)+N545)>AF545,AF545/12,((AD545/12*M545*12)+N545)/12)))","v":""},null,null,{"v":0,"d":"0.00"},null,{"v":0,"d":"0.00%"},{"v":0,"d":"0.00"},{"v":0,"d":"0.00"},{"v":0,"d":"0.00"},null,"prüfen",{"$f":"IFERROR(OFFSET(MD!$U$5,MATCH(Grundlagen_Abrechnung_KAE!$E545,MD_GENDER,0),0),\"\")","v":""},{"v":0,"d":"0.00"},null,{"v":0,"d":"0.00"},{"$f":"IF(F545=\"Arbeitgeberähnliche Stellung\",OFFSET(MD!$Q$5,MATCH(Grundlagen_Abrechnung_KAE!$AK$7,MD_JAHR,0),0)*$H545,IF(J545>0,AC545,I545))","v":{"v":0,"d":"0.00"}},null,{"$f":"OFFSET(MD!$P$5,MATCH($AK$7,MD_JAHR,0),0)*12","v":{"$error":"#VALUE!"}},{"v":0,"d":"0.00"}]
[{"$nulls":14},{"$f":"IF($B546=\"\",\"\",IF(F546=\"Arbeitgeberähnliche Stellung\",OFFSET(MD!$Q$5,MATCH(Grundlagen_Abrechnung_KAE!$AK$7,MD_JAHR,0),0)*$H546,IF(((AD546/12*M546*12)+N546)>AF546,AF546/12,((AD546/12*M546*12)+N546)/12)))","v":""},null,null,{"v":0,"d":"0.00"},null,{"v":0,"d":"0.00%"},{"v":0,"d":"0.00"},{"v":0,"d":"0.00"},{"v":0,"d":"0.00"},null,"prüfen",{"$f":"IFERROR(OFFSET(MD!$U$5,MATCH(Grundlagen_Abrechnung_KAE!$E546,MD_GENDER,0),0),\"\")","v":""},{"v":0,"d":"0.00"},null,{"v":0,"d":"0.00"},{"$f":"IF(F546=\"Arbeitgeberähnliche Stellung\",OFFSET(MD!$Q$5,MATCH(Grundlagen_Abrechnung_KAE!$AK$7,MD_JAHR,0),0)*$H546,IF(J546>0,AC546,I546))","v":{"v":0,"d":"0.00"}},null,{"$f":"OFFSET(MD!$P$5,MATCH($AK$7,MD_JAHR,0),0)*12","v":{"$error":"#VALUE!"}},{"v":0,"d":"0.00"}]
[{"$nulls":14},{"$f":"IF($B547=\"\",\"\",IF(F547=\"Arbeitgeberähnliche Stellung\",OFFSET(MD!$Q$5,MATCH(Grundlagen_Abrechnung_KAE!$AK$7,MD_JAHR,0),0)*$H547,IF(((AD547/12*M547*12)+N547)>AF547,AF547/12,((AD547/12*M547*12)+N547)/12)))","v":""},null,null,{"v":0,"d":"0.00"},null,{"v":0,"d":"0.00%"},{"v":0,"d":"0.00"},{"v":0,"d":"0.00"},{"v":0,"d":"0.00"},null,"prüfen",{"$f":"IFERROR(OFFSET(MD!$U$5,MATCH(Grundlagen_Abrechnung_KAE!$E547,MD_GENDER,0),0),\"\")","v":""},{"v":0,"d":"0.00"},null,{"v":0,"d":"0.00"},{"$f":"IF(F547=\"Arbeitgeberähnliche Stellung\",OFFSET(MD!$Q$5,MATCH(Grundlagen_Abrechnung_KAE!$AK$7,MD_JAHR,0),0)*$H547,IF(J547>0,AC547,I547))","v":{"v":0,"d":"0.00"}},null,{"$f":"OFFSET(MD!$P$5,MATCH($AK$7,MD_JAHR,0),0)*12","v":{"$error":"#VALUE!"}},{"v":0,"d":"0.00"}]
[{"$nulls":14},{"$f":"IF($B548=\"\",\"\",IF(F548=\"Arbeitgeberähnliche Stellung\",OFFSET(MD!$Q$5,MATCH(Grundlagen_Abrechnung_KAE!$AK$7,MD_JAHR,0),0)*$H548,IF(((AD548/12*M548*12)+N548)>AF548,AF548/12,((AD548/12*M548*12)+N548)/12)))","v":""},null,null,{"v":0,"d":"0.00"},null,{"v":0,"d":"0.00%"},{"v":0,"d":"0.00"},{"v":0,"d":"0.00"},{"v":0,"d":"0.00"},null,"prüfen",{"$f":"IFERROR(OFFSET(MD!$U$5,MATCH(Grundlagen_Abrechnung_KAE!$E548,MD_GENDER,0),0),\"\")","v":""},{"v":0,"d":"0.00"},null,{"v":0,"d":"0.00"},{"$f":"IF(F548=\"Arbeitgeberähnliche Stellung\",OFFSET(MD!$Q$5,MATCH(Grundlagen_Abrechnung_KAE!$AK$7,MD_JAHR,0),0)*$H548,IF(J548>0,AC548,I548))","v":{"v":0,"d":"0.00"}},null,{"$f":"OFFSET(MD!$P$5,MATCH($AK$7,MD_JAHR,0),0)*12","v":{"$error":"#VALUE!"}},{"v":0,"d":"0.00"}]
[{"$nulls":14},{"$f":"IF($B549=\"\",\"\",IF(F549=\"Arbeitgeberähnliche Stellung\",OFFSET(MD!$Q$5,MATCH(Grundlagen_Abrechnung_KAE!$AK$7,MD_JAHR,0),0)*$H549,IF(((AD549/12*M549*12)+N549)>AF549,AF549/12,((AD549/12*M549*12)+N549)/12)))","v":""},null,null,{"v":0,"d":"0.00"},null,{"v":0,"d":"0.00%"},{"v":0,"d":"0.00"},{"v":0,"d":"0.00"},{"v":0,"d":"0.00"},null,"prüfen",{"$f":"IFERROR(OFFSET(MD!$U$5,MATCH(Grundlagen_Abrechnung_KAE!$E549,MD_GENDER,0),0),\"\")","v":""},{"v":0,"d":"0.00"},null,{"v":0,"d":"0.00"},{"$f":"IF(F549=\"Arbeitgeberähnliche Stellung\",OFFSET(MD!$Q$5,MATCH(Grundlagen_Abrechnung_KAE!$AK$7,MD_JAHR,0),0)*$H549,IF(J549>0,AC549,I549))","v":{"v":0,"d":"0.00"}},null,{"$f":"OFFSET(MD!$P$5,MATCH($AK$7,MD_JAHR,0),0)*12","v":{"$error":"#VALUE!"}},{"v":0,"d":"0.00"}]
[{"$nulls":14},{"$f":"IF($B550=\"\",\"\",IF(F550=\"Arbeitgeberähnliche Stellung\",OFFSET(MD!$Q$5,MATCH(Grundlagen_Abrechnung_KAE!$AK$7,MD_JAHR,0),0)*$H550,IF(((AD550/12*M550*12)+N550)>AF550,AF550/12,((AD550/12*M550*12)+N550)/12)))","v":""},null,null,{"v":0,"d":"0.00"},null,{"v":0,"d":"0.00%"},{"v":0,"d":"0.00"},{"v":0,"d":"0.00"},{"v":0,"d":"0.00"},null,"prüfen",{"$f":"IFERROR(OFFSET(MD!$U$5,MATCH(Grundlagen_Abrechnung_KAE!$E550,MD_GENDER,0),0),\"\")","v":""},{"v":0,"d":"0.00"},null,{"v":0,"d":"0.00"},{"$f":"IF(F550=\"Arbeitgeberähnliche Stellung\",OFFSET(MD!$Q$5,MATCH(Grundlagen_Abrechnung_KAE!$AK$7,MD_JAHR,0),0)*$H550,IF(J550>0,AC550,I550))","v":{"v":0,"d":"0.00"}},null,{"$f":"OFFSET(MD!$P$5,MATCH($AK$7,MD_JAHR,0),0)*12","v":{"$error":"#VALUE!"}},{"v":0,"d":"0.00"}]
[{"$nulls":14},{"$f":"IF($B551=\"\",\"\",IF(F551=\"Arbeitgeberähnliche Stellung\",OFFSET(MD!$Q$5,MATCH(Grundlagen_Abrechnung_KAE!$AK$7,MD_JAHR,0),0)*$H551,IF(((AD551/12*M551*12)+N551)>AF551,AF551/12,((AD551/12*M551*12)+N551)/12)))","v":""},null,null,{"v":0,"d":"0.00"},null,{"v":0,"d":"0.00%"},{"v":0,"d":"0.00"},{"v":0,"d":"0.00"},{"v":0,"d":"0.00"},null,"prüfen",{"$f":"IFERROR(OFFSET(MD!$U$5,MATCH(Grundlagen_Abrechnung_KAE!$E551,MD_GENDER,0),0),\"\")","v":""},{"v":0,"d":"0.00"},null,{"v":0,"d":"0.00"},{"$f":"IF(F551=\"Arbeitgeberähnliche Stellung\",OFFSET(MD!$Q$5,MATCH(Grundlagen_Abrechnung_KAE!$AK$7,MD_JAHR,0),0)*$H551,IF(J551>0,AC551,I551))","v":{"v":0,"d":"0.00"}},null,{"$f":"OFFSET(MD!$P$5,MATCH($AK$7,MD_JAHR,0),0)*12","v":{"$error":"#VALUE!"}},{"v":0,"d":"0.00"}]
[{"$nulls":14},{"$f":"IF($B552=\"\",\"\",IF(F552=\"Arbeitgeberähnliche Stellung\",OFFSET(MD!$Q$5,MATCH(Grundlagen_Abrechnung_KAE!$AK$7,MD_JAHR,0),0)*$H552,IF(((AD552/12*M552*12)+N552)>AF552,AF552/12,((AD552/12*M552*12)+N552)/12)))","v":""},null,null,{"v":0,"d":"0.00"},null,{"v":0,"d":"0.00%"},{"v":0,"d":"0.00"},{"v":0,"d":"0.00"},{"v":0,"d":"0.00"},null,"prüfen",{"$f":"IFERROR(OFFSET(MD!$U$5,MATCH(Grundlagen_Abrechnung_KAE!$E552,MD_GENDER,0),0),\"\")","v":""},{"v":0,"d":"0.00"},null,{"v":0,"d":"0.00"},{"$f":"IF(F552=\"Arbeitgeberähnliche Stellung\",OFFSET(MD!$Q$5,MATCH(Grundlagen_Abrechnung_KAE!$AK$7,MD_JAHR,0),0)*$H552,IF(J552>0,AC552,I552))","v":{"v":0,"d":"0.00"}},null,{"$f":"OFFSET(MD!$P$5,MATCH($AK$7,MD_JAHR,0),0)*12","v":{"$error":"#VALUE!"}},{"v":0,"d":"0.00"}]
[{"$nulls":14},{"$f":"IF($B553=\"\",\"\",IF(F553=\"Arbeitgeberähnliche Stellung\",OFFSET(MD!$Q$5,MATCH(Grundlagen_Abrechnung_KAE!$AK$7,MD_JAHR,0),0)*$H553,IF(((AD553/12*M553*12)+N553)>AF553,AF553/12,((AD553/12*M553*12)+N553)/12)))","v":""},null,null,{"v":0,"d":"0.00"},null,{"v":0,"d":"0.00%"},{"v":0,"d":"0.00"},{"v":0,"d":"0.00"},{"v":0,"d":"0.00"},null,"prüfen",{"$f":"IFERROR(OFFSET(MD!$U$5,MATCH(Grundlagen_Abrechnung_KAE!$E553,MD_GENDER,0),0),\"\")","v":""},{"v":0,"d":"0.00"},null,{"v":0,"d":"0.00"},{"$f":"IF(F553=\"Arbeitgeberähnliche Stellung\",OFFSET(MD!$Q$5,MATCH(Grundlagen_Abrechnung_KAE!$AK$7,MD_JAHR,0),0)*$H553,IF(J553>0,AC553,I553))","v":{"v":0,"d":"0.00"}},null,{"$f":"OFFSET(MD!$P$5,MATCH($AK$7,MD_JAHR,0),0)*12","v":{"$error":"#VALUE!"}},{"v":0,"d":"0.00"}]
[{"$nulls":14},{"$f":"IF($B554=\"\",\"\",IF(F554=\"Arbeitgeberähnliche Stellung\",OFFSET(MD!$Q$5,MATCH(Grundlagen_Abrechnung_KAE!$AK$7,MD_JAHR,0),0)*$H554,IF(((AD554/12*M554*12)+N554)>AF554,AF554/12,((AD554/12*M554*12)+N554)/12)))","v":""},null,null,{"v":0,"d":"0.00"},null,{"v":0,"d":"0.00%"},{"v":0,"d":"0.00"},{"v":0,"d":"0.00"},{"v":0,"d":"0.00"},null,"prüfen",{"$f":"IFERROR(OFFSET(MD!$U$5,MATCH(Grundlagen_Abrechnung_KAE!$E554,MD_GENDER,0),0),\"\")","v":""},{"v":0,"d":"0.00"},null,{"v":0,"d":"0.00"},{"$f":"IF(F554=\"Arbeitgeberähnliche Stellung\",OFFSET(MD!$Q$5,MATCH(Grundlagen_Abrechnung_KAE!$AK$7,MD_JAHR,0),0)*$H554,IF(J554>0,AC554,I554))","v":{"v":0,"d":"0.00"}},null,{"$f":"OFFSET(MD!$P$5,MATCH($AK$7,MD_JAHR,0),0)*12","v":{"$error":"#VALUE!"}},{"v":0,"d":"0.00"}]
[{"$nulls":14},{"$f":"IF($B555=\"\",\"\",IF(F555=\"Arbeitgeberähnliche Stellung\",OFFSET(MD!$Q$5,MATCH(Grundlagen_Abrechnung_KAE!$AK$7,MD_JAHR,0),0)*$H555,IF(((AD555/12*M555*12)+N555)>AF555,AF555/12,((AD555/12*M555*12)+N555)/12)))","v":""},null,null,{"v":0,"d":"0.00"},null,{"v":0,"d":"0.00%"},{"v":0,"d":"0.00"},{"v":0,"d":"0.00"},{"v":0,"d":"0.00"},null,"prüfen",{"$f":"IFERROR(OFFSET(MD!$U$5,MATCH(Grundlagen_Abrechnung_KAE!$E555,MD_GENDER,0),0),\"\")","v":""},{"v":0,"d":"0.00"},null,{"v":0,"d":"0.00"},{"$f":"IF(F555=\"Arbeitgeberähnliche Stellung\",OFFSET(MD!$Q$5,MATCH(Grundlagen_Abrechnung_KAE!$AK$7,MD_JAHR,0),0)*$H555,IF(J555>0,AC555,I555))","v":{"v":0,"d":"0.00"}},null,{"$f":"OFFSET(MD!$P$5,MATCH($AK$7,MD_JAHR,0),0)*12","v":{"$error":"#VALUE!"}},{"v":0,"d":"0.00"}]
[{"$nulls":14},{"$f":"IF($B556=\"\",\"\",IF(F556=\"Arbeitgeberähnliche Stellung\",OFFSET(MD!$Q$5,MATCH(Grundlagen_Abrechnung_KAE!$AK$7,MD_JAHR,0),0)*$H556,IF(((AD556/12*M556*12)+N556)>AF556,AF556/12,((AD556/12*M556*12)+N556)/12)))","v":""},null,null,{"v":0,"d":"0.00"},null,{"v":0,"d":"0.00%"},{"v":0,"d":"0.00"},{"v":0,"d":"0.00"},{"v":0,"d":"0.00"},null,"prüfen",{"$f":"IFERROR(OFFSET(MD!$U$5,MATCH(Grundlagen_Abrechnung_KAE!$E556,MD_GENDER,0),0),\"\")","v":""},{"v":0,"d":"0.00"},null,{"v":0,"d":"0.00"},{"$f":"IF(F556=\"Arbeitgeberähnliche Stellung\",OFFSET(MD!$Q$5,MATCH(Grundlagen_Abrechnung_KAE!$AK$7,MD_JAHR,0),0)*$H556,IF(J556>0,AC556,I556))","v":{"v":0,"d":"0.00"}},null,{"$f":"OFFSET(MD!$P$5,MATCH($AK$7,MD_JAHR,0),0)*12","v":{"$error":"#VALUE!"}},{"v":0,"d":"0.00"}]
[{"$nulls":14},{"$f":"IF($B557=\"\",\"\",IF(F557=\"Arbeitgeberähnliche Stellung\",OFFSET(MD!$Q$5,MATCH(Grundlagen_Abrechnung_KAE!$AK$7,MD_JAHR,0),0)*$H557,IF(((AD557/12*M557*12)+N557)>AF557,AF557/12,((AD557/12*M557*12)+N557)/12)))","v":""},null,null,{"v":0,"d":"0.00"},null,{"v":0,"d":"0.00%"},{"v":0,"d":"0.00"},{"v":0,"d":"0.00"},{"v":0,"d":"0.00"},null,"prüfen",{"$f":"IFERROR(OFFSET(MD!$U$5,MATCH(Grundlagen_Abrechnung_KAE!$E557,MD_GENDER,0),0),\"\")","v":""},{"v":0,"d":"0.00"},null,{"v":0,"d":"0.00"},{"$f":"IF(F557=\"Arbeitgeberähnliche Stellung\",OFFSET(MD!$Q$5,MATCH(Grundlagen_Abrechnung_KAE!$AK$7,MD_JAHR,0),0)*$H557,IF(J557>0,AC557,I557))","v":{"v":0,"d":"0.00"}},null,{"$f":"OFFSET(MD!$P$5,MATCH($AK$7,MD_JAHR,0),0)*12","v":{"$error":"#VALUE!"}},{"v":0,"d":"0.00"}]
[{"$nulls":14},{"$f":"IF($B558=\"\",\"\",IF(F558=\"Arbeitgeberähnliche Stellung\",OFFSET(MD!$Q$5,MATCH(Grundlagen_Abrechnung_KAE!$AK$7,MD_JAHR,0),0)*$H558,IF(((AD558/12*M558*12)+N558)>AF558,AF558/12,((AD558/12*M558*12)+N558)/12)))","v":""},null,null,{"v":0,"d":"0.00"},null,{"v":0,"d":"0.00%"},{"v":0,"d":"0.00"},{"v":0,"d":"0.00"},{"v":0,"d":"0.00"},null,"prüfen",{"$f":"IFERROR(OFFSET(MD!$U$5,MATCH(Grundlagen_Abrechnung_KAE!$E558,MD_GENDER,0),0),\"\")","v":""},{"v":0,"d":"0.00"},null,{"v":0,"d":"0.00"},{"$f":"IF(F558=\"Arbeitgeberähnliche Stellung\",OFFSET(MD!$Q$5,MATCH(Grundlagen_Abrechnung_KAE!$AK$7,MD_JAHR,0),0)*$H558,IF(J558>0,AC558,I558))","v":{"v":0,"d":"0.00"}},null,{"$f":"OFFSET(MD!$P$5,MATCH($AK$7,MD_JAHR,0),0)*12","v":{"$error":"#VALUE!"}},{"v":0,"d":"0.00"}]
[{"$nulls":14},{"$f":"IF($B559=\"\",\"\",IF(F559=\"Arbeitgeberähnliche Stellung\",OFFSET(MD!$Q$5,MATCH(Grundlagen_Abrechnung_KAE!$AK$7,MD_JAHR,0),0)*$H559,IF(((AD559/12*M559*12)+N559)>AF559,AF559/12,((AD559/12*M559*12)+N559)/12)))","v":""},null,null,{"v":0,"d":"0.00"},null,{"v":0,"d":"0.00%"},{"v":0,"d":"0.00"},{"v":0,"d":"0.00"},{"v":0,"d":"0.00"},null,"prüfen",{"$f":"IFERROR(OFFSET(MD!$U$5,MATCH(Grundlagen_Abrechnung_KAE!$E559,MD_GENDER,0),0),\"\")","v":""},{"v":0,"d":"0.00"},null,{"v":0,"d":"0.00"},{"$f":"IF(F559=\"Arbeitgeberähnliche Stellung\",OFFSET(MD!$Q$5,MATCH(Grundlagen_Abrechnung_KAE!$AK$7,MD_JAHR,0),0)*$H559,IF(J559>0,AC559,I559))","v":{"v":0,"d":"0.00"}},null,{"$f":"OFFSET(MD!$P$5,MATCH($AK$7,MD_JAHR,0),0)*12","v":{"$error":"#VALUE!"}},{"v":0,"d":"0.00"}]
[{"$nulls":14},{"$f":"IF($B560=\"\",\"\",IF(F560=\"Arbeitgeberähnliche Stellung\",OFFSET(MD!$Q$5,MATCH(Grundlagen_Abrechnung_KAE!$AK$7,MD_JAHR,0),0)*$H560,IF(((AD560/12*M560*12)+N560)>AF560,AF560/12,((AD560/12*M560*12)+N560)/12)))","v":""},null,null,{"v":0,"d":"0.00"},null,{"v":0,"d":"0.00%"},{"v":0,"d":"0.00"},{"v":0,"d":"0.00"},{"v":0,"d":"0.00"},null,"prüfen",{"$f":"IFERROR(OFFSET(MD!$U$5,MATCH(Grundlagen_Abrechnung_KAE!$E560,MD_GENDER,0),0),\"\")","v":""},{"v":0,"d":"0.00"},null,{"v":0,"d":"0.00"},{"$f":"IF(F560=\"Arbeitgeberähnliche Stellung\",OFFSET(MD!$Q$5,MATCH(Grundlagen_Abrechnung_KAE!$AK$7,MD_JAHR,0),0)*$H560,IF(J560>0,AC560,I560))","v":{"v":0,"d":"0.00"}},null,{"$f":"OFFSET(MD!$P$5,MATCH($AK$7,MD_JAHR,0),0)*12","v":{"$error":"#VALUE!"}},{"v":0,"d":"0.00"}]
[{"$nulls":14},{"$f":"IF($B561=\"\",\"\",IF(F561=\"Arbeitgeberähnliche Stellung\",OFFSET(MD!$Q$5,MATCH(Grundlagen_Abrechnung_KAE!$AK$7,MD_JAHR,0),0)*$H561,IF(((AD561/12*M561*12)+N561)>AF561,AF561/12,((AD561/12*M561*12)+N561)/12)))","v":""},null,null,{"v":0,"d":"0.00"},null,{"v":0,"d":"0.00%"},{"v":0,"d":"0.00"},{"v":0,"d":"0.00"},{"v":0,"d":"0.00"},null,"prüfen",{"$f":"IFERROR(OFFSET(MD!$U$5,MATCH(Grundlagen_Abrechnung_KAE!$E561,MD_GENDER,0),0),\"\")","v":""},{"v":0,"d":"0.00"},null,{"v":0,"d":"0.00"},{"$f":"IF(F561=\"Arbeitgeberähnliche Stellung\",OFFSET(MD!$Q$5,MATCH(Grundlagen_Abrechnung_KAE!$AK$7,MD_JAHR,0),0)*$H561,IF(J561>0,AC561,I561))","v":{"v":0,"d":"0.00"}},null,{"$f":"OFFSET(MD!$P$5,MATCH($AK$7,MD_JAHR,0),0)*12","v":{"$error":"#VALUE!"}},{"v":0,"d":"0.00"}]
[{"$nulls":14},{"$f":"IF($B562=\"\",\"\",IF(F562=\"Arbeitgeberähnliche Stellung\",OFFSET(MD!$Q$5,MATCH(Grundlagen_Abrechnung_KAE!$AK$7,MD_JAHR,0),0)*$H562,IF(((AD562/12*M562*12)+N562)>AF562,AF562/12,((AD562/12*M562*12)+N562)/12)))","v":""},null,null,{"v":0,"d":"0.00"},null,{"v":0,"d":"0.00%"},{"v":0,"d":"0.00"},{"v":0,"d":"0.00"},{"v":0,"d":"0.00"},null,"prüfen",{"$f":"IFERROR(OFFSET(MD!$U$5,MATCH(Grundlagen_Abrechnung_KAE!$E562,MD_GENDER,0),0),\"\")","v":""},{"v":0,"d":"0.00"},null,{"v":0,"d":"0.00"},{"$f":"IF(F562=\"Arbeitgeberähnliche Stellung\",OFFSET(MD!$Q$5,MATCH(Grundlagen_Abrechnung_KAE!$AK$7,MD_JAHR,0),0)*$H562,IF(J562>0,AC562,I562))","v":{"v":0,"d":"0.00"}},null,{"$f":"OFFSET(MD!$P$5,MATCH($AK$7,MD_JAHR,0),0)*12","v":{"$error":"#VALUE!"}},{"v":0,"d":"0.00"}]
[{"$nulls":14},{"$f":"IF($B563=\"\",\"\",IF(F563=\"Arbeitgeberähnliche Stellung\",OFFSET(MD!$Q$5,MATCH(Grundlagen_Abrechnung_KAE!$AK$7,MD_JAHR,0),0)*$H563,IF(((AD563/12*M563*12)+N563)>AF563,AF563/12,((AD563/12*M563*12)+N563)/12)))","v":""},null,null,{"v":0,"d":"0.00"},null,{"v":0,"d":"0.00%"},{"v":0,"d":"0.00"},{"v":0,"d":"0.00"},{"v":0,"d":"0.00"},null,"prüfen",{"$f":"IFERROR(OFFSET(MD!$U$5,MATCH(Grundlagen_Abrechnung_KAE!$E563,MD_GENDER,0),0),\"\")","v":""},{"v":0,"d":"0.00"},null,{"v":0,"d":"0.00"},{"$f":"IF(F563=\"Arbeitgeberähnliche Stellung\",OFFSET(MD!$Q$5,MATCH(Grundlagen_Abrechnung_KAE!$AK$7,MD_JAHR,0),0)*$H563,IF(J563>0,AC563,I563))","v":{"v":0,"d":"0.00"}},null,{"$f":"OFFSET(MD!$P$5,MATCH($AK$7,MD_JAHR,0),0)*12","v":{"$error":"#VALUE!"}},{"v":0,"d":"0.00"}]
[{"$nulls":14},{"$f":"IF($B564=\"\",\"\",IF(F564=\"Arbeitgeberähnliche Stellung\",OFFSET(MD!$Q$5,MATCH(Grundlagen_Abrechnung_KAE!$AK$7,MD_JAHR,0),0)*$H564,IF(((AD564/12*M564*12)+N564)>AF564,AF564/12,((AD564/12*M564*12)+N564)/12)))","v":""},null,null,{"v":0,"d":"0.00"},null,{"v":0,"d":"0.00%"},{"v":0,"d":"0.00"},{"v":0,"d":"0.00"},{"v":0,"d":"0.00"},null,"prüfen",{"$f":"IFERROR(OFFSET(MD!$U$5,MATCH(Grundlagen_Abrechnung_KAE!$E564,MD_GENDER,0),0),\"\")","v":""},{"v":0,"d":"0.00"},null,{"v":0,"d":"0.00"},{"$f":"IF(F564=\"Arbeitgeberähnliche Stellung\",OFFSET(MD!$Q$5,MATCH(Grundlagen_Abrechnung_KAE!$AK$7,MD_JAHR,0),0)*$H564,IF(J564>0,AC564,I564))","v":{"v":0,"d":"0.00"}},null,{"$f":"OFFSET(MD!$P$5,MATCH($AK$7,MD_JAHR,0),0)*12","v":{"$error":"#VALUE!"}},{"v":0,"d":"0.00"}]
[{"$nulls":14},{"$f":"IF($B565=\"\",\"\",IF(F565=\"Arbeitgeberähnliche Stellung\",OFFSET(MD!$Q$5,MATCH(Grundlagen_Abrechnung_KAE!$AK$7,MD_JAHR,0),0)*$H565,IF(((AD565/12*M565*12)+N565)>AF565,AF565/12,((AD565/12*M565*12)+N565)/12)))","v":""},null,null,{"v":0,"d":"0.00"},null,{"v":0,"d":"0.00%"},{"v":0,"d":"0.00"},{"v":0,"d":"0.00"},{"v":0,"d":"0.00"},null,"prüfen",{"$f":"IFERROR(OFFSET(MD!$U$5,MATCH(Grundlagen_Abrechnung_KAE!$E565,MD_GENDER,0),0),\"\")","v":""},{"v":0,"d":"0.00"},null,{"v":0,"d":"0.00"},{"$f":"IF(F565=\"Arbeitgeberähnliche Stellung\",OFFSET(MD!$Q$5,MATCH(Grundlagen_Abrechnung_KAE!$AK$7,MD_JAHR,0),0)*$H565,IF(J565>0,AC565,I565))","v":{"v":0,"d":"0.00"}},null,{"$f":"OFFSET(MD!$P$5,MATCH($AK$7,MD_JAHR,0),0)*12","v":{"$error":"#VALUE!"}},{"v":0,"d":"0.00"}]
[{"$nulls":14},{"$f":"IF($B566=\"\",\"\",IF(F566=\"Arbeitgeberähnliche Stellung\",OFFSET(MD!$Q$5,MATCH(Grundlagen_Abrechnung_KAE!$AK$7,MD_JAHR,0),0)*$H566,IF(((AD566/12*M566*12)+N566)>AF566,AF566/12,((AD566/12*M566*12)+N566)/12)))","v":""},null,null,{"v":0,"d":"0.00"},null,{"v":0,"d":"0.00%"},{"v":0,"d":"0.00"},{"v":0,"d":"0.00"},{"v":0,"d":"0.00"},null,"prüfen",{"$f":"IFERROR(OFFSET(MD!$U$5,MATCH(Grundlagen_Abrechnung_KAE!$E566,MD_GENDER,0),0),\"\")","v":""},{"v":0,"d":"0.00"},null,{"v":0,"d":"0.00"},{"$f":"IF(F566=\"Arbeitgeberähnliche Stellung\",OFFSET(MD!$Q$5,MATCH(Grundlagen_Abrechnung_KAE!$AK$7,MD_JAHR,0),0)*$H566,IF(J566>0,AC566,I566))","v":{"v":0,"d":"0.00"}},null,{"$f":"OFFSET(MD!$P$5,MATCH($AK$7,MD_JAHR,0),0)*12","v":{"$error":"#VALUE!"}},{"v":0,"d":"0.00"}]
[{"$nulls":14},{"$f":"IF($B567=\"\",\"\",IF(F567=\"Arbeitgeberähnliche Stellung\",OFFSET(MD!$Q$5,MATCH(Grundlagen_Abrechnung_KAE!$AK$7,MD_JAHR,0),0)*$H567,IF(((AD567/12*M567*12)+N567)>AF567,AF567/12,((AD567/12*M567*12)+N567)/12)))","v":""},null,null,{"v":0,"d":"0.00"},null,{"v":0,"d":"0.00%"},{"v":0,"d":"0.00"},{"v":0,"d":"0.00"},{"v":0,"d":"0.00"},null,"prüfen",{"$f":"IFERROR(OFFSET(MD!$U$5,MATCH(Grundlagen_Abrechnung_KAE!$E567,MD_GENDER,0),0),\"\")","v":""},{"v":0,"d":"0.00"},null,{"v":0,"d":"0.00"},{"$f":"IF(F567=\"Arbeitgeberähnliche Stellung\",OFFSET(MD!$Q$5,MATCH(Grundlagen_Abrechnung_KAE!$AK$7,MD_JAHR,0),0)*$H567,IF(J567>0,AC567,I567))","v":{"v":0,"d":"0.00"}},null,{"$f":"OFFSET(MD!$P$5,MATCH($AK$7,MD_JAHR,0),0)*12","v":{"$error":"#VALUE!"}},{"v":0,"d":"0.00"}]
[{"$nulls":14},{"$f":"IF($B568=\"\",\"\",IF(F568=\"Arbeitgeberähnliche Stellung\",OFFSET(MD!$Q$5,MATCH(Grundlagen_Abrechnung_KAE!$AK$7,MD_JAHR,0),0)*$H568,IF(((AD568/12*M568*12)+N568)>AF568,AF568/12,((AD568/12*M568*12)+N568)/12)))","v":""},null,null,{"v":0,"d":"0.00"},null,{"v":0,"d":"0.00%"},{"v":0,"d":"0.00"},{"v":0,"d":"0.00"},{"v":0,"d":"0.00"},null,"prüfen",{"$f":"IFERROR(OFFSET(MD!$U$5,MATCH(Grundlagen_Abrechnung_KAE!$E568,MD_GENDER,0),0),\"\")","v":""},{"v":0,"d":"0.00"},null,{"v":0,"d":"0.00"},{"$f":"IF(F568=\"Arbeitgeberähnliche Stellung\",OFFSET(MD!$Q$5,MATCH(Grundlagen_Abrechnung_KAE!$AK$7,MD_JAHR,0),0)*$H568,IF(J568>0,AC568,I568))","v":{"v":0,"d":"0.00"}},null,{"$f":"OFFSET(MD!$P$5,MATCH($AK$7,MD_JAHR,0),0)*12","v":{"$error":"#VALUE!"}},{"v":0,"d":"0.00"}]
[{"$nulls":14},{"$f":"IF($B569=\"\",\"\",IF(F569=\"Arbeitgeberähnliche Stellung\",OFFSET(MD!$Q$5,MATCH(Grundlagen_Abrechnung_KAE!$AK$7,MD_JAHR,0),0)*$H569,IF(((AD569/12*M569*12)+N569)>AF569,AF569/12,((AD569/12*M569*12)+N569)/12)))","v":""},null,null,{"v":0,"d":"0.00"},null,{"v":0,"d":"0.00%"},{"v":0,"d":"0.00"},{"v":0,"d":"0.00"},{"v":0,"d":"0.00"},null,"prüfen",{"$f":"IFERROR(OFFSET(MD!$U$5,MATCH(Grundlagen_Abrechnung_KAE!$E569,MD_GENDER,0),0),\"\")","v":""},{"v":0,"d":"0.00"},null,{"v":0,"d":"0.00"},{"$f":"IF(F569=\"Arbeitgeberähnliche Stellung\",OFFSET(MD!$Q$5,MATCH(Grundlagen_Abrechnung_KAE!$AK$7,MD_JAHR,0),0)*$H569,IF(J569>0,AC569,I569))","v":{"v":0,"d":"0.00"}},null,{"$f":"OFFSET(MD!$P$5,MATCH($AK$7,MD_JAHR,0),0)*12","v":{"$error":"#VALUE!"}},{"v":0,"d":"0.00"}]
[{"$nulls":14},{"$f":"IF($B570=\"\",\"\",IF(F570=\"Arbeitgeberähnliche Stellung\",OFFSET(MD!$Q$5,MATCH(Grundlagen_Abrechnung_KAE!$AK$7,MD_JAHR,0),0)*$H570,IF(((AD570/12*M570*12)+N570)>AF570,AF570/12,((AD570/12*M570*12)+N570)/12)))","v":""},null,null,{"v":0,"d":"0.00"},null,{"v":0,"d":"0.00%"},{"v":0,"d":"0.00"},{"v":0,"d":"0.00"},{"v":0,"d":"0.00"},null,"prüfen",{"$f":"IFERROR(OFFSET(MD!$U$5,MATCH(Grundlagen_Abrechnung_KAE!$E570,MD_GENDER,0),0),\"\")","v":""},{"v":0,"d":"0.00"},null,{"v":0,"d":"0.00"},{"$f":"IF(F570=\"Arbeitgeberähnliche Stellung\",OFFSET(MD!$Q$5,MATCH(Grundlagen_Abrechnung_KAE!$AK$7,MD_JAHR,0),0)*$H570,IF(J570>0,AC570,I570))","v":{"v":0,"d":"0.00"}},null,{"$f":"OFFSET(MD!$P$5,MATCH($AK$7,MD_JAHR,0),0)*12","v":{"$error":"#VALUE!"}},{"v":0,"d":"0.00"}]
[{"$nulls":14},{"$f":"IF($B571=\"\",\"\",IF(F571=\"Arbeitgeberähnliche Stellung\",OFFSET(MD!$Q$5,MATCH(Grundlagen_Abrechnung_KAE!$AK$7,MD_JAHR,0),0)*$H571,IF(((AD571/12*M571*12)+N571)>AF571,AF571/12,((AD571/12*M571*12)+N571)/12)))","v":""},null,null,{"v":0,"d":"0.00"},null,{"v":0,"d":"0.00%"},{"v":0,"d":"0.00"},{"v":0,"d":"0.00"},{"v":0,"d":"0.00"},null,"prüfen",{"$f":"IFERROR(OFFSET(MD!$U$5,MATCH(Grundlagen_Abrechnung_KAE!$E571,MD_GENDER,0),0),\"\")","v":""},{"v":0,"d":"0.00"},null,{"v":0,"d":"0.00"},{"$f":"IF(F571=\"Arbeitgeberähnliche Stellung\",OFFSET(MD!$Q$5,MATCH(Grundlagen_Abrechnung_KAE!$AK$7,MD_JAHR,0),0)*$H571,IF(J571>0,AC571,I571))","v":{"v":0,"d":"0.00"}},null,{"$f":"OFFSET(MD!$P$5,MATCH($AK$7,MD_JAHR,0),0)*12","v":{"$error":"#VALUE!"}},{"v":0,"d":"0.00"}]
[{"$nulls":14},{"$f":"IF($B572=\"\",\"\",IF(F572=\"Arbeitgeberähnliche Stellung\",OFFSET(MD!$Q$5,MATCH(Grundlagen_Abrechnung_KAE!$AK$7,MD_JAHR,0),0)*$H572,IF(((AD572/12*M572*12)+N572)>AF572,AF572/12,((AD572/12*M572*12)+N572)/12)))","v":""},null,null,{"v":0,"d":"0.00"},null,{"v":0,"d":"0.00%"},{"v":0,"d":"0.00"},{"v":0,"d":"0.00"},{"v":0,"d":"0.00"},null,"prüfen",{"$f":"IFERROR(OFFSET(MD!$U$5,MATCH(Grundlagen_Abrechnung_KAE!$E572,MD_GENDER,0),0),\"\")","v":""},{"v":0,"d":"0.00"},null,{"v":0,"d":"0.00"},{"$f":"IF(F572=\"Arbeitgeberähnliche Stellung\",OFFSET(MD!$Q$5,MATCH(Grundlagen_Abrechnung_KAE!$AK$7,MD_JAHR,0),0)*$H572,IF(J572>0,AC572,I572))","v":{"v":0,"d":"0.00"}},null,{"$f":"OFFSET(MD!$P$5,MATCH($AK$7,MD_JAHR,0),0)*12","v":{"$error":"#VALUE!"}},{"v":0,"d":"0.00"}]
[{"$nulls":14},{"$f":"IF($B573=\"\",\"\",IF(F573=\"Arbeitgeberähnliche Stellung\",OFFSET(MD!$Q$5,MATCH(Grundlagen_Abrechnung_KAE!$AK$7,MD_JAHR,0),0)*$H573,IF(((AD573/12*M573*12)+N573)>AF573,AF573/12,((AD573/12*M573*12)+N573)/12)))","v":""},null,null,{"v":0,"d":"0.00"},null,{"v":0,"d":"0.00%"},{"v":0,"d":"0.00"},{"v":0,"d":"0.00"},{"v":0,"d":"0.00"},null,"prüfen",{"$f":"IFERROR(OFFSET(MD!$U$5,MATCH(Grundlagen_Abrechnung_KAE!$E573,MD_GENDER,0),0),\"\")","v":""},{"v":0,"d":"0.00"},null,{"v":0,"d":"0.00"},{"$f":"IF(F573=\"Arbeitgeberähnliche Stellung\",OFFSET(MD!$Q$5,MATCH(Grundlagen_Abrechnung_KAE!$AK$7,MD_JAHR,0),0)*$H573,IF(J573>0,AC573,I573))","v":{"v":0,"d":"0.00"}},null,{"$f":"OFFSET(MD!$P$5,MATCH($AK$7,MD_JAHR,0),0)*12","v":{"$error":"#VALUE!"}},{"v":0,"d":"0.00"}]
[{"$nulls":14},{"$f":"IF($B574=\"\",\"\",IF(F574=\"Arbeitgeberähnliche Stellung\",OFFSET(MD!$Q$5,MATCH(Grundlagen_Abrechnung_KAE!$AK$7,MD_JAHR,0),0)*$H574,IF(((AD574/12*M574*12)+N574)>AF574,AF574/12,((AD574/12*M574*12)+N574)/12)))","v":""},null,null,{"v":0,"d":"0.00"},null,{"v":0,"d":"0.00%"},{"v":0,"d":"0.00"},{"v":0,"d":"0.00"},{"v":0,"d":"0.00"},null,"prüfen",{"$f":"IFERROR(OFFSET(MD!$U$5,MATCH(Grundlagen_Abrechnung_KAE!$E574,MD_GENDER,0),0),\"\")","v":""},{"v":0,"d":"0.00"},null,{"v":0,"d":"0.00"},{"$f":"IF(F574=\"Arbeitgeberähnliche Stellung\",OFFSET(MD!$Q$5,MATCH(Grundlagen_Abrechnung_KAE!$AK$7,MD_JAHR,0),0)*$H574,IF(J574>0,AC574,I574))","v":{"v":0,"d":"0.00"}},null,{"$f":"OFFSET(MD!$P$5,MATCH($AK$7,MD_JAHR,0),0)*12","v":{"$error":"#VALUE!"}},{"v":0,"d":"0.00"}]
[{"$nulls":14},{"$f":"IF($B575=\"\",\"\",IF(F575=\"Arbeitgeberähnliche Stellung\",OFFSET(MD!$Q$5,MATCH(Grundlagen_Abrechnung_KAE!$AK$7,MD_JAHR,0),0)*$H575,IF(((AD575/12*M575*12)+N575)>AF575,AF575/12,((AD575/12*M575*12)+N575)/12)))","v":""},null,null,{"v":0,"d":"0.00"},null,{"v":0,"d":"0.00%"},{"v":0,"d":"0.00"},{"v":0,"d":"0.00"},{"v":0,"d":"0.00"},null,"prüfen",{"$f":"IFERROR(OFFSET(MD!$U$5,MATCH(Grundlagen_Abrechnung_KAE!$E575,MD_GENDER,0),0),\"\")","v":""},{"v":0,"d":"0.00"},null,{"v":0,"d":"0.00"},{"$f":"IF(F575=\"Arbeitgeberähnliche Stellung\",OFFSET(MD!$Q$5,MATCH(Grundlagen_Abrechnung_KAE!$AK$7,MD_JAHR,0),0)*$H575,IF(J575>0,AC575,I575))","v":{"v":0,"d":"0.00"}},null,{"$f":"OFFSET(MD!$P$5,MATCH($AK$7,MD_JAHR,0),0)*12","v":{"$error":"#VALUE!"}},{"v":0,"d":"0.00"}]
[{"$nulls":14},{"$f":"IF($B576=\"\",\"\",IF(F576=\"Arbeitgeberähnliche Stellung\",OFFSET(MD!$Q$5,MATCH(Grundlagen_Abrechnung_KAE!$AK$7,MD_JAHR,0),0)*$H576,IF(((AD576/12*M576*12)+N576)>AF576,AF576/12,((AD576/12*M576*12)+N576)/12)))","v":""},null,null,{"v":0,"d":"0.00"},null,{"v":0,"d":"0.00%"},{"v":0,"d":"0.00"},{"v":0,"d":"0.00"},{"v":0,"d":"0.00"},null,"prüfen",{"$f":"IFERROR(OFFSET(MD!$U$5,MATCH(Grundlagen_Abrechnung_KAE!$E576,MD_GENDER,0),0),\"\")","v":""},{"v":0,"d":"0.00"},null,{"v":0,"d":"0.00"},{"$f":"IF(F576=\"Arbeitgeberähnliche Stellung\",OFFSET(MD!$Q$5,MATCH(Grundlagen_Abrechnung_KAE!$AK$7,MD_JAHR,0),0)*$H576,IF(J576>0,AC576,I576))","v":{"v":0,"d":"0.00"}},null,{"$f":"OFFSET(MD!$P$5,MATCH($AK$7,MD_JAHR,0),0)*12","v":{"$error":"#VALUE!"}},{"v":0,"d":"0.00"}]
[{"$nulls":14},{"$f":"IF($B577=\"\",\"\",IF(F577=\"Arbeitgeberähnliche Stellung\",OFFSET(MD!$Q$5,MATCH(Grundlagen_Abrechnung_KAE!$AK$7,MD_JAHR,0),0)*$H577,IF(((AD577/12*M577*12)+N577)>AF577,AF577/12,((AD577/12*M577*12)+N577)/12)))","v":""},null,null,{"v":0,"d":"0.00"},null,{"v":0,"d":"0.00%"},{"v":0,"d":"0.00"},{"v":0,"d":"0.00"},{"v":0,"d":"0.00"},null,"prüfen",{"$f":"IFERROR(OFFSET(MD!$U$5,MATCH(Grundlagen_Abrechnung_KAE!$E577,MD_GENDER,0),0),\"\")","v":""},{"v":0,"d":"0.00"},null,{"v":0,"d":"0.00"},{"$f":"IF(F577=\"Arbeitgeberähnliche Stellung\",OFFSET(MD!$Q$5,MATCH(Grundlagen_Abrechnung_KAE!$AK$7,MD_JAHR,0),0)*$H577,IF(J577>0,AC577,I577))","v":{"v":0,"d":"0.00"}},null,{"$f":"OFFSET(MD!$P$5,MATCH($AK$7,MD_JAHR,0),0)*12","v":{"$error":"#VALUE!"}},{"v":0,"d":"0.00"}]
[{"$nulls":14},{"$f":"IF($B578=\"\",\"\",IF(F578=\"Arbeitgeberähnliche Stellung\",OFFSET(MD!$Q$5,MATCH(Grundlagen_Abrechnung_KAE!$AK$7,MD_JAHR,0),0)*$H578,IF(((AD578/12*M578*12)+N578)>AF578,AF578/12,((AD578/12*M578*12)+N578)/12)))","v":""},null,null,{"v":0,"d":"0.00"},null,{"v":0,"d":"0.00%"},{"v":0,"d":"0.00"},{"v":0,"d":"0.00"},{"v":0,"d":"0.00"},null,"prüfen",{"$f":"IFERROR(OFFSET(MD!$U$5,MATCH(Grundlagen_Abrechnung_KAE!$E578,MD_GENDER,0),0),\"\")","v":""},{"v":0,"d":"0.00"},null,{"v":0,"d":"0.00"},{"$f":"IF(F578=\"Arbeitgeberähnliche Stellung\",OFFSET(MD!$Q$5,MATCH(Grundlagen_Abrechnung_KAE!$AK$7,MD_JAHR,0),0)*$H578,IF(J578>0,AC578,I578))","v":{"v":0,"d":"0.00"}},null,{"$f":"OFFSET(MD!$P$5,MATCH($AK$7,MD_JAHR,0),0)*12","v":{"$error":"#VALUE!"}},{"v":0,"d":"0.00"}]
[{"$nulls":14},{"$f":"IF($B579=\"\",\"\",IF(F579=\"Arbeitgeberähnliche Stellung\",OFFSET(MD!$Q$5,MATCH(Grundlagen_Abrechnung_KAE!$AK$7,MD_JAHR,0),0)*$H579,IF(((AD579/12*M579*12)+N579)>AF579,AF579/12,((AD579/12*M579*12)+N579)/12)))","v":""},null,null,{"v":0,"d":"0.00"},null,{"v":0,"d":"0.00%"},{"v":0,"d":"0.00"},{"v":0,"d":"0.00"},{"v":0,"d":"0.00"},null,"prüfen",{"$f":"IFERROR(OFFSET(MD!$U$5,MATCH(Grundlagen_Abrechnung_KAE!$E579,MD_GENDER,0),0),\"\")","v":""},{"v":0,"d":"0.00"},null,{"v":0,"d":"0.00"},{"$f":"IF(F579=\"Arbeitgeberähnliche Stellung\",OFFSET(MD!$Q$5,MATCH(Grundlagen_Abrechnung_KAE!$AK$7,MD_JAHR,0),0)*$H579,IF(J579>0,AC579,I579))","v":{"v":0,"d":"0.00"}},null,{"$f":"OFFSET(MD!$P$5,MATCH($AK$7,MD_JAHR,0),0)*12","v":{"$error":"#VALUE!"}},{"v":0,"d":"0.00"}]
[{"$nulls":14},{"$f":"IF($B580=\"\",\"\",IF(F580=\"Arbeitgeberähnliche Stellung\",OFFSET(MD!$Q$5,MATCH(Grundlagen_Abrechnung_KAE!$AK$7,MD_JAHR,0),0)*$H580,IF(((AD580/12*M580*12)+N580)>AF580,AF580/12,((AD580/12*M580*12)+N580)/12)))","v":""},null,null,{"v":0,"d":"0.00"},null,{"v":0,"d":"0.00%"},{"v":0,"d":"0.00"},{"v":0,"d":"0.00"},{"v":0,"d":"0.00"},null,"prüfen",{"$f":"IFERROR(OFFSET(MD!$U$5,MATCH(Grundlagen_Abrechnung_KAE!$E580,MD_GENDER,0),0),\"\")","v":""},{"v":0,"d":"0.00"},null,{"v":0,"d":"0.00"},{"$f":"IF(F580=\"Arbeitgeberähnliche Stellung\",OFFSET(MD!$Q$5,MATCH(Grundlagen_Abrechnung_KAE!$AK$7,MD_JAHR,0),0)*$H580,IF(J580>0,AC580,I580))","v":{"v":0,"d":"0.00"}},null,{"$f":"OFFSET(MD!$P$5,MATCH($AK$7,MD_JAHR,0),0)*12","v":{"$error":"#VALUE!"}},{"v":0,"d":"0.00"}]
[{"$nulls":14},{"$f":"IF($B581=\"\",\"\",IF(F581=\"Arbeitgeberähnliche Stellung\",OFFSET(MD!$Q$5,MATCH(Grundlagen_Abrechnung_KAE!$AK$7,MD_JAHR,0),0)*$H581,IF(((AD581/12*M581*12)+N581)>AF581,AF581/12,((AD581/12*M581*12)+N581)/12)))","v":""},null,null,{"v":0,"d":"0.00"},null,{"v":0,"d":"0.00%"},{"v":0,"d":"0.00"},{"v":0,"d":"0.00"},{"v":0,"d":"0.00"},null,"prüfen",{"$f":"IFERROR(OFFSET(MD!$U$5,MATCH(Grundlagen_Abrechnung_KAE!$E581,MD_GENDER,0),0),\"\")","v":""},{"v":0,"d":"0.00"},null,{"v":0,"d":"0.00"},{"$f":"IF(F581=\"Arbeitgeberähnliche Stellung\",OFFSET(MD!$Q$5,MATCH(Grundlagen_Abrechnung_KAE!$AK$7,MD_JAHR,0),0)*$H581,IF(J581>0,AC581,I581))","v":{"v":0,"d":"0.00"}},null,{"$f":"OFFSET(MD!$P$5,MATCH($AK$7,MD_JAHR,0),0)*12","v":{"$error":"#VALUE!"}},{"v":0,"d":"0.00"}]
[{"$nulls":14},{"$f":"IF($B582=\"\",\"\",IF(F582=\"Arbeitgeberähnliche Stellung\",OFFSET(MD!$Q$5,MATCH(Grundlagen_Abrechnung_KAE!$AK$7,MD_JAHR,0),0)*$H582,IF(((AD582/12*M582*12)+N582)>AF582,AF582/12,((AD582/12*M582*12)+N582)/12)))","v":""},null,null,{"v":0,"d":"0.00"},null,{"v":0,"d":"0.00%"},{"v":0,"d":"0.00"},{"v":0,"d":"0.00"},{"v":0,"d":"0.00"},null,"prüfen",{"$f":"IFERROR(OFFSET(MD!$U$5,MATCH(Grundlagen_Abrechnung_KAE!$E582,MD_GENDER,0),0),\"\")","v":""},{"v":0,"d":"0.00"},null,{"v":0,"d":"0.00"},{"$f":"IF(F582=\"Arbeitgeberähnliche Stellung\",OFFSET(MD!$Q$5,MATCH(Grundlagen_Abrechnung_KAE!$AK$7,MD_JAHR,0),0)*$H582,IF(J582>0,AC582,I582))","v":{"v":0,"d":"0.00"}},null,{"$f":"OFFSET(MD!$P$5,MATCH($AK$7,MD_JAHR,0),0)*12","v":{"$error":"#VALUE!"}},{"v":0,"d":"0.00"}]
[{"$nulls":14},{"$f":"IF($B583=\"\",\"\",IF(F583=\"Arbeitgeberähnliche Stellung\",OFFSET(MD!$Q$5,MATCH(Grundlagen_Abrechnung_KAE!$AK$7,MD_JAHR,0),0)*$H583,IF(((AD583/12*M583*12)+N583)>AF583,AF583/12,((AD583/12*M583*12)+N583)/12)))","v":""},null,null,{"v":0,"d":"0.00"},null,{"v":0,"d":"0.00%"},{"v":0,"d":"0.00"},{"v":0,"d":"0.00"},{"v":0,"d":"0.00"},null,"prüfen",{"$f":"IFERROR(OFFSET(MD!$U$5,MATCH(Grundlagen_Abrechnung_KAE!$E583,MD_GENDER,0),0),\"\")","v":""},{"v":0,"d":"0.00"},null,{"v":0,"d":"0.00"},{"$f":"IF(F583=\"Arbeitgeberähnliche Stellung\",OFFSET(MD!$Q$5,MATCH(Grundlagen_Abrechnung_KAE!$AK$7,MD_JAHR,0),0)*$H583,IF(J583>0,AC583,I583))","v":{"v":0,"d":"0.00"}},null,{"$f":"OFFSET(MD!$P$5,MATCH($AK$7,MD_JAHR,0),0)*12","v":{"$error":"#VALUE!"}},{"v":0,"d":"0.00"}]
[{"$nulls":14},{"$f":"IF($B584=\"\",\"\",IF(F584=\"Arbeitgeberähnliche Stellung\",OFFSET(MD!$Q$5,MATCH(Grundlagen_Abrechnung_KAE!$AK$7,MD_JAHR,0),0)*$H584,IF(((AD584/12*M584*12)+N584)>AF584,AF584/12,((AD584/12*M584*12)+N584)/12)))","v":""},null,null,{"v":0,"d":"0.00"},null,{"v":0,"d":"0.00%"},{"v":0,"d":"0.00"},{"v":0,"d":"0.00"},{"v":0,"d":"0.00"},null,"prüfen",{"$f":"IFERROR(OFFSET(MD!$U$5,MATCH(Grundlagen_Abrechnung_KAE!$E584,MD_GENDER,0),0),\"\")","v":""},{"v":0,"d":"0.00"},null,{"v":0,"d":"0.00"},{"$f":"IF(F584=\"Arbeitgeberähnliche Stellung\",OFFSET(MD!$Q$5,MATCH(Grundlagen_Abrechnung_KAE!$AK$7,MD_JAHR,0),0)*$H584,IF(J584>0,AC584,I584))","v":{"v":0,"d":"0.00"}},null,{"$f":"OFFSET(MD!$P$5,MATCH($AK$7,MD_JAHR,0),0)*12","v":{"$error":"#VALUE!"}},{"v":0,"d":"0.00"}]
[{"$nulls":14},{"$f":"IF($B585=\"\",\"\",IF(F585=\"Arbeitgeberähnliche Stellung\",OFFSET(MD!$Q$5,MATCH(Grundlagen_Abrechnung_KAE!$AK$7,MD_JAHR,0),0)*$H585,IF(((AD585/12*M585*12)+N585)>AF585,AF585/12,((AD585/12*M585*12)+N585)/12)))","v":""},null,null,{"v":0,"d":"0.00"},null,{"v":0,"d":"0.00%"},{"v":0,"d":"0.00"},{"v":0,"d":"0.00"},{"v":0,"d":"0.00"},null,"prüfen",{"$f":"IFERROR(OFFSET(MD!$U$5,MATCH(Grundlagen_Abrechnung_KAE!$E585,MD_GENDER,0),0),\"\")","v":""},{"v":0,"d":"0.00"},null,{"v":0,"d":"0.00"},{"$f":"IF(F585=\"Arbeitgeberähnliche Stellung\",OFFSET(MD!$Q$5,MATCH(Grundlagen_Abrechnung_KAE!$AK$7,MD_JAHR,0),0)*$H585,IF(J585>0,AC585,I585))","v":{"v":0,"d":"0.00"}},null,{"$f":"OFFSET(MD!$P$5,MATCH($AK$7,MD_JAHR,0),0)*12","v":{"$error":"#VALUE!"}},{"v":0,"d":"0.00"}]
[{"$nulls":14},{"$f":"IF($B586=\"\",\"\",IF(F586=\"Arbeitgeberähnliche Stellung\",OFFSET(MD!$Q$5,MATCH(Grundlagen_Abrechnung_KAE!$AK$7,MD_JAHR,0),0)*$H586,IF(((AD586/12*M586*12)+N586)>AF586,AF586/12,((AD586/12*M586*12)+N586)/12)))","v":""},null,null,{"v":0,"d":"0.00"},null,{"v":0,"d":"0.00%"},{"v":0,"d":"0.00"},{"v":0,"d":"0.00"},{"v":0,"d":"0.00"},null,"prüfen",{"$f":"IFERROR(OFFSET(MD!$U$5,MATCH(Grundlagen_Abrechnung_KAE!$E586,MD_GENDER,0),0),\"\")","v":""},{"v":0,"d":"0.00"},null,{"v":0,"d":"0.00"},{"$f":"IF(F586=\"Arbeitgeberähnliche Stellung\",OFFSET(MD!$Q$5,MATCH(Grundlagen_Abrechnung_KAE!$AK$7,MD_JAHR,0),0)*$H586,IF(J586>0,AC586,I586))","v":{"v":0,"d":"0.00"}},null,{"$f":"OFFSET(MD!$P$5,MATCH($AK$7,MD_JAHR,0),0)*12","v":{"$error":"#VALUE!"}},{"v":0,"d":"0.00"}]
[{"$nulls":14},{"$f":"IF($B587=\"\",\"\",IF(F587=\"Arbeitgeberähnliche Stellung\",OFFSET(MD!$Q$5,MATCH(Grundlagen_Abrechnung_KAE!$AK$7,MD_JAHR,0),0)*$H587,IF(((AD587/12*M587*12)+N587)>AF587,AF587/12,((AD587/12*M587*12)+N587)/12)))","v":""},null,null,{"v":0,"d":"0.00"},null,{"v":0,"d":"0.00%"},{"v":0,"d":"0.00"},{"v":0,"d":"0.00"},{"v":0,"d":"0.00"},null,"prüfen",{"$f":"IFERROR(OFFSET(MD!$U$5,MATCH(Grundlagen_Abrechnung_KAE!$E587,MD_GENDER,0),0),\"\")","v":""},{"v":0,"d":"0.00"},null,{"v":0,"d":"0.00"},{"$f":"IF(F587=\"Arbeitgeberähnliche Stellung\",OFFSET(MD!$Q$5,MATCH(Grundlagen_Abrechnung_KAE!$AK$7,MD_JAHR,0),0)*$H587,IF(J587>0,AC587,I587))","v":{"v":0,"d":"0.00"}},null,{"$f":"OFFSET(MD!$P$5,MATCH($AK$7,MD_JAHR,0),0)*12","v":{"$error":"#VALUE!"}},{"v":0,"d":"0.00"}]
[{"$nulls":14},{"$f":"IF($B588=\"\",\"\",IF(F588=\"Arbeitgeberähnliche Stellung\",OFFSET(MD!$Q$5,MATCH(Grundlagen_Abrechnung_KAE!$AK$7,MD_JAHR,0),0)*$H588,IF(((AD588/12*M588*12)+N588)>AF588,AF588/12,((AD588/12*M588*12)+N588)/12)))","v":""},null,null,{"v":0,"d":"0.00"},null,{"v":0,"d":"0.00%"},{"v":0,"d":"0.00"},{"v":0,"d":"0.00"},{"v":0,"d":"0.00"},null,"prüfen",{"$f":"IFERROR(OFFSET(MD!$U$5,MATCH(Grundlagen_Abrechnung_KAE!$E588,MD_GENDER,0),0),\"\")","v":""},{"v":0,"d":"0.00"},null,{"v":0,"d":"0.00"},{"$f":"IF(F588=\"Arbeitgeberähnliche Stellung\",OFFSET(MD!$Q$5,MATCH(Grundlagen_Abrechnung_KAE!$AK$7,MD_JAHR,0),0)*$H588,IF(J588>0,AC588,I588))","v":{"v":0,"d":"0.00"}},null,{"$f":"OFFSET(MD!$P$5,MATCH($AK$7,MD_JAHR,0),0)*12","v":{"$error":"#VALUE!"}},{"v":0,"d":"0.00"}]
[{"$nulls":14},{"$f":"IF($B589=\"\",\"\",IF(F589=\"Arbeitgeberähnliche Stellung\",OFFSET(MD!$Q$5,MATCH(Grundlagen_Abrechnung_KAE!$AK$7,MD_JAHR,0),0)*$H589,IF(((AD589/12*M589*12)+N589)>AF589,AF589/12,((AD589/12*M589*12)+N589)/12)))","v":""},null,null,{"v":0,"d":"0.00"},null,{"v":0,"d":"0.00%"},{"v":0,"d":"0.00"},{"v":0,"d":"0.00"},{"v":0,"d":"0.00"},null,"prüfen",{"$f":"IFERROR(OFFSET(MD!$U$5,MATCH(Grundlagen_Abrechnung_KAE!$E589,MD_GENDER,0),0),\"\")","v":""},{"v":0,"d":"0.00"},null,{"v":0,"d":"0.00"},{"$f":"IF(F589=\"Arbeitgeberähnliche Stellung\",OFFSET(MD!$Q$5,MATCH(Grundlagen_Abrechnung_KAE!$AK$7,MD_JAHR,0),0)*$H589,IF(J589>0,AC589,I589))","v":{"v":0,"d":"0.00"}},null,{"$f":"OFFSET(MD!$P$5,MATCH($AK$7,MD_JAHR,0),0)*12","v":{"$error":"#VALUE!"}},{"v":0,"d":"0.00"}]
[{"$nulls":14},{"$f":"IF($B590=\"\",\"\",IF(F590=\"Arbeitgeberähnliche Stellung\",OFFSET(MD!$Q$5,MATCH(Grundlagen_Abrechnung_KAE!$AK$7,MD_JAHR,0),0)*$H590,IF(((AD590/12*M590*12)+N590)>AF590,AF590/12,((AD590/12*M590*12)+N590)/12)))","v":""},null,null,{"v":0,"d":"0.00"},null,{"v":0,"d":"0.00%"},{"v":0,"d":"0.00"},{"v":0,"d":"0.00"},{"v":0,"d":"0.00"},null,"prüfen",{"$f":"IFERROR(OFFSET(MD!$U$5,MATCH(Grundlagen_Abrechnung_KAE!$E590,MD_GENDER,0),0),\"\")","v":""},{"v":0,"d":"0.00"},null,{"v":0,"d":"0.00"},{"$f":"IF(F590=\"Arbeitgeberähnliche Stellung\",OFFSET(MD!$Q$5,MATCH(Grundlagen_Abrechnung_KAE!$AK$7,MD_JAHR,0),0)*$H590,IF(J590>0,AC590,I590))","v":{"v":0,"d":"0.00"}},null,{"$f":"OFFSET(MD!$P$5,MATCH($AK$7,MD_JAHR,0),0)*12","v":{"$error":"#VALUE!"}},{"v":0,"d":"0.00"}]
[{"$nulls":14},{"$f":"IF($B591=\"\",\"\",IF(F591=\"Arbeitgeberähnliche Stellung\",OFFSET(MD!$Q$5,MATCH(Grundlagen_Abrechnung_KAE!$AK$7,MD_JAHR,0),0)*$H591,IF(((AD591/12*M591*12)+N591)>AF591,AF591/12,((AD591/12*M591*12)+N591)/12)))","v":""},null,null,{"v":0,"d":"0.00"},null,{"v":0,"d":"0.00%"},{"v":0,"d":"0.00"},{"v":0,"d":"0.00"},{"v":0,"d":"0.00"},null,"prüfen",{"$f":"IFERROR(OFFSET(MD!$U$5,MATCH(Grundlagen_Abrechnung_KAE!$E591,MD_GENDER,0),0),\"\")","v":""},{"v":0,"d":"0.00"},null,{"v":0,"d":"0.00"},{"$f":"IF(F591=\"Arbeitgeberähnliche Stellung\",OFFSET(MD!$Q$5,MATCH(Grundlagen_Abrechnung_KAE!$AK$7,MD_JAHR,0),0)*$H591,IF(J591>0,AC591,I591))","v":{"v":0,"d":"0.00"}},null,{"$f":"OFFSET(MD!$P$5,MATCH($AK$7,MD_JAHR,0),0)*12","v":{"$error":"#VALUE!"}},{"v":0,"d":"0.00"}]
[{"$nulls":14},{"$f":"IF($B592=\"\",\"\",IF(F592=\"Arbeitgeberähnliche Stellung\",OFFSET(MD!$Q$5,MATCH(Grundlagen_Abrechnung_KAE!$AK$7,MD_JAHR,0),0)*$H592,IF(((AD592/12*M592*12)+N592)>AF592,AF592/12,((AD592/12*M592*12)+N592)/12)))","v":""},null,null,{"v":0,"d":"0.00"},null,{"v":0,"d":"0.00%"},{"v":0,"d":"0.00"},{"v":0,"d":"0.00"},{"v":0,"d":"0.00"},null,"prüfen",{"$f":"IFERROR(OFFSET(MD!$U$5,MATCH(Grundlagen_Abrechnung_KAE!$E592,MD_GENDER,0),0),\"\")","v":""},{"v":0,"d":"0.00"},null,{"v":0,"d":"0.00"},{"$f":"IF(F592=\"Arbeitgeberähnliche Stellung\",OFFSET(MD!$Q$5,MATCH(Grundlagen_Abrechnung_KAE!$AK$7,MD_JAHR,0),0)*$H592,IF(J592>0,AC592,I592))","v":{"v":0,"d":"0.00"}},null,{"$f":"OFFSET(MD!$P$5,MATCH($AK$7,MD_JAHR,0),0)*12","v":{"$error":"#VALUE!"}},{"v":0,"d":"0.00"}]
[{"$nulls":14},{"$f":"IF($B593=\"\",\"\",IF(F593=\"Arbeitgeberähnliche Stellung\",OFFSET(MD!$Q$5,MATCH(Grundlagen_Abrechnung_KAE!$AK$7,MD_JAHR,0),0)*$H593,IF(((AD593/12*M593*12)+N593)>AF593,AF593/12,((AD593/12*M593*12)+N593)/12)))","v":""},null,null,{"v":0,"d":"0.00"},null,{"v":0,"d":"0.00%"},{"v":0,"d":"0.00"},{"v":0,"d":"0.00"},{"v":0,"d":"0.00"},null,"prüfen",{"$f":"IFERROR(OFFSET(MD!$U$5,MATCH(Grundlagen_Abrechnung_KAE!$E593,MD_GENDER,0),0),\"\")","v":""},{"v":0,"d":"0.00"},null,{"v":0,"d":"0.00"},{"$f":"IF(F593=\"Arbeitgeberähnliche Stellung\",OFFSET(MD!$Q$5,MATCH(Grundlagen_Abrechnung_KAE!$AK$7,MD_JAHR,0),0)*$H593,IF(J593>0,AC593,I593))","v":{"v":0,"d":"0.00"}},null,{"$f":"OFFSET(MD!$P$5,MATCH($AK$7,MD_JAHR,0),0)*12","v":{"$error":"#VALUE!"}},{"v":0,"d":"0.00"}]
[{"$nulls":14},{"$f":"IF($B594=\"\",\"\",IF(F594=\"Arbeitgeberähnliche Stellung\",OFFSET(MD!$Q$5,MATCH(Grundlagen_Abrechnung_KAE!$AK$7,MD_JAHR,0),0)*$H594,IF(((AD594/12*M594*12)+N594)>AF594,AF594/12,((AD594/12*M594*12)+N594)/12)))","v":""},null,null,{"v":0,"d":"0.00"},null,{"v":0,"d":"0.00%"},{"v":0,"d":"0.00"},{"v":0,"d":"0.00"},{"v":0,"d":"0.00"},null,"prüfen",{"$f":"IFERROR(OFFSET(MD!$U$5,MATCH(Grundlagen_Abrechnung_KAE!$E594,MD_GENDER,0),0),\"\")","v":""},{"v":0,"d":"0.00"},null,{"v":0,"d":"0.00"},{"$f":"IF(F594=\"Arbeitgeberähnliche Stellung\",OFFSET(MD!$Q$5,MATCH(Grundlagen_Abrechnung_KAE!$AK$7,MD_JAHR,0),0)*$H594,IF(J594>0,AC594,I594))","v":{"v":0,"d":"0.00"}},null,{"$f":"OFFSET(MD!$P$5,MATCH($AK$7,MD_JAHR,0),0)*12","v":{"$error":"#VALUE!"}},{"v":0,"d":"0.00"}]
[{"$nulls":14},{"$f":"IF($B595=\"\",\"\",IF(F595=\"Arbeitgeberähnliche Stellung\",OFFSET(MD!$Q$5,MATCH(Grundlagen_Abrechnung_KAE!$AK$7,MD_JAHR,0),0)*$H595,IF(((AD595/12*M595*12)+N595)>AF595,AF595/12,((AD595/12*M595*12)+N595)/12)))","v":""},null,null,{"$f":"ROUND(IF(Q595=\"\",0,IF(P595=0,0,IF(Q595>P595,0,P595-Q595))),2)","v":{"v":0,"d":"0.00"}},null,{"$f":"IFERROR(R595/P595,0)","v":{"v":0,"d":"0.00%"}},{"$f":"IFERROR(IF(O595-W595=0,O595,(O595)*(1-T595)),0)","v":{"v":0,"d":"0.00"}},{"v":0,"d":"0.00"},{"$f":"IFERROR(O595*T595,0)*0.8","v":{"v":0,"d":"0.00"}},null,{"$f":"IF(YEAR($G595)>$Y$16,\"prüfen\",\"\")","v":"prüfen"},{"$f":"IFERROR(OFFSET(MD!$U$5,MATCH(Grundlagen_Abrechnung_KAE!$E595,MD_GENDER,0),0),\"\")","v":""},{"$f":"IF(B595=\"\",0,IF(YEAR(G595)>$AA$16,0,1))","v":{"v":0,"d":"0.00"}},null,{"$f":"IF(J595*K595/6>J595*L595/12,J595*K595/6,J595*L595/12)","v":{"v":0,"d":"0.00"}},{"$f":"IF(F595=\"Arbeitgeberähnliche Stellung\",OFFSET(MD!$Q$5,MATCH(Grundlagen_Abrechnung_KAE!$AK$7,MD_JAHR,0),0)*$H595,IF(J595>0,AC595,I595))","v":{"v":0,"d":"0.00"}},null,{"$f":"OFFSET(MD!$P$5,MATCH($AK$7,MD_JAHR,0),0)*12","v":{"$error":"#VALUE!"}},{"$f":"I595*M595+N595","v":{"v":0,"d":"0.00"}}]
[{"$nulls":14},{"$f":"IF($B596=\"\",\"\",IF(F596=\"Arbeitgeberähnliche Stellung\",OFFSET(MD!$Q$5,MATCH(Grundlagen_Abrechnung_KAE!$AK$7,MD_JAHR,0),0)*$H596,IF(((AD596/12*M596*12)+N596)>AF596,AF596/12,((AD596/12*M596*12)+N596)/12)))","v":""},null,null,{"v":0,"d":"0.00"},null,{"v":0,"d":"0.00%"},{"v":0,"d":"0.00"},{"$f":"IFERROR(O596*T596,0)","v":{"v":0,"d":"0.00"}},{"v":0,"d":"0.00"},null,"prüfen",{"$f":"IFERROR(OFFSET(MD!$U$5,MATCH(Grundlagen_Abrechnung_KAE!$E596,MD_GENDER,0),0),\"\")","v":""},{"v":0,"d":"0.00"},null,{"v":0,"d":"0.00"},{"$f":"IF(F596=\"Arbeitgeberähnliche Stellung\",OFFSET(MD!$Q$5,MATCH(Grundlagen_Abrechnung_KAE!$AK$7,MD_JAHR,0),0)*$H596,IF(J596>0,AC596,I596))","v":{"v":0,"d":"0.00"}},null,{"$f":"OFFSET(MD!$P$5,MATCH($AK$7,MD_JAHR,0),0)*12","v":{"$error":"#VALUE!"}},{"v":0,"d":"0.00"}]
[{"$nulls":14},{"$f":"IF($B597=\"\",\"\",IF(F597=\"Arbeitgeberähnliche Stellung\",OFFSET(MD!$Q$5,MATCH(Grundlagen_Abrechnung_KAE!$AK$7,MD_JAHR,0),0)*$H597,IF(((AD597/12*M597*12)+N597)>AF597,AF597/12,((AD597/12*M597*12)+N597)/12)))","v":""},null,null,{"v":0,"d":"0.00"},null,{"v":0,"d":"0.00%"},{"v":0,"d":"0.00"},{"v":0,"d":"0.00"},{"v":0,"d":"0.00"},null,"prüfen",{"$f":"IFERROR(OFFSET(MD!$U$5,MATCH(Grundlagen_Abrechnung_KAE!$E597,MD_GENDER,0),0),\"\")","v":""},{"v":0,"d":"0.00"},null,{"v":0,"d":"0.00"},{"$f":"IF(F597=\"Arbeitgeberähnliche Stellung\",OFFSET(MD!$Q$5,MATCH(Grundlagen_Abrechnung_KAE!$AK$7,MD_JAHR,0),0)*$H597,IF(J597>0,AC597,I597))","v":{"v":0,"d":"0.00"}},null,{"$f":"OFFSET(MD!$P$5,MATCH($AK$7,MD_JAHR,0),0)*12","v":{"$error":"#VALUE!"}},{"v":0,"d":"0.00"}]
[{"$nulls":14},{"$f":"IF($B598=\"\",\"\",IF(F598=\"Arbeitgeberähnliche Stellung\",OFFSET(MD!$Q$5,MATCH(Grundlagen_Abrechnung_KAE!$AK$7,MD_JAHR,0),0)*$H598,IF(((AD598/12*M598*12)+N598)>AF598,AF598/12,((AD598/12*M598*12)+N598)/12)))","v":""},null,null,{"v":0,"d":"0.00"},null,{"v":0,"d":"0.00%"},{"v":0,"d":"0.00"},{"v":0,"d":"0.00"},{"v":0,"d":"0.00"},null,"prüfen",{"$f":"IFERROR(OFFSET(MD!$U$5,MATCH(Grundlagen_Abrechnung_KAE!$E598,MD_GENDER,0),0),\"\")","v":""},{"v":0,"d":"0.00"},null,{"v":0,"d":"0.00"},{"$f":"IF(F598=\"Arbeitgeberähnliche Stellung\",OFFSET(MD!$Q$5,MATCH(Grundlagen_Abrechnung_KAE!$AK$7,MD_JAHR,0),0)*$H598,IF(J598>0,AC598,I598))","v":{"v":0,"d":"0.00"}},null,{"$f":"OFFSET(MD!$P$5,MATCH($AK$7,MD_JAHR,0),0)*12","v":{"$error":"#VALUE!"}},{"v":0,"d":"0.00"}]
[{"$nulls":14},{"$f":"IF($B599=\"\",\"\",IF(F599=\"Arbeitgeberähnliche Stellung\",OFFSET(MD!$Q$5,MATCH(Grundlagen_Abrechnung_KAE!$AK$7,MD_JAHR,0),0)*$H599,IF(((AD599/12*M599*12)+N599)>AF599,AF599/12,((AD599/12*M599*12)+N599)/12)))","v":""},null,null,{"v":0,"d":"0.00"},null,{"v":0,"d":"0.00%"},{"v":0,"d":"0.00"},{"v":0,"d":"0.00"},{"v":0,"d":"0.00"},null,"prüfen",{"$f":"IFERROR(OFFSET(MD!$U$5,MATCH(Grundlagen_Abrechnung_KAE!$E599,MD_GENDER,0),0),\"\")","v":""},{"v":0,"d":"0.00"},null,{"v":0,"d":"0.00"},{"$f":"IF(F599=\"Arbeitgeberähnliche Stellung\",OFFSET(MD!$Q$5,MATCH(Grundlagen_Abrechnung_KAE!$AK$7,MD_JAHR,0),0)*$H599,IF(J599>0,AC599,I599))","v":{"v":0,"d":"0.00"}},null,{"$f":"OFFSET(MD!$P$5,MATCH($AK$7,MD_JAHR,0),0)*12","v":{"$error":"#VALUE!"}},{"v":0,"d":"0.00"}]
[{"$nulls":14},{"$f":"IF($B600=\"\",\"\",IF(F600=\"Arbeitgeberähnliche Stellung\",OFFSET(MD!$Q$5,MATCH(Grundlagen_Abrechnung_KAE!$AK$7,MD_JAHR,0),0)*$H600,IF(((AD600/12*M600*12)+N600)>AF600,AF600/12,((AD600/12*M600*12)+N600)/12)))","v":""},null,null,{"v":0,"d":"0.00"},null,{"v":0,"d":"0.00%"},{"v":0,"d":"0.00"},{"v":0,"d":"0.00"},{"v":0,"d":"0.00"},null,"prüfen",{"$f":"IFERROR(OFFSET(MD!$U$5,MATCH(Grundlagen_Abrechnung_KAE!$E600,MD_GENDER,0),0),\"\")","v":""},{"v":0,"d":"0.00"},null,{"v":0,"d":"0.00"},{"$f":"IF(F600=\"Arbeitgeberähnliche Stellung\",OFFSET(MD!$Q$5,MATCH(Grundlagen_Abrechnung_KAE!$AK$7,MD_JAHR,0),0)*$H600,IF(J600>0,AC600,I600))","v":{"v":0,"d":"0.00"}},null,{"$f":"OFFSET(MD!$P$5,MATCH($AK$7,MD_JAHR,0),0)*12","v":{"$error":"#VALUE!"}},{"v":0,"d":"0.00"}]
[{"$nulls":14},{"$f":"IF($B601=\"\",\"\",IF(F601=\"Arbeitgeberähnliche Stellung\",OFFSET(MD!$Q$5,MATCH(Grundlagen_Abrechnung_KAE!$AK$7,MD_JAHR,0),0)*$H601,IF(((AD601/12*M601*12)+N601)>AF601,AF601/12,((AD601/12*M601*12)+N601)/12)))","v":""},null,null,{"v":0,"d":"0.00"},null,{"v":0,"d":"0.00%"},{"v":0,"d":"0.00"},{"v":0,"d":"0.00"},{"v":0,"d":"0.00"},null,"prüfen",{"$f":"IFERROR(OFFSET(MD!$U$5,MATCH(Grundlagen_Abrechnung_KAE!$E601,MD_GENDER,0),0),\"\")","v":""},{"v":0,"d":"0.00"},null,{"v":0,"d":"0.00"},{"$f":"IF(F601=\"Arbeitgeberähnliche Stellung\",OFFSET(MD!$Q$5,MATCH(Grundlagen_Abrechnung_KAE!$AK$7,MD_JAHR,0),0)*$H601,IF(J601>0,AC601,I601))","v":{"v":0,"d":"0.00"}},null,{"$f":"OFFSET(MD!$P$5,MATCH($AK$7,MD_JAHR,0),0)*12","v":{"$error":"#VALUE!"}},{"v":0,"d":"0.00"}]
[{"$nulls":14},{"$f":"IF($B602=\"\",\"\",IF(F602=\"Arbeitgeberähnliche Stellung\",OFFSET(MD!$Q$5,MATCH(Grundlagen_Abrechnung_KAE!$AK$7,MD_JAHR,0),0)*$H602,IF(((AD602/12*M602*12)+N602)>AF602,AF602/12,((AD602/12*M602*12)+N602)/12)))","v":""},null,null,{"v":0,"d":"0.00"},null,{"v":0,"d":"0.00%"},{"v":0,"d":"0.00"},{"v":0,"d":"0.00"},{"v":0,"d":"0.00"},null,"prüfen",{"$f":"IFERROR(OFFSET(MD!$U$5,MATCH(Grundlagen_Abrechnung_KAE!$E602,MD_GENDER,0),0),\"\")","v":""},{"v":0,"d":"0.00"},null,{"v":0,"d":"0.00"},{"$f":"IF(F602=\"Arbeitgeberähnliche Stellung\",OFFSET(MD!$Q$5,MATCH(Grundlagen_Abrechnung_KAE!$AK$7,MD_JAHR,0),0)*$H602,IF(J602>0,AC602,I602))","v":{"v":0,"d":"0.00"}},null,{"$f":"OFFSET(MD!$P$5,MATCH($AK$7,MD_JAHR,0),0)*12","v":{"$error":"#VALUE!"}},{"v":0,"d":"0.00"}]
[{"$nulls":14},{"$f":"IF($B603=\"\",\"\",IF(F603=\"Arbeitgeberähnliche Stellung\",OFFSET(MD!$Q$5,MATCH(Grundlagen_Abrechnung_KAE!$AK$7,MD_JAHR,0),0)*$H603,IF(((AD603/12*M603*12)+N603)>AF603,AF603/12,((AD603/12*M603*12)+N603)/12)))","v":""},null,null,{"v":0,"d":"0.00"},null,{"v":0,"d":"0.00%"},{"v":0,"d":"0.00"},{"v":0,"d":"0.00"},{"v":0,"d":"0.00"},null,"prüfen",{"$f":"IFERROR(OFFSET(MD!$U$5,MATCH(Grundlagen_Abrechnung_KAE!$E603,MD_GENDER,0),0),\"\")","v":""},{"v":0,"d":"0.00"},null,{"v":0,"d":"0.00"},{"$f":"IF(F603=\"Arbeitgeberähnliche Stellung\",OFFSET(MD!$Q$5,MATCH(Grundlagen_Abrechnung_KAE!$AK$7,MD_JAHR,0),0)*$H603,IF(J603>0,AC603,I603))","v":{"v":0,"d":"0.00"}},null,{"$f":"OFFSET(MD!$P$5,MATCH($AK$7,MD_JAHR,0),0)*12","v":{"$error":"#VALUE!"}},{"v":0,"d":"0.00"}]
[{"$nulls":14},{"$f":"IF($B604=\"\",\"\",IF(F604=\"Arbeitgeberähnliche Stellung\",OFFSET(MD!$Q$5,MATCH(Grundlagen_Abrechnung_KAE!$AK$7,MD_JAHR,0),0)*$H604,IF(((AD604/12*M604*12)+N604)>AF604,AF604/12,((AD604/12*M604*12)+N604)/12)))","v":""},null,null,{"v":0,"d":"0.00"},null,{"v":0,"d":"0.00%"},{"v":0,"d":"0.00"},{"v":0,"d":"0.00"},{"v":0,"d":"0.00"},null,"prüfen",{"$f":"IFERROR(OFFSET(MD!$U$5,MATCH(Grundlagen_Abrechnung_KAE!$E604,MD_GENDER,0),0),\"\")","v":""},{"v":0,"d":"0.00"},null,{"v":0,"d":"0.00"},{"$f":"IF(F604=\"Arbeitgeberähnliche Stellung\",OFFSET(MD!$Q$5,MATCH(Grundlagen_Abrechnung_KAE!$AK$7,MD_JAHR,0),0)*$H604,IF(J604>0,AC604,I604))","v":{"v":0,"d":"0.00"}},null,{"$f":"OFFSET(MD!$P$5,MATCH($AK$7,MD_JAHR,0),0)*12","v":{"$error":"#VALUE!"}},{"v":0,"d":"0.00"}]
[{"$nulls":14},{"$f":"IF($B605=\"\",\"\",IF(F605=\"Arbeitgeberähnliche Stellung\",OFFSET(MD!$Q$5,MATCH(Grundlagen_Abrechnung_KAE!$AK$7,MD_JAHR,0),0)*$H605,IF(((AD605/12*M605*12)+N605)>AF605,AF605/12,((AD605/12*M605*12)+N605)/12)))","v":""},null,null,{"v":0,"d":"0.00"},null,{"v":0,"d":"0.00%"},{"v":0,"d":"0.00"},{"v":0,"d":"0.00"},{"v":0,"d":"0.00"},null,"prüfen",{"$f":"IFERROR(OFFSET(MD!$U$5,MATCH(Grundlagen_Abrechnung_KAE!$E605,MD_GENDER,0),0),\"\")","v":""},{"v":0,"d":"0.00"},null,{"v":0,"d":"0.00"},{"$f":"IF(F605=\"Arbeitgeberähnliche Stellung\",OFFSET(MD!$Q$5,MATCH(Grundlagen_Abrechnung_KAE!$AK$7,MD_JAHR,0),0)*$H605,IF(J605>0,AC605,I605))","v":{"v":0,"d":"0.00"}},null,{"$f":"OFFSET(MD!$P$5,MATCH($AK$7,MD_JAHR,0),0)*12","v":{"$error":"#VALUE!"}},{"v":0,"d":"0.00"}]
[{"$nulls":14},{"$f":"IF($B606=\"\",\"\",IF(F606=\"Arbeitgeberähnliche Stellung\",OFFSET(MD!$Q$5,MATCH(Grundlagen_Abrechnung_KAE!$AK$7,MD_JAHR,0),0)*$H606,IF(((AD606/12*M606*12)+N606)>AF606,AF606/12,((AD606/12*M606*12)+N606)/12)))","v":""},null,null,{"v":0,"d":"0.00"},null,{"v":0,"d":"0.00%"},{"v":0,"d":"0.00"},{"v":0,"d":"0.00"},{"v":0,"d":"0.00"},null,"prüfen",{"$f":"IFERROR(OFFSET(MD!$U$5,MATCH(Grundlagen_Abrechnung_KAE!$E606,MD_GENDER,0),0),\"\")","v":""},{"v":0,"d":"0.00"},null,{"v":0,"d":"0.00"},{"$f":"IF(F606=\"Arbeitgeberähnliche Stellung\",OFFSET(MD!$Q$5,MATCH(Grundlagen_Abrechnung_KAE!$AK$7,MD_JAHR,0),0)*$H606,IF(J606>0,AC606,I606))","v":{"v":0,"d":"0.00"}},null,{"$f":"OFFSET(MD!$P$5,MATCH($AK$7,MD_JAHR,0),0)*12","v":{"$error":"#VALUE!"}},{"v":0,"d":"0.00"}]
[{"$nulls":14},{"$f":"IF($B607=\"\",\"\",IF(F607=\"Arbeitgeberähnliche Stellung\",OFFSET(MD!$Q$5,MATCH(Grundlagen_Abrechnung_KAE!$AK$7,MD_JAHR,0),0)*$H607,IF(((AD607/12*M607*12)+N607)>AF607,AF607/12,((AD607/12*M607*12)+N607)/12)))","v":""},null,null,{"v":0,"d":"0.00"},null,{"v":0,"d":"0.00%"},{"v":0,"d":"0.00"},{"v":0,"d":"0.00"},{"v":0,"d":"0.00"},null,"prüfen",{"$f":"IFERROR(OFFSET(MD!$U$5,MATCH(Grundlagen_Abrechnung_KAE!$E607,MD_GENDER,0),0),\"\")","v":""},{"v":0,"d":"0.00"},null,{"v":0,"d":"0.00"},{"$f":"IF(F607=\"Arbeitgeberähnliche Stellung\",OFFSET(MD!$Q$5,MATCH(Grundlagen_Abrechnung_KAE!$AK$7,MD_JAHR,0),0)*$H607,IF(J607>0,AC607,I607))","v":{"v":0,"d":"0.00"}},null,{"$f":"OFFSET(MD!$P$5,MATCH($AK$7,MD_JAHR,0),0)*12","v":{"$error":"#VALUE!"}},{"v":0,"d":"0.00"}]
[{"$nulls":14},{"$f":"IF($B608=\"\",\"\",IF(F608=\"Arbeitgeberähnliche Stellung\",OFFSET(MD!$Q$5,MATCH(Grundlagen_Abrechnung_KAE!$AK$7,MD_JAHR,0),0)*$H608,IF(((AD608/12*M608*12)+N608)>AF608,AF608/12,((AD608/12*M608*12)+N608)/12)))","v":""},null,null,{"v":0,"d":"0.00"},null,{"v":0,"d":"0.00%"},{"v":0,"d":"0.00"},{"v":0,"d":"0.00"},{"v":0,"d":"0.00"},null,"prüfen",{"$f":"IFERROR(OFFSET(MD!$U$5,MATCH(Grundlagen_Abrechnung_KAE!$E608,MD_GENDER,0),0),\"\")","v":""},{"v":0,"d":"0.00"},null,{"v":0,"d":"0.00"},{"$f":"IF(F608=\"Arbeitgeberähnliche Stellung\",OFFSET(MD!$Q$5,MATCH(Grundlagen_Abrechnung_KAE!$AK$7,MD_JAHR,0),0)*$H608,IF(J608>0,AC608,I608))","v":{"v":0,"d":"0.00"}},null,{"$f":"OFFSET(MD!$P$5,MATCH($AK$7,MD_JAHR,0),0)*12","v":{"$error":"#VALUE!"}},{"v":0,"d":"0.00"}]
[{"$nulls":14},{"$f":"IF($B609=\"\",\"\",IF(F609=\"Arbeitgeberähnliche Stellung\",OFFSET(MD!$Q$5,MATCH(Grundlagen_Abrechnung_KAE!$AK$7,MD_JAHR,0),0)*$H609,IF(((AD609/12*M609*12)+N609)>AF609,AF609/12,((AD609/12*M609*12)+N609)/12)))","v":""},null,null,{"v":0,"d":"0.00"},null,{"v":0,"d":"0.00%"},{"v":0,"d":"0.00"},{"v":0,"d":"0.00"},{"v":0,"d":"0.00"},null,"prüfen",{"$f":"IFERROR(OFFSET(MD!$U$5,MATCH(Grundlagen_Abrechnung_KAE!$E609,MD_GENDER,0),0),\"\")","v":""},{"v":0,"d":"0.00"},null,{"v":0,"d":"0.00"},{"$f":"IF(F609=\"Arbeitgeberähnliche Stellung\",OFFSET(MD!$Q$5,MATCH(Grundlagen_Abrechnung_KAE!$AK$7,MD_JAHR,0),0)*$H609,IF(J609>0,AC609,I609))","v":{"v":0,"d":"0.00"}},null,{"$f":"OFFSET(MD!$P$5,MATCH($AK$7,MD_JAHR,0),0)*12","v":{"$error":"#VALUE!"}},{"v":0,"d":"0.00"}]
[{"$nulls":14},{"$f":"IF($B610=\"\",\"\",IF(F610=\"Arbeitgeberähnliche Stellung\",OFFSET(MD!$Q$5,MATCH(Grundlagen_Abrechnung_KAE!$AK$7,MD_JAHR,0),0)*$H610,IF(((AD610/12*M610*12)+N610)>AF610,AF610/12,((AD610/12*M610*12)+N610)/12)))","v":""},null,null,{"v":0,"d":"0.00"},null,{"v":0,"d":"0.00%"},{"v":0,"d":"0.00"},{"v":0,"d":"0.00"},{"v":0,"d":"0.00"},null,"prüfen",{"$f":"IFERROR(OFFSET(MD!$U$5,MATCH(Grundlagen_Abrechnung_KAE!$E610,MD_GENDER,0),0),\"\")","v":""},{"v":0,"d":"0.00"},null,{"v":0,"d":"0.00"},{"$f":"IF(F610=\"Arbeitgeberähnliche Stellung\",OFFSET(MD!$Q$5,MATCH(Grundlagen_Abrechnung_KAE!$AK$7,MD_JAHR,0),0)*$H610,IF(J610>0,AC610,I610))","v":{"v":0,"d":"0.00"}},null,{"$f":"OFFSET(MD!$P$5,MATCH($AK$7,MD_JAHR,0),0)*12","v":{"$error":"#VALUE!"}},{"v":0,"d":"0.00"}]
[{"$nulls":14},{"$f":"IF($B611=\"\",\"\",IF(F611=\"Arbeitgeberähnliche Stellung\",OFFSET(MD!$Q$5,MATCH(Grundlagen_Abrechnung_KAE!$AK$7,MD_JAHR,0),0)*$H611,IF(((AD611/12*M611*12)+N611)>AF611,AF611/12,((AD611/12*M611*12)+N611)/12)))","v":""},null,null,{"v":0,"d":"0.00"},null,{"v":0,"d":"0.00%"},{"v":0,"d":"0.00"},{"v":0,"d":"0.00"},{"v":0,"d":"0.00"},null,"prüfen",{"$f":"IFERROR(OFFSET(MD!$U$5,MATCH(Grundlagen_Abrechnung_KAE!$E611,MD_GENDER,0),0),\"\")","v":""},{"v":0,"d":"0.00"},null,{"v":0,"d":"0.00"},{"$f":"IF(F611=\"Arbeitgeberähnliche Stellung\",OFFSET(MD!$Q$5,MATCH(Grundlagen_Abrechnung_KAE!$AK$7,MD_JAHR,0),0)*$H611,IF(J611>0,AC611,I611))","v":{"v":0,"d":"0.00"}},null,{"$f":"OFFSET(MD!$P$5,MATCH($AK$7,MD_JAHR,0),0)*12","v":{"$error":"#VALUE!"}},{"v":0,"d":"0.00"}]
[{"$nulls":14},{"$f":"IF($B612=\"\",\"\",IF(F612=\"Arbeitgeberähnliche Stellung\",OFFSET(MD!$Q$5,MATCH(Grundlagen_Abrechnung_KAE!$AK$7,MD_JAHR,0),0)*$H612,IF(((AD612/12*M612*12)+N612)>AF612,AF612/12,((AD612/12*M612*12)+N612)/12)))","v":""},null,null,{"v":0,"d":"0.00"},null,{"v":0,"d":"0.00%"},{"v":0,"d":"0.00"},{"v":0,"d":"0.00"},{"v":0,"d":"0.00"},null,"prüfen",{"$f":"IFERROR(OFFSET(MD!$U$5,MATCH(Grundlagen_Abrechnung_KAE!$E612,MD_GENDER,0),0),\"\")","v":""},{"v":0,"d":"0.00"},null,{"v":0,"d":"0.00"},{"$f":"IF(F612=\"Arbeitgeberähnliche Stellung\",OFFSET(MD!$Q$5,MATCH(Grundlagen_Abrechnung_KAE!$AK$7,MD_JAHR,0),0)*$H612,IF(J612>0,AC612,I612))","v":{"v":0,"d":"0.00"}},null,{"$f":"OFFSET(MD!$P$5,MATCH($AK$7,MD_JAHR,0),0)*12","v":{"$error":"#VALUE!"}},{"v":0,"d":"0.00"}]
[{"$nulls":14},{"$f":"IF($B613=\"\",\"\",IF(F613=\"Arbeitgeberähnliche Stellung\",OFFSET(MD!$Q$5,MATCH(Grundlagen_Abrechnung_KAE!$AK$7,MD_JAHR,0),0)*$H613,IF(((AD613/12*M613*12)+N613)>AF613,AF613/12,((AD613/12*M613*12)+N613)/12)))","v":""},null,null,{"v":0,"d":"0.00"},null,{"v":0,"d":"0.00%"},{"v":0,"d":"0.00"},{"v":0,"d":"0.00"},{"v":0,"d":"0.00"},null,"prüfen",{"$f":"IFERROR(OFFSET(MD!$U$5,MATCH(Grundlagen_Abrechnung_KAE!$E613,MD_GENDER,0),0),\"\")","v":""},{"v":0,"d":"0.00"},null,{"v":0,"d":"0.00"},{"$f":"IF(F613=\"Arbeitgeberähnliche Stellung\",OFFSET(MD!$Q$5,MATCH(Grundlagen_Abrechnung_KAE!$AK$7,MD_JAHR,0),0)*$H613,IF(J613>0,AC613,I613))","v":{"v":0,"d":"0.00"}},null,{"$f":"OFFSET(MD!$P$5,MATCH($AK$7,MD_JAHR,0),0)*12","v":{"$error":"#VALUE!"}},{"v":0,"d":"0.00"}]
[{"$nulls":14},{"$f":"IF($B614=\"\",\"\",IF(F614=\"Arbeitgeberähnliche Stellung\",OFFSET(MD!$Q$5,MATCH(Grundlagen_Abrechnung_KAE!$AK$7,MD_JAHR,0),0)*$H614,IF(((AD614/12*M614*12)+N614)>AF614,AF614/12,((AD614/12*M614*12)+N614)/12)))","v":""},null,null,{"v":0,"d":"0.00"},null,{"v":0,"d":"0.00%"},{"v":0,"d":"0.00"},{"v":0,"d":"0.00"},{"v":0,"d":"0.00"},null,"prüfen",{"$f":"IFERROR(OFFSET(MD!$U$5,MATCH(Grundlagen_Abrechnung_KAE!$E614,MD_GENDER,0),0),\"\")","v":""},{"v":0,"d":"0.00"},null,{"v":0,"d":"0.00"},{"$f":"IF(F614=\"Arbeitgeberähnliche Stellung\",OFFSET(MD!$Q$5,MATCH(Grundlagen_Abrechnung_KAE!$AK$7,MD_JAHR,0),0)*$H614,IF(J614>0,AC614,I614))","v":{"v":0,"d":"0.00"}},null,{"$f":"OFFSET(MD!$P$5,MATCH($AK$7,MD_JAHR,0),0)*12","v":{"$error":"#VALUE!"}},{"v":0,"d":"0.00"}]
[{"$nulls":14},{"$f":"IF($B615=\"\",\"\",IF(F615=\"Arbeitgeberähnliche Stellung\",OFFSET(MD!$Q$5,MATCH(Grundlagen_Abrechnung_KAE!$AK$7,MD_JAHR,0),0)*$H615,IF(((AD615/12*M615*12)+N615)>AF615,AF615/12,((AD615/12*M615*12)+N615)/12)))","v":""},null,null,{"v":0,"d":"0.00"},null,{"v":0,"d":"0.00%"},{"v":0,"d":"0.00"},{"v":0,"d":"0.00"},{"v":0,"d":"0.00"},null,"prüfen",{"$f":"IFERROR(OFFSET(MD!$U$5,MATCH(Grundlagen_Abrechnung_KAE!$E615,MD_GENDER,0),0),\"\")","v":""},{"v":0,"d":"0.00"},null,{"v":0,"d":"0.00"},{"$f":"IF(F615=\"Arbeitgeberähnliche Stellung\",OFFSET(MD!$Q$5,MATCH(Grundlagen_Abrechnung_KAE!$AK$7,MD_JAHR,0),0)*$H615,IF(J615>0,AC615,I615))","v":{"v":0,"d":"0.00"}},null,{"$f":"OFFSET(MD!$P$5,MATCH($AK$7,MD_JAHR,0),0)*12","v":{"$error":"#VALUE!"}},{"v":0,"d":"0.00"}]
[{"$nulls":14},{"$f":"IF($B616=\"\",\"\",IF(F616=\"Arbeitgeberähnliche Stellung\",OFFSET(MD!$Q$5,MATCH(Grundlagen_Abrechnung_KAE!$AK$7,MD_JAHR,0),0)*$H616,IF(((AD616/12*M616*12)+N616)>AF616,AF616/12,((AD616/12*M616*12)+N616)/12)))","v":""},null,null,{"v":0,"d":"0.00"},null,{"v":0,"d":"0.00%"},{"v":0,"d":"0.00"},{"v":0,"d":"0.00"},{"v":0,"d":"0.00"},null,"prüfen",{"$f":"IFERROR(OFFSET(MD!$U$5,MATCH(Grundlagen_Abrechnung_KAE!$E616,MD_GENDER,0),0),\"\")","v":""},{"v":0,"d":"0.00"},null,{"v":0,"d":"0.00"},{"$f":"IF(F616=\"Arbeitgeberähnliche Stellung\",OFFSET(MD!$Q$5,MATCH(Grundlagen_Abrechnung_KAE!$AK$7,MD_JAHR,0),0)*$H616,IF(J616>0,AC616,I616))","v":{"v":0,"d":"0.00"}},null,{"$f":"OFFSET(MD!$P$5,MATCH($AK$7,MD_JAHR,0),0)*12","v":{"$error":"#VALUE!"}},{"v":0,"d":"0.00"}]
[{"$nulls":14},{"$f":"IF($B617=\"\",\"\",IF(F617=\"Arbeitgeberähnliche Stellung\",OFFSET(MD!$Q$5,MATCH(Grundlagen_Abrechnung_KAE!$AK$7,MD_JAHR,0),0)*$H617,IF(((AD617/12*M617*12)+N617)>AF617,AF617/12,((AD617/12*M617*12)+N617)/12)))","v":""},null,null,{"v":0,"d":"0.00"},null,{"v":0,"d":"0.00%"},{"v":0,"d":"0.00"},{"v":0,"d":"0.00"},{"v":0,"d":"0.00"},null,"prüfen",{"$f":"IFERROR(OFFSET(MD!$U$5,MATCH(Grundlagen_Abrechnung_KAE!$E617,MD_GENDER,0),0),\"\")","v":""},{"v":0,"d":"0.00"},null,{"v":0,"d":"0.00"},{"$f":"IF(F617=\"Arbeitgeberähnliche Stellung\",OFFSET(MD!$Q$5,MATCH(Grundlagen_Abrechnung_KAE!$AK$7,MD_JAHR,0),0)*$H617,IF(J617>0,AC617,I617))","v":{"v":0,"d":"0.00"}},null,{"$f":"OFFSET(MD!$P$5,MATCH($AK$7,MD_JAHR,0),0)*12","v":{"$error":"#VALUE!"}},{"v":0,"d":"0.00"}]
[{"$nulls":14},{"$f":"IF($B618=\"\",\"\",IF(F618=\"Arbeitgeberähnliche Stellung\",OFFSET(MD!$Q$5,MATCH(Grundlagen_Abrechnung_KAE!$AK$7,MD_JAHR,0),0)*$H618,IF(((AD618/12*M618*12)+N618)>AF618,AF618/12,((AD618/12*M618*12)+N618)/12)))","v":""},null,null,{"v":0,"d":"0.00"},null,{"v":0,"d":"0.00%"},{"v":0,"d":"0.00"},{"v":0,"d":"0.00"},{"v":0,"d":"0.00"},null,"prüfen",{"$f":"IFERROR(OFFSET(MD!$U$5,MATCH(Grundlagen_Abrechnung_KAE!$E618,MD_GENDER,0),0),\"\")","v":""},{"v":0,"d":"0.00"},null,{"v":0,"d":"0.00"},{"$f":"IF(F618=\"Arbeitgeberähnliche Stellung\",OFFSET(MD!$Q$5,MATCH(Grundlagen_Abrechnung_KAE!$AK$7,MD_JAHR,0),0)*$H618,IF(J618>0,AC618,I618))","v":{"v":0,"d":"0.00"}},null,{"$f":"OFFSET(MD!$P$5,MATCH($AK$7,MD_JAHR,0),0)*12","v":{"$error":"#VALUE!"}},{"v":0,"d":"0.00"}]
[{"$nulls":14},{"$f":"IF($B619=\"\",\"\",IF(F619=\"Arbeitgeberähnliche Stellung\",OFFSET(MD!$Q$5,MATCH(Grundlagen_Abrechnung_KAE!$AK$7,MD_JAHR,0),0)*$H619,IF(((AD619/12*M619*12)+N619)>AF619,AF619/12,((AD619/12*M619*12)+N619)/12)))","v":""},null,null,{"v":0,"d":"0.00"},null,{"v":0,"d":"0.00%"},{"v":0,"d":"0.00"},{"v":0,"d":"0.00"},{"v":0,"d":"0.00"},null,"prüfen",{"$f":"IFERROR(OFFSET(MD!$U$5,MATCH(Grundlagen_Abrechnung_KAE!$E619,MD_GENDER,0),0),\"\")","v":""},{"v":0,"d":"0.00"},null,{"v":0,"d":"0.00"},{"$f":"IF(F619=\"Arbeitgeberähnliche Stellung\",OFFSET(MD!$Q$5,MATCH(Grundlagen_Abrechnung_KAE!$AK$7,MD_JAHR,0),0)*$H619,IF(J619>0,AC619,I619))","v":{"v":0,"d":"0.00"}},null,{"$f":"OFFSET(MD!$P$5,MATCH($AK$7,MD_JAHR,0),0)*12","v":{"$error":"#VALUE!"}},{"v":0,"d":"0.00"}]
[{"$nulls":14},{"$f":"IF($B620=\"\",\"\",IF(F620=\"Arbeitgeberähnliche Stellung\",OFFSET(MD!$Q$5,MATCH(Grundlagen_Abrechnung_KAE!$AK$7,MD_JAHR,0),0)*$H620,IF(((AD620/12*M620*12)+N620)>AF620,AF620/12,((AD620/12*M620*12)+N620)/12)))","v":""},null,null,{"v":0,"d":"0.00"},null,{"v":0,"d":"0.00%"},{"v":0,"d":"0.00"},{"v":0,"d":"0.00"},{"v":0,"d":"0.00"},null,"prüfen",{"$f":"IFERROR(OFFSET(MD!$U$5,MATCH(Grundlagen_Abrechnung_KAE!$E620,MD_GENDER,0),0),\"\")","v":""},{"v":0,"d":"0.00"},null,{"v":0,"d":"0.00"},{"$f":"IF(F620=\"Arbeitgeberähnliche Stellung\",OFFSET(MD!$Q$5,MATCH(Grundlagen_Abrechnung_KAE!$AK$7,MD_JAHR,0),0)*$H620,IF(J620>0,AC620,I620))","v":{"v":0,"d":"0.00"}},null,{"$f":"OFFSET(MD!$P$5,MATCH($AK$7,MD_JAHR,0),0)*12","v":{"$error":"#VALUE!"}},{"v":0,"d":"0.00"}]
[{"$nulls":14},{"$f":"IF($B621=\"\",\"\",IF(F621=\"Arbeitgeberähnliche Stellung\",OFFSET(MD!$Q$5,MATCH(Grundlagen_Abrechnung_KAE!$AK$7,MD_JAHR,0),0)*$H621,IF(((AD621/12*M621*12)+N621)>AF621,AF621/12,((AD621/12*M621*12)+N621)/12)))","v":""},null,null,{"v":0,"d":"0.00"},null,{"v":0,"d":"0.00%"},{"v":0,"d":"0.00"},{"v":0,"d":"0.00"},{"v":0,"d":"0.00"},null,"prüfen",{"$f":"IFERROR(OFFSET(MD!$U$5,MATCH(Grundlagen_Abrechnung_KAE!$E621,MD_GENDER,0),0),\"\")","v":""},{"v":0,"d":"0.00"},null,{"v":0,"d":"0.00"},{"$f":"IF(F621=\"Arbeitgeberähnliche Stellung\",OFFSET(MD!$Q$5,MATCH(Grundlagen_Abrechnung_KAE!$AK$7,MD_JAHR,0),0)*$H621,IF(J621>0,AC621,I621))","v":{"v":0,"d":"0.00"}},null,{"$f":"OFFSET(MD!$P$5,MATCH($AK$7,MD_JAHR,0),0)*12","v":{"$error":"#VALUE!"}},{"v":0,"d":"0.00"}]
[{"$nulls":14},{"$f":"IF($B622=\"\",\"\",IF(F622=\"Arbeitgeberähnliche Stellung\",OFFSET(MD!$Q$5,MATCH(Grundlagen_Abrechnung_KAE!$AK$7,MD_JAHR,0),0)*$H622,IF(((AD622/12*M622*12)+N622)>AF622,AF622/12,((AD622/12*M622*12)+N622)/12)))","v":""},null,null,{"v":0,"d":"0.00"},null,{"v":0,"d":"0.00%"},{"v":0,"d":"0.00"},{"v":0,"d":"0.00"},{"v":0,"d":"0.00"},null,"prüfen",{"$f":"IFERROR(OFFSET(MD!$U$5,MATCH(Grundlagen_Abrechnung_KAE!$E622,MD_GENDER,0),0),\"\")","v":""},{"v":0,"d":"0.00"},null,{"v":0,"d":"0.00"},{"$f":"IF(F622=\"Arbeitgeberähnliche Stellung\",OFFSET(MD!$Q$5,MATCH(Grundlagen_Abrechnung_KAE!$AK$7,MD_JAHR,0),0)*$H622,IF(J622>0,AC622,I622))","v":{"v":0,"d":"0.00"}},null,{"$f":"OFFSET(MD!$P$5,MATCH($AK$7,MD_JAHR,0),0)*12","v":{"$error":"#VALUE!"}},{"v":0,"d":"0.00"}]
[{"$nulls":14},{"$f":"IF($B623=\"\",\"\",IF(F623=\"Arbeitgeberähnliche Stellung\",OFFSET(MD!$Q$5,MATCH(Grundlagen_Abrechnung_KAE!$AK$7,MD_JAHR,0),0)*$H623,IF(((AD623/12*M623*12)+N623)>AF623,AF623/12,((AD623/12*M623*12)+N623)/12)))","v":""},null,null,{"v":0,"d":"0.00"},null,{"v":0,"d":"0.00%"},{"v":0,"d":"0.00"},{"v":0,"d":"0.00"},{"v":0,"d":"0.00"},null,"prüfen",{"$f":"IFERROR(OFFSET(MD!$U$5,MATCH(Grundlagen_Abrechnung_KAE!$E623,MD_GENDER,0),0),\"\")","v":""},{"v":0,"d":"0.00"},null,{"v":0,"d":"0.00"},{"$f":"IF(F623=\"Arbeitgeberähnliche Stellung\",OFFSET(MD!$Q$5,MATCH(Grundlagen_Abrechnung_KAE!$AK$7,MD_JAHR,0),0)*$H623,IF(J623>0,AC623,I623))","v":{"v":0,"d":"0.00"}},null,{"$f":"OFFSET(MD!$P$5,MATCH($AK$7,MD_JAHR,0),0)*12","v":{"$error":"#VALUE!"}},{"v":0,"d":"0.00"}]
[{"$nulls":14},{"$f":"IF($B624=\"\",\"\",IF(F624=\"Arbeitgeberähnliche Stellung\",OFFSET(MD!$Q$5,MATCH(Grundlagen_Abrechnung_KAE!$AK$7,MD_JAHR,0),0)*$H624,IF(((AD624/12*M624*12)+N624)>AF624,AF624/12,((AD624/12*M624*12)+N624)/12)))","v":""},null,null,{"v":0,"d":"0.00"},null,{"v":0,"d":"0.00%"},{"v":0,"d":"0.00"},{"v":0,"d":"0.00"},{"v":0,"d":"0.00"},null,"prüfen",{"$f":"IFERROR(OFFSET(MD!$U$5,MATCH(Grundlagen_Abrechnung_KAE!$E624,MD_GENDER,0),0),\"\")","v":""},{"v":0,"d":"0.00"},null,{"v":0,"d":"0.00"},{"$f":"IF(F624=\"Arbeitgeberähnliche Stellung\",OFFSET(MD!$Q$5,MATCH(Grundlagen_Abrechnung_KAE!$AK$7,MD_JAHR,0),0)*$H624,IF(J624>0,AC624,I624))","v":{"v":0,"d":"0.00"}},null,{"$f":"OFFSET(MD!$P$5,MATCH($AK$7,MD_JAHR,0),0)*12","v":{"$error":"#VALUE!"}},{"v":0,"d":"0.00"}]
[{"$nulls":14},{"$f":"IF($B625=\"\",\"\",IF(F625=\"Arbeitgeberähnliche Stellung\",OFFSET(MD!$Q$5,MATCH(Grundlagen_Abrechnung_KAE!$AK$7,MD_JAHR,0),0)*$H625,IF(((AD625/12*M625*12)+N625)>AF625,AF625/12,((AD625/12*M625*12)+N625)/12)))","v":""},null,null,{"v":0,"d":"0.00"},null,{"v":0,"d":"0.00%"},{"v":0,"d":"0.00"},{"v":0,"d":"0.00"},{"v":0,"d":"0.00"},null,"prüfen",{"$f":"IFERROR(OFFSET(MD!$U$5,MATCH(Grundlagen_Abrechnung_KAE!$E625,MD_GENDER,0),0),\"\")","v":""},{"v":0,"d":"0.00"},null,{"v":0,"d":"0.00"},{"$f":"IF(F625=\"Arbeitgeberähnliche Stellung\",OFFSET(MD!$Q$5,MATCH(Grundlagen_Abrechnung_KAE!$AK$7,MD_JAHR,0),0)*$H625,IF(J625>0,AC625,I625))","v":{"v":0,"d":"0.00"}},null,{"$f":"OFFSET(MD!$P$5,MATCH($AK$7,MD_JAHR,0),0)*12","v":{"$error":"#VALUE!"}},{"v":0,"d":"0.00"}]
[{"$nulls":14},{"$f":"IF($B626=\"\",\"\",IF(F626=\"Arbeitgeberähnliche Stellung\",OFFSET(MD!$Q$5,MATCH(Grundlagen_Abrechnung_KAE!$AK$7,MD_JAHR,0),0)*$H626,IF(((AD626/12*M626*12)+N626)>AF626,AF626/12,((AD626/12*M626*12)+N626)/12)))","v":""},null,null,{"v":0,"d":"0.00"},null,{"v":0,"d":"0.00%"},{"v":0,"d":"0.00"},{"v":0,"d":"0.00"},{"v":0,"d":"0.00"},null,"prüfen",{"$f":"IFERROR(OFFSET(MD!$U$5,MATCH(Grundlagen_Abrechnung_KAE!$E626,MD_GENDER,0),0),\"\")","v":""},{"v":0,"d":"0.00"},null,{"v":0,"d":"0.00"},{"$f":"IF(F626=\"Arbeitgeberähnliche Stellung\",OFFSET(MD!$Q$5,MATCH(Grundlagen_Abrechnung_KAE!$AK$7,MD_JAHR,0),0)*$H626,IF(J626>0,AC626,I626))","v":{"v":0,"d":"0.00"}},null,{"$f":"OFFSET(MD!$P$5,MATCH($AK$7,MD_JAHR,0),0)*12","v":{"$error":"#VALUE!"}},{"v":0,"d":"0.00"}]
[{"$nulls":14},{"$f":"IF($B627=\"\",\"\",IF(F627=\"Arbeitgeberähnliche Stellung\",OFFSET(MD!$Q$5,MATCH(Grundlagen_Abrechnung_KAE!$AK$7,MD_JAHR,0),0)*$H627,IF(((AD627/12*M627*12)+N627)>AF627,AF627/12,((AD627/12*M627*12)+N627)/12)))","v":""},null,null,{"v":0,"d":"0.00"},null,{"v":0,"d":"0.00%"},{"v":0,"d":"0.00"},{"v":0,"d":"0.00"},{"v":0,"d":"0.00"},null,"prüfen",{"$f":"IFERROR(OFFSET(MD!$U$5,MATCH(Grundlagen_Abrechnung_KAE!$E627,MD_GENDER,0),0),\"\")","v":""},{"v":0,"d":"0.00"},null,{"v":0,"d":"0.00"},{"$f":"IF(F627=\"Arbeitgeberähnliche Stellung\",OFFSET(MD!$Q$5,MATCH(Grundlagen_Abrechnung_KAE!$AK$7,MD_JAHR,0),0)*$H627,IF(J627>0,AC627,I627))","v":{"v":0,"d":"0.00"}},null,{"$f":"OFFSET(MD!$P$5,MATCH($AK$7,MD_JAHR,0),0)*12","v":{"$error":"#VALUE!"}},{"v":0,"d":"0.00"}]
[{"$nulls":14},{"$f":"IF($B628=\"\",\"\",IF(F628=\"Arbeitgeberähnliche Stellung\",OFFSET(MD!$Q$5,MATCH(Grundlagen_Abrechnung_KAE!$AK$7,MD_JAHR,0),0)*$H628,IF(((AD628/12*M628*12)+N628)>AF628,AF628/12,((AD628/12*M628*12)+N628)/12)))","v":""},null,null,{"v":0,"d":"0.00"},null,{"v":0,"d":"0.00%"},{"v":0,"d":"0.00"},{"v":0,"d":"0.00"},{"v":0,"d":"0.00"},null,"prüfen",{"$f":"IFERROR(OFFSET(MD!$U$5,MATCH(Grundlagen_Abrechnung_KAE!$E628,MD_GENDER,0),0),\"\")","v":""},{"v":0,"d":"0.00"},null,{"v":0,"d":"0.00"},{"$f":"IF(F628=\"Arbeitgeberähnliche Stellung\",OFFSET(MD!$Q$5,MATCH(Grundlagen_Abrechnung_KAE!$AK$7,MD_JAHR,0),0)*$H628,IF(J628>0,AC628,I628))","v":{"v":0,"d":"0.00"}},null,{"$f":"OFFSET(MD!$P$5,MATCH($AK$7,MD_JAHR,0),0)*12","v":{"$error":"#VALUE!"}},{"v":0,"d":"0.00"}]
[{"$nulls":14},{"$f":"IF($B629=\"\",\"\",IF(F629=\"Arbeitgeberähnliche Stellung\",OFFSET(MD!$Q$5,MATCH(Grundlagen_Abrechnung_KAE!$AK$7,MD_JAHR,0),0)*$H629,IF(((AD629/12*M629*12)+N629)>AF629,AF629/12,((AD629/12*M629*12)+N629)/12)))","v":""},null,null,{"v":0,"d":"0.00"},null,{"v":0,"d":"0.00%"},{"v":0,"d":"0.00"},{"v":0,"d":"0.00"},{"v":0,"d":"0.00"},null,"prüfen",{"$f":"IFERROR(OFFSET(MD!$U$5,MATCH(Grundlagen_Abrechnung_KAE!$E629,MD_GENDER,0),0),\"\")","v":""},{"v":0,"d":"0.00"},null,{"v":0,"d":"0.00"},{"$f":"IF(F629=\"Arbeitgeberähnliche Stellung\",OFFSET(MD!$Q$5,MATCH(Grundlagen_Abrechnung_KAE!$AK$7,MD_JAHR,0),0)*$H629,IF(J629>0,AC629,I629))","v":{"v":0,"d":"0.00"}},null,{"$f":"OFFSET(MD!$P$5,MATCH($AK$7,MD_JAHR,0),0)*12","v":{"$error":"#VALUE!"}},{"v":0,"d":"0.00"}]
[{"$nulls":14},{"$f":"IF($B630=\"\",\"\",IF(F630=\"Arbeitgeberähnliche Stellung\",OFFSET(MD!$Q$5,MATCH(Grundlagen_Abrechnung_KAE!$AK$7,MD_JAHR,0),0)*$H630,IF(((AD630/12*M630*12)+N630)>AF630,AF630/12,((AD630/12*M630*12)+N630)/12)))","v":""},null,null,{"v":0,"d":"0.00"},null,{"v":0,"d":"0.00%"},{"v":0,"d":"0.00"},{"v":0,"d":"0.00"},{"v":0,"d":"0.00"},null,"prüfen",{"$f":"IFERROR(OFFSET(MD!$U$5,MATCH(Grundlagen_Abrechnung_KAE!$E630,MD_GENDER,0),0),\"\")","v":""},{"v":0,"d":"0.00"},null,{"v":0,"d":"0.00"},{"$f":"IF(F630=\"Arbeitgeberähnliche Stellung\",OFFSET(MD!$Q$5,MATCH(Grundlagen_Abrechnung_KAE!$AK$7,MD_JAHR,0),0)*$H630,IF(J630>0,AC630,I630))","v":{"v":0,"d":"0.00"}},null,{"$f":"OFFSET(MD!$P$5,MATCH($AK$7,MD_JAHR,0),0)*12","v":{"$error":"#VALUE!"}},{"v":0,"d":"0.00"}]
[{"$nulls":14},{"$f":"IF($B631=\"\",\"\",IF(F631=\"Arbeitgeberähnliche Stellung\",OFFSET(MD!$Q$5,MATCH(Grundlagen_Abrechnung_KAE!$AK$7,MD_JAHR,0),0)*$H631,IF(((AD631/12*M631*12)+N631)>AF631,AF631/12,((AD631/12*M631*12)+N631)/12)))","v":""},null,null,{"v":0,"d":"0.00"},null,{"v":0,"d":"0.00%"},{"v":0,"d":"0.00"},{"v":0,"d":"0.00"},{"v":0,"d":"0.00"},null,"prüfen",{"$f":"IFERROR(OFFSET(MD!$U$5,MATCH(Grundlagen_Abrechnung_KAE!$E631,MD_GENDER,0),0),\"\")","v":""},{"v":0,"d":"0.00"},null,{"v":0,"d":"0.00"},{"$f":"IF(F631=\"Arbeitgeberähnliche Stellung\",OFFSET(MD!$Q$5,MATCH(Grundlagen_Abrechnung_KAE!$AK$7,MD_JAHR,0),0)*$H631,IF(J631>0,AC631,I631))","v":{"v":0,"d":"0.00"}},null,{"$f":"OFFSET(MD!$P$5,MATCH($AK$7,MD_JAHR,0),0)*12","v":{"$error":"#VALUE!"}},{"v":0,"d":"0.00"}]
[{"$nulls":14},{"$f":"IF($B632=\"\",\"\",IF(F632=\"Arbeitgeberähnliche Stellung\",OFFSET(MD!$Q$5,MATCH(Grundlagen_Abrechnung_KAE!$AK$7,MD_JAHR,0),0)*$H632,IF(((AD632/12*M632*12)+N632)>AF632,AF632/12,((AD632/12*M632*12)+N632)/12)))","v":""},null,null,{"v":0,"d":"0.00"},null,{"v":0,"d":"0.00%"},{"v":0,"d":"0.00"},{"v":0,"d":"0.00"},{"v":0,"d":"0.00"},null,"prüfen",{"$f":"IFERROR(OFFSET(MD!$U$5,MATCH(Grundlagen_Abrechnung_KAE!$E632,MD_GENDER,0),0),\"\")","v":""},{"v":0,"d":"0.00"},null,{"v":0,"d":"0.00"},{"$f":"IF(F632=\"Arbeitgeberähnliche Stellung\",OFFSET(MD!$Q$5,MATCH(Grundlagen_Abrechnung_KAE!$AK$7,MD_JAHR,0),0)*$H632,IF(J632>0,AC632,I632))","v":{"v":0,"d":"0.00"}},null,{"$f":"OFFSET(MD!$P$5,MATCH($AK$7,MD_JAHR,0),0)*12","v":{"$error":"#VALUE!"}},{"v":0,"d":"0.00"}]
[{"$nulls":14},{"$f":"IF($B633=\"\",\"\",IF(F633=\"Arbeitgeberähnliche Stellung\",OFFSET(MD!$Q$5,MATCH(Grundlagen_Abrechnung_KAE!$AK$7,MD_JAHR,0),0)*$H633,IF(((AD633/12*M633*12)+N633)>AF633,AF633/12,((AD633/12*M633*12)+N633)/12)))","v":""},null,null,{"v":0,"d":"0.00"},null,{"v":0,"d":"0.00%"},{"v":0,"d":"0.00"},{"v":0,"d":"0.00"},{"v":0,"d":"0.00"},null,"prüfen",{"$f":"IFERROR(OFFSET(MD!$U$5,MATCH(Grundlagen_Abrechnung_KAE!$E633,MD_GENDER,0),0),\"\")","v":""},{"v":0,"d":"0.00"},null,{"v":0,"d":"0.00"},{"$f":"IF(F633=\"Arbeitgeberähnliche Stellung\",OFFSET(MD!$Q$5,MATCH(Grundlagen_Abrechnung_KAE!$AK$7,MD_JAHR,0),0)*$H633,IF(J633>0,AC633,I633))","v":{"v":0,"d":"0.00"}},null,{"$f":"OFFSET(MD!$P$5,MATCH($AK$7,MD_JAHR,0),0)*12","v":{"$error":"#VALUE!"}},{"v":0,"d":"0.00"}]
[{"$nulls":14},{"$f":"IF($B634=\"\",\"\",IF(F634=\"Arbeitgeberähnliche Stellung\",OFFSET(MD!$Q$5,MATCH(Grundlagen_Abrechnung_KAE!$AK$7,MD_JAHR,0),0)*$H634,IF(((AD634/12*M634*12)+N634)>AF634,AF634/12,((AD634/12*M634*12)+N634)/12)))","v":""},null,null,{"v":0,"d":"0.00"},null,{"v":0,"d":"0.00%"},{"v":0,"d":"0.00"},{"v":0,"d":"0.00"},{"v":0,"d":"0.00"},null,"prüfen",{"$f":"IFERROR(OFFSET(MD!$U$5,MATCH(Grundlagen_Abrechnung_KAE!$E634,MD_GENDER,0),0),\"\")","v":""},{"v":0,"d":"0.00"},null,{"v":0,"d":"0.00"},{"$f":"IF(F634=\"Arbeitgeberähnliche Stellung\",OFFSET(MD!$Q$5,MATCH(Grundlagen_Abrechnung_KAE!$AK$7,MD_JAHR,0),0)*$H634,IF(J634>0,AC634,I634))","v":{"v":0,"d":"0.00"}},null,{"$f":"OFFSET(MD!$P$5,MATCH($AK$7,MD_JAHR,0),0)*12","v":{"$error":"#VALUE!"}},{"v":0,"d":"0.00"}]
[{"$nulls":14},{"$f":"IF($B635=\"\",\"\",IF(F635=\"Arbeitgeberähnliche Stellung\",OFFSET(MD!$Q$5,MATCH(Grundlagen_Abrechnung_KAE!$AK$7,MD_JAHR,0),0)*$H635,IF(((AD635/12*M635*12)+N635)>AF635,AF635/12,((AD635/12*M635*12)+N635)/12)))","v":""},null,null,{"v":0,"d":"0.00"},null,{"v":0,"d":"0.00%"},{"v":0,"d":"0.00"},{"v":0,"d":"0.00"},{"v":0,"d":"0.00"},null,"prüfen",{"$f":"IFERROR(OFFSET(MD!$U$5,MATCH(Grundlagen_Abrechnung_KAE!$E635,MD_GENDER,0),0),\"\")","v":""},{"v":0,"d":"0.00"},null,{"v":0,"d":"0.00"},{"$f":"IF(F635=\"Arbeitgeberähnliche Stellung\",OFFSET(MD!$Q$5,MATCH(Grundlagen_Abrechnung_KAE!$AK$7,MD_JAHR,0),0)*$H635,IF(J635>0,AC635,I635))","v":{"v":0,"d":"0.00"}},null,{"$f":"OFFSET(MD!$P$5,MATCH($AK$7,MD_JAHR,0),0)*12","v":{"$error":"#VALUE!"}},{"v":0,"d":"0.00"}]
[{"$nulls":14},{"$f":"IF($B636=\"\",\"\",IF(F636=\"Arbeitgeberähnliche Stellung\",OFFSET(MD!$Q$5,MATCH(Grundlagen_Abrechnung_KAE!$AK$7,MD_JAHR,0),0)*$H636,IF(((AD636/12*M636*12)+N636)>AF636,AF636/12,((AD636/12*M636*12)+N636)/12)))","v":""},null,null,{"v":0,"d":"0.00"},null,{"v":0,"d":"0.00%"},{"v":0,"d":"0.00"},{"v":0,"d":"0.00"},{"v":0,"d":"0.00"},null,"prüfen",{"$f":"IFERROR(OFFSET(MD!$U$5,MATCH(Grundlagen_Abrechnung_KAE!$E636,MD_GENDER,0),0),\"\")","v":""},{"v":0,"d":"0.00"},null,{"v":0,"d":"0.00"},{"$f":"IF(F636=\"Arbeitgeberähnliche Stellung\",OFFSET(MD!$Q$5,MATCH(Grundlagen_Abrechnung_KAE!$AK$7,MD_JAHR,0),0)*$H636,IF(J636>0,AC636,I636))","v":{"v":0,"d":"0.00"}},null,{"$f":"OFFSET(MD!$P$5,MATCH($AK$7,MD_JAHR,0),0)*12","v":{"$error":"#VALUE!"}},{"v":0,"d":"0.00"}]
[{"$nulls":14},{"$f":"IF($B637=\"\",\"\",IF(F637=\"Arbeitgeberähnliche Stellung\",OFFSET(MD!$Q$5,MATCH(Grundlagen_Abrechnung_KAE!$AK$7,MD_JAHR,0),0)*$H637,IF(((AD637/12*M637*12)+N637)>AF637,AF637/12,((AD637/12*M637*12)+N637)/12)))","v":""},null,null,{"v":0,"d":"0.00"},null,{"v":0,"d":"0.00%"},{"v":0,"d":"0.00"},{"v":0,"d":"0.00"},{"v":0,"d":"0.00"},null,"prüfen",{"$f":"IFERROR(OFFSET(MD!$U$5,MATCH(Grundlagen_Abrechnung_KAE!$E637,MD_GENDER,0),0),\"\")","v":""},{"v":0,"d":"0.00"},null,{"v":0,"d":"0.00"},{"$f":"IF(F637=\"Arbeitgeberähnliche Stellung\",OFFSET(MD!$Q$5,MATCH(Grundlagen_Abrechnung_KAE!$AK$7,MD_JAHR,0),0)*$H637,IF(J637>0,AC637,I637))","v":{"v":0,"d":"0.00"}},null,{"$f":"OFFSET(MD!$P$5,MATCH($AK$7,MD_JAHR,0),0)*12","v":{"$error":"#VALUE!"}},{"v":0,"d":"0.00"}]
[{"$nulls":14},{"$f":"IF($B638=\"\",\"\",IF(F638=\"Arbeitgeberähnliche Stellung\",OFFSET(MD!$Q$5,MATCH(Grundlagen_Abrechnung_KAE!$AK$7,MD_JAHR,0),0)*$H638,IF(((AD638/12*M638*12)+N638)>AF638,AF638/12,((AD638/12*M638*12)+N638)/12)))","v":""},null,null,{"v":0,"d":"0.00"},null,{"v":0,"d":"0.00%"},{"v":0,"d":"0.00"},{"v":0,"d":"0.00"},{"v":0,"d":"0.00"},null,"prüfen",{"$f":"IFERROR(OFFSET(MD!$U$5,MATCH(Grundlagen_Abrechnung_KAE!$E638,MD_GENDER,0),0),\"\")","v":""},{"v":0,"d":"0.00"},null,{"v":0,"d":"0.00"},{"$f":"IF(F638=\"Arbeitgeberähnliche Stellung\",OFFSET(MD!$Q$5,MATCH(Grundlagen_Abrechnung_KAE!$AK$7,MD_JAHR,0),0)*$H638,IF(J638>0,AC638,I638))","v":{"v":0,"d":"0.00"}},null,{"$f":"OFFSET(MD!$P$5,MATCH($AK$7,MD_JAHR,0),0)*12","v":{"$error":"#VALUE!"}},{"v":0,"d":"0.00"}]
[{"$nulls":14},{"$f":"IF($B639=\"\",\"\",IF(F639=\"Arbeitgeberähnliche Stellung\",OFFSET(MD!$Q$5,MATCH(Grundlagen_Abrechnung_KAE!$AK$7,MD_JAHR,0),0)*$H639,IF(((AD639/12*M639*12)+N639)>AF639,AF639/12,((AD639/12*M639*12)+N639)/12)))","v":""},null,null,{"v":0,"d":"0.00"},null,{"v":0,"d":"0.00%"},{"v":0,"d":"0.00"},{"v":0,"d":"0.00"},{"v":0,"d":"0.00"},null,"prüfen",{"$f":"IFERROR(OFFSET(MD!$U$5,MATCH(Grundlagen_Abrechnung_KAE!$E639,MD_GENDER,0),0),\"\")","v":""},{"v":0,"d":"0.00"},null,{"v":0,"d":"0.00"},{"$f":"IF(F639=\"Arbeitgeberähnliche Stellung\",OFFSET(MD!$Q$5,MATCH(Grundlagen_Abrechnung_KAE!$AK$7,MD_JAHR,0),0)*$H639,IF(J639>0,AC639,I639))","v":{"v":0,"d":"0.00"}},null,{"$f":"OFFSET(MD!$P$5,MATCH($AK$7,MD_JAHR,0),0)*12","v":{"$error":"#VALUE!"}},{"v":0,"d":"0.00"}]
[{"$nulls":14},{"$f":"IF($B640=\"\",\"\",IF(F640=\"Arbeitgeberähnliche Stellung\",OFFSET(MD!$Q$5,MATCH(Grundlagen_Abrechnung_KAE!$AK$7,MD_JAHR,0),0)*$H640,IF(((AD640/12*M640*12)+N640)>AF640,AF640/12,((AD640/12*M640*12)+N640)/12)))","v":""},null,null,{"v":0,"d":"0.00"},null,{"v":0,"d":"0.00%"},{"v":0,"d":"0.00"},{"v":0,"d":"0.00"},{"v":0,"d":"0.00"},null,"prüfen",{"$f":"IFERROR(OFFSET(MD!$U$5,MATCH(Grundlagen_Abrechnung_KAE!$E640,MD_GENDER,0),0),\"\")","v":""},{"v":0,"d":"0.00"},null,{"v":0,"d":"0.00"},{"$f":"IF(F640=\"Arbeitgeberähnliche Stellung\",OFFSET(MD!$Q$5,MATCH(Grundlagen_Abrechnung_KAE!$AK$7,MD_JAHR,0),0)*$H640,IF(J640>0,AC640,I640))","v":{"v":0,"d":"0.00"}},null,{"$f":"OFFSET(MD!$P$5,MATCH($AK$7,MD_JAHR,0),0)*12","v":{"$error":"#VALUE!"}},{"v":0,"d":"0.00"}]
[{"$nulls":14},{"$f":"IF($B641=\"\",\"\",IF(F641=\"Arbeitgeberähnliche Stellung\",OFFSET(MD!$Q$5,MATCH(Grundlagen_Abrechnung_KAE!$AK$7,MD_JAHR,0),0)*$H641,IF(((AD641/12*M641*12)+N641)>AF641,AF641/12,((AD641/12*M641*12)+N641)/12)))","v":""},null,null,{"v":0,"d":"0.00"},null,{"v":0,"d":"0.00%"},{"v":0,"d":"0.00"},{"v":0,"d":"0.00"},{"v":0,"d":"0.00"},null,"prüfen",{"$f":"IFERROR(OFFSET(MD!$U$5,MATCH(Grundlagen_Abrechnung_KAE!$E641,MD_GENDER,0),0),\"\")","v":""},{"v":0,"d":"0.00"},null,{"v":0,"d":"0.00"},{"$f":"IF(F641=\"Arbeitgeberähnliche Stellung\",OFFSET(MD!$Q$5,MATCH(Grundlagen_Abrechnung_KAE!$AK$7,MD_JAHR,0),0)*$H641,IF(J641>0,AC641,I641))","v":{"v":0,"d":"0.00"}},null,{"$f":"OFFSET(MD!$P$5,MATCH($AK$7,MD_JAHR,0),0)*12","v":{"$error":"#VALUE!"}},{"v":0,"d":"0.00"}]
[{"$nulls":14},{"$f":"IF($B642=\"\",\"\",IF(F642=\"Arbeitgeberähnliche Stellung\",OFFSET(MD!$Q$5,MATCH(Grundlagen_Abrechnung_KAE!$AK$7,MD_JAHR,0),0)*$H642,IF(((AD642/12*M642*12)+N642)>AF642,AF642/12,((AD642/12*M642*12)+N642)/12)))","v":""},null,null,{"v":0,"d":"0.00"},null,{"v":0,"d":"0.00%"},{"v":0,"d":"0.00"},{"v":0,"d":"0.00"},{"v":0,"d":"0.00"},null,"prüfen",{"$f":"IFERROR(OFFSET(MD!$U$5,MATCH(Grundlagen_Abrechnung_KAE!$E642,MD_GENDER,0),0),\"\")","v":""},{"v":0,"d":"0.00"},null,{"v":0,"d":"0.00"},{"$f":"IF(F642=\"Arbeitgeberähnliche Stellung\",OFFSET(MD!$Q$5,MATCH(Grundlagen_Abrechnung_KAE!$AK$7,MD_JAHR,0),0)*$H642,IF(J642>0,AC642,I642))","v":{"v":0,"d":"0.00"}},null,{"$f":"OFFSET(MD!$P$5,MATCH($AK$7,MD_JAHR,0),0)*12","v":{"$error":"#VALUE!"}},{"v":0,"d":"0.00"}]
[{"$nulls":14},{"$f":"IF($B643=\"\",\"\",IF(F643=\"Arbeitgeberähnliche Stellung\",OFFSET(MD!$Q$5,MATCH(Grundlagen_Abrechnung_KAE!$AK$7,MD_JAHR,0),0)*$H643,IF(((AD643/12*M643*12)+N643)>AF643,AF643/12,((AD643/12*M643*12)+N643)/12)))","v":""},null,null,{"v":0,"d":"0.00"},null,{"v":0,"d":"0.00%"},{"v":0,"d":"0.00"},{"v":0,"d":"0.00"},{"v":0,"d":"0.00"},null,"prüfen",{"$f":"IFERROR(OFFSET(MD!$U$5,MATCH(Grundlagen_Abrechnung_KAE!$E643,MD_GENDER,0),0),\"\")","v":""},{"v":0,"d":"0.00"},null,{"v":0,"d":"0.00"},{"$f":"IF(F643=\"Arbeitgeberähnliche Stellung\",OFFSET(MD!$Q$5,MATCH(Grundlagen_Abrechnung_KAE!$AK$7,MD_JAHR,0),0)*$H643,IF(J643>0,AC643,I643))","v":{"v":0,"d":"0.00"}},null,{"$f":"OFFSET(MD!$P$5,MATCH($AK$7,MD_JAHR,0),0)*12","v":{"$error":"#VALUE!"}},{"v":0,"d":"0.00"}]
[{"$nulls":14},{"$f":"IF($B644=\"\",\"\",IF(F644=\"Arbeitgeberähnliche Stellung\",OFFSET(MD!$Q$5,MATCH(Grundlagen_Abrechnung_KAE!$AK$7,MD_JAHR,0),0)*$H644,IF(((AD644/12*M644*12)+N644)>AF644,AF644/12,((AD644/12*M644*12)+N644)/12)))","v":""},null,null,{"v":0,"d":"0.00"},null,{"v":0,"d":"0.00%"},{"v":0,"d":"0.00"},{"v":0,"d":"0.00"},{"v":0,"d":"0.00"},null,"prüfen",{"$f":"IFERROR(OFFSET(MD!$U$5,MATCH(Grundlagen_Abrechnung_KAE!$E644,MD_GENDER,0),0),\"\")","v":""},{"v":0,"d":"0.00"},null,{"v":0,"d":"0.00"},{"$f":"IF(F644=\"Arbeitgeberähnliche Stellung\",OFFSET(MD!$Q$5,MATCH(Grundlagen_Abrechnung_KAE!$AK$7,MD_JAHR,0),0)*$H644,IF(J644>0,AC644,I644))","v":{"v":0,"d":"0.00"}},null,{"$f":"OFFSET(MD!$P$5,MATCH($AK$7,MD_JAHR,0),0)*12","v":{"$error":"#VALUE!"}},{"v":0,"d":"0.00"}]
[{"$nulls":14},{"$f":"IF($B645=\"\",\"\",IF(F645=\"Arbeitgeberähnliche Stellung\",OFFSET(MD!$Q$5,MATCH(Grundlagen_Abrechnung_KAE!$AK$7,MD_JAHR,0),0)*$H645,IF(((AD645/12*M645*12)+N645)>AF645,AF645/12,((AD645/12*M645*12)+N645)/12)))","v":""},null,null,{"v":0,"d":"0.00"},null,{"v":0,"d":"0.00%"},{"v":0,"d":"0.00"},{"v":0,"d":"0.00"},{"v":0,"d":"0.00"},null,"prüfen",{"$f":"IFERROR(OFFSET(MD!$U$5,MATCH(Grundlagen_Abrechnung_KAE!$E645,MD_GENDER,0),0),\"\")","v":""},{"v":0,"d":"0.00"},null,{"v":0,"d":"0.00"},{"$f":"IF(F645=\"Arbeitgeberähnliche Stellung\",OFFSET(MD!$Q$5,MATCH(Grundlagen_Abrechnung_KAE!$AK$7,MD_JAHR,0),0)*$H645,IF(J645>0,AC645,I645))","v":{"v":0,"d":"0.00"}},null,{"$f":"OFFSET(MD!$P$5,MATCH($AK$7,MD_JAHR,0),0)*12","v":{"$error":"#VALUE!"}},{"v":0,"d":"0.00"}]
[{"$nulls":14},{"$f":"IF($B646=\"\",\"\",IF(F646=\"Arbeitgeberähnliche Stellung\",OFFSET(MD!$Q$5,MATCH(Grundlagen_Abrechnung_KAE!$AK$7,MD_JAHR,0),0)*$H646,IF(((AD646/12*M646*12)+N646)>AF646,AF646/12,((AD646/12*M646*12)+N646)/12)))","v":""},null,null,{"v":0,"d":"0.00"},null,{"v":0,"d":"0.00%"},{"v":0,"d":"0.00"},{"v":0,"d":"0.00"},{"v":0,"d":"0.00"},null,"prüfen",{"$f":"IFERROR(OFFSET(MD!$U$5,MATCH(Grundlagen_Abrechnung_KAE!$E646,MD_GENDER,0),0),\"\")","v":""},{"v":0,"d":"0.00"},null,{"v":0,"d":"0.00"},{"$f":"IF(F646=\"Arbeitgeberähnliche Stellung\",OFFSET(MD!$Q$5,MATCH(Grundlagen_Abrechnung_KAE!$AK$7,MD_JAHR,0),0)*$H646,IF(J646>0,AC646,I646))","v":{"v":0,"d":"0.00"}},null,{"$f":"OFFSET(MD!$P$5,MATCH($AK$7,MD_JAHR,0),0)*12","v":{"$error":"#VALUE!"}},{"v":0,"d":"0.00"}]
[{"$nulls":14},{"$f":"IF($B647=\"\",\"\",IF(F647=\"Arbeitgeberähnliche Stellung\",OFFSET(MD!$Q$5,MATCH(Grundlagen_Abrechnung_KAE!$AK$7,MD_JAHR,0),0)*$H647,IF(((AD647/12*M647*12)+N647)>AF647,AF647/12,((AD647/12*M647*12)+N647)/12)))","v":""},null,null,{"v":0,"d":"0.00"},null,{"v":0,"d":"0.00%"},{"v":0,"d":"0.00"},{"v":0,"d":"0.00"},{"v":0,"d":"0.00"},null,"prüfen",{"$f":"IFERROR(OFFSET(MD!$U$5,MATCH(Grundlagen_Abrechnung_KAE!$E647,MD_GENDER,0),0),\"\")","v":""},{"v":0,"d":"0.00"},null,{"v":0,"d":"0.00"},{"$f":"IF(F647=\"Arbeitgeberähnliche Stellung\",OFFSET(MD!$Q$5,MATCH(Grundlagen_Abrechnung_KAE!$AK$7,MD_JAHR,0),0)*$H647,IF(J647>0,AC647,I647))","v":{"v":0,"d":"0.00"}},null,{"$f":"OFFSET(MD!$P$5,MATCH($AK$7,MD_JAHR,0),0)*12","v":{"$error":"#VALUE!"}},{"v":0,"d":"0.00"}]
[{"$nulls":14},{"$f":"IF($B648=\"\",\"\",IF(F648=\"Arbeitgeberähnliche Stellung\",OFFSET(MD!$Q$5,MATCH(Grundlagen_Abrechnung_KAE!$AK$7,MD_JAHR,0),0)*$H648,IF(((AD648/12*M648*12)+N648)>AF648,AF648/12,((AD648/12*M648*12)+N648)/12)))","v":""},null,null,{"v":0,"d":"0.00"},null,{"v":0,"d":"0.00%"},{"v":0,"d":"0.00"},{"v":0,"d":"0.00"},{"v":0,"d":"0.00"},null,"prüfen",{"$f":"IFERROR(OFFSET(MD!$U$5,MATCH(Grundlagen_Abrechnung_KAE!$E648,MD_GENDER,0),0),\"\")","v":""},{"v":0,"d":"0.00"},null,{"v":0,"d":"0.00"},{"$f":"IF(F648=\"Arbeitgeberähnliche Stellung\",OFFSET(MD!$Q$5,MATCH(Grundlagen_Abrechnung_KAE!$AK$7,MD_JAHR,0),0)*$H648,IF(J648>0,AC648,I648))","v":{"v":0,"d":"0.00"}},null,{"$f":"OFFSET(MD!$P$5,MATCH($AK$7,MD_JAHR,0),0)*12","v":{"$error":"#VALUE!"}},{"v":0,"d":"0.00"}]
[{"$nulls":14},{"$f":"IF($B649=\"\",\"\",IF(F649=\"Arbeitgeberähnliche Stellung\",OFFSET(MD!$Q$5,MATCH(Grundlagen_Abrechnung_KAE!$AK$7,MD_JAHR,0),0)*$H649,IF(((AD649/12*M649*12)+N649)>AF649,AF649/12,((AD649/12*M649*12)+N649)/12)))","v":""},null,null,{"v":0,"d":"0.00"},null,{"v":0,"d":"0.00%"},{"v":0,"d":"0.00"},{"v":0,"d":"0.00"},{"v":0,"d":"0.00"},null,"prüfen",{"$f":"IFERROR(OFFSET(MD!$U$5,MATCH(Grundlagen_Abrechnung_KAE!$E649,MD_GENDER,0),0),\"\")","v":""},{"v":0,"d":"0.00"},null,{"v":0,"d":"0.00"},{"$f":"IF(F649=\"Arbeitgeberähnliche Stellung\",OFFSET(MD!$Q$5,MATCH(Grundlagen_Abrechnung_KAE!$AK$7,MD_JAHR,0),0)*$H649,IF(J649>0,AC649,I649))","v":{"v":0,"d":"0.00"}},null,{"$f":"OFFSET(MD!$P$5,MATCH($AK$7,MD_JAHR,0),0)*12","v":{"$error":"#VALUE!"}},{"v":0,"d":"0.00"}]
[{"$nulls":14},{"$f":"IF($B650=\"\",\"\",IF(F650=\"Arbeitgeberähnliche Stellung\",OFFSET(MD!$Q$5,MATCH(Grundlagen_Abrechnung_KAE!$AK$7,MD_JAHR,0),0)*$H650,IF(((AD650/12*M650*12)+N650)>AF650,AF650/12,((AD650/12*M650*12)+N650)/12)))","v":""},null,null,{"v":0,"d":"0.00"},null,{"v":0,"d":"0.00%"},{"v":0,"d":"0.00"},{"v":0,"d":"0.00"},{"v":0,"d":"0.00"},null,"prüfen",{"$f":"IFERROR(OFFSET(MD!$U$5,MATCH(Grundlagen_Abrechnung_KAE!$E650,MD_GENDER,0),0),\"\")","v":""},{"v":0,"d":"0.00"},null,{"v":0,"d":"0.00"},{"$f":"IF(F650=\"Arbeitgeberähnliche Stellung\",OFFSET(MD!$Q$5,MATCH(Grundlagen_Abrechnung_KAE!$AK$7,MD_JAHR,0),0)*$H650,IF(J650>0,AC650,I650))","v":{"v":0,"d":"0.00"}},null,{"$f":"OFFSET(MD!$P$5,MATCH($AK$7,MD_JAHR,0),0)*12","v":{"$error":"#VALUE!"}},{"v":0,"d":"0.00"}]
[{"$nulls":14},{"$f":"IF($B651=\"\",\"\",IF(F651=\"Arbeitgeberähnliche Stellung\",OFFSET(MD!$Q$5,MATCH(Grundlagen_Abrechnung_KAE!$AK$7,MD_JAHR,0),0)*$H651,IF(((AD651/12*M651*12)+N651)>AF651,AF651/12,((AD651/12*M651*12)+N651)/12)))","v":""},null,null,{"v":0,"d":"0.00"},null,{"v":0,"d":"0.00%"},{"v":0,"d":"0.00"},{"v":0,"d":"0.00"},{"v":0,"d":"0.00"},null,"prüfen",{"$f":"IFERROR(OFFSET(MD!$U$5,MATCH(Grundlagen_Abrechnung_KAE!$E651,MD_GENDER,0),0),\"\")","v":""},{"v":0,"d":"0.00"},null,{"v":0,"d":"0.00"},{"$f":"IF(F651=\"Arbeitgeberähnliche Stellung\",OFFSET(MD!$Q$5,MATCH(Grundlagen_Abrechnung_KAE!$AK$7,MD_JAHR,0),0)*$H651,IF(J651>0,AC651,I651))","v":{"v":0,"d":"0.00"}},null,{"$f":"OFFSET(MD!$P$5,MATCH($AK$7,MD_JAHR,0),0)*12","v":{"$error":"#VALUE!"}},{"v":0,"d":"0.00"}]
[{"$nulls":14},{"$f":"IF($B652=\"\",\"\",IF(F652=\"Arbeitgeberähnliche Stellung\",OFFSET(MD!$Q$5,MATCH(Grundlagen_Abrechnung_KAE!$AK$7,MD_JAHR,0),0)*$H652,IF(((AD652/12*M652*12)+N652)>AF652,AF652/12,((AD652/12*M652*12)+N652)/12)))","v":""},null,null,{"v":0,"d":"0.00"},null,{"v":0,"d":"0.00%"},{"v":0,"d":"0.00"},{"v":0,"d":"0.00"},{"v":0,"d":"0.00"},null,"prüfen",{"$f":"IFERROR(OFFSET(MD!$U$5,MATCH(Grundlagen_Abrechnung_KAE!$E652,MD_GENDER,0),0),\"\")","v":""},{"v":0,"d":"0.00"},null,{"v":0,"d":"0.00"},{"$f":"IF(F652=\"Arbeitgeberähnliche Stellung\",OFFSET(MD!$Q$5,MATCH(Grundlagen_Abrechnung_KAE!$AK$7,MD_JAHR,0),0)*$H652,IF(J652>0,AC652,I652))","v":{"v":0,"d":"0.00"}},null,{"$f":"OFFSET(MD!$P$5,MATCH($AK$7,MD_JAHR,0),0)*12","v":{"$error":"#VALUE!"}},{"v":0,"d":"0.00"}]
[{"$nulls":14},{"$f":"IF($B653=\"\",\"\",IF(F653=\"Arbeitgeberähnliche Stellung\",OFFSET(MD!$Q$5,MATCH(Grundlagen_Abrechnung_KAE!$AK$7,MD_JAHR,0),0)*$H653,IF(((AD653/12*M653*12)+N653)>AF653,AF653/12,((AD653/12*M653*12)+N653)/12)))","v":""},null,null,{"v":0,"d":"0.00"},null,{"v":0,"d":"0.00%"},{"v":0,"d":"0.00"},{"v":0,"d":"0.00"},{"v":0,"d":"0.00"},null,"prüfen",{"$f":"IFERROR(OFFSET(MD!$U$5,MATCH(Grundlagen_Abrechnung_KAE!$E653,MD_GENDER,0),0),\"\")","v":""},{"v":0,"d":"0.00"},null,{"v":0,"d":"0.00"},{"$f":"IF(F653=\"Arbeitgeberähnliche Stellung\",OFFSET(MD!$Q$5,MATCH(Grundlagen_Abrechnung_KAE!$AK$7,MD_JAHR,0),0)*$H653,IF(J653>0,AC653,I653))","v":{"v":0,"d":"0.00"}},null,{"$f":"OFFSET(MD!$P$5,MATCH($AK$7,MD_JAHR,0),0)*12","v":{"$error":"#VALUE!"}},{"v":0,"d":"0.00"}]
[{"$nulls":14},{"$f":"IF($B654=\"\",\"\",IF(F654=\"Arbeitgeberähnliche Stellung\",OFFSET(MD!$Q$5,MATCH(Grundlagen_Abrechnung_KAE!$AK$7,MD_JAHR,0),0)*$H654,IF(((AD654/12*M654*12)+N654)>AF654,AF654/12,((AD654/12*M654*12)+N654)/12)))","v":""},null,null,{"v":0,"d":"0.00"},null,{"v":0,"d":"0.00%"},{"v":0,"d":"0.00"},{"v":0,"d":"0.00"},{"v":0,"d":"0.00"},null,"prüfen",{"$f":"IFERROR(OFFSET(MD!$U$5,MATCH(Grundlagen_Abrechnung_KAE!$E654,MD_GENDER,0),0),\"\")","v":""},{"v":0,"d":"0.00"},null,{"v":0,"d":"0.00"},{"$f":"IF(F654=\"Arbeitgeberähnliche Stellung\",OFFSET(MD!$Q$5,MATCH(Grundlagen_Abrechnung_KAE!$AK$7,MD_JAHR,0),0)*$H654,IF(J654>0,AC654,I654))","v":{"v":0,"d":"0.00"}},null,{"$f":"OFFSET(MD!$P$5,MATCH($AK$7,MD_JAHR,0),0)*12","v":{"$error":"#VALUE!"}},{"v":0,"d":"0.00"}]
[{"$nulls":14},{"$f":"IF($B655=\"\",\"\",IF(F655=\"Arbeitgeberähnliche Stellung\",OFFSET(MD!$Q$5,MATCH(Grundlagen_Abrechnung_KAE!$AK$7,MD_JAHR,0),0)*$H655,IF(((AD655/12*M655*12)+N655)>AF655,AF655/12,((AD655/12*M655*12)+N655)/12)))","v":""},null,null,{"v":0,"d":"0.00"},null,{"v":0,"d":"0.00%"},{"v":0,"d":"0.00"},{"v":0,"d":"0.00"},{"v":0,"d":"0.00"},null,"prüfen",{"$f":"IFERROR(OFFSET(MD!$U$5,MATCH(Grundlagen_Abrechnung_KAE!$E655,MD_GENDER,0),0),\"\")","v":""},{"v":0,"d":"0.00"},null,{"v":0,"d":"0.00"},{"$f":"IF(F655=\"Arbeitgeberähnliche Stellung\",OFFSET(MD!$Q$5,MATCH(Grundlagen_Abrechnung_KAE!$AK$7,MD_JAHR,0),0)*$H655,IF(J655>0,AC655,I655))","v":{"v":0,"d":"0.00"}},null,{"$f":"OFFSET(MD!$P$5,MATCH($AK$7,MD_JAHR,0),0)*12","v":{"$error":"#VALUE!"}},{"v":0,"d":"0.00"}]
[{"$nulls":14},{"$f":"IF($B656=\"\",\"\",IF(F656=\"Arbeitgeberähnliche Stellung\",OFFSET(MD!$Q$5,MATCH(Grundlagen_Abrechnung_KAE!$AK$7,MD_JAHR,0),0)*$H656,IF(((AD656/12*M656*12)+N656)>AF656,AF656/12,((AD656/12*M656*12)+N656)/12)))","v":""},null,null,{"v":0,"d":"0.00"},null,{"v":0,"d":"0.00%"},{"v":0,"d":"0.00"},{"v":0,"d":"0.00"},{"v":0,"d":"0.00"},null,"prüfen",{"$f":"IFERROR(OFFSET(MD!$U$5,MATCH(Grundlagen_Abrechnung_KAE!$E656,MD_GENDER,0),0),\"\")","v":""},{"v":0,"d":"0.00"},null,{"v":0,"d":"0.00"},{"$f":"IF(F656=\"Arbeitgeberähnliche Stellung\",OFFSET(MD!$Q$5,MATCH(Grundlagen_Abrechnung_KAE!$AK$7,MD_JAHR,0),0)*$H656,IF(J656>0,AC656,I656))","v":{"v":0,"d":"0.00"}},null,{"$f":"OFFSET(MD!$P$5,MATCH($AK$7,MD_JAHR,0),0)*12","v":{"$error":"#VALUE!"}},{"v":0,"d":"0.00"}]
[{"$nulls":14},{"$f":"IF($B657=\"\",\"\",IF(F657=\"Arbeitgeberähnliche Stellung\",OFFSET(MD!$Q$5,MATCH(Grundlagen_Abrechnung_KAE!$AK$7,MD_JAHR,0),0)*$H657,IF(((AD657/12*M657*12)+N657)>AF657,AF657/12,((AD657/12*M657*12)+N657)/12)))","v":""},null,null,{"v":0,"d":"0.00"},null,{"v":0,"d":"0.00%"},{"v":0,"d":"0.00"},{"v":0,"d":"0.00"},{"v":0,"d":"0.00"},null,"prüfen",{"$f":"IFERROR(OFFSET(MD!$U$5,MATCH(Grundlagen_Abrechnung_KAE!$E657,MD_GENDER,0),0),\"\")","v":""},{"v":0,"d":"0.00"},null,{"v":0,"d":"0.00"},{"$f":"IF(F657=\"Arbeitgeberähnliche Stellung\",OFFSET(MD!$Q$5,MATCH(Grundlagen_Abrechnung_KAE!$AK$7,MD_JAHR,0),0)*$H657,IF(J657>0,AC657,I657))","v":{"v":0,"d":"0.00"}},null,{"$f":"OFFSET(MD!$P$5,MATCH($AK$7,MD_JAHR,0),0)*12","v":{"$error":"#VALUE!"}},{"v":0,"d":"0.00"}]
[{"$nulls":14},{"$f":"IF($B658=\"\",\"\",IF(F658=\"Arbeitgeberähnliche Stellung\",OFFSET(MD!$Q$5,MATCH(Grundlagen_Abrechnung_KAE!$AK$7,MD_JAHR,0),0)*$H658,IF(((AD658/12*M658*12)+N658)>AF658,AF658/12,((AD658/12*M658*12)+N658)/12)))","v":""},null,null,{"v":0,"d":"0.00"},null,{"v":0,"d":"0.00%"},{"v":0,"d":"0.00"},{"v":0,"d":"0.00"},{"v":0,"d":"0.00"},null,"prüfen",{"$f":"IFERROR(OFFSET(MD!$U$5,MATCH(Grundlagen_Abrechnung_KAE!$E658,MD_GENDER,0),0),\"\")","v":""},{"v":0,"d":"0.00"},null,{"v":0,"d":"0.00"},{"$f":"IF(F658=\"Arbeitgeberähnliche Stellung\",OFFSET(MD!$Q$5,MATCH(Grundlagen_Abrechnung_KAE!$AK$7,MD_JAHR,0),0)*$H658,IF(J658>0,AC658,I658))","v":{"v":0,"d":"0.00"}},null,{"$f":"OFFSET(MD!$P$5,MATCH($AK$7,MD_JAHR,0),0)*12","v":{"$error":"#VALUE!"}},{"v":0,"d":"0.00"}]
[{"$nulls":14},{"$f":"IF($B659=\"\",\"\",IF(F659=\"Arbeitgeberähnliche Stellung\",OFFSET(MD!$Q$5,MATCH(Grundlagen_Abrechnung_KAE!$AK$7,MD_JAHR,0),0)*$H659,IF(((AD659/12*M659*12)+N659)>AF659,AF659/12,((AD659/12*M659*12)+N659)/12)))","v":""},null,null,{"$f":"ROUND(IF(Q659=\"\",0,IF(P659=0,0,IF(Q659>P659,0,P659-Q659))),2)","v":{"v":0,"d":"0.00"}},null,{"$f":"IFERROR(R659/P659,0)","v":{"v":0,"d":"0.00%"}},{"$f":"IFERROR(IF(O659-W659=0,O659,(O659)*(1-T659)),0)","v":{"v":0,"d":"0.00"}},{"v":0,"d":"0.00"},{"$f":"IFERROR(O659*T659,0)*0.8","v":{"v":0,"d":"0.00"}},null,{"$f":"IF(YEAR($G659)>$Y$16,\"prüfen\",\"\")","v":"prüfen"},{"$f":"IFERROR(OFFSET(MD!$U$5,MATCH(Grundlagen_Abrechnung_KAE!$E659,MD_GENDER,0),0),\"\")","v":""},{"$f":"IF(B659=\"\",0,IF(YEAR(G659)>$AA$16,0,1))","v":{"v":0,"d":"0.00"}},null,{"$f":"IF(J659*K659/6>J659*L659/12,J659*K659/6,J659*L659/12)","v":{"v":0,"d":"0.00"}},{"$f":"IF(F659=\"Arbeitgeberähnliche Stellung\",OFFSET(MD!$Q$5,MATCH(Grundlagen_Abrechnung_KAE!$AK$7,MD_JAHR,0),0)*$H659,IF(J659>0,AC659,I659))","v":{"v":0,"d":"0.00"}},null,{"$f":"OFFSET(MD!$P$5,MATCH($AK$7,MD_JAHR,0),0)*12","v":{"$error":"#VALUE!"}},{"$f":"I659*M659+N659","v":{"v":0,"d":"0.00"}}]
[{"$nulls":14},{"$f":"IF($B660=\"\",\"\",IF(F660=\"Arbeitgeberähnliche Stellung\",OFFSET(MD!$Q$5,MATCH(Grundlagen_Abrechnung_KAE!$AK$7,MD_JAHR,0),0)*$H660,IF(((AD660/12*M660*12)+N660)>AF660,AF660/12,((AD660/12*M660*12)+N660)/12)))","v":""},null,null,{"v":0,"d":"0.00"},null,{"v":0,"d":"0.00%"},{"v":0,"d":"0.00"},{"$f":"IFERROR(O660*T660,0)","v":{"v":0,"d":"0.00"}},{"v":0,"d":"0.00"},null,"prüfen",{"$f":"IFERROR(OFFSET(MD!$U$5,MATCH(Grundlagen_Abrechnung_KAE!$E660,MD_GENDER,0),0),\"\")","v":""},{"v":0,"d":"0.00"},null,{"v":0,"d":"0.00"},{"$f":"IF(F660=\"Arbeitgeberähnliche Stellung\",OFFSET(MD!$Q$5,MATCH(Grundlagen_Abrechnung_KAE!$AK$7,MD_JAHR,0),0)*$H660,IF(J660>0,AC660,I660))","v":{"v":0,"d":"0.00"}},null,{"$f":"OFFSET(MD!$P$5,MATCH($AK$7,MD_JAHR,0),0)*12","v":{"$error":"#VALUE!"}},{"v":0,"d":"0.00"}]
[{"$nulls":14},{"$f":"IF($B661=\"\",\"\",IF(F661=\"Arbeitgeberähnliche Stellung\",OFFSET(MD!$Q$5,MATCH(Grundlagen_Abrechnung_KAE!$AK$7,MD_JAHR,0),0)*$H661,IF(((AD661/12*M661*12)+N661)>AF661,AF661/12,((AD661/12*M661*12)+N661)/12)))","v":""},null,null,{"v":0,"d":"0.00"},null,{"v":0,"d":"0.00%"},{"v":0,"d":"0.00"},{"v":0,"d":"0.00"},{"v":0,"d":"0.00"},null,"prüfen",{"$f":"IFERROR(OFFSET(MD!$U$5,MATCH(Grundlagen_Abrechnung_KAE!$E661,MD_GENDER,0),0),\"\")","v":""},{"v":0,"d":"0.00"},null,{"v":0,"d":"0.00"},{"$f":"IF(F661=\"Arbeitgeberähnliche Stellung\",OFFSET(MD!$Q$5,MATCH(Grundlagen_Abrechnung_KAE!$AK$7,MD_JAHR,0),0)*$H661,IF(J661>0,AC661,I661))","v":{"v":0,"d":"0.00"}},null,{"$f":"OFFSET(MD!$P$5,MATCH($AK$7,MD_JAHR,0),0)*12","v":{"$error":"#VALUE!"}},{"v":0,"d":"0.00"}]
[{"$nulls":14},{"$f":"IF($B662=\"\",\"\",IF(F662=\"Arbeitgeberähnliche Stellung\",OFFSET(MD!$Q$5,MATCH(Grundlagen_Abrechnung_KAE!$AK$7,MD_JAHR,0),0)*$H662,IF(((AD662/12*M662*12)+N662)>AF662,AF662/12,((AD662/12*M662*12)+N662)/12)))","v":""},null,null,{"v":0,"d":"0.00"},null,{"v":0,"d":"0.00%"},{"v":0,"d":"0.00"},{"v":0,"d":"0.00"},{"v":0,"d":"0.00"},null,"prüfen",{"$f":"IFERROR(OFFSET(MD!$U$5,MATCH(Grundlagen_Abrechnung_KAE!$E662,MD_GENDER,0),0),\"\")","v":""},{"v":0,"d":"0.00"},null,{"v":0,"d":"0.00"},{"$f":"IF(F662=\"Arbeitgeberähnliche Stellung\",OFFSET(MD!$Q$5,MATCH(Grundlagen_Abrechnung_KAE!$AK$7,MD_JAHR,0),0)*$H662,IF(J662>0,AC662,I662))","v":{"v":0,"d":"0.00"}},null,{"$f":"OFFSET(MD!$P$5,MATCH($AK$7,MD_JAHR,0),0)*12","v":{"$error":"#VALUE!"}},{"v":0,"d":"0.00"}]
[{"$nulls":14},{"$f":"IF($B663=\"\",\"\",IF(F663=\"Arbeitgeberähnliche Stellung\",OFFSET(MD!$Q$5,MATCH(Grundlagen_Abrechnung_KAE!$AK$7,MD_JAHR,0),0)*$H663,IF(((AD663/12*M663*12)+N663)>AF663,AF663/12,((AD663/12*M663*12)+N663)/12)))","v":""},null,null,{"v":0,"d":"0.00"},null,{"v":0,"d":"0.00%"},{"v":0,"d":"0.00"},{"v":0,"d":"0.00"},{"v":0,"d":"0.00"},null,"prüfen",{"$f":"IFERROR(OFFSET(MD!$U$5,MATCH(Grundlagen_Abrechnung_KAE!$E663,MD_GENDER,0),0),\"\")","v":""},{"v":0,"d":"0.00"},null,{"v":0,"d":"0.00"},{"$f":"IF(F663=\"Arbeitgeberähnliche Stellung\",OFFSET(MD!$Q$5,MATCH(Grundlagen_Abrechnung_KAE!$AK$7,MD_JAHR,0),0)*$H663,IF(J663>0,AC663,I663))","v":{"v":0,"d":"0.00"}},null,{"$f":"OFFSET(MD!$P$5,MATCH($AK$7,MD_JAHR,0),0)*12","v":{"$error":"#VALUE!"}},{"v":0,"d":"0.00"}]
[{"$nulls":14},{"$f":"IF($B664=\"\",\"\",IF(F664=\"Arbeitgeberähnliche Stellung\",OFFSET(MD!$Q$5,MATCH(Grundlagen_Abrechnung_KAE!$AK$7,MD_JAHR,0),0)*$H664,IF(((AD664/12*M664*12)+N664)>AF664,AF664/12,((AD664/12*M664*12)+N664)/12)))","v":""},null,null,{"v":0,"d":"0.00"},null,{"v":0,"d":"0.00%"},{"v":0,"d":"0.00"},{"v":0,"d":"0.00"},{"v":0,"d":"0.00"},null,"prüfen",{"$f":"IFERROR(OFFSET(MD!$U$5,MATCH(Grundlagen_Abrechnung_KAE!$E664,MD_GENDER,0),0),\"\")","v":""},{"v":0,"d":"0.00"},null,{"v":0,"d":"0.00"},{"$f":"IF(F664=\"Arbeitgeberähnliche Stellung\",OFFSET(MD!$Q$5,MATCH(Grundlagen_Abrechnung_KAE!$AK$7,MD_JAHR,0),0)*$H664,IF(J664>0,AC664,I664))","v":{"v":0,"d":"0.00"}},null,{"$f":"OFFSET(MD!$P$5,MATCH($AK$7,MD_JAHR,0),0)*12","v":{"$error":"#VALUE!"}},{"v":0,"d":"0.00"}]
[{"$nulls":14},{"$f":"IF($B665=\"\",\"\",IF(F665=\"Arbeitgeberähnliche Stellung\",OFFSET(MD!$Q$5,MATCH(Grundlagen_Abrechnung_KAE!$AK$7,MD_JAHR,0),0)*$H665,IF(((AD665/12*M665*12)+N665)>AF665,AF665/12,((AD665/12*M665*12)+N665)/12)))","v":""},null,null,{"v":0,"d":"0.00"},null,{"v":0,"d":"0.00%"},{"v":0,"d":"0.00"},{"v":0,"d":"0.00"},{"v":0,"d":"0.00"},null,"prüfen",{"$f":"IFERROR(OFFSET(MD!$U$5,MATCH(Grundlagen_Abrechnung_KAE!$E665,MD_GENDER,0),0),\"\")","v":""},{"v":0,"d":"0.00"},null,{"v":0,"d":"0.00"},{"$f":"IF(F665=\"Arbeitgeberähnliche Stellung\",OFFSET(MD!$Q$5,MATCH(Grundlagen_Abrechnung_KAE!$AK$7,MD_JAHR,0),0)*$H665,IF(J665>0,AC665,I665))","v":{"v":0,"d":"0.00"}},null,{"$f":"OFFSET(MD!$P$5,MATCH($AK$7,MD_JAHR,0),0)*12","v":{"$error":"#VALUE!"}},{"v":0,"d":"0.00"}]
[{"$nulls":14},{"$f":"IF($B666=\"\",\"\",IF(F666=\"Arbeitgeberähnliche Stellung\",OFFSET(MD!$Q$5,MATCH(Grundlagen_Abrechnung_KAE!$AK$7,MD_JAHR,0),0)*$H666,IF(((AD666/12*M666*12)+N666)>AF666,AF666/12,((AD666/12*M666*12)+N666)/12)))","v":""},null,null,{"v":0,"d":"0.00"},null,{"v":0,"d":"0.00%"},{"v":0,"d":"0.00"},{"v":0,"d":"0.00"},{"v":0,"d":"0.00"},null,"prüfen",{"$f":"IFERROR(OFFSET(MD!$U$5,MATCH(Grundlagen_Abrechnung_KAE!$E666,MD_GENDER,0),0),\"\")","v":""},{"v":0,"d":"0.00"},null,{"v":0,"d":"0.00"},{"$f":"IF(F666=\"Arbeitgeberähnliche Stellung\",OFFSET(MD!$Q$5,MATCH(Grundlagen_Abrechnung_KAE!$AK$7,MD_JAHR,0),0)*$H666,IF(J666>0,AC666,I666))","v":{"v":0,"d":"0.00"}},null,{"$f":"OFFSET(MD!$P$5,MATCH($AK$7,MD_JAHR,0),0)*12","v":{"$error":"#VALUE!"}},{"v":0,"d":"0.00"}]
[{"$nulls":14},{"$f":"IF($B667=\"\",\"\",IF(F667=\"Arbeitgeberähnliche Stellung\",OFFSET(MD!$Q$5,MATCH(Grundlagen_Abrechnung_KAE!$AK$7,MD_JAHR,0),0)*$H667,IF(((AD667/12*M667*12)+N667)>AF667,AF667/12,((AD667/12*M667*12)+N667)/12)))","v":""},null,null,{"v":0,"d":"0.00"},null,{"v":0,"d":"0.00%"},{"v":0,"d":"0.00"},{"v":0,"d":"0.00"},{"v":0,"d":"0.00"},null,"prüfen",{"$f":"IFERROR(OFFSET(MD!$U$5,MATCH(Grundlagen_Abrechnung_KAE!$E667,MD_GENDER,0),0),\"\")","v":""},{"v":0,"d":"0.00"},null,{"v":0,"d":"0.00"},{"$f":"IF(F667=\"Arbeitgeberähnliche Stellung\",OFFSET(MD!$Q$5,MATCH(Grundlagen_Abrechnung_KAE!$AK$7,MD_JAHR,0),0)*$H667,IF(J667>0,AC667,I667))","v":{"v":0,"d":"0.00"}},null,{"$f":"OFFSET(MD!$P$5,MATCH($AK$7,MD_JAHR,0),0)*12","v":{"$error":"#VALUE!"}},{"v":0,"d":"0.00"}]
[{"$nulls":14},{"$f":"IF($B668=\"\",\"\",IF(F668=\"Arbeitgeberähnliche Stellung\",OFFSET(MD!$Q$5,MATCH(Grundlagen_Abrechnung_KAE!$AK$7,MD_JAHR,0),0)*$H668,IF(((AD668/12*M668*12)+N668)>AF668,AF668/12,((AD668/12*M668*12)+N668)/12)))","v":""},null,null,{"v":0,"d":"0.00"},null,{"v":0,"d":"0.00%"},{"v":0,"d":"0.00"},{"v":0,"d":"0.00"},{"v":0,"d":"0.00"},null,"prüfen",{"$f":"IFERROR(OFFSET(MD!$U$5,MATCH(Grundlagen_Abrechnung_KAE!$E668,MD_GENDER,0),0),\"\")","v":""},{"v":0,"d":"0.00"},null,{"v":0,"d":"0.00"},{"$f":"IF(F668=\"Arbeitgeberähnliche Stellung\",OFFSET(MD!$Q$5,MATCH(Grundlagen_Abrechnung_KAE!$AK$7,MD_JAHR,0),0)*$H668,IF(J668>0,AC668,I668))","v":{"v":0,"d":"0.00"}},null,{"$f":"OFFSET(MD!$P$5,MATCH($AK$7,MD_JAHR,0),0)*12","v":{"$error":"#VALUE!"}},{"v":0,"d":"0.00"}]
[{"$nulls":14},{"$f":"IF($B669=\"\",\"\",IF(F669=\"Arbeitgeberähnliche Stellung\",OFFSET(MD!$Q$5,MATCH(Grundlagen_Abrechnung_KAE!$AK$7,MD_JAHR,0),0)*$H669,IF(((AD669/12*M669*12)+N669)>AF669,AF669/12,((AD669/12*M669*12)+N669)/12)))","v":""},null,null,{"v":0,"d":"0.00"},null,{"v":0,"d":"0.00%"},{"v":0,"d":"0.00"},{"v":0,"d":"0.00"},{"v":0,"d":"0.00"},null,"prüfen",{"$f":"IFERROR(OFFSET(MD!$U$5,MATCH(Grundlagen_Abrechnung_KAE!$E669,MD_GENDER,0),0),\"\")","v":""},{"v":0,"d":"0.00"},null,{"v":0,"d":"0.00"},{"$f":"IF(F669=\"Arbeitgeberähnliche Stellung\",OFFSET(MD!$Q$5,MATCH(Grundlagen_Abrechnung_KAE!$AK$7,MD_JAHR,0),0)*$H669,IF(J669>0,AC669,I669))","v":{"v":0,"d":"0.00"}},null,{"$f":"OFFSET(MD!$P$5,MATCH($AK$7,MD_JAHR,0),0)*12","v":{"$error":"#VALUE!"}},{"v":0,"d":"0.00"}]
[{"$nulls":14},{"$f":"IF($B670=\"\",\"\",IF(F670=\"Arbeitgeberähnliche Stellung\",OFFSET(MD!$Q$5,MATCH(Grundlagen_Abrechnung_KAE!$AK$7,MD_JAHR,0),0)*$H670,IF(((AD670/12*M670*12)+N670)>AF670,AF670/12,((AD670/12*M670*12)+N670)/12)))","v":""},null,null,{"v":0,"d":"0.00"},null,{"v":0,"d":"0.00%"},{"v":0,"d":"0.00"},{"v":0,"d":"0.00"},{"v":0,"d":"0.00"},null,"prüfen",{"$f":"IFERROR(OFFSET(MD!$U$5,MATCH(Grundlagen_Abrechnung_KAE!$E670,MD_GENDER,0),0),\"\")","v":""},{"v":0,"d":"0.00"},null,{"v":0,"d":"0.00"},{"$f":"IF(F670=\"Arbeitgeberähnliche Stellung\",OFFSET(MD!$Q$5,MATCH(Grundlagen_Abrechnung_KAE!$AK$7,MD_JAHR,0),0)*$H670,IF(J670>0,AC670,I670))","v":{"v":0,"d":"0.00"}},null,{"$f":"OFFSET(MD!$P$5,MATCH($AK$7,MD_JAHR,0),0)*12","v":{"$error":"#VALUE!"}},{"v":0,"d":"0.00"}]
[{"$nulls":14},{"$f":"IF($B671=\"\",\"\",IF(F671=\"Arbeitgeberähnliche Stellung\",OFFSET(MD!$Q$5,MATCH(Grundlagen_Abrechnung_KAE!$AK$7,MD_JAHR,0),0)*$H671,IF(((AD671/12*M671*12)+N671)>AF671,AF671/12,((AD671/12*M671*12)+N671)/12)))","v":""},null,null,{"v":0,"d":"0.00"},null,{"v":0,"d":"0.00%"},{"v":0,"d":"0.00"},{"v":0,"d":"0.00"},{"v":0,"d":"0.00"},null,"prüfen",{"$f":"IFERROR(OFFSET(MD!$U$5,MATCH(Grundlagen_Abrechnung_KAE!$E671,MD_GENDER,0),0),\"\")","v":""},{"v":0,"d":"0.00"},null,{"v":0,"d":"0.00"},{"$f":"IF(F671=\"Arbeitgeberähnliche Stellung\",OFFSET(MD!$Q$5,MATCH(Grundlagen_Abrechnung_KAE!$AK$7,MD_JAHR,0),0)*$H671,IF(J671>0,AC671,I671))","v":{"v":0,"d":"0.00"}},null,{"$f":"OFFSET(MD!$P$5,MATCH($AK$7,MD_JAHR,0),0)*12","v":{"$error":"#VALUE!"}},{"v":0,"d":"0.00"}]
[{"$nulls":14},{"$f":"IF($B672=\"\",\"\",IF(F672=\"Arbeitgeberähnliche Stellung\",OFFSET(MD!$Q$5,MATCH(Grundlagen_Abrechnung_KAE!$AK$7,MD_JAHR,0),0)*$H672,IF(((AD672/12*M672*12)+N672)>AF672,AF672/12,((AD672/12*M672*12)+N672)/12)))","v":""},null,null,{"v":0,"d":"0.00"},null,{"v":0,"d":"0.00%"},{"v":0,"d":"0.00"},{"v":0,"d":"0.00"},{"v":0,"d":"0.00"},null,"prüfen",{"$f":"IFERROR(OFFSET(MD!$U$5,MATCH(Grundlagen_Abrechnung_KAE!$E672,MD_GENDER,0),0),\"\")","v":""},{"v":0,"d":"0.00"},null,{"v":0,"d":"0.00"},{"$f":"IF(F672=\"Arbeitgeberähnliche Stellung\",OFFSET(MD!$Q$5,MATCH(Grundlagen_Abrechnung_KAE!$AK$7,MD_JAHR,0),0)*$H672,IF(J672>0,AC672,I672))","v":{"v":0,"d":"0.00"}},null,{"$f":"OFFSET(MD!$P$5,MATCH($AK$7,MD_JAHR,0),0)*12","v":{"$error":"#VALUE!"}},{"v":0,"d":"0.00"}]
[{"$nulls":14},{"$f":"IF($B673=\"\",\"\",IF(F673=\"Arbeitgeberähnliche Stellung\",OFFSET(MD!$Q$5,MATCH(Grundlagen_Abrechnung_KAE!$AK$7,MD_JAHR,0),0)*$H673,IF(((AD673/12*M673*12)+N673)>AF673,AF673/12,((AD673/12*M673*12)+N673)/12)))","v":""},null,null,{"v":0,"d":"0.00"},null,{"v":0,"d":"0.00%"},{"v":0,"d":"0.00"},{"v":0,"d":"0.00"},{"v":0,"d":"0.00"},null,"prüfen",{"$f":"IFERROR(OFFSET(MD!$U$5,MATCH(Grundlagen_Abrechnung_KAE!$E673,MD_GENDER,0),0),\"\")","v":""},{"v":0,"d":"0.00"},null,{"v":0,"d":"0.00"},{"$f":"IF(F673=\"Arbeitgeberähnliche Stellung\",OFFSET(MD!$Q$5,MATCH(Grundlagen_Abrechnung_KAE!$AK$7,MD_JAHR,0),0)*$H673,IF(J673>0,AC673,I673))","v":{"v":0,"d":"0.00"}},null,{"$f":"OFFSET(MD!$P$5,MATCH($AK$7,MD_JAHR,0),0)*12","v":{"$error":"#VALUE!"}},{"v":0,"d":"0.00"}]
[{"$nulls":14},{"$f":"IF($B674=\"\",\"\",IF(F674=\"Arbeitgeberähnliche Stellung\",OFFSET(MD!$Q$5,MATCH(Grundlagen_Abrechnung_KAE!$AK$7,MD_JAHR,0),0)*$H674,IF(((AD674/12*M674*12)+N674)>AF674,AF674/12,((AD674/12*M674*12)+N674)/12)))","v":""},null,null,{"v":0,"d":"0.00"},null,{"v":0,"d":"0.00%"},{"v":0,"d":"0.00"},{"v":0,"d":"0.00"},{"v":0,"d":"0.00"},null,"prüfen",{"$f":"IFERROR(OFFSET(MD!$U$5,MATCH(Grundlagen_Abrechnung_KAE!$E674,MD_GENDER,0),0),\"\")","v":""},{"v":0,"d":"0.00"},null,{"v":0,"d":"0.00"},{"$f":"IF(F674=\"Arbeitgeberähnliche Stellung\",OFFSET(MD!$Q$5,MATCH(Grundlagen_Abrechnung_KAE!$AK$7,MD_JAHR,0),0)*$H674,IF(J674>0,AC674,I674))","v":{"v":0,"d":"0.00"}},null,{"$f":"OFFSET(MD!$P$5,MATCH($AK$7,MD_JAHR,0),0)*12","v":{"$error":"#VALUE!"}},{"v":0,"d":"0.00"}]
[{"$nulls":14},{"$f":"IF($B675=\"\",\"\",IF(F675=\"Arbeitgeberähnliche Stellung\",OFFSET(MD!$Q$5,MATCH(Grundlagen_Abrechnung_KAE!$AK$7,MD_JAHR,0),0)*$H675,IF(((AD675/12*M675*12)+N675)>AF675,AF675/12,((AD675/12*M675*12)+N675)/12)))","v":""},null,null,{"v":0,"d":"0.00"},null,{"v":0,"d":"0.00%"},{"v":0,"d":"0.00"},{"v":0,"d":"0.00"},{"v":0,"d":"0.00"},null,"prüfen",{"$f":"IFERROR(OFFSET(MD!$U$5,MATCH(Grundlagen_Abrechnung_KAE!$E675,MD_GENDER,0),0),\"\")","v":""},{"v":0,"d":"0.00"},null,{"v":0,"d":"0.00"},{"$f":"IF(F675=\"Arbeitgeberähnliche Stellung\",OFFSET(MD!$Q$5,MATCH(Grundlagen_Abrechnung_KAE!$AK$7,MD_JAHR,0),0)*$H675,IF(J675>0,AC675,I675))","v":{"v":0,"d":"0.00"}},null,{"$f":"OFFSET(MD!$P$5,MATCH($AK$7,MD_JAHR,0),0)*12","v":{"$error":"#VALUE!"}},{"v":0,"d":"0.00"}]
[{"$nulls":14},{"$f":"IF($B676=\"\",\"\",IF(F676=\"Arbeitgeberähnliche Stellung\",OFFSET(MD!$Q$5,MATCH(Grundlagen_Abrechnung_KAE!$AK$7,MD_JAHR,0),0)*$H676,IF(((AD676/12*M676*12)+N676)>AF676,AF676/12,((AD676/12*M676*12)+N676)/12)))","v":""},null,null,{"v":0,"d":"0.00"},null,{"v":0,"d":"0.00%"},{"v":0,"d":"0.00"},{"v":0,"d":"0.00"},{"v":0,"d":"0.00"},null,"prüfen",{"$f":"IFERROR(OFFSET(MD!$U$5,MATCH(Grundlagen_Abrechnung_KAE!$E676,MD_GENDER,0),0),\"\")","v":""},{"v":0,"d":"0.00"},null,{"v":0,"d":"0.00"},{"$f":"IF(F676=\"Arbeitgeberähnliche Stellung\",OFFSET(MD!$Q$5,MATCH(Grundlagen_Abrechnung_KAE!$AK$7,MD_JAHR,0),0)*$H676,IF(J676>0,AC676,I676))","v":{"v":0,"d":"0.00"}},null,{"$f":"OFFSET(MD!$P$5,MATCH($AK$7,MD_JAHR,0),0)*12","v":{"$error":"#VALUE!"}},{"v":0,"d":"0.00"}]
[{"$nulls":14},{"$f":"IF($B677=\"\",\"\",IF(F677=\"Arbeitgeberähnliche Stellung\",OFFSET(MD!$Q$5,MATCH(Grundlagen_Abrechnung_KAE!$AK$7,MD_JAHR,0),0)*$H677,IF(((AD677/12*M677*12)+N677)>AF677,AF677/12,((AD677/12*M677*12)+N677)/12)))","v":""},null,null,{"v":0,"d":"0.00"},null,{"v":0,"d":"0.00%"},{"v":0,"d":"0.00"},{"v":0,"d":"0.00"},{"v":0,"d":"0.00"},null,"prüfen",{"$f":"IFERROR(OFFSET(MD!$U$5,MATCH(Grundlagen_Abrechnung_KAE!$E677,MD_GENDER,0),0),\"\")","v":""},{"v":0,"d":"0.00"},null,{"v":0,"d":"0.00"},{"$f":"IF(F677=\"Arbeitgeberähnliche Stellung\",OFFSET(MD!$Q$5,MATCH(Grundlagen_Abrechnung_KAE!$AK$7,MD_JAHR,0),0)*$H677,IF(J677>0,AC677,I677))","v":{"v":0,"d":"0.00"}},null,{"$f":"OFFSET(MD!$P$5,MATCH($AK$7,MD_JAHR,0),0)*12","v":{"$error":"#VALUE!"}},{"v":0,"d":"0.00"}]
[{"$nulls":14},{"$f":"IF($B678=\"\",\"\",IF(F678=\"Arbeitgeberähnliche Stellung\",OFFSET(MD!$Q$5,MATCH(Grundlagen_Abrechnung_KAE!$AK$7,MD_JAHR,0),0)*$H678,IF(((AD678/12*M678*12)+N678)>AF678,AF678/12,((AD678/12*M678*12)+N678)/12)))","v":""},null,null,{"v":0,"d":"0.00"},null,{"v":0,"d":"0.00%"},{"v":0,"d":"0.00"},{"v":0,"d":"0.00"},{"v":0,"d":"0.00"},null,"prüfen",{"$f":"IFERROR(OFFSET(MD!$U$5,MATCH(Grundlagen_Abrechnung_KAE!$E678,MD_GENDER,0),0),\"\")","v":""},{"v":0,"d":"0.00"},null,{"v":0,"d":"0.00"},{"$f":"IF(F678=\"Arbeitgeberähnliche Stellung\",OFFSET(MD!$Q$5,MATCH(Grundlagen_Abrechnung_KAE!$AK$7,MD_JAHR,0),0)*$H678,IF(J678>0,AC678,I678))","v":{"v":0,"d":"0.00"}},null,{"$f":"OFFSET(MD!$P$5,MATCH($AK$7,MD_JAHR,0),0)*12","v":{"$error":"#VALUE!"}},{"v":0,"d":"0.00"}]
[{"$nulls":14},{"$f":"IF($B679=\"\",\"\",IF(F679=\"Arbeitgeberähnliche Stellung\",OFFSET(MD!$Q$5,MATCH(Grundlagen_Abrechnung_KAE!$AK$7,MD_JAHR,0),0)*$H679,IF(((AD679/12*M679*12)+N679)>AF679,AF679/12,((AD679/12*M679*12)+N679)/12)))","v":""},null,null,{"v":0,"d":"0.00"},null,{"v":0,"d":"0.00%"},{"v":0,"d":"0.00"},{"v":0,"d":"0.00"},{"v":0,"d":"0.00"},null,"prüfen",{"$f":"IFERROR(OFFSET(MD!$U$5,MATCH(Grundlagen_Abrechnung_KAE!$E679,MD_GENDER,0),0),\"\")","v":""},{"v":0,"d":"0.00"},null,{"v":0,"d":"0.00"},{"$f":"IF(F679=\"Arbeitgeberähnliche Stellung\",OFFSET(MD!$Q$5,MATCH(Grundlagen_Abrechnung_KAE!$AK$7,MD_JAHR,0),0)*$H679,IF(J679>0,AC679,I679))","v":{"v":0,"d":"0.00"}},null,{"$f":"OFFSET(MD!$P$5,MATCH($AK$7,MD_JAHR,0),0)*12","v":{"$error":"#VALUE!"}},{"v":0,"d":"0.00"}]
[{"$nulls":14},{"$f":"IF($B680=\"\",\"\",IF(F680=\"Arbeitgeberähnliche Stellung\",OFFSET(MD!$Q$5,MATCH(Grundlagen_Abrechnung_KAE!$AK$7,MD_JAHR,0),0)*$H680,IF(((AD680/12*M680*12)+N680)>AF680,AF680/12,((AD680/12*M680*12)+N680)/12)))","v":""},null,null,{"v":0,"d":"0.00"},null,{"v":0,"d":"0.00%"},{"v":0,"d":"0.00"},{"v":0,"d":"0.00"},{"v":0,"d":"0.00"},null,"prüfen",{"$f":"IFERROR(OFFSET(MD!$U$5,MATCH(Grundlagen_Abrechnung_KAE!$E680,MD_GENDER,0),0),\"\")","v":""},{"v":0,"d":"0.00"},null,{"v":0,"d":"0.00"},{"$f":"IF(F680=\"Arbeitgeberähnliche Stellung\",OFFSET(MD!$Q$5,MATCH(Grundlagen_Abrechnung_KAE!$AK$7,MD_JAHR,0),0)*$H680,IF(J680>0,AC680,I680))","v":{"v":0,"d":"0.00"}},null,{"$f":"OFFSET(MD!$P$5,MATCH($AK$7,MD_JAHR,0),0)*12","v":{"$error":"#VALUE!"}},{"v":0,"d":"0.00"}]
[{"$nulls":14},{"$f":"IF($B681=\"\",\"\",IF(F681=\"Arbeitgeberähnliche Stellung\",OFFSET(MD!$Q$5,MATCH(Grundlagen_Abrechnung_KAE!$AK$7,MD_JAHR,0),0)*$H681,IF(((AD681/12*M681*12)+N681)>AF681,AF681/12,((AD681/12*M681*12)+N681)/12)))","v":""},null,null,{"v":0,"d":"0.00"},null,{"v":0,"d":"0.00%"},{"v":0,"d":"0.00"},{"v":0,"d":"0.00"},{"v":0,"d":"0.00"},null,"prüfen",{"$f":"IFERROR(OFFSET(MD!$U$5,MATCH(Grundlagen_Abrechnung_KAE!$E681,MD_GENDER,0),0),\"\")","v":""},{"v":0,"d":"0.00"},null,{"v":0,"d":"0.00"},{"$f":"IF(F681=\"Arbeitgeberähnliche Stellung\",OFFSET(MD!$Q$5,MATCH(Grundlagen_Abrechnung_KAE!$AK$7,MD_JAHR,0),0)*$H681,IF(J681>0,AC681,I681))","v":{"v":0,"d":"0.00"}},null,{"$f":"OFFSET(MD!$P$5,MATCH($AK$7,MD_JAHR,0),0)*12","v":{"$error":"#VALUE!"}},{"v":0,"d":"0.00"}]
[{"$nulls":14},{"$f":"IF($B682=\"\",\"\",IF(F682=\"Arbeitgeberähnliche Stellung\",OFFSET(MD!$Q$5,MATCH(Grundlagen_Abrechnung_KAE!$AK$7,MD_JAHR,0),0)*$H682,IF(((AD682/12*M682*12)+N682)>AF682,AF682/12,((AD682/12*M682*12)+N682)/12)))","v":""},null,null,{"v":0,"d":"0.00"},null,{"v":0,"d":"0.00%"},{"v":0,"d":"0.00"},{"v":0,"d":"0.00"},{"v":0,"d":"0.00"},null,"prüfen",{"$f":"IFERROR(OFFSET(MD!$U$5,MATCH(Grundlagen_Abrechnung_KAE!$E682,MD_GENDER,0),0),\"\")","v":""},{"v":0,"d":"0.00"},null,{"v":0,"d":"0.00"},{"$f":"IF(F682=\"Arbeitgeberähnliche Stellung\",OFFSET(MD!$Q$5,MATCH(Grundlagen_Abrechnung_KAE!$AK$7,MD_JAHR,0),0)*$H682,IF(J682>0,AC682,I682))","v":{"v":0,"d":"0.00"}},null,{"$f":"OFFSET(MD!$P$5,MATCH($AK$7,MD_JAHR,0),0)*12","v":{"$error":"#VALUE!"}},{"v":0,"d":"0.00"}]
[{"$nulls":14},{"$f":"IF($B683=\"\",\"\",IF(F683=\"Arbeitgeberähnliche Stellung\",OFFSET(MD!$Q$5,MATCH(Grundlagen_Abrechnung_KAE!$AK$7,MD_JAHR,0),0)*$H683,IF(((AD683/12*M683*12)+N683)>AF683,AF683/12,((AD683/12*M683*12)+N683)/12)))","v":""},null,null,{"v":0,"d":"0.00"},null,{"v":0,"d":"0.00%"},{"v":0,"d":"0.00"},{"v":0,"d":"0.00"},{"v":0,"d":"0.00"},null,"prüfen",{"$f":"IFERROR(OFFSET(MD!$U$5,MATCH(Grundlagen_Abrechnung_KAE!$E683,MD_GENDER,0),0),\"\")","v":""},{"v":0,"d":"0.00"},null,{"v":0,"d":"0.00"},{"$f":"IF(F683=\"Arbeitgeberähnliche Stellung\",OFFSET(MD!$Q$5,MATCH(Grundlagen_Abrechnung_KAE!$AK$7,MD_JAHR,0),0)*$H683,IF(J683>0,AC683,I683))","v":{"v":0,"d":"0.00"}},null,{"$f":"OFFSET(MD!$P$5,MATCH($AK$7,MD_JAHR,0),0)*12","v":{"$error":"#VALUE!"}},{"v":0,"d":"0.00"}]
[{"$nulls":14},{"$f":"IF($B684=\"\",\"\",IF(F684=\"Arbeitgeberähnliche Stellung\",OFFSET(MD!$Q$5,MATCH(Grundlagen_Abrechnung_KAE!$AK$7,MD_JAHR,0),0)*$H684,IF(((AD684/12*M684*12)+N684)>AF684,AF684/12,((AD684/12*M684*12)+N684)/12)))","v":""},null,null,{"v":0,"d":"0.00"},null,{"v":0,"d":"0.00%"},{"v":0,"d":"0.00"},{"v":0,"d":"0.00"},{"v":0,"d":"0.00"},null,"prüfen",{"$f":"IFERROR(OFFSET(MD!$U$5,MATCH(Grundlagen_Abrechnung_KAE!$E684,MD_GENDER,0),0),\"\")","v":""},{"v":0,"d":"0.00"},null,{"v":0,"d":"0.00"},{"$f":"IF(F684=\"Arbeitgeberähnliche Stellung\",OFFSET(MD!$Q$5,MATCH(Grundlagen_Abrechnung_KAE!$AK$7,MD_JAHR,0),0)*$H684,IF(J684>0,AC684,I684))","v":{"v":0,"d":"0.00"}},null,{"$f":"OFFSET(MD!$P$5,MATCH($AK$7,MD_JAHR,0),0)*12","v":{"$error":"#VALUE!"}},{"v":0,"d":"0.00"}]
[{"$nulls":14},{"$f":"IF($B685=\"\",\"\",IF(F685=\"Arbeitgeberähnliche Stellung\",OFFSET(MD!$Q$5,MATCH(Grundlagen_Abrechnung_KAE!$AK$7,MD_JAHR,0),0)*$H685,IF(((AD685/12*M685*12)+N685)>AF685,AF685/12,((AD685/12*M685*12)+N685)/12)))","v":""},null,null,{"v":0,"d":"0.00"},null,{"v":0,"d":"0.00%"},{"v":0,"d":"0.00"},{"v":0,"d":"0.00"},{"v":0,"d":"0.00"},null,"prüfen",{"$f":"IFERROR(OFFSET(MD!$U$5,MATCH(Grundlagen_Abrechnung_KAE!$E685,MD_GENDER,0),0),\"\")","v":""},{"v":0,"d":"0.00"},null,{"v":0,"d":"0.00"},{"$f":"IF(F685=\"Arbeitgeberähnliche Stellung\",OFFSET(MD!$Q$5,MATCH(Grundlagen_Abrechnung_KAE!$AK$7,MD_JAHR,0),0)*$H685,IF(J685>0,AC685,I685))","v":{"v":0,"d":"0.00"}},null,{"$f":"OFFSET(MD!$P$5,MATCH($AK$7,MD_JAHR,0),0)*12","v":{"$error":"#VALUE!"}},{"v":0,"d":"0.00"}]
[{"$nulls":14},{"$f":"IF($B686=\"\",\"\",IF(F686=\"Arbeitgeberähnliche Stellung\",OFFSET(MD!$Q$5,MATCH(Grundlagen_Abrechnung_KAE!$AK$7,MD_JAHR,0),0)*$H686,IF(((AD686/12*M686*12)+N686)>AF686,AF686/12,((AD686/12*M686*12)+N686)/12)))","v":""},null,null,{"v":0,"d":"0.00"},null,{"v":0,"d":"0.00%"},{"v":0,"d":"0.00"},{"v":0,"d":"0.00"},{"v":0,"d":"0.00"},null,"prüfen",{"$f":"IFERROR(OFFSET(MD!$U$5,MATCH(Grundlagen_Abrechnung_KAE!$E686,MD_GENDER,0),0),\"\")","v":""},{"v":0,"d":"0.00"},null,{"v":0,"d":"0.00"},{"$f":"IF(F686=\"Arbeitgeberähnliche Stellung\",OFFSET(MD!$Q$5,MATCH(Grundlagen_Abrechnung_KAE!$AK$7,MD_JAHR,0),0)*$H686,IF(J686>0,AC686,I686))","v":{"v":0,"d":"0.00"}},null,{"$f":"OFFSET(MD!$P$5,MATCH($AK$7,MD_JAHR,0),0)*12","v":{"$error":"#VALUE!"}},{"v":0,"d":"0.00"}]
[{"$nulls":14},{"$f":"IF($B687=\"\",\"\",IF(F687=\"Arbeitgeberähnliche Stellung\",OFFSET(MD!$Q$5,MATCH(Grundlagen_Abrechnung_KAE!$AK$7,MD_JAHR,0),0)*$H687,IF(((AD687/12*M687*12)+N687)>AF687,AF687/12,((AD687/12*M687*12)+N687)/12)))","v":""},null,null,{"v":0,"d":"0.00"},null,{"v":0,"d":"0.00%"},{"v":0,"d":"0.00"},{"v":0,"d":"0.00"},{"v":0,"d":"0.00"},null,"prüfen",{"$f":"IFERROR(OFFSET(MD!$U$5,MATCH(Grundlagen_Abrechnung_KAE!$E687,MD_GENDER,0),0),\"\")","v":""},{"v":0,"d":"0.00"},null,{"v":0,"d":"0.00"},{"$f":"IF(F687=\"Arbeitgeberähnliche Stellung\",OFFSET(MD!$Q$5,MATCH(Grundlagen_Abrechnung_KAE!$AK$7,MD_JAHR,0),0)*$H687,IF(J687>0,AC687,I687))","v":{"v":0,"d":"0.00"}},null,{"$f":"OFFSET(MD!$P$5,MATCH($AK$7,MD_JAHR,0),0)*12","v":{"$error":"#VALUE!"}},{"v":0,"d":"0.00"}]
[{"$nulls":14},{"$f":"IF($B688=\"\",\"\",IF(F688=\"Arbeitgeberähnliche Stellung\",OFFSET(MD!$Q$5,MATCH(Grundlagen_Abrechnung_KAE!$AK$7,MD_JAHR,0),0)*$H688,IF(((AD688/12*M688*12)+N688)>AF688,AF688/12,((AD688/12*M688*12)+N688)/12)))","v":""},null,null,{"v":0,"d":"0.00"},null,{"v":0,"d":"0.00%"},{"v":0,"d":"0.00"},{"v":0,"d":"0.00"},{"v":0,"d":"0.00"},null,"prüfen",{"$f":"IFERROR(OFFSET(MD!$U$5,MATCH(Grundlagen_Abrechnung_KAE!$E688,MD_GENDER,0),0),\"\")","v":""},{"v":0,"d":"0.00"},null,{"v":0,"d":"0.00"},{"$f":"IF(F688=\"Arbeitgeberähnliche Stellung\",OFFSET(MD!$Q$5,MATCH(Grundlagen_Abrechnung_KAE!$AK$7,MD_JAHR,0),0)*$H688,IF(J688>0,AC688,I688))","v":{"v":0,"d":"0.00"}},null,{"$f":"OFFSET(MD!$P$5,MATCH($AK$7,MD_JAHR,0),0)*12","v":{"$error":"#VALUE!"}},{"v":0,"d":"0.00"}]
[{"$nulls":14},{"$f":"IF($B689=\"\",\"\",IF(F689=\"Arbeitgeberähnliche Stellung\",OFFSET(MD!$Q$5,MATCH(Grundlagen_Abrechnung_KAE!$AK$7,MD_JAHR,0),0)*$H689,IF(((AD689/12*M689*12)+N689)>AF689,AF689/12,((AD689/12*M689*12)+N689)/12)))","v":""},null,null,{"v":0,"d":"0.00"},null,{"v":0,"d":"0.00%"},{"v":0,"d":"0.00"},{"v":0,"d":"0.00"},{"v":0,"d":"0.00"},null,"prüfen",{"$f":"IFERROR(OFFSET(MD!$U$5,MATCH(Grundlagen_Abrechnung_KAE!$E689,MD_GENDER,0),0),\"\")","v":""},{"v":0,"d":"0.00"},null,{"v":0,"d":"0.00"},{"$f":"IF(F689=\"Arbeitgeberähnliche Stellung\",OFFSET(MD!$Q$5,MATCH(Grundlagen_Abrechnung_KAE!$AK$7,MD_JAHR,0),0)*$H689,IF(J689>0,AC689,I689))","v":{"v":0,"d":"0.00"}},null,{"$f":"OFFSET(MD!$P$5,MATCH($AK$7,MD_JAHR,0),0)*12","v":{"$error":"#VALUE!"}},{"v":0,"d":"0.00"}]
[{"$nulls":14},{"$f":"IF($B690=\"\",\"\",IF(F690=\"Arbeitgeberähnliche Stellung\",OFFSET(MD!$Q$5,MATCH(Grundlagen_Abrechnung_KAE!$AK$7,MD_JAHR,0),0)*$H690,IF(((AD690/12*M690*12)+N690)>AF690,AF690/12,((AD690/12*M690*12)+N690)/12)))","v":""},null,null,{"v":0,"d":"0.00"},null,{"v":0,"d":"0.00%"},{"v":0,"d":"0.00"},{"v":0,"d":"0.00"},{"v":0,"d":"0.00"},null,"prüfen",{"$f":"IFERROR(OFFSET(MD!$U$5,MATCH(Grundlagen_Abrechnung_KAE!$E690,MD_GENDER,0),0),\"\")","v":""},{"v":0,"d":"0.00"},null,{"v":0,"d":"0.00"},{"$f":"IF(F690=\"Arbeitgeberähnliche Stellung\",OFFSET(MD!$Q$5,MATCH(Grundlagen_Abrechnung_KAE!$AK$7,MD_JAHR,0),0)*$H690,IF(J690>0,AC690,I690))","v":{"v":0,"d":"0.00"}},null,{"$f":"OFFSET(MD!$P$5,MATCH($AK$7,MD_JAHR,0),0)*12","v":{"$error":"#VALUE!"}},{"v":0,"d":"0.00"}]
[{"$nulls":14},{"$f":"IF($B691=\"\",\"\",IF(F691=\"Arbeitgeberähnliche Stellung\",OFFSET(MD!$Q$5,MATCH(Grundlagen_Abrechnung_KAE!$AK$7,MD_JAHR,0),0)*$H691,IF(((AD691/12*M691*12)+N691)>AF691,AF691/12,((AD691/12*M691*12)+N691)/12)))","v":""},null,null,{"v":0,"d":"0.00"},null,{"v":0,"d":"0.00%"},{"v":0,"d":"0.00"},{"v":0,"d":"0.00"},{"v":0,"d":"0.00"},null,"prüfen",{"$f":"IFERROR(OFFSET(MD!$U$5,MATCH(Grundlagen_Abrechnung_KAE!$E691,MD_GENDER,0),0),\"\")","v":""},{"v":0,"d":"0.00"},null,{"v":0,"d":"0.00"},{"$f":"IF(F691=\"Arbeitgeberähnliche Stellung\",OFFSET(MD!$Q$5,MATCH(Grundlagen_Abrechnung_KAE!$AK$7,MD_JAHR,0),0)*$H691,IF(J691>0,AC691,I691))","v":{"v":0,"d":"0.00"}},null,{"$f":"OFFSET(MD!$P$5,MATCH($AK$7,MD_JAHR,0),0)*12","v":{"$error":"#VALUE!"}},{"v":0,"d":"0.00"}]
[{"$nulls":14},{"$f":"IF($B692=\"\",\"\",IF(F692=\"Arbeitgeberähnliche Stellung\",OFFSET(MD!$Q$5,MATCH(Grundlagen_Abrechnung_KAE!$AK$7,MD_JAHR,0),0)*$H692,IF(((AD692/12*M692*12)+N692)>AF692,AF692/12,((AD692/12*M692*12)+N692)/12)))","v":""},null,null,{"v":0,"d":"0.00"},null,{"v":0,"d":"0.00%"},{"v":0,"d":"0.00"},{"v":0,"d":"0.00"},{"v":0,"d":"0.00"},null,"prüfen",{"$f":"IFERROR(OFFSET(MD!$U$5,MATCH(Grundlagen_Abrechnung_KAE!$E692,MD_GENDER,0),0),\"\")","v":""},{"v":0,"d":"0.00"},null,{"v":0,"d":"0.00"},{"$f":"IF(F692=\"Arbeitgeberähnliche Stellung\",OFFSET(MD!$Q$5,MATCH(Grundlagen_Abrechnung_KAE!$AK$7,MD_JAHR,0),0)*$H692,IF(J692>0,AC692,I692))","v":{"v":0,"d":"0.00"}},null,{"$f":"OFFSET(MD!$P$5,MATCH($AK$7,MD_JAHR,0),0)*12","v":{"$error":"#VALUE!"}},{"v":0,"d":"0.00"}]
[{"$nulls":14},{"$f":"IF($B693=\"\",\"\",IF(F693=\"Arbeitgeberähnliche Stellung\",OFFSET(MD!$Q$5,MATCH(Grundlagen_Abrechnung_KAE!$AK$7,MD_JAHR,0),0)*$H693,IF(((AD693/12*M693*12)+N693)>AF693,AF693/12,((AD693/12*M693*12)+N693)/12)))","v":""},null,null,{"v":0,"d":"0.00"},null,{"v":0,"d":"0.00%"},{"v":0,"d":"0.00"},{"v":0,"d":"0.00"},{"v":0,"d":"0.00"},null,"prüfen",{"$f":"IFERROR(OFFSET(MD!$U$5,MATCH(Grundlagen_Abrechnung_KAE!$E693,MD_GENDER,0),0),\"\")","v":""},{"v":0,"d":"0.00"},null,{"v":0,"d":"0.00"},{"$f":"IF(F693=\"Arbeitgeberähnliche Stellung\",OFFSET(MD!$Q$5,MATCH(Grundlagen_Abrechnung_KAE!$AK$7,MD_JAHR,0),0)*$H693,IF(J693>0,AC693,I693))","v":{"v":0,"d":"0.00"}},null,{"$f":"OFFSET(MD!$P$5,MATCH($AK$7,MD_JAHR,0),0)*12","v":{"$error":"#VALUE!"}},{"v":0,"d":"0.00"}]
[{"$nulls":14},{"$f":"IF($B694=\"\",\"\",IF(F694=\"Arbeitgeberähnliche Stellung\",OFFSET(MD!$Q$5,MATCH(Grundlagen_Abrechnung_KAE!$AK$7,MD_JAHR,0),0)*$H694,IF(((AD694/12*M694*12)+N694)>AF694,AF694/12,((AD694/12*M694*12)+N694)/12)))","v":""},null,null,{"v":0,"d":"0.00"},null,{"v":0,"d":"0.00%"},{"v":0,"d":"0.00"},{"v":0,"d":"0.00"},{"v":0,"d":"0.00"},null,"prüfen",{"$f":"IFERROR(OFFSET(MD!$U$5,MATCH(Grundlagen_Abrechnung_KAE!$E694,MD_GENDER,0),0),\"\")","v":""},{"v":0,"d":"0.00"},null,{"v":0,"d":"0.00"},{"$f":"IF(F694=\"Arbeitgeberähnliche Stellung\",OFFSET(MD!$Q$5,MATCH(Grundlagen_Abrechnung_KAE!$AK$7,MD_JAHR,0),0)*$H694,IF(J694>0,AC694,I694))","v":{"v":0,"d":"0.00"}},null,{"$f":"OFFSET(MD!$P$5,MATCH($AK$7,MD_JAHR,0),0)*12","v":{"$error":"#VALUE!"}},{"v":0,"d":"0.00"}]
[{"$nulls":14},{"$f":"IF($B695=\"\",\"\",IF(F695=\"Arbeitgeberähnliche Stellung\",OFFSET(MD!$Q$5,MATCH(Grundlagen_Abrechnung_KAE!$AK$7,MD_JAHR,0),0)*$H695,IF(((AD695/12*M695*12)+N695)>AF695,AF695/12,((AD695/12*M695*12)+N695)/12)))","v":""},null,null,{"v":0,"d":"0.00"},null,{"v":0,"d":"0.00%"},{"v":0,"d":"0.00"},{"v":0,"d":"0.00"},{"v":0,"d":"0.00"},null,"prüfen",{"$f":"IFERROR(OFFSET(MD!$U$5,MATCH(Grundlagen_Abrechnung_KAE!$E695,MD_GENDER,0),0),\"\")","v":""},{"v":0,"d":"0.00"},null,{"v":0,"d":"0.00"},{"$f":"IF(F695=\"Arbeitgeberähnliche Stellung\",OFFSET(MD!$Q$5,MATCH(Grundlagen_Abrechnung_KAE!$AK$7,MD_JAHR,0),0)*$H695,IF(J695>0,AC695,I695))","v":{"v":0,"d":"0.00"}},null,{"$f":"OFFSET(MD!$P$5,MATCH($AK$7,MD_JAHR,0),0)*12","v":{"$error":"#VALUE!"}},{"v":0,"d":"0.00"}]
[{"$nulls":14},{"$f":"IF($B696=\"\",\"\",IF(F696=\"Arbeitgeberähnliche Stellung\",OFFSET(MD!$Q$5,MATCH(Grundlagen_Abrechnung_KAE!$AK$7,MD_JAHR,0),0)*$H696,IF(((AD696/12*M696*12)+N696)>AF696,AF696/12,((AD696/12*M696*12)+N696)/12)))","v":""},null,null,{"v":0,"d":"0.00"},null,{"v":0,"d":"0.00%"},{"v":0,"d":"0.00"},{"v":0,"d":"0.00"},{"v":0,"d":"0.00"},null,"prüfen",{"$f":"IFERROR(OFFSET(MD!$U$5,MATCH(Grundlagen_Abrechnung_KAE!$E696,MD_GENDER,0),0),\"\")","v":""},{"v":0,"d":"0.00"},null,{"v":0,"d":"0.00"},{"$f":"IF(F696=\"Arbeitgeberähnliche Stellung\",OFFSET(MD!$Q$5,MATCH(Grundlagen_Abrechnung_KAE!$AK$7,MD_JAHR,0),0)*$H696,IF(J696>0,AC696,I696))","v":{"v":0,"d":"0.00"}},null,{"$f":"OFFSET(MD!$P$5,MATCH($AK$7,MD_JAHR,0),0)*12","v":{"$error":"#VALUE!"}},{"v":0,"d":"0.00"}]
[{"$nulls":14},{"$f":"IF($B697=\"\",\"\",IF(F697=\"Arbeitgeberähnliche Stellung\",OFFSET(MD!$Q$5,MATCH(Grundlagen_Abrechnung_KAE!$AK$7,MD_JAHR,0),0)*$H697,IF(((AD697/12*M697*12)+N697)>AF697,AF697/12,((AD697/12*M697*12)+N697)/12)))","v":""},null,null,{"v":0,"d":"0.00"},null,{"v":0,"d":"0.00%"},{"v":0,"d":"0.00"},{"v":0,"d":"0.00"},{"v":0,"d":"0.00"},null,"prüfen",{"$f":"IFERROR(OFFSET(MD!$U$5,MATCH(Grundlagen_Abrechnung_KAE!$E697,MD_GENDER,0),0),\"\")","v":""},{"v":0,"d":"0.00"},null,{"v":0,"d":"0.00"},{"$f":"IF(F697=\"Arbeitgeberähnliche Stellung\",OFFSET(MD!$Q$5,MATCH(Grundlagen_Abrechnung_KAE!$AK$7,MD_JAHR,0),0)*$H697,IF(J697>0,AC697,I697))","v":{"v":0,"d":"0.00"}},null,{"$f":"OFFSET(MD!$P$5,MATCH($AK$7,MD_JAHR,0),0)*12","v":{"$error":"#VALUE!"}},{"v":0,"d":"0.00"}]
[{"$nulls":14},{"$f":"IF($B698=\"\",\"\",IF(F698=\"Arbeitgeberähnliche Stellung\",OFFSET(MD!$Q$5,MATCH(Grundlagen_Abrechnung_KAE!$AK$7,MD_JAHR,0),0)*$H698,IF(((AD698/12*M698*12)+N698)>AF698,AF698/12,((AD698/12*M698*12)+N698)/12)))","v":""},null,null,{"v":0,"d":"0.00"},null,{"v":0,"d":"0.00%"},{"v":0,"d":"0.00"},{"v":0,"d":"0.00"},{"v":0,"d":"0.00"},null,"prüfen",{"$f":"IFERROR(OFFSET(MD!$U$5,MATCH(Grundlagen_Abrechnung_KAE!$E698,MD_GENDER,0),0),\"\")","v":""},{"v":0,"d":"0.00"},null,{"v":0,"d":"0.00"},{"$f":"IF(F698=\"Arbeitgeberähnliche Stellung\",OFFSET(MD!$Q$5,MATCH(Grundlagen_Abrechnung_KAE!$AK$7,MD_JAHR,0),0)*$H698,IF(J698>0,AC698,I698))","v":{"v":0,"d":"0.00"}},null,{"$f":"OFFSET(MD!$P$5,MATCH($AK$7,MD_JAHR,0),0)*12","v":{"$error":"#VALUE!"}},{"v":0,"d":"0.00"}]
[{"$nulls":14},{"$f":"IF($B699=\"\",\"\",IF(F699=\"Arbeitgeberähnliche Stellung\",OFFSET(MD!$Q$5,MATCH(Grundlagen_Abrechnung_KAE!$AK$7,MD_JAHR,0),0)*$H699,IF(((AD699/12*M699*12)+N699)>AF699,AF699/12,((AD699/12*M699*12)+N699)/12)))","v":""},null,null,{"v":0,"d":"0.00"},null,{"v":0,"d":"0.00%"},{"v":0,"d":"0.00"},{"v":0,"d":"0.00"},{"v":0,"d":"0.00"},null,"prüfen",{"$f":"IFERROR(OFFSET(MD!$U$5,MATCH(Grundlagen_Abrechnung_KAE!$E699,MD_GENDER,0),0),\"\")","v":""},{"v":0,"d":"0.00"},null,{"v":0,"d":"0.00"},{"$f":"IF(F699=\"Arbeitgeberähnliche Stellung\",OFFSET(MD!$Q$5,MATCH(Grundlagen_Abrechnung_KAE!$AK$7,MD_JAHR,0),0)*$H699,IF(J699>0,AC699,I699))","v":{"v":0,"d":"0.00"}},null,{"$f":"OFFSET(MD!$P$5,MATCH($AK$7,MD_JAHR,0),0)*12","v":{"$error":"#VALUE!"}},{"v":0,"d":"0.00"}]
[{"$nulls":14},{"$f":"IF($B700=\"\",\"\",IF(F700=\"Arbeitgeberähnliche Stellung\",OFFSET(MD!$Q$5,MATCH(Grundlagen_Abrechnung_KAE!$AK$7,MD_JAHR,0),0)*$H700,IF(((AD700/12*M700*12)+N700)>AF700,AF700/12,((AD700/12*M700*12)+N700)/12)))","v":""},null,null,{"v":0,"d":"0.00"},null,{"v":0,"d":"0.00%"},{"v":0,"d":"0.00"},{"v":0,"d":"0.00"},{"v":0,"d":"0.00"},null,"prüfen",{"$f":"IFERROR(OFFSET(MD!$U$5,MATCH(Grundlagen_Abrechnung_KAE!$E700,MD_GENDER,0),0),\"\")","v":""},{"v":0,"d":"0.00"},null,{"v":0,"d":"0.00"},{"$f":"IF(F700=\"Arbeitgeberähnliche Stellung\",OFFSET(MD!$Q$5,MATCH(Grundlagen_Abrechnung_KAE!$AK$7,MD_JAHR,0),0)*$H700,IF(J700>0,AC700,I700))","v":{"v":0,"d":"0.00"}},null,{"$f":"OFFSET(MD!$P$5,MATCH($AK$7,MD_JAHR,0),0)*12","v":{"$error":"#VALUE!"}},{"v":0,"d":"0.00"}]
[{"$nulls":14},{"$f":"IF($B701=\"\",\"\",IF(F701=\"Arbeitgeberähnliche Stellung\",OFFSET(MD!$Q$5,MATCH(Grundlagen_Abrechnung_KAE!$AK$7,MD_JAHR,0),0)*$H701,IF(((AD701/12*M701*12)+N701)>AF701,AF701/12,((AD701/12*M701*12)+N701)/12)))","v":""},null,null,{"v":0,"d":"0.00"},null,{"v":0,"d":"0.00%"},{"v":0,"d":"0.00"},{"v":0,"d":"0.00"},{"v":0,"d":"0.00"},null,"prüfen",{"$f":"IFERROR(OFFSET(MD!$U$5,MATCH(Grundlagen_Abrechnung_KAE!$E701,MD_GENDER,0),0),\"\")","v":""},{"v":0,"d":"0.00"},null,{"v":0,"d":"0.00"},{"$f":"IF(F701=\"Arbeitgeberähnliche Stellung\",OFFSET(MD!$Q$5,MATCH(Grundlagen_Abrechnung_KAE!$AK$7,MD_JAHR,0),0)*$H701,IF(J701>0,AC701,I701))","v":{"v":0,"d":"0.00"}},null,{"$f":"OFFSET(MD!$P$5,MATCH($AK$7,MD_JAHR,0),0)*12","v":{"$error":"#VALUE!"}},{"v":0,"d":"0.00"}]
[{"$nulls":14},{"$f":"IF($B702=\"\",\"\",IF(F702=\"Arbeitgeberähnliche Stellung\",OFFSET(MD!$Q$5,MATCH(Grundlagen_Abrechnung_KAE!$AK$7,MD_JAHR,0),0)*$H702,IF(((AD702/12*M702*12)+N702)>AF702,AF702/12,((AD702/12*M702*12)+N702)/12)))","v":""},null,null,{"v":0,"d":"0.00"},null,{"v":0,"d":"0.00%"},{"v":0,"d":"0.00"},{"v":0,"d":"0.00"},{"v":0,"d":"0.00"},null,"prüfen",{"$f":"IFERROR(OFFSET(MD!$U$5,MATCH(Grundlagen_Abrechnung_KAE!$E702,MD_GENDER,0),0),\"\")","v":""},{"v":0,"d":"0.00"},null,{"v":0,"d":"0.00"},{"$f":"IF(F702=\"Arbeitgeberähnliche Stellung\",OFFSET(MD!$Q$5,MATCH(Grundlagen_Abrechnung_KAE!$AK$7,MD_JAHR,0),0)*$H702,IF(J702>0,AC702,I702))","v":{"v":0,"d":"0.00"}},null,{"$f":"OFFSET(MD!$P$5,MATCH($AK$7,MD_JAHR,0),0)*12","v":{"$error":"#VALUE!"}},{"v":0,"d":"0.00"}]
[{"$nulls":14},{"$f":"IF($B703=\"\",\"\",IF(F703=\"Arbeitgeberähnliche Stellung\",OFFSET(MD!$Q$5,MATCH(Grundlagen_Abrechnung_KAE!$AK$7,MD_JAHR,0),0)*$H703,IF(((AD703/12*M703*12)+N703)>AF703,AF703/12,((AD703/12*M703*12)+N703)/12)))","v":""},null,null,{"v":0,"d":"0.00"},null,{"v":0,"d":"0.00%"},{"v":0,"d":"0.00"},{"v":0,"d":"0.00"},{"v":0,"d":"0.00"},null,"prüfen",{"$f":"IFERROR(OFFSET(MD!$U$5,MATCH(Grundlagen_Abrechnung_KAE!$E703,MD_GENDER,0),0),\"\")","v":""},{"v":0,"d":"0.00"},null,{"v":0,"d":"0.00"},{"$f":"IF(F703=\"Arbeitgeberähnliche Stellung\",OFFSET(MD!$Q$5,MATCH(Grundlagen_Abrechnung_KAE!$AK$7,MD_JAHR,0),0)*$H703,IF(J703>0,AC703,I703))","v":{"v":0,"d":"0.00"}},null,{"$f":"OFFSET(MD!$P$5,MATCH($AK$7,MD_JAHR,0),0)*12","v":{"$error":"#VALUE!"}},{"v":0,"d":"0.00"}]
[{"$nulls":14},{"$f":"IF($B704=\"\",\"\",IF(F704=\"Arbeitgeberähnliche Stellung\",OFFSET(MD!$Q$5,MATCH(Grundlagen_Abrechnung_KAE!$AK$7,MD_JAHR,0),0)*$H704,IF(((AD704/12*M704*12)+N704)>AF704,AF704/12,((AD704/12*M704*12)+N704)/12)))","v":""},null,null,{"v":0,"d":"0.00"},null,{"v":0,"d":"0.00%"},{"v":0,"d":"0.00"},{"v":0,"d":"0.00"},{"v":0,"d":"0.00"},null,"prüfen",{"$f":"IFERROR(OFFSET(MD!$U$5,MATCH(Grundlagen_Abrechnung_KAE!$E704,MD_GENDER,0),0),\"\")","v":""},{"v":0,"d":"0.00"},null,{"v":0,"d":"0.00"},{"$f":"IF(F704=\"Arbeitgeberähnliche Stellung\",OFFSET(MD!$Q$5,MATCH(Grundlagen_Abrechnung_KAE!$AK$7,MD_JAHR,0),0)*$H704,IF(J704>0,AC704,I704))","v":{"v":0,"d":"0.00"}},null,{"$f":"OFFSET(MD!$P$5,MATCH($AK$7,MD_JAHR,0),0)*12","v":{"$error":"#VALUE!"}},{"v":0,"d":"0.00"}]
[{"$nulls":14},{"$f":"IF($B705=\"\",\"\",IF(F705=\"Arbeitgeberähnliche Stellung\",OFFSET(MD!$Q$5,MATCH(Grundlagen_Abrechnung_KAE!$AK$7,MD_JAHR,0),0)*$H705,IF(((AD705/12*M705*12)+N705)>AF705,AF705/12,((AD705/12*M705*12)+N705)/12)))","v":""},null,null,{"v":0,"d":"0.00"},null,{"v":0,"d":"0.00%"},{"v":0,"d":"0.00"},{"v":0,"d":"0.00"},{"v":0,"d":"0.00"},null,"prüfen",{"$f":"IFERROR(OFFSET(MD!$U$5,MATCH(Grundlagen_Abrechnung_KAE!$E705,MD_GENDER,0),0),\"\")","v":""},{"v":0,"d":"0.00"},null,{"v":0,"d":"0.00"},{"$f":"IF(F705=\"Arbeitgeberähnliche Stellung\",OFFSET(MD!$Q$5,MATCH(Grundlagen_Abrechnung_KAE!$AK$7,MD_JAHR,0),0)*$H705,IF(J705>0,AC705,I705))","v":{"v":0,"d":"0.00"}},null,{"$f":"OFFSET(MD!$P$5,MATCH($AK$7,MD_JAHR,0),0)*12","v":{"$error":"#VALUE!"}},{"v":0,"d":"0.00"}]
[{"$nulls":14},{"$f":"IF($B706=\"\",\"\",IF(F706=\"Arbeitgeberähnliche Stellung\",OFFSET(MD!$Q$5,MATCH(Grundlagen_Abrechnung_KAE!$AK$7,MD_JAHR,0),0)*$H706,IF(((AD706/12*M706*12)+N706)>AF706,AF706/12,((AD706/12*M706*12)+N706)/12)))","v":""},null,null,{"v":0,"d":"0.00"},null,{"v":0,"d":"0.00%"},{"v":0,"d":"0.00"},{"v":0,"d":"0.00"},{"v":0,"d":"0.00"},null,"prüfen",{"$f":"IFERROR(OFFSET(MD!$U$5,MATCH(Grundlagen_Abrechnung_KAE!$E706,MD_GENDER,0),0),\"\")","v":""},{"v":0,"d":"0.00"},null,{"v":0,"d":"0.00"},{"$f":"IF(F706=\"Arbeitgeberähnliche Stellung\",OFFSET(MD!$Q$5,MATCH(Grundlagen_Abrechnung_KAE!$AK$7,MD_JAHR,0),0)*$H706,IF(J706>0,AC706,I706))","v":{"v":0,"d":"0.00"}},null,{"$f":"OFFSET(MD!$P$5,MATCH($AK$7,MD_JAHR,0),0)*12","v":{"$error":"#VALUE!"}},{"v":0,"d":"0.00"}]
[{"$nulls":14},{"$f":"IF($B707=\"\",\"\",IF(F707=\"Arbeitgeberähnliche Stellung\",OFFSET(MD!$Q$5,MATCH(Grundlagen_Abrechnung_KAE!$AK$7,MD_JAHR,0),0)*$H707,IF(((AD707/12*M707*12)+N707)>AF707,AF707/12,((AD707/12*M707*12)+N707)/12)))","v":""},null,null,{"v":0,"d":"0.00"},null,{"v":0,"d":"0.00%"},{"v":0,"d":"0.00"},{"v":0,"d":"0.00"},{"v":0,"d":"0.00"},null,"prüfen",{"$f":"IFERROR(OFFSET(MD!$U$5,MATCH(Grundlagen_Abrechnung_KAE!$E707,MD_GENDER,0),0),\"\")","v":""},{"v":0,"d":"0.00"},null,{"v":0,"d":"0.00"},{"$f":"IF(F707=\"Arbeitgeberähnliche Stellung\",OFFSET(MD!$Q$5,MATCH(Grundlagen_Abrechnung_KAE!$AK$7,MD_JAHR,0),0)*$H707,IF(J707>0,AC707,I707))","v":{"v":0,"d":"0.00"}},null,{"$f":"OFFSET(MD!$P$5,MATCH($AK$7,MD_JAHR,0),0)*12","v":{"$error":"#VALUE!"}},{"v":0,"d":"0.00"}]
[{"$nulls":14},{"$f":"IF($B708=\"\",\"\",IF(F708=\"Arbeitgeberähnliche Stellung\",OFFSET(MD!$Q$5,MATCH(Grundlagen_Abrechnung_KAE!$AK$7,MD_JAHR,0),0)*$H708,IF(((AD708/12*M708*12)+N708)>AF708,AF708/12,((AD708/12*M708*12)+N708)/12)))","v":""},null,null,{"v":0,"d":"0.00"},null,{"v":0,"d":"0.00%"},{"v":0,"d":"0.00"},{"v":0,"d":"0.00"},{"v":0,"d":"0.00"},null,"prüfen",{"$f":"IFERROR(OFFSET(MD!$U$5,MATCH(Grundlagen_Abrechnung_KAE!$E708,MD_GENDER,0),0),\"\")","v":""},{"v":0,"d":"0.00"},null,{"v":0,"d":"0.00"},{"$f":"IF(F708=\"Arbeitgeberähnliche Stellung\",OFFSET(MD!$Q$5,MATCH(Grundlagen_Abrechnung_KAE!$AK$7,MD_JAHR,0),0)*$H708,IF(J708>0,AC708,I708))","v":{"v":0,"d":"0.00"}},null,{"$f":"OFFSET(MD!$P$5,MATCH($AK$7,MD_JAHR,0),0)*12","v":{"$error":"#VALUE!"}},{"v":0,"d":"0.00"}]
[{"$nulls":14},{"$f":"IF($B709=\"\",\"\",IF(F709=\"Arbeitgeberähnliche Stellung\",OFFSET(MD!$Q$5,MATCH(Grundlagen_Abrechnung_KAE!$AK$7,MD_JAHR,0),0)*$H709,IF(((AD709/12*M709*12)+N709)>AF709,AF709/12,((AD709/12*M709*12)+N709)/12)))","v":""},null,null,{"v":0,"d":"0.00"},null,{"v":0,"d":"0.00%"},{"v":0,"d":"0.00"},{"v":0,"d":"0.00"},{"v":0,"d":"0.00"},null,"prüfen",{"$f":"IFERROR(OFFSET(MD!$U$5,MATCH(Grundlagen_Abrechnung_KAE!$E709,MD_GENDER,0),0),\"\")","v":""},{"v":0,"d":"0.00"},null,{"v":0,"d":"0.00"},{"$f":"IF(F709=\"Arbeitgeberähnliche Stellung\",OFFSET(MD!$Q$5,MATCH(Grundlagen_Abrechnung_KAE!$AK$7,MD_JAHR,0),0)*$H709,IF(J709>0,AC709,I709))","v":{"v":0,"d":"0.00"}},null,{"$f":"OFFSET(MD!$P$5,MATCH($AK$7,MD_JAHR,0),0)*12","v":{"$error":"#VALUE!"}},{"v":0,"d":"0.00"}]
[{"$nulls":14},{"$f":"IF($B710=\"\",\"\",IF(F710=\"Arbeitgeberähnliche Stellung\",OFFSET(MD!$Q$5,MATCH(Grundlagen_Abrechnung_KAE!$AK$7,MD_JAHR,0),0)*$H710,IF(((AD710/12*M710*12)+N710)>AF710,AF710/12,((AD710/12*M710*12)+N710)/12)))","v":""},null,null,{"v":0,"d":"0.00"},null,{"v":0,"d":"0.00%"},{"v":0,"d":"0.00"},{"v":0,"d":"0.00"},{"v":0,"d":"0.00"},null,"prüfen",{"$f":"IFERROR(OFFSET(MD!$U$5,MATCH(Grundlagen_Abrechnung_KAE!$E710,MD_GENDER,0),0),\"\")","v":""},{"v":0,"d":"0.00"},null,{"v":0,"d":"0.00"},{"$f":"IF(F710=\"Arbeitgeberähnliche Stellung\",OFFSET(MD!$Q$5,MATCH(Grundlagen_Abrechnung_KAE!$AK$7,MD_JAHR,0),0)*$H710,IF(J710>0,AC710,I710))","v":{"v":0,"d":"0.00"}},null,{"$f":"OFFSET(MD!$P$5,MATCH($AK$7,MD_JAHR,0),0)*12","v":{"$error":"#VALUE!"}},{"v":0,"d":"0.00"}]
[{"$nulls":14},{"$f":"IF($B711=\"\",\"\",IF(F711=\"Arbeitgeberähnliche Stellung\",OFFSET(MD!$Q$5,MATCH(Grundlagen_Abrechnung_KAE!$AK$7,MD_JAHR,0),0)*$H711,IF(((AD711/12*M711*12)+N711)>AF711,AF711/12,((AD711/12*M711*12)+N711)/12)))","v":""},null,null,{"v":0,"d":"0.00"},null,{"v":0,"d":"0.00%"},{"v":0,"d":"0.00"},{"v":0,"d":"0.00"},{"v":0,"d":"0.00"},null,"prüfen",{"$f":"IFERROR(OFFSET(MD!$U$5,MATCH(Grundlagen_Abrechnung_KAE!$E711,MD_GENDER,0),0),\"\")","v":""},{"v":0,"d":"0.00"},null,{"v":0,"d":"0.00"},{"$f":"IF(F711=\"Arbeitgeberähnliche Stellung\",OFFSET(MD!$Q$5,MATCH(Grundlagen_Abrechnung_KAE!$AK$7,MD_JAHR,0),0)*$H711,IF(J711>0,AC711,I711))","v":{"v":0,"d":"0.00"}},null,{"$f":"OFFSET(MD!$P$5,MATCH($AK$7,MD_JAHR,0),0)*12","v":{"$error":"#VALUE!"}},{"v":0,"d":"0.00"}]
[{"$nulls":14},{"$f":"IF($B712=\"\",\"\",IF(F712=\"Arbeitgeberähnliche Stellung\",OFFSET(MD!$Q$5,MATCH(Grundlagen_Abrechnung_KAE!$AK$7,MD_JAHR,0),0)*$H712,IF(((AD712/12*M712*12)+N712)>AF712,AF712/12,((AD712/12*M712*12)+N712)/12)))","v":""},null,null,{"v":0,"d":"0.00"},null,{"v":0,"d":"0.00%"},{"v":0,"d":"0.00"},{"v":0,"d":"0.00"},{"v":0,"d":"0.00"},null,"prüfen",{"$f":"IFERROR(OFFSET(MD!$U$5,MATCH(Grundlagen_Abrechnung_KAE!$E712,MD_GENDER,0),0),\"\")","v":""},{"v":0,"d":"0.00"},null,{"v":0,"d":"0.00"},{"$f":"IF(F712=\"Arbeitgeberähnliche Stellung\",OFFSET(MD!$Q$5,MATCH(Grundlagen_Abrechnung_KAE!$AK$7,MD_JAHR,0),0)*$H712,IF(J712>0,AC712,I712))","v":{"v":0,"d":"0.00"}},null,{"$f":"OFFSET(MD!$P$5,MATCH($AK$7,MD_JAHR,0),0)*12","v":{"$error":"#VALUE!"}},{"v":0,"d":"0.00"}]
[{"$nulls":14},{"$f":"IF($B713=\"\",\"\",IF(F713=\"Arbeitgeberähnliche Stellung\",OFFSET(MD!$Q$5,MATCH(Grundlagen_Abrechnung_KAE!$AK$7,MD_JAHR,0),0)*$H713,IF(((AD713/12*M713*12)+N713)>AF713,AF713/12,((AD713/12*M713*12)+N713)/12)))","v":""},null,null,{"v":0,"d":"0.00"},null,{"v":0,"d":"0.00%"},{"v":0,"d":"0.00"},{"v":0,"d":"0.00"},{"v":0,"d":"0.00"},null,"prüfen",{"$f":"IFERROR(OFFSET(MD!$U$5,MATCH(Grundlagen_Abrechnung_KAE!$E713,MD_GENDER,0),0),\"\")","v":""},{"v":0,"d":"0.00"},null,{"v":0,"d":"0.00"},{"$f":"IF(F713=\"Arbeitgeberähnliche Stellung\",OFFSET(MD!$Q$5,MATCH(Grundlagen_Abrechnung_KAE!$AK$7,MD_JAHR,0),0)*$H713,IF(J713>0,AC713,I713))","v":{"v":0,"d":"0.00"}},null,{"$f":"OFFSET(MD!$P$5,MATCH($AK$7,MD_JAHR,0),0)*12","v":{"$error":"#VALUE!"}},{"v":0,"d":"0.00"}]
[{"$nulls":14},{"$f":"IF($B714=\"\",\"\",IF(F714=\"Arbeitgeberähnliche Stellung\",OFFSET(MD!$Q$5,MATCH(Grundlagen_Abrechnung_KAE!$AK$7,MD_JAHR,0),0)*$H714,IF(((AD714/12*M714*12)+N714)>AF714,AF714/12,((AD714/12*M714*12)+N714)/12)))","v":""},null,null,{"v":0,"d":"0.00"},null,{"v":0,"d":"0.00%"},{"v":0,"d":"0.00"},{"v":0,"d":"0.00"},{"v":0,"d":"0.00"},null,"prüfen",{"$f":"IFERROR(OFFSET(MD!$U$5,MATCH(Grundlagen_Abrechnung_KAE!$E714,MD_GENDER,0),0),\"\")","v":""},{"v":0,"d":"0.00"},null,{"v":0,"d":"0.00"},{"$f":"IF(F714=\"Arbeitgeberähnliche Stellung\",OFFSET(MD!$Q$5,MATCH(Grundlagen_Abrechnung_KAE!$AK$7,MD_JAHR,0),0)*$H714,IF(J714>0,AC714,I714))","v":{"v":0,"d":"0.00"}},null,{"$f":"OFFSET(MD!$P$5,MATCH($AK$7,MD_JAHR,0),0)*12","v":{"$error":"#VALUE!"}},{"v":0,"d":"0.00"}]
[{"$nulls":14},{"$f":"IF($B715=\"\",\"\",IF(F715=\"Arbeitgeberähnliche Stellung\",OFFSET(MD!$Q$5,MATCH(Grundlagen_Abrechnung_KAE!$AK$7,MD_JAHR,0),0)*$H715,IF(((AD715/12*M715*12)+N715)>AF715,AF715/12,((AD715/12*M715*12)+N715)/12)))","v":""},null,null,{"v":0,"d":"0.00"},null,{"v":0,"d":"0.00%"},{"v":0,"d":"0.00"},{"v":0,"d":"0.00"},{"v":0,"d":"0.00"},null,"prüfen",{"$f":"IFERROR(OFFSET(MD!$U$5,MATCH(Grundlagen_Abrechnung_KAE!$E715,MD_GENDER,0),0),\"\")","v":""},{"v":0,"d":"0.00"},null,{"v":0,"d":"0.00"},{"$f":"IF(F715=\"Arbeitgeberähnliche Stellung\",OFFSET(MD!$Q$5,MATCH(Grundlagen_Abrechnung_KAE!$AK$7,MD_JAHR,0),0)*$H715,IF(J715>0,AC715,I715))","v":{"v":0,"d":"0.00"}},null,{"$f":"OFFSET(MD!$P$5,MATCH($AK$7,MD_JAHR,0),0)*12","v":{"$error":"#VALUE!"}},{"v":0,"d":"0.00"}]
[{"$nulls":14},{"$f":"IF($B716=\"\",\"\",IF(F716=\"Arbeitgeberähnliche Stellung\",OFFSET(MD!$Q$5,MATCH(Grundlagen_Abrechnung_KAE!$AK$7,MD_JAHR,0),0)*$H716,IF(((AD716/12*M716*12)+N716)>AF716,AF716/12,((AD716/12*M716*12)+N716)/12)))","v":""},null,null,{"v":0,"d":"0.00"},null,{"v":0,"d":"0.00%"},{"v":0,"d":"0.00"},{"v":0,"d":"0.00"},{"v":0,"d":"0.00"},null,"prüfen",{"$f":"IFERROR(OFFSET(MD!$U$5,MATCH(Grundlagen_Abrechnung_KAE!$E716,MD_GENDER,0),0),\"\")","v":""},{"v":0,"d":"0.00"},null,{"v":0,"d":"0.00"},{"$f":"IF(F716=\"Arbeitgeberähnliche Stellung\",OFFSET(MD!$Q$5,MATCH(Grundlagen_Abrechnung_KAE!$AK$7,MD_JAHR,0),0)*$H716,IF(J716>0,AC716,I716))","v":{"v":0,"d":"0.00"}},null,{"$f":"OFFSET(MD!$P$5,MATCH($AK$7,MD_JAHR,0),0)*12","v":{"$error":"#VALUE!"}},{"v":0,"d":"0.00"}]
[{"$nulls":14},{"$f":"IF($B717=\"\",\"\",IF(F717=\"Arbeitgeberähnliche Stellung\",OFFSET(MD!$Q$5,MATCH(Grundlagen_Abrechnung_KAE!$AK$7,MD_JAHR,0),0)*$H717,IF(((AD717/12*M717*12)+N717)>AF717,AF717/12,((AD717/12*M717*12)+N717)/12)))","v":""},null,null,{"v":0,"d":"0.00"},null,{"v":0,"d":"0.00%"},{"v":0,"d":"0.00"},{"v":0,"d":"0.00"},{"v":0,"d":"0.00"},null,"prüfen",{"$f":"IFERROR(OFFSET(MD!$U$5,MATCH(Grundlagen_Abrechnung_KAE!$E717,MD_GENDER,0),0),\"\")","v":""},{"v":0,"d":"0.00"},null,{"v":0,"d":"0.00"},{"$f":"IF(F717=\"Arbeitgeberähnliche Stellung\",OFFSET(MD!$Q$5,MATCH(Grundlagen_Abrechnung_KAE!$AK$7,MD_JAHR,0),0)*$H717,IF(J717>0,AC717,I717))","v":{"v":0,"d":"0.00"}},null,{"$f":"OFFSET(MD!$P$5,MATCH($AK$7,MD_JAHR,0),0)*12","v":{"$error":"#VALUE!"}},{"v":0,"d":"0.00"}]
[{"$nulls":14},{"$f":"IF($B718=\"\",\"\",IF(F718=\"Arbeitgeberähnliche Stellung\",OFFSET(MD!$Q$5,MATCH(Grundlagen_Abrechnung_KAE!$AK$7,MD_JAHR,0),0)*$H718,IF(((AD718/12*M718*12)+N718)>AF718,AF718/12,((AD718/12*M718*12)+N718)/12)))","v":""},null,null,{"v":0,"d":"0.00"},null,{"v":0,"d":"0.00%"},{"v":0,"d":"0.00"},{"v":0,"d":"0.00"},{"v":0,"d":"0.00"},null,"prüfen",{"$f":"IFERROR(OFFSET(MD!$U$5,MATCH(Grundlagen_Abrechnung_KAE!$E718,MD_GENDER,0),0),\"\")","v":""},{"v":0,"d":"0.00"},null,{"v":0,"d":"0.00"},{"$f":"IF(F718=\"Arbeitgeberähnliche Stellung\",OFFSET(MD!$Q$5,MATCH(Grundlagen_Abrechnung_KAE!$AK$7,MD_JAHR,0),0)*$H718,IF(J718>0,AC718,I718))","v":{"v":0,"d":"0.00"}},null,{"$f":"OFFSET(MD!$P$5,MATCH($AK$7,MD_JAHR,0),0)*12","v":{"$error":"#VALUE!"}},{"v":0,"d":"0.00"}]
[{"$nulls":14},{"$f":"IF($B719=\"\",\"\",IF(F719=\"Arbeitgeberähnliche Stellung\",OFFSET(MD!$Q$5,MATCH(Grundlagen_Abrechnung_KAE!$AK$7,MD_JAHR,0),0)*$H719,IF(((AD719/12*M719*12)+N719)>AF719,AF719/12,((AD719/12*M719*12)+N719)/12)))","v":""},null,null,{"v":0,"d":"0.00"},null,{"v":0,"d":"0.00%"},{"v":0,"d":"0.00"},{"v":0,"d":"0.00"},{"v":0,"d":"0.00"},null,"prüfen",{"$f":"IFERROR(OFFSET(MD!$U$5,MATCH(Grundlagen_Abrechnung_KAE!$E719,MD_GENDER,0),0),\"\")","v":""},{"v":0,"d":"0.00"},null,{"v":0,"d":"0.00"},{"$f":"IF(F719=\"Arbeitgeberähnliche Stellung\",OFFSET(MD!$Q$5,MATCH(Grundlagen_Abrechnung_KAE!$AK$7,MD_JAHR,0),0)*$H719,IF(J719>0,AC719,I719))","v":{"v":0,"d":"0.00"}},null,{"$f":"OFFSET(MD!$P$5,MATCH($AK$7,MD_JAHR,0),0)*12","v":{"$error":"#VALUE!"}},{"v":0,"d":"0.00"}]
[{"$nulls":14},{"$f":"IF($B720=\"\",\"\",IF(F720=\"Arbeitgeberähnliche Stellung\",OFFSET(MD!$Q$5,MATCH(Grundlagen_Abrechnung_KAE!$AK$7,MD_JAHR,0),0)*$H720,IF(((AD720/12*M720*12)+N720)>AF720,AF720/12,((AD720/12*M720*12)+N720)/12)))","v":""},null,null,{"v":0,"d":"0.00"},null,{"v":0,"d":"0.00%"},{"v":0,"d":"0.00"},{"v":0,"d":"0.00"},{"v":0,"d":"0.00"},null,"prüfen",{"$f":"IFERROR(OFFSET(MD!$U$5,MATCH(Grundlagen_Abrechnung_KAE!$E720,MD_GENDER,0),0),\"\")","v":""},{"v":0,"d":"0.00"},null,{"v":0,"d":"0.00"},{"$f":"IF(F720=\"Arbeitgeberähnliche Stellung\",OFFSET(MD!$Q$5,MATCH(Grundlagen_Abrechnung_KAE!$AK$7,MD_JAHR,0),0)*$H720,IF(J720>0,AC720,I720))","v":{"v":0,"d":"0.00"}},null,{"$f":"OFFSET(MD!$P$5,MATCH($AK$7,MD_JAHR,0),0)*12","v":{"$error":"#VALUE!"}},{"v":0,"d":"0.00"}]
[{"$nulls":14},{"$f":"IF($B721=\"\",\"\",IF(F721=\"Arbeitgeberähnliche Stellung\",OFFSET(MD!$Q$5,MATCH(Grundlagen_Abrechnung_KAE!$AK$7,MD_JAHR,0),0)*$H721,IF(((AD721/12*M721*12)+N721)>AF721,AF721/12,((AD721/12*M721*12)+N721)/12)))","v":""},null,null,{"v":0,"d":"0.00"},null,{"v":0,"d":"0.00%"},{"v":0,"d":"0.00"},{"v":0,"d":"0.00"},{"v":0,"d":"0.00"},null,"prüfen",{"$f":"IFERROR(OFFSET(MD!$U$5,MATCH(Grundlagen_Abrechnung_KAE!$E721,MD_GENDER,0),0),\"\")","v":""},{"v":0,"d":"0.00"},null,{"v":0,"d":"0.00"},{"$f":"IF(F721=\"Arbeitgeberähnliche Stellung\",OFFSET(MD!$Q$5,MATCH(Grundlagen_Abrechnung_KAE!$AK$7,MD_JAHR,0),0)*$H721,IF(J721>0,AC721,I721))","v":{"v":0,"d":"0.00"}},null,{"$f":"OFFSET(MD!$P$5,MATCH($AK$7,MD_JAHR,0),0)*12","v":{"$error":"#VALUE!"}},{"v":0,"d":"0.00"}]
[{"$nulls":14},{"$f":"IF($B722=\"\",\"\",IF(F722=\"Arbeitgeberähnliche Stellung\",OFFSET(MD!$Q$5,MATCH(Grundlagen_Abrechnung_KAE!$AK$7,MD_JAHR,0),0)*$H722,IF(((AD722/12*M722*12)+N722)>AF722,AF722/12,((AD722/12*M722*12)+N722)/12)))","v":""},null,null,{"v":0,"d":"0.00"},null,{"v":0,"d":"0.00%"},{"v":0,"d":"0.00"},{"v":0,"d":"0.00"},{"v":0,"d":"0.00"},null,"prüfen",{"$f":"IFERROR(OFFSET(MD!$U$5,MATCH(Grundlagen_Abrechnung_KAE!$E722,MD_GENDER,0),0),\"\")","v":""},{"v":0,"d":"0.00"},null,{"v":0,"d":"0.00"},{"$f":"IF(F722=\"Arbeitgeberähnliche Stellung\",OFFSET(MD!$Q$5,MATCH(Grundlagen_Abrechnung_KAE!$AK$7,MD_JAHR,0),0)*$H722,IF(J722>0,AC722,I722))","v":{"v":0,"d":"0.00"}},null,{"$f":"OFFSET(MD!$P$5,MATCH($AK$7,MD_JAHR,0),0)*12","v":{"$error":"#VALUE!"}},{"v":0,"d":"0.00"}]
[{"$nulls":14},{"$f":"IF($B723=\"\",\"\",IF(F723=\"Arbeitgeberähnliche Stellung\",OFFSET(MD!$Q$5,MATCH(Grundlagen_Abrechnung_KAE!$AK$7,MD_JAHR,0),0)*$H723,IF(((AD723/12*M723*12)+N723)>AF723,AF723/12,((AD723/12*M723*12)+N723)/12)))","v":""},null,null,{"$f":"ROUND(IF(Q723=\"\",0,IF(P723=0,0,IF(Q723>P723,0,P723-Q723))),2)","v":{"v":0,"d":"0.00"}},null,{"$f":"IFERROR(R723/P723,0)","v":{"v":0,"d":"0.00%"}},{"$f":"IFERROR(IF(O723-W723=0,O723,(O723)*(1-T723)),0)","v":{"v":0,"d":"0.00"}},{"v":0,"d":"0.00"},{"$f":"IFERROR(O723*T723,0)*0.8","v":{"v":0,"d":"0.00"}},null,{"$f":"IF(YEAR($G723)>$Y$16,\"prüfen\",\"\")","v":"prüfen"},{"$f":"IFERROR(OFFSET(MD!$U$5,MATCH(Grundlagen_Abrechnung_KAE!$E723,MD_GENDER,0),0),\"\")","v":""},{"$f":"IF(B723=\"\",0,IF(YEAR(G723)>$AA$16,0,1))","v":{"v":0,"d":"0.00"}},null,{"$f":"IF(J723*K723/6>J723*L723/12,J723*K723/6,J723*L723/12)","v":{"v":0,"d":"0.00"}},{"$f":"IF(F723=\"Arbeitgeberähnliche Stellung\",OFFSET(MD!$Q$5,MATCH(Grundlagen_Abrechnung_KAE!$AK$7,MD_JAHR,0),0)*$H723,IF(J723>0,AC723,I723))","v":{"v":0,"d":"0.00"}},null,{"$f":"OFFSET(MD!$P$5,MATCH($AK$7,MD_JAHR,0),0)*12","v":{"$error":"#VALUE!"}},{"$f":"I723*M723+N723","v":{"v":0,"d":"0.00"}}]
[{"$nulls":14},{"$f":"IF($B724=\"\",\"\",IF(F724=\"Arbeitgeberähnliche Stellung\",OFFSET(MD!$Q$5,MATCH(Grundlagen_Abrechnung_KAE!$AK$7,MD_JAHR,0),0)*$H724,IF(((AD724/12*M724*12)+N724)>AF724,AF724/12,((AD724/12*M724*12)+N724)/12)))","v":""},null,null,{"v":0,"d":"0.00"},null,{"v":0,"d":"0.00%"},{"v":0,"d":"0.00"},{"$f":"IFERROR(O724*T724,0)","v":{"v":0,"d":"0.00"}},{"v":0,"d":"0.00"},null,"prüfen",{"$f":"IFERROR(OFFSET(MD!$U$5,MATCH(Grundlagen_Abrechnung_KAE!$E724,MD_GENDER,0),0),\"\")","v":""},{"v":0,"d":"0.00"},null,{"v":0,"d":"0.00"},{"$f":"IF(F724=\"Arbeitgeberähnliche Stellung\",OFFSET(MD!$Q$5,MATCH(Grundlagen_Abrechnung_KAE!$AK$7,MD_JAHR,0),0)*$H724,IF(J724>0,AC724,I724))","v":{"v":0,"d":"0.00"}},null,{"$f":"OFFSET(MD!$P$5,MATCH($AK$7,MD_JAHR,0),0)*12","v":{"$error":"#VALUE!"}},{"v":0,"d":"0.00"}]
[{"$nulls":14},{"$f":"IF($B725=\"\",\"\",IF(F725=\"Arbeitgeberähnliche Stellung\",OFFSET(MD!$Q$5,MATCH(Grundlagen_Abrechnung_KAE!$AK$7,MD_JAHR,0),0)*$H725,IF(((AD725/12*M725*12)+N725)>AF725,AF725/12,((AD725/12*M725*12)+N725)/12)))","v":""},null,null,{"v":0,"d":"0.00"},null,{"v":0,"d":"0.00%"},{"v":0,"d":"0.00"},{"v":0,"d":"0.00"},{"v":0,"d":"0.00"},null,"prüfen",{"$f":"IFERROR(OFFSET(MD!$U$5,MATCH(Grundlagen_Abrechnung_KAE!$E725,MD_GENDER,0),0),\"\")","v":""},{"v":0,"d":"0.00"},null,{"v":0,"d":"0.00"},{"$f":"IF(F725=\"Arbeitgeberähnliche Stellung\",OFFSET(MD!$Q$5,MATCH(Grundlagen_Abrechnung_KAE!$AK$7,MD_JAHR,0),0)*$H725,IF(J725>0,AC725,I725))","v":{"v":0,"d":"0.00"}},null,{"$f":"OFFSET(MD!$P$5,MATCH($AK$7,MD_JAHR,0),0)*12","v":{"$error":"#VALUE!"}},{"v":0,"d":"0.00"}]
[{"$nulls":14},{"$f":"IF($B726=\"\",\"\",IF(F726=\"Arbeitgeberähnliche Stellung\",OFFSET(MD!$Q$5,MATCH(Grundlagen_Abrechnung_KAE!$AK$7,MD_JAHR,0),0)*$H726,IF(((AD726/12*M726*12)+N726)>AF726,AF726/12,((AD726/12*M726*12)+N726)/12)))","v":""},null,null,{"v":0,"d":"0.00"},null,{"v":0,"d":"0.00%"},{"v":0,"d":"0.00"},{"v":0,"d":"0.00"},{"v":0,"d":"0.00"},null,"prüfen",{"$f":"IFERROR(OFFSET(MD!$U$5,MATCH(Grundlagen_Abrechnung_KAE!$E726,MD_GENDER,0),0),\"\")","v":""},{"v":0,"d":"0.00"},null,{"v":0,"d":"0.00"},{"$f":"IF(F726=\"Arbeitgeberähnliche Stellung\",OFFSET(MD!$Q$5,MATCH(Grundlagen_Abrechnung_KAE!$AK$7,MD_JAHR,0),0)*$H726,IF(J726>0,AC726,I726))","v":{"v":0,"d":"0.00"}},null,{"$f":"OFFSET(MD!$P$5,MATCH($AK$7,MD_JAHR,0),0)*12","v":{"$error":"#VALUE!"}},{"v":0,"d":"0.00"}]
[{"$nulls":14},{"$f":"IF($B727=\"\",\"\",IF(F727=\"Arbeitgeberähnliche Stellung\",OFFSET(MD!$Q$5,MATCH(Grundlagen_Abrechnung_KAE!$AK$7,MD_JAHR,0),0)*$H727,IF(((AD727/12*M727*12)+N727)>AF727,AF727/12,((AD727/12*M727*12)+N727)/12)))","v":""},null,null,{"v":0,"d":"0.00"},null,{"v":0,"d":"0.00%"},{"v":0,"d":"0.00"},{"v":0,"d":"0.00"},{"v":0,"d":"0.00"},null,"prüfen",{"$f":"IFERROR(OFFSET(MD!$U$5,MATCH(Grundlagen_Abrechnung_KAE!$E727,MD_GENDER,0),0),\"\")","v":""},{"v":0,"d":"0.00"},null,{"v":0,"d":"0.00"},{"$f":"IF(F727=\"Arbeitgeberähnliche Stellung\",OFFSET(MD!$Q$5,MATCH(Grundlagen_Abrechnung_KAE!$AK$7,MD_JAHR,0),0)*$H727,IF(J727>0,AC727,I727))","v":{"v":0,"d":"0.00"}},null,{"$f":"OFFSET(MD!$P$5,MATCH($AK$7,MD_JAHR,0),0)*12","v":{"$error":"#VALUE!"}},{"v":0,"d":"0.00"}]
[{"$nulls":14},{"$f":"IF($B728=\"\",\"\",IF(F728=\"Arbeitgeberähnliche Stellung\",OFFSET(MD!$Q$5,MATCH(Grundlagen_Abrechnung_KAE!$AK$7,MD_JAHR,0),0)*$H728,IF(((AD728/12*M728*12)+N728)>AF728,AF728/12,((AD728/12*M728*12)+N728)/12)))","v":""},null,null,{"v":0,"d":"0.00"},null,{"v":0,"d":"0.00%"},{"v":0,"d":"0.00"},{"v":0,"d":"0.00"},{"v":0,"d":"0.00"},null,"prüfen",{"$f":"IFERROR(OFFSET(MD!$U$5,MATCH(Grundlagen_Abrechnung_KAE!$E728,MD_GENDER,0),0),\"\")","v":""},{"v":0,"d":"0.00"},null,{"v":0,"d":"0.00"},{"$f":"IF(F728=\"Arbeitgeberähnliche Stellung\",OFFSET(MD!$Q$5,MATCH(Grundlagen_Abrechnung_KAE!$AK$7,MD_JAHR,0),0)*$H728,IF(J728>0,AC728,I728))","v":{"v":0,"d":"0.00"}},null,{"$f":"OFFSET(MD!$P$5,MATCH($AK$7,MD_JAHR,0),0)*12","v":{"$error":"#VALUE!"}},{"v":0,"d":"0.00"}]
[{"$nulls":14},{"$f":"IF($B729=\"\",\"\",IF(F729=\"Arbeitgeberähnliche Stellung\",OFFSET(MD!$Q$5,MATCH(Grundlagen_Abrechnung_KAE!$AK$7,MD_JAHR,0),0)*$H729,IF(((AD729/12*M729*12)+N729)>AF729,AF729/12,((AD729/12*M729*12)+N729)/12)))","v":""},null,null,{"v":0,"d":"0.00"},null,{"v":0,"d":"0.00%"},{"v":0,"d":"0.00"},{"v":0,"d":"0.00"},{"v":0,"d":"0.00"},null,"prüfen",{"$f":"IFERROR(OFFSET(MD!$U$5,MATCH(Grundlagen_Abrechnung_KAE!$E729,MD_GENDER,0),0),\"\")","v":""},{"v":0,"d":"0.00"},null,{"v":0,"d":"0.00"},{"$f":"IF(F729=\"Arbeitgeberähnliche Stellung\",OFFSET(MD!$Q$5,MATCH(Grundlagen_Abrechnung_KAE!$AK$7,MD_JAHR,0),0)*$H729,IF(J729>0,AC729,I729))","v":{"v":0,"d":"0.00"}},null,{"$f":"OFFSET(MD!$P$5,MATCH($AK$7,MD_JAHR,0),0)*12","v":{"$error":"#VALUE!"}},{"v":0,"d":"0.00"}]
[{"$nulls":14},{"$f":"IF($B730=\"\",\"\",IF(F730=\"Arbeitgeberähnliche Stellung\",OFFSET(MD!$Q$5,MATCH(Grundlagen_Abrechnung_KAE!$AK$7,MD_JAHR,0),0)*$H730,IF(((AD730/12*M730*12)+N730)>AF730,AF730/12,((AD730/12*M730*12)+N730)/12)))","v":""},null,null,{"v":0,"d":"0.00"},null,{"v":0,"d":"0.00%"},{"v":0,"d":"0.00"},{"v":0,"d":"0.00"},{"v":0,"d":"0.00"},null,"prüfen",{"$f":"IFERROR(OFFSET(MD!$U$5,MATCH(Grundlagen_Abrechnung_KAE!$E730,MD_GENDER,0),0),\"\")","v":""},{"v":0,"d":"0.00"},null,{"v":0,"d":"0.00"},{"$f":"IF(F730=\"Arbeitgeberähnliche Stellung\",OFFSET(MD!$Q$5,MATCH(Grundlagen_Abrechnung_KAE!$AK$7,MD_JAHR,0),0)*$H730,IF(J730>0,AC730,I730))","v":{"v":0,"d":"0.00"}},null,{"$f":"OFFSET(MD!$P$5,MATCH($AK$7,MD_JAHR,0),0)*12","v":{"$error":"#VALUE!"}},{"v":0,"d":"0.00"}]
[{"$nulls":14},{"$f":"IF($B731=\"\",\"\",IF(F731=\"Arbeitgeberähnliche Stellung\",OFFSET(MD!$Q$5,MATCH(Grundlagen_Abrechnung_KAE!$AK$7,MD_JAHR,0),0)*$H731,IF(((AD731/12*M731*12)+N731)>AF731,AF731/12,((AD731/12*M731*12)+N731)/12)))","v":""},null,null,{"v":0,"d":"0.00"},null,{"v":0,"d":"0.00%"},{"v":0,"d":"0.00"},{"v":0,"d":"0.00"},{"v":0,"d":"0.00"},null,"prüfen",{"$f":"IFERROR(OFFSET(MD!$U$5,MATCH(Grundlagen_Abrechnung_KAE!$E731,MD_GENDER,0),0),\"\")","v":""},{"v":0,"d":"0.00"},null,{"v":0,"d":"0.00"},{"$f":"IF(F731=\"Arbeitgeberähnliche Stellung\",OFFSET(MD!$Q$5,MATCH(Grundlagen_Abrechnung_KAE!$AK$7,MD_JAHR,0),0)*$H731,IF(J731>0,AC731,I731))","v":{"v":0,"d":"0.00"}},null,{"$f":"OFFSET(MD!$P$5,MATCH($AK$7,MD_JAHR,0),0)*12","v":{"$error":"#VALUE!"}},{"v":0,"d":"0.00"}]
[{"$nulls":14},{"$f":"IF($B732=\"\",\"\",IF(F732=\"Arbeitgeberähnliche Stellung\",OFFSET(MD!$Q$5,MATCH(Grundlagen_Abrechnung_KAE!$AK$7,MD_JAHR,0),0)*$H732,IF(((AD732/12*M732*12)+N732)>AF732,AF732/12,((AD732/12*M732*12)+N732)/12)))","v":""},null,null,{"v":0,"d":"0.00"},null,{"v":0,"d":"0.00%"},{"v":0,"d":"0.00"},{"v":0,"d":"0.00"},{"v":0,"d":"0.00"},null,"prüfen",{"$f":"IFERROR(OFFSET(MD!$U$5,MATCH(Grundlagen_Abrechnung_KAE!$E732,MD_GENDER,0),0),\"\")","v":""},{"v":0,"d":"0.00"},null,{"v":0,"d":"0.00"},{"$f":"IF(F732=\"Arbeitgeberähnliche Stellung\",OFFSET(MD!$Q$5,MATCH(Grundlagen_Abrechnung_KAE!$AK$7,MD_JAHR,0),0)*$H732,IF(J732>0,AC732,I732))","v":{"v":0,"d":"0.00"}},null,{"$f":"OFFSET(MD!$P$5,MATCH($AK$7,MD_JAHR,0),0)*12","v":{"$error":"#VALUE!"}},{"v":0,"d":"0.00"}]
[{"$nulls":14},{"$f":"IF($B733=\"\",\"\",IF(F733=\"Arbeitgeberähnliche Stellung\",OFFSET(MD!$Q$5,MATCH(Grundlagen_Abrechnung_KAE!$AK$7,MD_JAHR,0),0)*$H733,IF(((AD733/12*M733*12)+N733)>AF733,AF733/12,((AD733/12*M733*12)+N733)/12)))","v":""},null,null,{"v":0,"d":"0.00"},null,{"v":0,"d":"0.00%"},{"v":0,"d":"0.00"},{"v":0,"d":"0.00"},{"v":0,"d":"0.00"},null,"prüfen",{"$f":"IFERROR(OFFSET(MD!$U$5,MATCH(Grundlagen_Abrechnung_KAE!$E733,MD_GENDER,0),0),\"\")","v":""},{"v":0,"d":"0.00"},null,{"v":0,"d":"0.00"},{"$f":"IF(F733=\"Arbeitgeberähnliche Stellung\",OFFSET(MD!$Q$5,MATCH(Grundlagen_Abrechnung_KAE!$AK$7,MD_JAHR,0),0)*$H733,IF(J733>0,AC733,I733))","v":{"v":0,"d":"0.00"}},null,{"$f":"OFFSET(MD!$P$5,MATCH($AK$7,MD_JAHR,0),0)*12","v":{"$error":"#VALUE!"}},{"v":0,"d":"0.00"}]
[{"$nulls":14},{"$f":"IF($B734=\"\",\"\",IF(F734=\"Arbeitgeberähnliche Stellung\",OFFSET(MD!$Q$5,MATCH(Grundlagen_Abrechnung_KAE!$AK$7,MD_JAHR,0),0)*$H734,IF(((AD734/12*M734*12)+N734)>AF734,AF734/12,((AD734/12*M734*12)+N734)/12)))","v":""},null,null,{"v":0,"d":"0.00"},null,{"v":0,"d":"0.00%"},{"v":0,"d":"0.00"},{"v":0,"d":"0.00"},{"v":0,"d":"0.00"},null,"prüfen",{"$f":"IFERROR(OFFSET(MD!$U$5,MATCH(Grundlagen_Abrechnung_KAE!$E734,MD_GENDER,0),0),\"\")","v":""},{"v":0,"d":"0.00"},null,{"v":0,"d":"0.00"},{"$f":"IF(F734=\"Arbeitgeberähnliche Stellung\",OFFSET(MD!$Q$5,MATCH(Grundlagen_Abrechnung_KAE!$AK$7,MD_JAHR,0),0)*$H734,IF(J734>0,AC734,I734))","v":{"v":0,"d":"0.00"}},null,{"$f":"OFFSET(MD!$P$5,MATCH($AK$7,MD_JAHR,0),0)*12","v":{"$error":"#VALUE!"}},{"v":0,"d":"0.00"}]
[{"$nulls":14},{"$f":"IF($B735=\"\",\"\",IF(F735=\"Arbeitgeberähnliche Stellung\",OFFSET(MD!$Q$5,MATCH(Grundlagen_Abrechnung_KAE!$AK$7,MD_JAHR,0),0)*$H735,IF(((AD735/12*M735*12)+N735)>AF735,AF735/12,((AD735/12*M735*12)+N735)/12)))","v":""},null,null,{"v":0,"d":"0.00"},null,{"v":0,"d":"0.00%"},{"v":0,"d":"0.00"},{"v":0,"d":"0.00"},{"v":0,"d":"0.00"},null,"prüfen",{"$f":"IFERROR(OFFSET(MD!$U$5,MATCH(Grundlagen_Abrechnung_KAE!$E735,MD_GENDER,0),0),\"\")","v":""},{"v":0,"d":"0.00"},null,{"v":0,"d":"0.00"},{"$f":"IF(F735=\"Arbeitgeberähnliche Stellung\",OFFSET(MD!$Q$5,MATCH(Grundlagen_Abrechnung_KAE!$AK$7,MD_JAHR,0),0)*$H735,IF(J735>0,AC735,I735))","v":{"v":0,"d":"0.00"}},null,{"$f":"OFFSET(MD!$P$5,MATCH($AK$7,MD_JAHR,0),0)*12","v":{"$error":"#VALUE!"}},{"v":0,"d":"0.00"}]
[{"$nulls":14},{"$f":"IF($B736=\"\",\"\",IF(F736=\"Arbeitgeberähnliche Stellung\",OFFSET(MD!$Q$5,MATCH(Grundlagen_Abrechnung_KAE!$AK$7,MD_JAHR,0),0)*$H736,IF(((AD736/12*M736*12)+N736)>AF736,AF736/12,((AD736/12*M736*12)+N736)/12)))","v":""},null,null,{"v":0,"d":"0.00"},null,{"v":0,"d":"0.00%"},{"v":0,"d":"0.00"},{"v":0,"d":"0.00"},{"v":0,"d":"0.00"},null,"prüfen",{"$f":"IFERROR(OFFSET(MD!$U$5,MATCH(Grundlagen_Abrechnung_KAE!$E736,MD_GENDER,0),0),\"\")","v":""},{"v":0,"d":"0.00"},null,{"v":0,"d":"0.00"},{"$f":"IF(F736=\"Arbeitgeberähnliche Stellung\",OFFSET(MD!$Q$5,MATCH(Grundlagen_Abrechnung_KAE!$AK$7,MD_JAHR,0),0)*$H736,IF(J736>0,AC736,I736))","v":{"v":0,"d":"0.00"}},null,{"$f":"OFFSET(MD!$P$5,MATCH($AK$7,MD_JAHR,0),0)*12","v":{"$error":"#VALUE!"}},{"v":0,"d":"0.00"}]
[{"$nulls":14},{"$f":"IF($B737=\"\",\"\",IF(F737=\"Arbeitgeberähnliche Stellung\",OFFSET(MD!$Q$5,MATCH(Grundlagen_Abrechnung_KAE!$AK$7,MD_JAHR,0),0)*$H737,IF(((AD737/12*M737*12)+N737)>AF737,AF737/12,((AD737/12*M737*12)+N737)/12)))","v":""},null,null,{"v":0,"d":"0.00"},null,{"v":0,"d":"0.00%"},{"v":0,"d":"0.00"},{"v":0,"d":"0.00"},{"v":0,"d":"0.00"},null,"prüfen",{"$f":"IFERROR(OFFSET(MD!$U$5,MATCH(Grundlagen_Abrechnung_KAE!$E737,MD_GENDER,0),0),\"\")","v":""},{"v":0,"d":"0.00"},null,{"v":0,"d":"0.00"},{"$f":"IF(F737=\"Arbeitgeberähnliche Stellung\",OFFSET(MD!$Q$5,MATCH(Grundlagen_Abrechnung_KAE!$AK$7,MD_JAHR,0),0)*$H737,IF(J737>0,AC737,I737))","v":{"v":0,"d":"0.00"}},null,{"$f":"OFFSET(MD!$P$5,MATCH($AK$7,MD_JAHR,0),0)*12","v":{"$error":"#VALUE!"}},{"v":0,"d":"0.00"}]
[{"$nulls":14},{"$f":"IF($B738=\"\",\"\",IF(F738=\"Arbeitgeberähnliche Stellung\",OFFSET(MD!$Q$5,MATCH(Grundlagen_Abrechnung_KAE!$AK$7,MD_JAHR,0),0)*$H738,IF(((AD738/12*M738*12)+N738)>AF738,AF738/12,((AD738/12*M738*12)+N738)/12)))","v":""},null,null,{"v":0,"d":"0.00"},null,{"v":0,"d":"0.00%"},{"v":0,"d":"0.00"},{"v":0,"d":"0.00"},{"v":0,"d":"0.00"},null,"prüfen",{"$f":"IFERROR(OFFSET(MD!$U$5,MATCH(Grundlagen_Abrechnung_KAE!$E738,MD_GENDER,0),0),\"\")","v":""},{"v":0,"d":"0.00"},null,{"v":0,"d":"0.00"},{"$f":"IF(F738=\"Arbeitgeberähnliche Stellung\",OFFSET(MD!$Q$5,MATCH(Grundlagen_Abrechnung_KAE!$AK$7,MD_JAHR,0),0)*$H738,IF(J738>0,AC738,I738))","v":{"v":0,"d":"0.00"}},null,{"$f":"OFFSET(MD!$P$5,MATCH($AK$7,MD_JAHR,0),0)*12","v":{"$error":"#VALUE!"}},{"v":0,"d":"0.00"}]
[{"$nulls":14},{"$f":"IF($B739=\"\",\"\",IF(F739=\"Arbeitgeberähnliche Stellung\",OFFSET(MD!$Q$5,MATCH(Grundlagen_Abrechnung_KAE!$AK$7,MD_JAHR,0),0)*$H739,IF(((AD739/12*M739*12)+N739)>AF739,AF739/12,((AD739/12*M739*12)+N739)/12)))","v":""},null,null,{"v":0,"d":"0.00"},null,{"v":0,"d":"0.00%"},{"v":0,"d":"0.00"},{"v":0,"d":"0.00"},{"v":0,"d":"0.00"},null,"prüfen",{"$f":"IFERROR(OFFSET(MD!$U$5,MATCH(Grundlagen_Abrechnung_KAE!$E739,MD_GENDER,0),0),\"\")","v":""},{"v":0,"d":"0.00"},null,{"v":0,"d":"0.00"},{"$f":"IF(F739=\"Arbeitgeberähnliche Stellung\",OFFSET(MD!$Q$5,MATCH(Grundlagen_Abrechnung_KAE!$AK$7,MD_JAHR,0),0)*$H739,IF(J739>0,AC739,I739))","v":{"v":0,"d":"0.00"}},null,{"$f":"OFFSET(MD!$P$5,MATCH($AK$7,MD_JAHR,0),0)*12","v":{"$error":"#VALUE!"}},{"v":0,"d":"0.00"}]
[{"$nulls":14},{"$f":"IF($B740=\"\",\"\",IF(F740=\"Arbeitgeberähnliche Stellung\",OFFSET(MD!$Q$5,MATCH(Grundlagen_Abrechnung_KAE!$AK$7,MD_JAHR,0),0)*$H740,IF(((AD740/12*M740*12)+N740)>AF740,AF740/12,((AD740/12*M740*12)+N740)/12)))","v":""},null,null,{"v":0,"d":"0.00"},null,{"v":0,"d":"0.00%"},{"v":0,"d":"0.00"},{"v":0,"d":"0.00"},{"v":0,"d":"0.00"},null,"prüfen",{"$f":"IFERROR(OFFSET(MD!$U$5,MATCH(Grundlagen_Abrechnung_KAE!$E740,MD_GENDER,0),0),\"\")","v":""},{"v":0,"d":"0.00"},null,{"v":0,"d":"0.00"},{"$f":"IF(F740=\"Arbeitgeberähnliche Stellung\",OFFSET(MD!$Q$5,MATCH(Grundlagen_Abrechnung_KAE!$AK$7,MD_JAHR,0),0)*$H740,IF(J740>0,AC740,I740))","v":{"v":0,"d":"0.00"}},null,{"$f":"OFFSET(MD!$P$5,MATCH($AK$7,MD_JAHR,0),0)*12","v":{"$error":"#VALUE!"}},{"v":0,"d":"0.00"}]
[{"$nulls":14},{"$f":"IF($B741=\"\",\"\",IF(F741=\"Arbeitgeberähnliche Stellung\",OFFSET(MD!$Q$5,MATCH(Grundlagen_Abrechnung_KAE!$AK$7,MD_JAHR,0),0)*$H741,IF(((AD741/12*M741*12)+N741)>AF741,AF741/12,((AD741/12*M741*12)+N741)/12)))","v":""},null,null,{"v":0,"d":"0.00"},null,{"v":0,"d":"0.00%"},{"v":0,"d":"0.00"},{"v":0,"d":"0.00"},{"v":0,"d":"0.00"},null,"prüfen",{"$f":"IFERROR(OFFSET(MD!$U$5,MATCH(Grundlagen_Abrechnung_KAE!$E741,MD_GENDER,0),0),\"\")","v":""},{"v":0,"d":"0.00"},null,{"v":0,"d":"0.00"},{"$f":"IF(F741=\"Arbeitgeberähnliche Stellung\",OFFSET(MD!$Q$5,MATCH(Grundlagen_Abrechnung_KAE!$AK$7,MD_JAHR,0),0)*$H741,IF(J741>0,AC741,I741))","v":{"v":0,"d":"0.00"}},null,{"$f":"OFFSET(MD!$P$5,MATCH($AK$7,MD_JAHR,0),0)*12","v":{"$error":"#VALUE!"}},{"v":0,"d":"0.00"}]
[{"$nulls":14},{"$f":"IF($B742=\"\",\"\",IF(F742=\"Arbeitgeberähnliche Stellung\",OFFSET(MD!$Q$5,MATCH(Grundlagen_Abrechnung_KAE!$AK$7,MD_JAHR,0),0)*$H742,IF(((AD742/12*M742*12)+N742)>AF742,AF742/12,((AD742/12*M742*12)+N742)/12)))","v":""},null,null,{"v":0,"d":"0.00"},null,{"v":0,"d":"0.00%"},{"v":0,"d":"0.00"},{"v":0,"d":"0.00"},{"v":0,"d":"0.00"},null,"prüfen",{"$f":"IFERROR(OFFSET(MD!$U$5,MATCH(Grundlagen_Abrechnung_KAE!$E742,MD_GENDER,0),0),\"\")","v":""},{"v":0,"d":"0.00"},null,{"v":0,"d":"0.00"},{"$f":"IF(F742=\"Arbeitgeberähnliche Stellung\",OFFSET(MD!$Q$5,MATCH(Grundlagen_Abrechnung_KAE!$AK$7,MD_JAHR,0),0)*$H742,IF(J742>0,AC742,I742))","v":{"v":0,"d":"0.00"}},null,{"$f":"OFFSET(MD!$P$5,MATCH($AK$7,MD_JAHR,0),0)*12","v":{"$error":"#VALUE!"}},{"v":0,"d":"0.00"}]
[{"$nulls":14},{"$f":"IF($B743=\"\",\"\",IF(F743=\"Arbeitgeberähnliche Stellung\",OFFSET(MD!$Q$5,MATCH(Grundlagen_Abrechnung_KAE!$AK$7,MD_JAHR,0),0)*$H743,IF(((AD743/12*M743*12)+N743)>AF743,AF743/12,((AD743/12*M743*12)+N743)/12)))","v":""},null,null,{"v":0,"d":"0.00"},null,{"v":0,"d":"0.00%"},{"v":0,"d":"0.00"},{"v":0,"d":"0.00"},{"v":0,"d":"0.00"},null,"prüfen",{"$f":"IFERROR(OFFSET(MD!$U$5,MATCH(Grundlagen_Abrechnung_KAE!$E743,MD_GENDER,0),0),\"\")","v":""},{"v":0,"d":"0.00"},null,{"v":0,"d":"0.00"},{"$f":"IF(F743=\"Arbeitgeberähnliche Stellung\",OFFSET(MD!$Q$5,MATCH(Grundlagen_Abrechnung_KAE!$AK$7,MD_JAHR,0),0)*$H743,IF(J743>0,AC743,I743))","v":{"v":0,"d":"0.00"}},null,{"$f":"OFFSET(MD!$P$5,MATCH($AK$7,MD_JAHR,0),0)*12","v":{"$error":"#VALUE!"}},{"v":0,"d":"0.00"}]
[{"$nulls":14},{"$f":"IF($B744=\"\",\"\",IF(F744=\"Arbeitgeberähnliche Stellung\",OFFSET(MD!$Q$5,MATCH(Grundlagen_Abrechnung_KAE!$AK$7,MD_JAHR,0),0)*$H744,IF(((AD744/12*M744*12)+N744)>AF744,AF744/12,((AD744/12*M744*12)+N744)/12)))","v":""},null,null,{"v":0,"d":"0.00"},null,{"v":0,"d":"0.00%"},{"v":0,"d":"0.00"},{"v":0,"d":"0.00"},{"v":0,"d":"0.00"},null,"prüfen",{"$f":"IFERROR(OFFSET(MD!$U$5,MATCH(Grundlagen_Abrechnung_KAE!$E744,MD_GENDER,0),0),\"\")","v":""},{"v":0,"d":"0.00"},null,{"v":0,"d":"0.00"},{"$f":"IF(F744=\"Arbeitgeberähnliche Stellung\",OFFSET(MD!$Q$5,MATCH(Grundlagen_Abrechnung_KAE!$AK$7,MD_JAHR,0),0)*$H744,IF(J744>0,AC744,I744))","v":{"v":0,"d":"0.00"}},null,{"$f":"OFFSET(MD!$P$5,MATCH($AK$7,MD_JAHR,0),0)*12","v":{"$error":"#VALUE!"}},{"v":0,"d":"0.00"}]
[{"$nulls":14},{"$f":"IF($B745=\"\",\"\",IF(F745=\"Arbeitgeberähnliche Stellung\",OFFSET(MD!$Q$5,MATCH(Grundlagen_Abrechnung_KAE!$AK$7,MD_JAHR,0),0)*$H745,IF(((AD745/12*M745*12)+N745)>AF745,AF745/12,((AD745/12*M745*12)+N745)/12)))","v":""},null,null,{"v":0,"d":"0.00"},null,{"v":0,"d":"0.00%"},{"v":0,"d":"0.00"},{"v":0,"d":"0.00"},{"v":0,"d":"0.00"},null,"prüfen",{"$f":"IFERROR(OFFSET(MD!$U$5,MATCH(Grundlagen_Abrechnung_KAE!$E745,MD_GENDER,0),0),\"\")","v":""},{"v":0,"d":"0.00"},null,{"v":0,"d":"0.00"},{"$f":"IF(F745=\"Arbeitgeberähnliche Stellung\",OFFSET(MD!$Q$5,MATCH(Grundlagen_Abrechnung_KAE!$AK$7,MD_JAHR,0),0)*$H745,IF(J745>0,AC745,I745))","v":{"v":0,"d":"0.00"}},null,{"$f":"OFFSET(MD!$P$5,MATCH($AK$7,MD_JAHR,0),0)*12","v":{"$error":"#VALUE!"}},{"v":0,"d":"0.00"}]
[{"$nulls":14},{"$f":"IF($B746=\"\",\"\",IF(F746=\"Arbeitgeberähnliche Stellung\",OFFSET(MD!$Q$5,MATCH(Grundlagen_Abrechnung_KAE!$AK$7,MD_JAHR,0),0)*$H746,IF(((AD746/12*M746*12)+N746)>AF746,AF746/12,((AD746/12*M746*12)+N746)/12)))","v":""},null,null,{"v":0,"d":"0.00"},null,{"v":0,"d":"0.00%"},{"v":0,"d":"0.00"},{"v":0,"d":"0.00"},{"v":0,"d":"0.00"},null,"prüfen",{"$f":"IFERROR(OFFSET(MD!$U$5,MATCH(Grundlagen_Abrechnung_KAE!$E746,MD_GENDER,0),0),\"\")","v":""},{"v":0,"d":"0.00"},null,{"v":0,"d":"0.00"},{"$f":"IF(F746=\"Arbeitgeberähnliche Stellung\",OFFSET(MD!$Q$5,MATCH(Grundlagen_Abrechnung_KAE!$AK$7,MD_JAHR,0),0)*$H746,IF(J746>0,AC746,I746))","v":{"v":0,"d":"0.00"}},null,{"$f":"OFFSET(MD!$P$5,MATCH($AK$7,MD_JAHR,0),0)*12","v":{"$error":"#VALUE!"}},{"v":0,"d":"0.00"}]
[{"$nulls":14},{"$f":"IF($B747=\"\",\"\",IF(F747=\"Arbeitgeberähnliche Stellung\",OFFSET(MD!$Q$5,MATCH(Grundlagen_Abrechnung_KAE!$AK$7,MD_JAHR,0),0)*$H747,IF(((AD747/12*M747*12)+N747)>AF747,AF747/12,((AD747/12*M747*12)+N747)/12)))","v":""},null,null,{"v":0,"d":"0.00"},null,{"v":0,"d":"0.00%"},{"v":0,"d":"0.00"},{"v":0,"d":"0.00"},{"v":0,"d":"0.00"},null,"prüfen",{"$f":"IFERROR(OFFSET(MD!$U$5,MATCH(Grundlagen_Abrechnung_KAE!$E747,MD_GENDER,0),0),\"\")","v":""},{"v":0,"d":"0.00"},null,{"v":0,"d":"0.00"},{"$f":"IF(F747=\"Arbeitgeberähnliche Stellung\",OFFSET(MD!$Q$5,MATCH(Grundlagen_Abrechnung_KAE!$AK$7,MD_JAHR,0),0)*$H747,IF(J747>0,AC747,I747))","v":{"v":0,"d":"0.00"}},null,{"$f":"OFFSET(MD!$P$5,MATCH($AK$7,MD_JAHR,0),0)*12","v":{"$error":"#VALUE!"}},{"v":0,"d":"0.00"}]
[{"$nulls":14},{"$f":"IF($B748=\"\",\"\",IF(F748=\"Arbeitgeberähnliche Stellung\",OFFSET(MD!$Q$5,MATCH(Grundlagen_Abrechnung_KAE!$AK$7,MD_JAHR,0),0)*$H748,IF(((AD748/12*M748*12)+N748)>AF748,AF748/12,((AD748/12*M748*12)+N748)/12)))","v":""},null,null,{"v":0,"d":"0.00"},null,{"v":0,"d":"0.00%"},{"v":0,"d":"0.00"},{"v":0,"d":"0.00"},{"v":0,"d":"0.00"},null,"prüfen",{"$f":"IFERROR(OFFSET(MD!$U$5,MATCH(Grundlagen_Abrechnung_KAE!$E748,MD_GENDER,0),0),\"\")","v":""},{"v":0,"d":"0.00"},null,{"v":0,"d":"0.00"},{"$f":"IF(F748=\"Arbeitgeberähnliche Stellung\",OFFSET(MD!$Q$5,MATCH(Grundlagen_Abrechnung_KAE!$AK$7,MD_JAHR,0),0)*$H748,IF(J748>0,AC748,I748))","v":{"v":0,"d":"0.00"}},null,{"$f":"OFFSET(MD!$P$5,MATCH($AK$7,MD_JAHR,0),0)*12","v":{"$error":"#VALUE!"}},{"v":0,"d":"0.00"}]
[{"$nulls":14},{"$f":"IF($B749=\"\",\"\",IF(F749=\"Arbeitgeberähnliche Stellung\",OFFSET(MD!$Q$5,MATCH(Grundlagen_Abrechnung_KAE!$AK$7,MD_JAHR,0),0)*$H749,IF(((AD749/12*M749*12)+N749)>AF749,AF749/12,((AD749/12*M749*12)+N749)/12)))","v":""},null,null,{"v":0,"d":"0.00"},null,{"v":0,"d":"0.00%"},{"v":0,"d":"0.00"},{"v":0,"d":"0.00"},{"v":0,"d":"0.00"},null,"prüfen",{"$f":"IFERROR(OFFSET(MD!$U$5,MATCH(Grundlagen_Abrechnung_KAE!$E749,MD_GENDER,0),0),\"\")","v":""},{"v":0,"d":"0.00"},null,{"v":0,"d":"0.00"},{"$f":"IF(F749=\"Arbeitgeberähnliche Stellung\",OFFSET(MD!$Q$5,MATCH(Grundlagen_Abrechnung_KAE!$AK$7,MD_JAHR,0),0)*$H749,IF(J749>0,AC749,I749))","v":{"v":0,"d":"0.00"}},null,{"$f":"OFFSET(MD!$P$5,MATCH($AK$7,MD_JAHR,0),0)*12","v":{"$error":"#VALUE!"}},{"v":0,"d":"0.00"}]
[{"$nulls":14},{"$f":"IF($B750=\"\",\"\",IF(F750=\"Arbeitgeberähnliche Stellung\",OFFSET(MD!$Q$5,MATCH(Grundlagen_Abrechnung_KAE!$AK$7,MD_JAHR,0),0)*$H750,IF(((AD750/12*M750*12)+N750)>AF750,AF750/12,((AD750/12*M750*12)+N750)/12)))","v":""},null,null,{"v":0,"d":"0.00"},null,{"v":0,"d":"0.00%"},{"v":0,"d":"0.00"},{"v":0,"d":"0.00"},{"v":0,"d":"0.00"},null,"prüfen",{"$f":"IFERROR(OFFSET(MD!$U$5,MATCH(Grundlagen_Abrechnung_KAE!$E750,MD_GENDER,0),0),\"\")","v":""},{"v":0,"d":"0.00"},null,{"v":0,"d":"0.00"},{"$f":"IF(F750=\"Arbeitgeberähnliche Stellung\",OFFSET(MD!$Q$5,MATCH(Grundlagen_Abrechnung_KAE!$AK$7,MD_JAHR,0),0)*$H750,IF(J750>0,AC750,I750))","v":{"v":0,"d":"0.00"}},null,{"$f":"OFFSET(MD!$P$5,MATCH($AK$7,MD_JAHR,0),0)*12","v":{"$error":"#VALUE!"}},{"v":0,"d":"0.00"}]
[{"$nulls":14},{"$f":"IF($B751=\"\",\"\",IF(F751=\"Arbeitgeberähnliche Stellung\",OFFSET(MD!$Q$5,MATCH(Grundlagen_Abrechnung_KAE!$AK$7,MD_JAHR,0),0)*$H751,IF(((AD751/12*M751*12)+N751)>AF751,AF751/12,((AD751/12*M751*12)+N751)/12)))","v":""},null,null,{"v":0,"d":"0.00"},null,{"v":0,"d":"0.00%"},{"v":0,"d":"0.00"},{"v":0,"d":"0.00"},{"v":0,"d":"0.00"},null,"prüfen",{"$f":"IFERROR(OFFSET(MD!$U$5,MATCH(Grundlagen_Abrechnung_KAE!$E751,MD_GENDER,0),0),\"\")","v":""},{"v":0,"d":"0.00"},null,{"v":0,"d":"0.00"},{"$f":"IF(F751=\"Arbeitgeberähnliche Stellung\",OFFSET(MD!$Q$5,MATCH(Grundlagen_Abrechnung_KAE!$AK$7,MD_JAHR,0),0)*$H751,IF(J751>0,AC751,I751))","v":{"v":0,"d":"0.00"}},null,{"$f":"OFFSET(MD!$P$5,MATCH($AK$7,MD_JAHR,0),0)*12","v":{"$error":"#VALUE!"}},{"v":0,"d":"0.00"}]
[{"$nulls":14},{"$f":"IF($B752=\"\",\"\",IF(F752=\"Arbeitgeberähnliche Stellung\",OFFSET(MD!$Q$5,MATCH(Grundlagen_Abrechnung_KAE!$AK$7,MD_JAHR,0),0)*$H752,IF(((AD752/12*M752*12)+N752)>AF752,AF752/12,((AD752/12*M752*12)+N752)/12)))","v":""},null,null,{"v":0,"d":"0.00"},null,{"v":0,"d":"0.00%"},{"v":0,"d":"0.00"},{"v":0,"d":"0.00"},{"v":0,"d":"0.00"},null,"prüfen",{"$f":"IFERROR(OFFSET(MD!$U$5,MATCH(Grundlagen_Abrechnung_KAE!$E752,MD_GENDER,0),0),\"\")","v":""},{"v":0,"d":"0.00"},null,{"v":0,"d":"0.00"},{"$f":"IF(F752=\"Arbeitgeberähnliche Stellung\",OFFSET(MD!$Q$5,MATCH(Grundlagen_Abrechnung_KAE!$AK$7,MD_JAHR,0),0)*$H752,IF(J752>0,AC752,I752))","v":{"v":0,"d":"0.00"}},null,{"$f":"OFFSET(MD!$P$5,MATCH($AK$7,MD_JAHR,0),0)*12","v":{"$error":"#VALUE!"}},{"v":0,"d":"0.00"}]
[{"$nulls":14},{"$f":"IF($B753=\"\",\"\",IF(F753=\"Arbeitgeberähnliche Stellung\",OFFSET(MD!$Q$5,MATCH(Grundlagen_Abrechnung_KAE!$AK$7,MD_JAHR,0),0)*$H753,IF(((AD753/12*M753*12)+N753)>AF753,AF753/12,((AD753/12*M753*12)+N753)/12)))","v":""},null,null,{"v":0,"d":"0.00"},null,{"v":0,"d":"0.00%"},{"v":0,"d":"0.00"},{"v":0,"d":"0.00"},{"v":0,"d":"0.00"},null,"prüfen",{"$f":"IFERROR(OFFSET(MD!$U$5,MATCH(Grundlagen_Abrechnung_KAE!$E753,MD_GENDER,0),0),\"\")","v":""},{"v":0,"d":"0.00"},null,{"v":0,"d":"0.00"},{"$f":"IF(F753=\"Arbeitgeberähnliche Stellung\",OFFSET(MD!$Q$5,MATCH(Grundlagen_Abrechnung_KAE!$AK$7,MD_JAHR,0),0)*$H753,IF(J753>0,AC753,I753))","v":{"v":0,"d":"0.00"}},null,{"$f":"OFFSET(MD!$P$5,MATCH($AK$7,MD_JAHR,0),0)*12","v":{"$error":"#VALUE!"}},{"v":0,"d":"0.00"}]
[{"$nulls":14},{"$f":"IF($B754=\"\",\"\",IF(F754=\"Arbeitgeberähnliche Stellung\",OFFSET(MD!$Q$5,MATCH(Grundlagen_Abrechnung_KAE!$AK$7,MD_JAHR,0),0)*$H754,IF(((AD754/12*M754*12)+N754)>AF754,AF754/12,((AD754/12*M754*12)+N754)/12)))","v":""},null,null,{"v":0,"d":"0.00"},null,{"v":0,"d":"0.00%"},{"v":0,"d":"0.00"},{"v":0,"d":"0.00"},{"v":0,"d":"0.00"},null,"prüfen",{"$f":"IFERROR(OFFSET(MD!$U$5,MATCH(Grundlagen_Abrechnung_KAE!$E754,MD_GENDER,0),0),\"\")","v":""},{"v":0,"d":"0.00"},null,{"v":0,"d":"0.00"},{"$f":"IF(F754=\"Arbeitgeberähnliche Stellung\",OFFSET(MD!$Q$5,MATCH(Grundlagen_Abrechnung_KAE!$AK$7,MD_JAHR,0),0)*$H754,IF(J754>0,AC754,I754))","v":{"v":0,"d":"0.00"}},null,{"$f":"OFFSET(MD!$P$5,MATCH($AK$7,MD_JAHR,0),0)*12","v":{"$error":"#VALUE!"}},{"v":0,"d":"0.00"}]
[{"$nulls":14},{"$f":"IF($B755=\"\",\"\",IF(F755=\"Arbeitgeberähnliche Stellung\",OFFSET(MD!$Q$5,MATCH(Grundlagen_Abrechnung_KAE!$AK$7,MD_JAHR,0),0)*$H755,IF(((AD755/12*M755*12)+N755)>AF755,AF755/12,((AD755/12*M755*12)+N755)/12)))","v":""},null,null,{"v":0,"d":"0.00"},null,{"v":0,"d":"0.00%"},{"v":0,"d":"0.00"},{"v":0,"d":"0.00"},{"v":0,"d":"0.00"},null,"prüfen",{"$f":"IFERROR(OFFSET(MD!$U$5,MATCH(Grundlagen_Abrechnung_KAE!$E755,MD_GENDER,0),0),\"\")","v":""},{"v":0,"d":"0.00"},null,{"v":0,"d":"0.00"},{"$f":"IF(F755=\"Arbeitgeberähnliche Stellung\",OFFSET(MD!$Q$5,MATCH(Grundlagen_Abrechnung_KAE!$AK$7,MD_JAHR,0),0)*$H755,IF(J755>0,AC755,I755))","v":{"v":0,"d":"0.00"}},null,{"$f":"OFFSET(MD!$P$5,MATCH($AK$7,MD_JAHR,0),0)*12","v":{"$error":"#VALUE!"}},{"v":0,"d":"0.00"}]
[{"$nulls":14},{"$f":"IF($B756=\"\",\"\",IF(F756=\"Arbeitgeberähnliche Stellung\",OFFSET(MD!$Q$5,MATCH(Grundlagen_Abrechnung_KAE!$AK$7,MD_JAHR,0),0)*$H756,IF(((AD756/12*M756*12)+N756)>AF756,AF756/12,((AD756/12*M756*12)+N756)/12)))","v":""},null,null,{"v":0,"d":"0.00"},null,{"v":0,"d":"0.00%"},{"v":0,"d":"0.00"},{"v":0,"d":"0.00"},{"v":0,"d":"0.00"},null,"prüfen",{"$f":"IFERROR(OFFSET(MD!$U$5,MATCH(Grundlagen_Abrechnung_KAE!$E756,MD_GENDER,0),0),\"\")","v":""},{"v":0,"d":"0.00"},null,{"v":0,"d":"0.00"},{"$f":"IF(F756=\"Arbeitgeberähnliche Stellung\",OFFSET(MD!$Q$5,MATCH(Grundlagen_Abrechnung_KAE!$AK$7,MD_JAHR,0),0)*$H756,IF(J756>0,AC756,I756))","v":{"v":0,"d":"0.00"}},null,{"$f":"OFFSET(MD!$P$5,MATCH($AK$7,MD_JAHR,0),0)*12","v":{"$error":"#VALUE!"}},{"v":0,"d":"0.00"}]
[{"$nulls":14},{"$f":"IF($B757=\"\",\"\",IF(F757=\"Arbeitgeberähnliche Stellung\",OFFSET(MD!$Q$5,MATCH(Grundlagen_Abrechnung_KAE!$AK$7,MD_JAHR,0),0)*$H757,IF(((AD757/12*M757*12)+N757)>AF757,AF757/12,((AD757/12*M757*12)+N757)/12)))","v":""},null,null,{"v":0,"d":"0.00"},null,{"v":0,"d":"0.00%"},{"v":0,"d":"0.00"},{"v":0,"d":"0.00"},{"v":0,"d":"0.00"},null,"prüfen",{"$f":"IFERROR(OFFSET(MD!$U$5,MATCH(Grundlagen_Abrechnung_KAE!$E757,MD_GENDER,0),0),\"\")","v":""},{"v":0,"d":"0.00"},null,{"v":0,"d":"0.00"},{"$f":"IF(F757=\"Arbeitgeberähnliche Stellung\",OFFSET(MD!$Q$5,MATCH(Grundlagen_Abrechnung_KAE!$AK$7,MD_JAHR,0),0)*$H757,IF(J757>0,AC757,I757))","v":{"v":0,"d":"0.00"}},null,{"$f":"OFFSET(MD!$P$5,MATCH($AK$7,MD_JAHR,0),0)*12","v":{"$error":"#VALUE!"}},{"v":0,"d":"0.00"}]
[{"$nulls":14},{"$f":"IF($B758=\"\",\"\",IF(F758=\"Arbeitgeberähnliche Stellung\",OFFSET(MD!$Q$5,MATCH(Grundlagen_Abrechnung_KAE!$AK$7,MD_JAHR,0),0)*$H758,IF(((AD758/12*M758*12)+N758)>AF758,AF758/12,((AD758/12*M758*12)+N758)/12)))","v":""},null,null,{"v":0,"d":"0.00"},null,{"v":0,"d":"0.00%"},{"v":0,"d":"0.00"},{"v":0,"d":"0.00"},{"v":0,"d":"0.00"},null,"prüfen",{"$f":"IFERROR(OFFSET(MD!$U$5,MATCH(Grundlagen_Abrechnung_KAE!$E758,MD_GENDER,0),0),\"\")","v":""},{"v":0,"d":"0.00"},null,{"v":0,"d":"0.00"},{"$f":"IF(F758=\"Arbeitgeberähnliche Stellung\",OFFSET(MD!$Q$5,MATCH(Grundlagen_Abrechnung_KAE!$AK$7,MD_JAHR,0),0)*$H758,IF(J758>0,AC758,I758))","v":{"v":0,"d":"0.00"}},null,{"$f":"OFFSET(MD!$P$5,MATCH($AK$7,MD_JAHR,0),0)*12","v":{"$error":"#VALUE!"}},{"v":0,"d":"0.00"}]
[{"$nulls":14},{"$f":"IF($B759=\"\",\"\",IF(F759=\"Arbeitgeberähnliche Stellung\",OFFSET(MD!$Q$5,MATCH(Grundlagen_Abrechnung_KAE!$AK$7,MD_JAHR,0),0)*$H759,IF(((AD759/12*M759*12)+N759)>AF759,AF759/12,((AD759/12*M759*12)+N759)/12)))","v":""},null,null,{"v":0,"d":"0.00"},null,{"v":0,"d":"0.00%"},{"v":0,"d":"0.00"},{"v":0,"d":"0.00"},{"v":0,"d":"0.00"},null,"prüfen",{"$f":"IFERROR(OFFSET(MD!$U$5,MATCH(Grundlagen_Abrechnung_KAE!$E759,MD_GENDER,0),0),\"\")","v":""},{"v":0,"d":"0.00"},null,{"v":0,"d":"0.00"},{"$f":"IF(F759=\"Arbeitgeberähnliche Stellung\",OFFSET(MD!$Q$5,MATCH(Grundlagen_Abrechnung_KAE!$AK$7,MD_JAHR,0),0)*$H759,IF(J759>0,AC759,I759))","v":{"v":0,"d":"0.00"}},null,{"$f":"OFFSET(MD!$P$5,MATCH($AK$7,MD_JAHR,0),0)*12","v":{"$error":"#VALUE!"}},{"v":0,"d":"0.00"}]
[{"$nulls":14},{"$f":"IF($B760=\"\",\"\",IF(F760=\"Arbeitgeberähnliche Stellung\",OFFSET(MD!$Q$5,MATCH(Grundlagen_Abrechnung_KAE!$AK$7,MD_JAHR,0),0)*$H760,IF(((AD760/12*M760*12)+N760)>AF760,AF760/12,((AD760/12*M760*12)+N760)/12)))","v":""},null,null,{"v":0,"d":"0.00"},null,{"v":0,"d":"0.00%"},{"v":0,"d":"0.00"},{"v":0,"d":"0.00"},{"v":0,"d":"0.00"},null,"prüfen",{"$f":"IFERROR(OFFSET(MD!$U$5,MATCH(Grundlagen_Abrechnung_KAE!$E760,MD_GENDER,0),0),\"\")","v":""},{"v":0,"d":"0.00"},null,{"v":0,"d":"0.00"},{"$f":"IF(F760=\"Arbeitgeberähnliche Stellung\",OFFSET(MD!$Q$5,MATCH(Grundlagen_Abrechnung_KAE!$AK$7,MD_JAHR,0),0)*$H760,IF(J760>0,AC760,I760))","v":{"v":0,"d":"0.00"}},null,{"$f":"OFFSET(MD!$P$5,MATCH($AK$7,MD_JAHR,0),0)*12","v":{"$error":"#VALUE!"}},{"v":0,"d":"0.00"}]
[{"$nulls":14},{"$f":"IF($B761=\"\",\"\",IF(F761=\"Arbeitgeberähnliche Stellung\",OFFSET(MD!$Q$5,MATCH(Grundlagen_Abrechnung_KAE!$AK$7,MD_JAHR,0),0)*$H761,IF(((AD761/12*M761*12)+N761)>AF761,AF761/12,((AD761/12*M761*12)+N761)/12)))","v":""},null,null,{"v":0,"d":"0.00"},null,{"v":0,"d":"0.00%"},{"v":0,"d":"0.00"},{"v":0,"d":"0.00"},{"v":0,"d":"0.00"},null,"prüfen",{"$f":"IFERROR(OFFSET(MD!$U$5,MATCH(Grundlagen_Abrechnung_KAE!$E761,MD_GENDER,0),0),\"\")","v":""},{"v":0,"d":"0.00"},null,{"v":0,"d":"0.00"},{"$f":"IF(F761=\"Arbeitgeberähnliche Stellung\",OFFSET(MD!$Q$5,MATCH(Grundlagen_Abrechnung_KAE!$AK$7,MD_JAHR,0),0)*$H761,IF(J761>0,AC761,I761))","v":{"v":0,"d":"0.00"}},null,{"$f":"OFFSET(MD!$P$5,MATCH($AK$7,MD_JAHR,0),0)*12","v":{"$error":"#VALUE!"}},{"v":0,"d":"0.00"}]
[{"$nulls":14},{"$f":"IF($B762=\"\",\"\",IF(F762=\"Arbeitgeberähnliche Stellung\",OFFSET(MD!$Q$5,MATCH(Grundlagen_Abrechnung_KAE!$AK$7,MD_JAHR,0),0)*$H762,IF(((AD762/12*M762*12)+N762)>AF762,AF762/12,((AD762/12*M762*12)+N762)/12)))","v":""},null,null,{"v":0,"d":"0.00"},null,{"v":0,"d":"0.00%"},{"v":0,"d":"0.00"},{"v":0,"d":"0.00"},{"v":0,"d":"0.00"},null,"prüfen",{"$f":"IFERROR(OFFSET(MD!$U$5,MATCH(Grundlagen_Abrechnung_KAE!$E762,MD_GENDER,0),0),\"\")","v":""},{"v":0,"d":"0.00"},null,{"v":0,"d":"0.00"},{"$f":"IF(F762=\"Arbeitgeberähnliche Stellung\",OFFSET(MD!$Q$5,MATCH(Grundlagen_Abrechnung_KAE!$AK$7,MD_JAHR,0),0)*$H762,IF(J762>0,AC762,I762))","v":{"v":0,"d":"0.00"}},null,{"$f":"OFFSET(MD!$P$5,MATCH($AK$7,MD_JAHR,0),0)*12","v":{"$error":"#VALUE!"}},{"v":0,"d":"0.00"}]
[{"$nulls":14},{"$f":"IF($B763=\"\",\"\",IF(F763=\"Arbeitgeberähnliche Stellung\",OFFSET(MD!$Q$5,MATCH(Grundlagen_Abrechnung_KAE!$AK$7,MD_JAHR,0),0)*$H763,IF(((AD763/12*M763*12)+N763)>AF763,AF763/12,((AD763/12*M763*12)+N763)/12)))","v":""},null,null,{"v":0,"d":"0.00"},null,{"v":0,"d":"0.00%"},{"v":0,"d":"0.00"},{"v":0,"d":"0.00"},{"v":0,"d":"0.00"},null,"prüfen",{"$f":"IFERROR(OFFSET(MD!$U$5,MATCH(Grundlagen_Abrechnung_KAE!$E763,MD_GENDER,0),0),\"\")","v":""},{"v":0,"d":"0.00"},null,{"v":0,"d":"0.00"},{"$f":"IF(F763=\"Arbeitgeberähnliche Stellung\",OFFSET(MD!$Q$5,MATCH(Grundlagen_Abrechnung_KAE!$AK$7,MD_JAHR,0),0)*$H763,IF(J763>0,AC763,I763))","v":{"v":0,"d":"0.00"}},null,{"$f":"OFFSET(MD!$P$5,MATCH($AK$7,MD_JAHR,0),0)*12","v":{"$error":"#VALUE!"}},{"v":0,"d":"0.00"}]
[{"$nulls":14},{"$f":"IF($B764=\"\",\"\",IF(F764=\"Arbeitgeberähnliche Stellung\",OFFSET(MD!$Q$5,MATCH(Grundlagen_Abrechnung_KAE!$AK$7,MD_JAHR,0),0)*$H764,IF(((AD764/12*M764*12)+N764)>AF764,AF764/12,((AD764/12*M764*12)+N764)/12)))","v":""},null,null,{"v":0,"d":"0.00"},null,{"v":0,"d":"0.00%"},{"v":0,"d":"0.00"},{"v":0,"d":"0.00"},{"v":0,"d":"0.00"},null,"prüfen",{"$f":"IFERROR(OFFSET(MD!$U$5,MATCH(Grundlagen_Abrechnung_KAE!$E764,MD_GENDER,0),0),\"\")","v":""},{"v":0,"d":"0.00"},null,{"v":0,"d":"0.00"},{"$f":"IF(F764=\"Arbeitgeberähnliche Stellung\",OFFSET(MD!$Q$5,MATCH(Grundlagen_Abrechnung_KAE!$AK$7,MD_JAHR,0),0)*$H764,IF(J764>0,AC764,I764))","v":{"v":0,"d":"0.00"}},null,{"$f":"OFFSET(MD!$P$5,MATCH($AK$7,MD_JAHR,0),0)*12","v":{"$error":"#VALUE!"}},{"v":0,"d":"0.00"}]
[{"$nulls":14},{"$f":"IF($B765=\"\",\"\",IF(F765=\"Arbeitgeberähnliche Stellung\",OFFSET(MD!$Q$5,MATCH(Grundlagen_Abrechnung_KAE!$AK$7,MD_JAHR,0),0)*$H765,IF(((AD765/12*M765*12)+N765)>AF765,AF765/12,((AD765/12*M765*12)+N765)/12)))","v":""},null,null,{"v":0,"d":"0.00"},null,{"v":0,"d":"0.00%"},{"v":0,"d":"0.00"},{"v":0,"d":"0.00"},{"v":0,"d":"0.00"},null,"prüfen",{"$f":"IFERROR(OFFSET(MD!$U$5,MATCH(Grundlagen_Abrechnung_KAE!$E765,MD_GENDER,0),0),\"\")","v":""},{"v":0,"d":"0.00"},null,{"v":0,"d":"0.00"},{"$f":"IF(F765=\"Arbeitgeberähnliche Stellung\",OFFSET(MD!$Q$5,MATCH(Grundlagen_Abrechnung_KAE!$AK$7,MD_JAHR,0),0)*$H765,IF(J765>0,AC765,I765))","v":{"v":0,"d":"0.00"}},null,{"$f":"OFFSET(MD!$P$5,MATCH($AK$7,MD_JAHR,0),0)*12","v":{"$error":"#VALUE!"}},{"v":0,"d":"0.00"}]
[{"$nulls":14},{"$f":"IF($B766=\"\",\"\",IF(F766=\"Arbeitgeberähnliche Stellung\",OFFSET(MD!$Q$5,MATCH(Grundlagen_Abrechnung_KAE!$AK$7,MD_JAHR,0),0)*$H766,IF(((AD766/12*M766*12)+N766)>AF766,AF766/12,((AD766/12*M766*12)+N766)/12)))","v":""},null,null,{"v":0,"d":"0.00"},null,{"v":0,"d":"0.00%"},{"v":0,"d":"0.00"},{"v":0,"d":"0.00"},{"v":0,"d":"0.00"},null,"prüfen",{"$f":"IFERROR(OFFSET(MD!$U$5,MATCH(Grundlagen_Abrechnung_KAE!$E766,MD_GENDER,0),0),\"\")","v":""},{"v":0,"d":"0.00"},null,{"v":0,"d":"0.00"},{"$f":"IF(F766=\"Arbeitgeberähnliche Stellung\",OFFSET(MD!$Q$5,MATCH(Grundlagen_Abrechnung_KAE!$AK$7,MD_JAHR,0),0)*$H766,IF(J766>0,AC766,I766))","v":{"v":0,"d":"0.00"}},null,{"$f":"OFFSET(MD!$P$5,MATCH($AK$7,MD_JAHR,0),0)*12","v":{"$error":"#VALUE!"}},{"v":0,"d":"0.00"}]
[{"$nulls":14},{"$f":"IF($B767=\"\",\"\",IF(F767=\"Arbeitgeberähnliche Stellung\",OFFSET(MD!$Q$5,MATCH(Grundlagen_Abrechnung_KAE!$AK$7,MD_JAHR,0),0)*$H767,IF(((AD767/12*M767*12)+N767)>AF767,AF767/12,((AD767/12*M767*12)+N767)/12)))","v":""},null,null,{"v":0,"d":"0.00"},null,{"v":0,"d":"0.00%"},{"v":0,"d":"0.00"},{"v":0,"d":"0.00"},{"v":0,"d":"0.00"},null,"prüfen",{"$f":"IFERROR(OFFSET(MD!$U$5,MATCH(Grundlagen_Abrechnung_KAE!$E767,MD_GENDER,0),0),\"\")","v":""},{"v":0,"d":"0.00"},null,{"v":0,"d":"0.00"},{"$f":"IF(F767=\"Arbeitgeberähnliche Stellung\",OFFSET(MD!$Q$5,MATCH(Grundlagen_Abrechnung_KAE!$AK$7,MD_JAHR,0),0)*$H767,IF(J767>0,AC767,I767))","v":{"v":0,"d":"0.00"}},null,{"$f":"OFFSET(MD!$P$5,MATCH($AK$7,MD_JAHR,0),0)*12","v":{"$error":"#VALUE!"}},{"v":0,"d":"0.00"}]
[{"$nulls":14},{"$f":"IF($B768=\"\",\"\",IF(F768=\"Arbeitgeberähnliche Stellung\",OFFSET(MD!$Q$5,MATCH(Grundlagen_Abrechnung_KAE!$AK$7,MD_JAHR,0),0)*$H768,IF(((AD768/12*M768*12)+N768)>AF768,AF768/12,((AD768/12*M768*12)+N768)/12)))","v":""},null,null,{"v":0,"d":"0.00"},null,{"v":0,"d":"0.00%"},{"v":0,"d":"0.00"},{"v":0,"d":"0.00"},{"v":0,"d":"0.00"},null,"prüfen",{"$f":"IFERROR(OFFSET(MD!$U$5,MATCH(Grundlagen_Abrechnung_KAE!$E768,MD_GENDER,0),0),\"\")","v":""},{"v":0,"d":"0.00"},null,{"v":0,"d":"0.00"},{"$f":"IF(F768=\"Arbeitgeberähnliche Stellung\",OFFSET(MD!$Q$5,MATCH(Grundlagen_Abrechnung_KAE!$AK$7,MD_JAHR,0),0)*$H768,IF(J768>0,AC768,I768))","v":{"v":0,"d":"0.00"}},null,{"$f":"OFFSET(MD!$P$5,MATCH($AK$7,MD_JAHR,0),0)*12","v":{"$error":"#VALUE!"}},{"v":0,"d":"0.00"}]
[{"$nulls":14},{"$f":"IF($B769=\"\",\"\",IF(F769=\"Arbeitgeberähnliche Stellung\",OFFSET(MD!$Q$5,MATCH(Grundlagen_Abrechnung_KAE!$AK$7,MD_JAHR,0),0)*$H769,IF(((AD769/12*M769*12)+N769)>AF769,AF769/12,((AD769/12*M769*12)+N769)/12)))","v":""},null,null,{"v":0,"d":"0.00"},null,{"v":0,"d":"0.00%"},{"v":0,"d":"0.00"},{"v":0,"d":"0.00"},{"v":0,"d":"0.00"},null,"prüfen",{"$f":"IFERROR(OFFSET(MD!$U$5,MATCH(Grundlagen_Abrechnung_KAE!$E769,MD_GENDER,0),0),\"\")","v":""},{"v":0,"d":"0.00"},null,{"v":0,"d":"0.00"},{"$f":"IF(F769=\"Arbeitgeberähnliche Stellung\",OFFSET(MD!$Q$5,MATCH(Grundlagen_Abrechnung_KAE!$AK$7,MD_JAHR,0),0)*$H769,IF(J769>0,AC769,I769))","v":{"v":0,"d":"0.00"}},null,{"$f":"OFFSET(MD!$P$5,MATCH($AK$7,MD_JAHR,0),0)*12","v":{"$error":"#VALUE!"}},{"v":0,"d":"0.00"}]
[{"$nulls":14},{"$f":"IF($B770=\"\",\"\",IF(F770=\"Arbeitgeberähnliche Stellung\",OFFSET(MD!$Q$5,MATCH(Grundlagen_Abrechnung_KAE!$AK$7,MD_JAHR,0),0)*$H770,IF(((AD770/12*M770*12)+N770)>AF770,AF770/12,((AD770/12*M770*12)+N770)/12)))","v":""},null,null,{"v":0,"d":"0.00"},null,{"v":0,"d":"0.00%"},{"v":0,"d":"0.00"},{"v":0,"d":"0.00"},{"v":0,"d":"0.00"},null,"prüfen",{"$f":"IFERROR(OFFSET(MD!$U$5,MATCH(Grundlagen_Abrechnung_KAE!$E770,MD_GENDER,0),0),\"\")","v":""},{"v":0,"d":"0.00"},null,{"v":0,"d":"0.00"},{"$f":"IF(F770=\"Arbeitgeberähnliche Stellung\",OFFSET(MD!$Q$5,MATCH(Grundlagen_Abrechnung_KAE!$AK$7,MD_JAHR,0),0)*$H770,IF(J770>0,AC770,I770))","v":{"v":0,"d":"0.00"}},null,{"$f":"OFFSET(MD!$P$5,MATCH($AK$7,MD_JAHR,0),0)*12","v":{"$error":"#VALUE!"}},{"v":0,"d":"0.00"}]
[{"$nulls":14},{"$f":"IF($B771=\"\",\"\",IF(F771=\"Arbeitgeberähnliche Stellung\",OFFSET(MD!$Q$5,MATCH(Grundlagen_Abrechnung_KAE!$AK$7,MD_JAHR,0),0)*$H771,IF(((AD771/12*M771*12)+N771)>AF771,AF771/12,((AD771/12*M771*12)+N771)/12)))","v":""},null,null,{"v":0,"d":"0.00"},null,{"v":0,"d":"0.00%"},{"v":0,"d":"0.00"},{"v":0,"d":"0.00"},{"v":0,"d":"0.00"},null,"prüfen",{"$f":"IFERROR(OFFSET(MD!$U$5,MATCH(Grundlagen_Abrechnung_KAE!$E771,MD_GENDER,0),0),\"\")","v":""},{"v":0,"d":"0.00"},null,{"v":0,"d":"0.00"},{"$f":"IF(F771=\"Arbeitgeberähnliche Stellung\",OFFSET(MD!$Q$5,MATCH(Grundlagen_Abrechnung_KAE!$AK$7,MD_JAHR,0),0)*$H771,IF(J771>0,AC771,I771))","v":{"v":0,"d":"0.00"}},null,{"$f":"OFFSET(MD!$P$5,MATCH($AK$7,MD_JAHR,0),0)*12","v":{"$error":"#VALUE!"}},{"v":0,"d":"0.00"}]
[{"$nulls":14},{"$f":"IF($B772=\"\",\"\",IF(F772=\"Arbeitgeberähnliche Stellung\",OFFSET(MD!$Q$5,MATCH(Grundlagen_Abrechnung_KAE!$AK$7,MD_JAHR,0),0)*$H772,IF(((AD772/12*M772*12)+N772)>AF772,AF772/12,((AD772/12*M772*12)+N772)/12)))","v":""},null,null,{"v":0,"d":"0.00"},null,{"v":0,"d":"0.00%"},{"v":0,"d":"0.00"},{"v":0,"d":"0.00"},{"v":0,"d":"0.00"},null,"prüfen",{"$f":"IFERROR(OFFSET(MD!$U$5,MATCH(Grundlagen_Abrechnung_KAE!$E772,MD_GENDER,0),0),\"\")","v":""},{"v":0,"d":"0.00"},null,{"v":0,"d":"0.00"},{"$f":"IF(F772=\"Arbeitgeberähnliche Stellung\",OFFSET(MD!$Q$5,MATCH(Grundlagen_Abrechnung_KAE!$AK$7,MD_JAHR,0),0)*$H772,IF(J772>0,AC772,I772))","v":{"v":0,"d":"0.00"}},null,{"$f":"OFFSET(MD!$P$5,MATCH($AK$7,MD_JAHR,0),0)*12","v":{"$error":"#VALUE!"}},{"v":0,"d":"0.00"}]
[{"$nulls":14},{"$f":"IF($B773=\"\",\"\",IF(F773=\"Arbeitgeberähnliche Stellung\",OFFSET(MD!$Q$5,MATCH(Grundlagen_Abrechnung_KAE!$AK$7,MD_JAHR,0),0)*$H773,IF(((AD773/12*M773*12)+N773)>AF773,AF773/12,((AD773/12*M773*12)+N773)/12)))","v":""},null,null,{"v":0,"d":"0.00"},null,{"v":0,"d":"0.00%"},{"v":0,"d":"0.00"},{"v":0,"d":"0.00"},{"v":0,"d":"0.00"},null,"prüfen",{"$f":"IFERROR(OFFSET(MD!$U$5,MATCH(Grundlagen_Abrechnung_KAE!$E773,MD_GENDER,0),0),\"\")","v":""},{"v":0,"d":"0.00"},null,{"v":0,"d":"0.00"},{"$f":"IF(F773=\"Arbeitgeberähnliche Stellung\",OFFSET(MD!$Q$5,MATCH(Grundlagen_Abrechnung_KAE!$AK$7,MD_JAHR,0),0)*$H773,IF(J773>0,AC773,I773))","v":{"v":0,"d":"0.00"}},null,{"$f":"OFFSET(MD!$P$5,MATCH($AK$7,MD_JAHR,0),0)*12","v":{"$error":"#VALUE!"}},{"v":0,"d":"0.00"}]
[{"$nulls":14},{"$f":"IF($B774=\"\",\"\",IF(F774=\"Arbeitgeberähnliche Stellung\",OFFSET(MD!$Q$5,MATCH(Grundlagen_Abrechnung_KAE!$AK$7,MD_JAHR,0),0)*$H774,IF(((AD774/12*M774*12)+N774)>AF774,AF774/12,((AD774/12*M774*12)+N774)/12)))","v":""},null,null,{"v":0,"d":"0.00"},null,{"v":0,"d":"0.00%"},{"v":0,"d":"0.00"},{"v":0,"d":"0.00"},{"v":0,"d":"0.00"},null,"prüfen",{"$f":"IFERROR(OFFSET(MD!$U$5,MATCH(Grundlagen_Abrechnung_KAE!$E774,MD_GENDER,0),0),\"\")","v":""},{"v":0,"d":"0.00"},null,{"v":0,"d":"0.00"},{"$f":"IF(F774=\"Arbeitgeberähnliche Stellung\",OFFSET(MD!$Q$5,MATCH(Grundlagen_Abrechnung_KAE!$AK$7,MD_JAHR,0),0)*$H774,IF(J774>0,AC774,I774))","v":{"v":0,"d":"0.00"}},null,{"$f":"OFFSET(MD!$P$5,MATCH($AK$7,MD_JAHR,0),0)*12","v":{"$error":"#VALUE!"}},{"v":0,"d":"0.00"}]
[{"$nulls":14},{"$f":"IF($B775=\"\",\"\",IF(F775=\"Arbeitgeberähnliche Stellung\",OFFSET(MD!$Q$5,MATCH(Grundlagen_Abrechnung_KAE!$AK$7,MD_JAHR,0),0)*$H775,IF(((AD775/12*M775*12)+N775)>AF775,AF775/12,((AD775/12*M775*12)+N775)/12)))","v":""},null,null,{"v":0,"d":"0.00"},null,{"v":0,"d":"0.00%"},{"v":0,"d":"0.00"},{"v":0,"d":"0.00"},{"v":0,"d":"0.00"},null,"prüfen",{"$f":"IFERROR(OFFSET(MD!$U$5,MATCH(Grundlagen_Abrechnung_KAE!$E775,MD_GENDER,0),0),\"\")","v":""},{"v":0,"d":"0.00"},null,{"v":0,"d":"0.00"},{"$f":"IF(F775=\"Arbeitgeberähnliche Stellung\",OFFSET(MD!$Q$5,MATCH(Grundlagen_Abrechnung_KAE!$AK$7,MD_JAHR,0),0)*$H775,IF(J775>0,AC775,I775))","v":{"v":0,"d":"0.00"}},null,{"$f":"OFFSET(MD!$P$5,MATCH($AK$7,MD_JAHR,0),0)*12","v":{"$error":"#VALUE!"}},{"v":0,"d":"0.00"}]
[{"$nulls":14},{"$f":"IF($B776=\"\",\"\",IF(F776=\"Arbeitgeberähnliche Stellung\",OFFSET(MD!$Q$5,MATCH(Grundlagen_Abrechnung_KAE!$AK$7,MD_JAHR,0),0)*$H776,IF(((AD776/12*M776*12)+N776)>AF776,AF776/12,((AD776/12*M776*12)+N776)/12)))","v":""},null,null,{"v":0,"d":"0.00"},null,{"v":0,"d":"0.00%"},{"v":0,"d":"0.00"},{"v":0,"d":"0.00"},{"v":0,"d":"0.00"},null,"prüfen",{"$f":"IFERROR(OFFSET(MD!$U$5,MATCH(Grundlagen_Abrechnung_KAE!$E776,MD_GENDER,0),0),\"\")","v":""},{"v":0,"d":"0.00"},null,{"v":0,"d":"0.00"},{"$f":"IF(F776=\"Arbeitgeberähnliche Stellung\",OFFSET(MD!$Q$5,MATCH(Grundlagen_Abrechnung_KAE!$AK$7,MD_JAHR,0),0)*$H776,IF(J776>0,AC776,I776))","v":{"v":0,"d":"0.00"}},null,{"$f":"OFFSET(MD!$P$5,MATCH($AK$7,MD_JAHR,0),0)*12","v":{"$error":"#VALUE!"}},{"v":0,"d":"0.00"}]
[{"$nulls":14},{"$f":"IF($B777=\"\",\"\",IF(F777=\"Arbeitgeberähnliche Stellung\",OFFSET(MD!$Q$5,MATCH(Grundlagen_Abrechnung_KAE!$AK$7,MD_JAHR,0),0)*$H777,IF(((AD777/12*M777*12)+N777)>AF777,AF777/12,((AD777/12*M777*12)+N777)/12)))","v":""},null,null,{"v":0,"d":"0.00"},null,{"v":0,"d":"0.00%"},{"v":0,"d":"0.00"},{"v":0,"d":"0.00"},{"v":0,"d":"0.00"},null,"prüfen",{"$f":"IFERROR(OFFSET(MD!$U$5,MATCH(Grundlagen_Abrechnung_KAE!$E777,MD_GENDER,0),0),\"\")","v":""},{"v":0,"d":"0.00"},null,{"v":0,"d":"0.00"},{"$f":"IF(F777=\"Arbeitgeberähnliche Stellung\",OFFSET(MD!$Q$5,MATCH(Grundlagen_Abrechnung_KAE!$AK$7,MD_JAHR,0),0)*$H777,IF(J777>0,AC777,I777))","v":{"v":0,"d":"0.00"}},null,{"$f":"OFFSET(MD!$P$5,MATCH($AK$7,MD_JAHR,0),0)*12","v":{"$error":"#VALUE!"}},{"v":0,"d":"0.00"}]
[{"$nulls":14},{"$f":"IF($B778=\"\",\"\",IF(F778=\"Arbeitgeberähnliche Stellung\",OFFSET(MD!$Q$5,MATCH(Grundlagen_Abrechnung_KAE!$AK$7,MD_JAHR,0),0)*$H778,IF(((AD778/12*M778*12)+N778)>AF778,AF778/12,((AD778/12*M778*12)+N778)/12)))","v":""},null,null,{"v":0,"d":"0.00"},null,{"v":0,"d":"0.00%"},{"v":0,"d":"0.00"},{"v":0,"d":"0.00"},{"v":0,"d":"0.00"},null,"prüfen",{"$f":"IFERROR(OFFSET(MD!$U$5,MATCH(Grundlagen_Abrechnung_KAE!$E778,MD_GENDER,0),0),\"\")","v":""},{"v":0,"d":"0.00"},null,{"v":0,"d":"0.00"},{"$f":"IF(F778=\"Arbeitgeberähnliche Stellung\",OFFSET(MD!$Q$5,MATCH(Grundlagen_Abrechnung_KAE!$AK$7,MD_JAHR,0),0)*$H778,IF(J778>0,AC778,I778))","v":{"v":0,"d":"0.00"}},null,{"$f":"OFFSET(MD!$P$5,MATCH($AK$7,MD_JAHR,0),0)*12","v":{"$error":"#VALUE!"}},{"v":0,"d":"0.00"}]
[{"$nulls":14},{"$f":"IF($B779=\"\",\"\",IF(F779=\"Arbeitgeberähnliche Stellung\",OFFSET(MD!$Q$5,MATCH(Grundlagen_Abrechnung_KAE!$AK$7,MD_JAHR,0),0)*$H779,IF(((AD779/12*M779*12)+N779)>AF779,AF779/12,((AD779/12*M779*12)+N779)/12)))","v":""},null,null,{"v":0,"d":"0.00"},null,{"v":0,"d":"0.00%"},{"v":0,"d":"0.00"},{"v":0,"d":"0.00"},{"v":0,"d":"0.00"},null,"prüfen",{"$f":"IFERROR(OFFSET(MD!$U$5,MATCH(Grundlagen_Abrechnung_KAE!$E779,MD_GENDER,0),0),\"\")","v":""},{"v":0,"d":"0.00"},null,{"v":0,"d":"0.00"},{"$f":"IF(F779=\"Arbeitgeberähnliche Stellung\",OFFSET(MD!$Q$5,MATCH(Grundlagen_Abrechnung_KAE!$AK$7,MD_JAHR,0),0)*$H779,IF(J779>0,AC779,I779))","v":{"v":0,"d":"0.00"}},null,{"$f":"OFFSET(MD!$P$5,MATCH($AK$7,MD_JAHR,0),0)*12","v":{"$error":"#VALUE!"}},{"v":0,"d":"0.00"}]
[{"$nulls":14},{"$f":"IF($B780=\"\",\"\",IF(F780=\"Arbeitgeberähnliche Stellung\",OFFSET(MD!$Q$5,MATCH(Grundlagen_Abrechnung_KAE!$AK$7,MD_JAHR,0),0)*$H780,IF(((AD780/12*M780*12)+N780)>AF780,AF780/12,((AD780/12*M780*12)+N780)/12)))","v":""},null,null,{"v":0,"d":"0.00"},null,{"v":0,"d":"0.00%"},{"v":0,"d":"0.00"},{"v":0,"d":"0.00"},{"v":0,"d":"0.00"},null,"prüfen",{"$f":"IFERROR(OFFSET(MD!$U$5,MATCH(Grundlagen_Abrechnung_KAE!$E780,MD_GENDER,0),0),\"\")","v":""},{"v":0,"d":"0.00"},null,{"v":0,"d":"0.00"},{"$f":"IF(F780=\"Arbeitgeberähnliche Stellung\",OFFSET(MD!$Q$5,MATCH(Grundlagen_Abrechnung_KAE!$AK$7,MD_JAHR,0),0)*$H780,IF(J780>0,AC780,I780))","v":{"v":0,"d":"0.00"}},null,{"$f":"OFFSET(MD!$P$5,MATCH($AK$7,MD_JAHR,0),0)*12","v":{"$error":"#VALUE!"}},{"v":0,"d":"0.00"}]
[{"$nulls":14},{"$f":"IF($B781=\"\",\"\",IF(F781=\"Arbeitgeberähnliche Stellung\",OFFSET(MD!$Q$5,MATCH(Grundlagen_Abrechnung_KAE!$AK$7,MD_JAHR,0),0)*$H781,IF(((AD781/12*M781*12)+N781)>AF781,AF781/12,((AD781/12*M781*12)+N781)/12)))","v":""},null,null,{"v":0,"d":"0.00"},null,{"v":0,"d":"0.00%"},{"v":0,"d":"0.00"},{"v":0,"d":"0.00"},{"v":0,"d":"0.00"},null,"prüfen",{"$f":"IFERROR(OFFSET(MD!$U$5,MATCH(Grundlagen_Abrechnung_KAE!$E781,MD_GENDER,0),0),\"\")","v":""},{"v":0,"d":"0.00"},null,{"v":0,"d":"0.00"},{"$f":"IF(F781=\"Arbeitgeberähnliche Stellung\",OFFSET(MD!$Q$5,MATCH(Grundlagen_Abrechnung_KAE!$AK$7,MD_JAHR,0),0)*$H781,IF(J781>0,AC781,I781))","v":{"v":0,"d":"0.00"}},null,{"$f":"OFFSET(MD!$P$5,MATCH($AK$7,MD_JAHR,0),0)*12","v":{"$error":"#VALUE!"}},{"v":0,"d":"0.00"}]
[{"$nulls":14},{"$f":"IF($B782=\"\",\"\",IF(F782=\"Arbeitgeberähnliche Stellung\",OFFSET(MD!$Q$5,MATCH(Grundlagen_Abrechnung_KAE!$AK$7,MD_JAHR,0),0)*$H782,IF(((AD782/12*M782*12)+N782)>AF782,AF782/12,((AD782/12*M782*12)+N782)/12)))","v":""},null,null,{"v":0,"d":"0.00"},null,{"v":0,"d":"0.00%"},{"v":0,"d":"0.00"},{"v":0,"d":"0.00"},{"v":0,"d":"0.00"},null,"prüfen",{"$f":"IFERROR(OFFSET(MD!$U$5,MATCH(Grundlagen_Abrechnung_KAE!$E782,MD_GENDER,0),0),\"\")","v":""},{"v":0,"d":"0.00"},null,{"v":0,"d":"0.00"},{"$f":"IF(F782=\"Arbeitgeberähnliche Stellung\",OFFSET(MD!$Q$5,MATCH(Grundlagen_Abrechnung_KAE!$AK$7,MD_JAHR,0),0)*$H782,IF(J782>0,AC782,I782))","v":{"v":0,"d":"0.00"}},null,{"$f":"OFFSET(MD!$P$5,MATCH($AK$7,MD_JAHR,0),0)*12","v":{"$error":"#VALUE!"}},{"v":0,"d":"0.00"}]
[{"$nulls":14},{"$f":"IF($B783=\"\",\"\",IF(F783=\"Arbeitgeberähnliche Stellung\",OFFSET(MD!$Q$5,MATCH(Grundlagen_Abrechnung_KAE!$AK$7,MD_JAHR,0),0)*$H783,IF(((AD783/12*M783*12)+N783)>AF783,AF783/12,((AD783/12*M783*12)+N783)/12)))","v":""},null,null,{"v":0,"d":"0.00"},null,{"v":0,"d":"0.00%"},{"v":0,"d":"0.00"},{"v":0,"d":"0.00"},{"v":0,"d":"0.00"},null,"prüfen",{"$f":"IFERROR(OFFSET(MD!$U$5,MATCH(Grundlagen_Abrechnung_KAE!$E783,MD_GENDER,0),0),\"\")","v":""},{"v":0,"d":"0.00"},null,{"v":0,"d":"0.00"},{"$f":"IF(F783=\"Arbeitgeberähnliche Stellung\",OFFSET(MD!$Q$5,MATCH(Grundlagen_Abrechnung_KAE!$AK$7,MD_JAHR,0),0)*$H783,IF(J783>0,AC783,I783))","v":{"v":0,"d":"0.00"}},null,{"$f":"OFFSET(MD!$P$5,MATCH($AK$7,MD_JAHR,0),0)*12","v":{"$error":"#VALUE!"}},{"v":0,"d":"0.00"}]
[{"$nulls":14},{"$f":"IF($B784=\"\",\"\",IF(F784=\"Arbeitgeberähnliche Stellung\",OFFSET(MD!$Q$5,MATCH(Grundlagen_Abrechnung_KAE!$AK$7,MD_JAHR,0),0)*$H784,IF(((AD784/12*M784*12)+N784)>AF784,AF784/12,((AD784/12*M784*12)+N784)/12)))","v":""},null,null,{"v":0,"d":"0.00"},null,{"v":0,"d":"0.00%"},{"v":0,"d":"0.00"},{"v":0,"d":"0.00"},{"v":0,"d":"0.00"},null,"prüfen",{"$f":"IFERROR(OFFSET(MD!$U$5,MATCH(Grundlagen_Abrechnung_KAE!$E784,MD_GENDER,0),0),\"\")","v":""},{"v":0,"d":"0.00"},null,{"v":0,"d":"0.00"},{"$f":"IF(F784=\"Arbeitgeberähnliche Stellung\",OFFSET(MD!$Q$5,MATCH(Grundlagen_Abrechnung_KAE!$AK$7,MD_JAHR,0),0)*$H784,IF(J784>0,AC784,I784))","v":{"v":0,"d":"0.00"}},null,{"$f":"OFFSET(MD!$P$5,MATCH($AK$7,MD_JAHR,0),0)*12","v":{"$error":"#VALUE!"}},{"v":0,"d":"0.00"}]
[{"$nulls":14},{"$f":"IF($B785=\"\",\"\",IF(F785=\"Arbeitgeberähnliche Stellung\",OFFSET(MD!$Q$5,MATCH(Grundlagen_Abrechnung_KAE!$AK$7,MD_JAHR,0),0)*$H785,IF(((AD785/12*M785*12)+N785)>AF785,AF785/12,((AD785/12*M785*12)+N785)/12)))","v":""},null,null,{"v":0,"d":"0.00"},null,{"v":0,"d":"0.00%"},{"v":0,"d":"0.00"},{"v":0,"d":"0.00"},{"v":0,"d":"0.00"},null,"prüfen",{"$f":"IFERROR(OFFSET(MD!$U$5,MATCH(Grundlagen_Abrechnung_KAE!$E785,MD_GENDER,0),0),\"\")","v":""},{"v":0,"d":"0.00"},null,{"v":0,"d":"0.00"},{"$f":"IF(F785=\"Arbeitgeberähnliche Stellung\",OFFSET(MD!$Q$5,MATCH(Grundlagen_Abrechnung_KAE!$AK$7,MD_JAHR,0),0)*$H785,IF(J785>0,AC785,I785))","v":{"v":0,"d":"0.00"}},null,{"$f":"OFFSET(MD!$P$5,MATCH($AK$7,MD_JAHR,0),0)*12","v":{"$error":"#VALUE!"}},{"v":0,"d":"0.00"}]
[{"$nulls":14},{"$f":"IF($B786=\"\",\"\",IF(F786=\"Arbeitgeberähnliche Stellung\",OFFSET(MD!$Q$5,MATCH(Grundlagen_Abrechnung_KAE!$AK$7,MD_JAHR,0),0)*$H786,IF(((AD786/12*M786*12)+N786)>AF786,AF786/12,((AD786/12*M786*12)+N786)/12)))","v":""},null,null,{"v":0,"d":"0.00"},null,{"v":0,"d":"0.00%"},{"v":0,"d":"0.00"},{"v":0,"d":"0.00"},{"v":0,"d":"0.00"},null,"prüfen",{"$f":"IFERROR(OFFSET(MD!$U$5,MATCH(Grundlagen_Abrechnung_KAE!$E786,MD_GENDER,0),0),\"\")","v":""},{"v":0,"d":"0.00"},null,{"v":0,"d":"0.00"},{"$f":"IF(F786=\"Arbeitgeberähnliche Stellung\",OFFSET(MD!$Q$5,MATCH(Grundlagen_Abrechnung_KAE!$AK$7,MD_JAHR,0),0)*$H786,IF(J786>0,AC786,I786))","v":{"v":0,"d":"0.00"}},null,{"$f":"OFFSET(MD!$P$5,MATCH($AK$7,MD_JAHR,0),0)*12","v":{"$error":"#VALUE!"}},{"v":0,"d":"0.00"}]
[{"$nulls":14},{"$f":"IF($B787=\"\",\"\",IF(F787=\"Arbeitgeberähnliche Stellung\",OFFSET(MD!$Q$5,MATCH(Grundlagen_Abrechnung_KAE!$AK$7,MD_JAHR,0),0)*$H787,IF(((AD787/12*M787*12)+N787)>AF787,AF787/12,((AD787/12*M787*12)+N787)/12)))","v":""},null,null,{"$f":"ROUND(IF(Q787=\"\",0,IF(P787=0,0,IF(Q787>P787,0,P787-Q787))),2)","v":{"v":0,"d":"0.00"}},null,{"$f":"IFERROR(R787/P787,0)","v":{"v":0,"d":"0.00%"}},{"$f":"IFERROR(IF(O787-W787=0,O787,(O787)*(1-T787)),0)","v":{"v":0,"d":"0.00"}},{"v":0,"d":"0.00"},{"$f":"IFERROR(O787*T787,0)*0.8","v":{"v":0,"d":"0.00"}},null,{"$f":"IF(YEAR($G787)>$Y$16,\"prüfen\",\"\")","v":"prüfen"},{"$f":"IFERROR(OFFSET(MD!$U$5,MATCH(Grundlagen_Abrechnung_KAE!$E787,MD_GENDER,0),0),\"\")","v":""},{"$f":"IF(B787=\"\",0,IF(YEAR(G787)>$AA$16,0,1))","v":{"v":0,"d":"0.00"}},null,{"$f":"IF(J787*K787/6>J787*L787/12,J787*K787/6,J787*L787/12)","v":{"v":0,"d":"0.00"}},{"$f":"IF(F787=\"Arbeitgeberähnliche Stellung\",OFFSET(MD!$Q$5,MATCH(Grundlagen_Abrechnung_KAE!$AK$7,MD_JAHR,0),0)*$H787,IF(J787>0,AC787,I787))","v":{"v":0,"d":"0.00"}},null,{"$f":"OFFSET(MD!$P$5,MATCH($AK$7,MD_JAHR,0),0)*12","v":{"$error":"#VALUE!"}},{"$f":"I787*M787+N787","v":{"v":0,"d":"0.00"}}]
[{"$nulls":14},{"$f":"IF($B788=\"\",\"\",IF(F788=\"Arbeitgeberähnliche Stellung\",OFFSET(MD!$Q$5,MATCH(Grundlagen_Abrechnung_KAE!$AK$7,MD_JAHR,0),0)*$H788,IF(((AD788/12*M788*12)+N788)>AF788,AF788/12,((AD788/12*M788*12)+N788)/12)))","v":""},null,null,{"v":0,"d":"0.00"},null,{"v":0,"d":"0.00%"},{"v":0,"d":"0.00"},{"$f":"IFERROR(O788*T788,0)","v":{"v":0,"d":"0.00"}},{"v":0,"d":"0.00"},null,"prüfen",{"$f":"IFERROR(OFFSET(MD!$U$5,MATCH(Grundlagen_Abrechnung_KAE!$E788,MD_GENDER,0),0),\"\")","v":""},{"v":0,"d":"0.00"},null,{"v":0,"d":"0.00"},{"$f":"IF(F788=\"Arbeitgeberähnliche Stellung\",OFFSET(MD!$Q$5,MATCH(Grundlagen_Abrechnung_KAE!$AK$7,MD_JAHR,0),0)*$H788,IF(J788>0,AC788,I788))","v":{"v":0,"d":"0.00"}},null,{"$f":"OFFSET(MD!$P$5,MATCH($AK$7,MD_JAHR,0),0)*12","v":{"$error":"#VALUE!"}},{"v":0,"d":"0.00"}]
[{"$nulls":14},{"$f":"IF($B789=\"\",\"\",IF(F789=\"Arbeitgeberähnliche Stellung\",OFFSET(MD!$Q$5,MATCH(Grundlagen_Abrechnung_KAE!$AK$7,MD_JAHR,0),0)*$H789,IF(((AD789/12*M789*12)+N789)>AF789,AF789/12,((AD789/12*M789*12)+N789)/12)))","v":""},null,null,{"v":0,"d":"0.00"},null,{"v":0,"d":"0.00%"},{"v":0,"d":"0.00"},{"v":0,"d":"0.00"},{"v":0,"d":"0.00"},null,"prüfen",{"$f":"IFERROR(OFFSET(MD!$U$5,MATCH(Grundlagen_Abrechnung_KAE!$E789,MD_GENDER,0),0),\"\")","v":""},{"v":0,"d":"0.00"},null,{"v":0,"d":"0.00"},{"$f":"IF(F789=\"Arbeitgeberähnliche Stellung\",OFFSET(MD!$Q$5,MATCH(Grundlagen_Abrechnung_KAE!$AK$7,MD_JAHR,0),0)*$H789,IF(J789>0,AC789,I789))","v":{"v":0,"d":"0.00"}},null,{"$f":"OFFSET(MD!$P$5,MATCH($AK$7,MD_JAHR,0),0)*12","v":{"$error":"#VALUE!"}},{"v":0,"d":"0.00"}]
[{"$nulls":14},{"$f":"IF($B790=\"\",\"\",IF(F790=\"Arbeitgeberähnliche Stellung\",OFFSET(MD!$Q$5,MATCH(Grundlagen_Abrechnung_KAE!$AK$7,MD_JAHR,0),0)*$H790,IF(((AD790/12*M790*12)+N790)>AF790,AF790/12,((AD790/12*M790*12)+N790)/12)))","v":""},null,null,{"v":0,"d":"0.00"},null,{"v":0,"d":"0.00%"},{"v":0,"d":"0.00"},{"v":0,"d":"0.00"},{"v":0,"d":"0.00"},null,"prüfen",{"$f":"IFERROR(OFFSET(MD!$U$5,MATCH(Grundlagen_Abrechnung_KAE!$E790,MD_GENDER,0),0),\"\")","v":""},{"v":0,"d":"0.00"},null,{"v":0,"d":"0.00"},{"$f":"IF(F790=\"Arbeitgeberähnliche Stellung\",OFFSET(MD!$Q$5,MATCH(Grundlagen_Abrechnung_KAE!$AK$7,MD_JAHR,0),0)*$H790,IF(J790>0,AC790,I790))","v":{"v":0,"d":"0.00"}},null,{"$f":"OFFSET(MD!$P$5,MATCH($AK$7,MD_JAHR,0),0)*12","v":{"$error":"#VALUE!"}},{"v":0,"d":"0.00"}]
[{"$nulls":14},{"$f":"IF($B791=\"\",\"\",IF(F791=\"Arbeitgeberähnliche Stellung\",OFFSET(MD!$Q$5,MATCH(Grundlagen_Abrechnung_KAE!$AK$7,MD_JAHR,0),0)*$H791,IF(((AD791/12*M791*12)+N791)>AF791,AF791/12,((AD791/12*M791*12)+N791)/12)))","v":""},null,null,{"v":0,"d":"0.00"},null,{"v":0,"d":"0.00%"},{"v":0,"d":"0.00"},{"v":0,"d":"0.00"},{"v":0,"d":"0.00"},null,"prüfen",{"$f":"IFERROR(OFFSET(MD!$U$5,MATCH(Grundlagen_Abrechnung_KAE!$E791,MD_GENDER,0),0),\"\")","v":""},{"v":0,"d":"0.00"},null,{"v":0,"d":"0.00"},{"$f":"IF(F791=\"Arbeitgeberähnliche Stellung\",OFFSET(MD!$Q$5,MATCH(Grundlagen_Abrechnung_KAE!$AK$7,MD_JAHR,0),0)*$H791,IF(J791>0,AC791,I791))","v":{"v":0,"d":"0.00"}},null,{"$f":"OFFSET(MD!$P$5,MATCH($AK$7,MD_JAHR,0),0)*12","v":{"$error":"#VALUE!"}},{"v":0,"d":"0.00"}]
[{"$nulls":14},{"$f":"IF($B792=\"\",\"\",IF(F792=\"Arbeitgeberähnliche Stellung\",OFFSET(MD!$Q$5,MATCH(Grundlagen_Abrechnung_KAE!$AK$7,MD_JAHR,0),0)*$H792,IF(((AD792/12*M792*12)+N792)>AF792,AF792/12,((AD792/12*M792*12)+N792)/12)))","v":""},null,null,{"v":0,"d":"0.00"},null,{"v":0,"d":"0.00%"},{"v":0,"d":"0.00"},{"v":0,"d":"0.00"},{"v":0,"d":"0.00"},null,"prüfen",{"$f":"IFERROR(OFFSET(MD!$U$5,MATCH(Grundlagen_Abrechnung_KAE!$E792,MD_GENDER,0),0),\"\")","v":""},{"v":0,"d":"0.00"},null,{"v":0,"d":"0.00"},{"$f":"IF(F792=\"Arbeitgeberähnliche Stellung\",OFFSET(MD!$Q$5,MATCH(Grundlagen_Abrechnung_KAE!$AK$7,MD_JAHR,0),0)*$H792,IF(J792>0,AC792,I792))","v":{"v":0,"d":"0.00"}},null,{"$f":"OFFSET(MD!$P$5,MATCH($AK$7,MD_JAHR,0),0)*12","v":{"$error":"#VALUE!"}},{"v":0,"d":"0.00"}]
[{"$nulls":14},{"$f":"IF($B793=\"\",\"\",IF(F793=\"Arbeitgeberähnliche Stellung\",OFFSET(MD!$Q$5,MATCH(Grundlagen_Abrechnung_KAE!$AK$7,MD_JAHR,0),0)*$H793,IF(((AD793/12*M793*12)+N793)>AF793,AF793/12,((AD793/12*M793*12)+N793)/12)))","v":""},null,null,{"v":0,"d":"0.00"},null,{"v":0,"d":"0.00%"},{"v":0,"d":"0.00"},{"v":0,"d":"0.00"},{"v":0,"d":"0.00"},null,"prüfen",{"$f":"IFERROR(OFFSET(MD!$U$5,MATCH(Grundlagen_Abrechnung_KAE!$E793,MD_GENDER,0),0),\"\")","v":""},{"v":0,"d":"0.00"},null,{"v":0,"d":"0.00"},{"$f":"IF(F793=\"Arbeitgeberähnliche Stellung\",OFFSET(MD!$Q$5,MATCH(Grundlagen_Abrechnung_KAE!$AK$7,MD_JAHR,0),0)*$H793,IF(J793>0,AC793,I793))","v":{"v":0,"d":"0.00"}},null,{"$f":"OFFSET(MD!$P$5,MATCH($AK$7,MD_JAHR,0),0)*12","v":{"$error":"#VALUE!"}},{"v":0,"d":"0.00"}]
[{"$nulls":14},{"$f":"IF($B794=\"\",\"\",IF(F794=\"Arbeitgeberähnliche Stellung\",OFFSET(MD!$Q$5,MATCH(Grundlagen_Abrechnung_KAE!$AK$7,MD_JAHR,0),0)*$H794,IF(((AD794/12*M794*12)+N794)>AF794,AF794/12,((AD794/12*M794*12)+N794)/12)))","v":""},null,null,{"v":0,"d":"0.00"},null,{"v":0,"d":"0.00%"},{"v":0,"d":"0.00"},{"v":0,"d":"0.00"},{"v":0,"d":"0.00"},null,"prüfen",{"$f":"IFERROR(OFFSET(MD!$U$5,MATCH(Grundlagen_Abrechnung_KAE!$E794,MD_GENDER,0),0),\"\")","v":""},{"v":0,"d":"0.00"},null,{"v":0,"d":"0.00"},{"$f":"IF(F794=\"Arbeitgeberähnliche Stellung\",OFFSET(MD!$Q$5,MATCH(Grundlagen_Abrechnung_KAE!$AK$7,MD_JAHR,0),0)*$H794,IF(J794>0,AC794,I794))","v":{"v":0,"d":"0.00"}},null,{"$f":"OFFSET(MD!$P$5,MATCH($AK$7,MD_JAHR,0),0)*12","v":{"$error":"#VALUE!"}},{"v":0,"d":"0.00"}]
[{"$nulls":14},{"$f":"IF($B795=\"\",\"\",IF(F795=\"Arbeitgeberähnliche Stellung\",OFFSET(MD!$Q$5,MATCH(Grundlagen_Abrechnung_KAE!$AK$7,MD_JAHR,0),0)*$H795,IF(((AD795/12*M795*12)+N795)>AF795,AF795/12,((AD795/12*M795*12)+N795)/12)))","v":""},null,null,{"v":0,"d":"0.00"},null,{"v":0,"d":"0.00%"},{"v":0,"d":"0.00"},{"v":0,"d":"0.00"},{"v":0,"d":"0.00"},null,"prüfen",{"$f":"IFERROR(OFFSET(MD!$U$5,MATCH(Grundlagen_Abrechnung_KAE!$E795,MD_GENDER,0),0),\"\")","v":""},{"v":0,"d":"0.00"},null,{"v":0,"d":"0.00"},{"$f":"IF(F795=\"Arbeitgeberähnliche Stellung\",OFFSET(MD!$Q$5,MATCH(Grundlagen_Abrechnung_KAE!$AK$7,MD_JAHR,0),0)*$H795,IF(J795>0,AC795,I795))","v":{"v":0,"d":"0.00"}},null,{"$f":"OFFSET(MD!$P$5,MATCH($AK$7,MD_JAHR,0),0)*12","v":{"$error":"#VALUE!"}},{"v":0,"d":"0.00"}]
[{"$nulls":14},{"$f":"IF($B796=\"\",\"\",IF(F796=\"Arbeitgeberähnliche Stellung\",OFFSET(MD!$Q$5,MATCH(Grundlagen_Abrechnung_KAE!$AK$7,MD_JAHR,0),0)*$H796,IF(((AD796/12*M796*12)+N796)>AF796,AF796/12,((AD796/12*M796*12)+N796)/12)))","v":""},null,null,{"v":0,"d":"0.00"},null,{"v":0,"d":"0.00%"},{"v":0,"d":"0.00"},{"v":0,"d":"0.00"},{"v":0,"d":"0.00"},null,"prüfen",{"$f":"IFERROR(OFFSET(MD!$U$5,MATCH(Grundlagen_Abrechnung_KAE!$E796,MD_GENDER,0),0),\"\")","v":""},{"v":0,"d":"0.00"},null,{"v":0,"d":"0.00"},{"$f":"IF(F796=\"Arbeitgeberähnliche Stellung\",OFFSET(MD!$Q$5,MATCH(Grundlagen_Abrechnung_KAE!$AK$7,MD_JAHR,0),0)*$H796,IF(J796>0,AC796,I796))","v":{"v":0,"d":"0.00"}},null,{"$f":"OFFSET(MD!$P$5,MATCH($AK$7,MD_JAHR,0),0)*12","v":{"$error":"#VALUE!"}},{"v":0,"d":"0.00"}]
[{"$nulls":14},{"$f":"IF($B797=\"\",\"\",IF(F797=\"Arbeitgeberähnliche Stellung\",OFFSET(MD!$Q$5,MATCH(Grundlagen_Abrechnung_KAE!$AK$7,MD_JAHR,0),0)*$H797,IF(((AD797/12*M797*12)+N797)>AF797,AF797/12,((AD797/12*M797*12)+N797)/12)))","v":""},null,null,{"v":0,"d":"0.00"},null,{"v":0,"d":"0.00%"},{"v":0,"d":"0.00"},{"v":0,"d":"0.00"},{"v":0,"d":"0.00"},null,"prüfen",{"$f":"IFERROR(OFFSET(MD!$U$5,MATCH(Grundlagen_Abrechnung_KAE!$E797,MD_GENDER,0),0),\"\")","v":""},{"v":0,"d":"0.00"},null,{"v":0,"d":"0.00"},{"$f":"IF(F797=\"Arbeitgeberähnliche Stellung\",OFFSET(MD!$Q$5,MATCH(Grundlagen_Abrechnung_KAE!$AK$7,MD_JAHR,0),0)*$H797,IF(J797>0,AC797,I797))","v":{"v":0,"d":"0.00"}},null,{"$f":"OFFSET(MD!$P$5,MATCH($AK$7,MD_JAHR,0),0)*12","v":{"$error":"#VALUE!"}},{"v":0,"d":"0.00"}]
[{"$nulls":14},{"$f":"IF($B798=\"\",\"\",IF(F798=\"Arbeitgeberähnliche Stellung\",OFFSET(MD!$Q$5,MATCH(Grundlagen_Abrechnung_KAE!$AK$7,MD_JAHR,0),0)*$H798,IF(((AD798/12*M798*12)+N798)>AF798,AF798/12,((AD798/12*M798*12)+N798)/12)))","v":""},null,null,{"v":0,"d":"0.00"},null,{"v":0,"d":"0.00%"},{"v":0,"d":"0.00"},{"v":0,"d":"0.00"},{"v":0,"d":"0.00"},null,"prüfen",{"$f":"IFERROR(OFFSET(MD!$U$5,MATCH(Grundlagen_Abrechnung_KAE!$E798,MD_GENDER,0),0),\"\")","v":""},{"v":0,"d":"0.00"},null,{"v":0,"d":"0.00"},{"$f":"IF(F798=\"Arbeitgeberähnliche Stellung\",OFFSET(MD!$Q$5,MATCH(Grundlagen_Abrechnung_KAE!$AK$7,MD_JAHR,0),0)*$H798,IF(J798>0,AC798,I798))","v":{"v":0,"d":"0.00"}},null,{"$f":"OFFSET(MD!$P$5,MATCH($AK$7,MD_JAHR,0),0)*12","v":{"$error":"#VALUE!"}},{"v":0,"d":"0.00"}]
[{"$nulls":14},{"$f":"IF($B799=\"\",\"\",IF(F799=\"Arbeitgeberähnliche Stellung\",OFFSET(MD!$Q$5,MATCH(Grundlagen_Abrechnung_KAE!$AK$7,MD_JAHR,0),0)*$H799,IF(((AD799/12*M799*12)+N799)>AF799,AF799/12,((AD799/12*M799*12)+N799)/12)))","v":""},null,null,{"v":0,"d":"0.00"},null,{"v":0,"d":"0.00%"},{"v":0,"d":"0.00"},{"v":0,"d":"0.00"},{"v":0,"d":"0.00"},null,"prüfen",{"$f":"IFERROR(OFFSET(MD!$U$5,MATCH(Grundlagen_Abrechnung_KAE!$E799,MD_GENDER,0),0),\"\")","v":""},{"v":0,"d":"0.00"},null,{"v":0,"d":"0.00"},{"$f":"IF(F799=\"Arbeitgeberähnliche Stellung\",OFFSET(MD!$Q$5,MATCH(Grundlagen_Abrechnung_KAE!$AK$7,MD_JAHR,0),0)*$H799,IF(J799>0,AC799,I799))","v":{"v":0,"d":"0.00"}},null,{"$f":"OFFSET(MD!$P$5,MATCH($AK$7,MD_JAHR,0),0)*12","v":{"$error":"#VALUE!"}},{"v":0,"d":"0.00"}]
[{"$nulls":14},{"$f":"IF($B800=\"\",\"\",IF(F800=\"Arbeitgeberähnliche Stellung\",OFFSET(MD!$Q$5,MATCH(Grundlagen_Abrechnung_KAE!$AK$7,MD_JAHR,0),0)*$H800,IF(((AD800/12*M800*12)+N800)>AF800,AF800/12,((AD800/12*M800*12)+N800)/12)))","v":""},null,null,{"v":0,"d":"0.00"},null,{"v":0,"d":"0.00%"},{"v":0,"d":"0.00"},{"v":0,"d":"0.00"},{"v":0,"d":"0.00"},null,"prüfen",{"$f":"IFERROR(OFFSET(MD!$U$5,MATCH(Grundlagen_Abrechnung_KAE!$E800,MD_GENDER,0),0),\"\")","v":""},{"v":0,"d":"0.00"},null,{"v":0,"d":"0.00"},{"$f":"IF(F800=\"Arbeitgeberähnliche Stellung\",OFFSET(MD!$Q$5,MATCH(Grundlagen_Abrechnung_KAE!$AK$7,MD_JAHR,0),0)*$H800,IF(J800>0,AC800,I800))","v":{"v":0,"d":"0.00"}},null,{"$f":"OFFSET(MD!$P$5,MATCH($AK$7,MD_JAHR,0),0)*12","v":{"$error":"#VALUE!"}},{"v":0,"d":"0.00"}]
[{"$nulls":14},{"$f":"IF($B801=\"\",\"\",IF(F801=\"Arbeitgeberähnliche Stellung\",OFFSET(MD!$Q$5,MATCH(Grundlagen_Abrechnung_KAE!$AK$7,MD_JAHR,0),0)*$H801,IF(((AD801/12*M801*12)+N801)>AF801,AF801/12,((AD801/12*M801*12)+N801)/12)))","v":""},null,null,{"v":0,"d":"0.00"},null,{"v":0,"d":"0.00%"},{"v":0,"d":"0.00"},{"v":0,"d":"0.00"},{"v":0,"d":"0.00"},null,"prüfen",{"$f":"IFERROR(OFFSET(MD!$U$5,MATCH(Grundlagen_Abrechnung_KAE!$E801,MD_GENDER,0),0),\"\")","v":""},{"v":0,"d":"0.00"},null,{"v":0,"d":"0.00"},{"$f":"IF(F801=\"Arbeitgeberähnliche Stellung\",OFFSET(MD!$Q$5,MATCH(Grundlagen_Abrechnung_KAE!$AK$7,MD_JAHR,0),0)*$H801,IF(J801>0,AC801,I801))","v":{"v":0,"d":"0.00"}},null,{"$f":"OFFSET(MD!$P$5,MATCH($AK$7,MD_JAHR,0),0)*12","v":{"$error":"#VALUE!"}},{"v":0,"d":"0.00"}]
[{"$nulls":14},{"$f":"IF($B802=\"\",\"\",IF(F802=\"Arbeitgeberähnliche Stellung\",OFFSET(MD!$Q$5,MATCH(Grundlagen_Abrechnung_KAE!$AK$7,MD_JAHR,0),0)*$H802,IF(((AD802/12*M802*12)+N802)>AF802,AF802/12,((AD802/12*M802*12)+N802)/12)))","v":""},null,null,{"v":0,"d":"0.00"},null,{"v":0,"d":"0.00%"},{"v":0,"d":"0.00"},{"v":0,"d":"0.00"},{"v":0,"d":"0.00"},null,"prüfen",{"$f":"IFERROR(OFFSET(MD!$U$5,MATCH(Grundlagen_Abrechnung_KAE!$E802,MD_GENDER,0),0),\"\")","v":""},{"v":0,"d":"0.00"},null,{"v":0,"d":"0.00"},{"$f":"IF(F802=\"Arbeitgeberähnliche Stellung\",OFFSET(MD!$Q$5,MATCH(Grundlagen_Abrechnung_KAE!$AK$7,MD_JAHR,0),0)*$H802,IF(J802>0,AC802,I802))","v":{"v":0,"d":"0.00"}},null,{"$f":"OFFSET(MD!$P$5,MATCH($AK$7,MD_JAHR,0),0)*12","v":{"$error":"#VALUE!"}},{"v":0,"d":"0.00"}]
[{"$nulls":14},{"$f":"IF($B803=\"\",\"\",IF(F803=\"Arbeitgeberähnliche Stellung\",OFFSET(MD!$Q$5,MATCH(Grundlagen_Abrechnung_KAE!$AK$7,MD_JAHR,0),0)*$H803,IF(((AD803/12*M803*12)+N803)>AF803,AF803/12,((AD803/12*M803*12)+N803)/12)))","v":""},null,null,{"v":0,"d":"0.00"},null,{"v":0,"d":"0.00%"},{"v":0,"d":"0.00"},{"v":0,"d":"0.00"},{"v":0,"d":"0.00"},null,"prüfen",{"$f":"IFERROR(OFFSET(MD!$U$5,MATCH(Grundlagen_Abrechnung_KAE!$E803,MD_GENDER,0),0),\"\")","v":""},{"v":0,"d":"0.00"},null,{"v":0,"d":"0.00"},{"$f":"IF(F803=\"Arbeitgeberähnliche Stellung\",OFFSET(MD!$Q$5,MATCH(Grundlagen_Abrechnung_KAE!$AK$7,MD_JAHR,0),0)*$H803,IF(J803>0,AC803,I803))","v":{"v":0,"d":"0.00"}},null,{"$f":"OFFSET(MD!$P$5,MATCH($AK$7,MD_JAHR,0),0)*12","v":{"$error":"#VALUE!"}},{"v":0,"d":"0.00"}]
[{"$nulls":14},{"$f":"IF($B804=\"\",\"\",IF(F804=\"Arbeitgeberähnliche Stellung\",OFFSET(MD!$Q$5,MATCH(Grundlagen_Abrechnung_KAE!$AK$7,MD_JAHR,0),0)*$H804,IF(((AD804/12*M804*12)+N804)>AF804,AF804/12,((AD804/12*M804*12)+N804)/12)))","v":""},null,null,{"v":0,"d":"0.00"},null,{"v":0,"d":"0.00%"},{"v":0,"d":"0.00"},{"v":0,"d":"0.00"},{"v":0,"d":"0.00"},null,"prüfen",{"$f":"IFERROR(OFFSET(MD!$U$5,MATCH(Grundlagen_Abrechnung_KAE!$E804,MD_GENDER,0),0),\"\")","v":""},{"v":0,"d":"0.00"},null,{"v":0,"d":"0.00"},{"$f":"IF(F804=\"Arbeitgeberähnliche Stellung\",OFFSET(MD!$Q$5,MATCH(Grundlagen_Abrechnung_KAE!$AK$7,MD_JAHR,0),0)*$H804,IF(J804>0,AC804,I804))","v":{"v":0,"d":"0.00"}},null,{"$f":"OFFSET(MD!$P$5,MATCH($AK$7,MD_JAHR,0),0)*12","v":{"$error":"#VALUE!"}},{"v":0,"d":"0.00"}]
[{"$nulls":14},{"$f":"IF($B805=\"\",\"\",IF(F805=\"Arbeitgeberähnliche Stellung\",OFFSET(MD!$Q$5,MATCH(Grundlagen_Abrechnung_KAE!$AK$7,MD_JAHR,0),0)*$H805,IF(((AD805/12*M805*12)+N805)>AF805,AF805/12,((AD805/12*M805*12)+N805)/12)))","v":""},null,null,{"v":0,"d":"0.00"},null,{"v":0,"d":"0.00%"},{"v":0,"d":"0.00"},{"v":0,"d":"0.00"},{"v":0,"d":"0.00"},null,"prüfen",{"$f":"IFERROR(OFFSET(MD!$U$5,MATCH(Grundlagen_Abrechnung_KAE!$E805,MD_GENDER,0),0),\"\")","v":""},{"v":0,"d":"0.00"},null,{"v":0,"d":"0.00"},{"$f":"IF(F805=\"Arbeitgeberähnliche Stellung\",OFFSET(MD!$Q$5,MATCH(Grundlagen_Abrechnung_KAE!$AK$7,MD_JAHR,0),0)*$H805,IF(J805>0,AC805,I805))","v":{"v":0,"d":"0.00"}},null,{"$f":"OFFSET(MD!$P$5,MATCH($AK$7,MD_JAHR,0),0)*12","v":{"$error":"#VALUE!"}},{"v":0,"d":"0.00"}]
[{"$nulls":14},{"$f":"IF($B806=\"\",\"\",IF(F806=\"Arbeitgeberähnliche Stellung\",OFFSET(MD!$Q$5,MATCH(Grundlagen_Abrechnung_KAE!$AK$7,MD_JAHR,0),0)*$H806,IF(((AD806/12*M806*12)+N806)>AF806,AF806/12,((AD806/12*M806*12)+N806)/12)))","v":""},null,null,{"v":0,"d":"0.00"},null,{"v":0,"d":"0.00%"},{"v":0,"d":"0.00"},{"v":0,"d":"0.00"},{"v":0,"d":"0.00"},null,"prüfen",{"$f":"IFERROR(OFFSET(MD!$U$5,MATCH(Grundlagen_Abrechnung_KAE!$E806,MD_GENDER,0),0),\"\")","v":""},{"v":0,"d":"0.00"},null,{"v":0,"d":"0.00"},{"$f":"IF(F806=\"Arbeitgeberähnliche Stellung\",OFFSET(MD!$Q$5,MATCH(Grundlagen_Abrechnung_KAE!$AK$7,MD_JAHR,0),0)*$H806,IF(J806>0,AC806,I806))","v":{"v":0,"d":"0.00"}},null,{"$f":"OFFSET(MD!$P$5,MATCH($AK$7,MD_JAHR,0),0)*12","v":{"$error":"#VALUE!"}},{"v":0,"d":"0.00"}]
[{"$nulls":14},{"$f":"IF($B807=\"\",\"\",IF(F807=\"Arbeitgeberähnliche Stellung\",OFFSET(MD!$Q$5,MATCH(Grundlagen_Abrechnung_KAE!$AK$7,MD_JAHR,0),0)*$H807,IF(((AD807/12*M807*12)+N807)>AF807,AF807/12,((AD807/12*M807*12)+N807)/12)))","v":""},null,null,{"v":0,"d":"0.00"},null,{"v":0,"d":"0.00%"},{"v":0,"d":"0.00"},{"v":0,"d":"0.00"},{"v":0,"d":"0.00"},null,"prüfen",{"$f":"IFERROR(OFFSET(MD!$U$5,MATCH(Grundlagen_Abrechnung_KAE!$E807,MD_GENDER,0),0),\"\")","v":""},{"v":0,"d":"0.00"},null,{"v":0,"d":"0.00"},{"$f":"IF(F807=\"Arbeitgeberähnliche Stellung\",OFFSET(MD!$Q$5,MATCH(Grundlagen_Abrechnung_KAE!$AK$7,MD_JAHR,0),0)*$H807,IF(J807>0,AC807,I807))","v":{"v":0,"d":"0.00"}},null,{"$f":"OFFSET(MD!$P$5,MATCH($AK$7,MD_JAHR,0),0)*12","v":{"$error":"#VALUE!"}},{"v":0,"d":"0.00"}]
[{"$nulls":14},{"$f":"IF($B808=\"\",\"\",IF(F808=\"Arbeitgeberähnliche Stellung\",OFFSET(MD!$Q$5,MATCH(Grundlagen_Abrechnung_KAE!$AK$7,MD_JAHR,0),0)*$H808,IF(((AD808/12*M808*12)+N808)>AF808,AF808/12,((AD808/12*M808*12)+N808)/12)))","v":""},null,null,{"v":0,"d":"0.00"},null,{"v":0,"d":"0.00%"},{"v":0,"d":"0.00"},{"v":0,"d":"0.00"},{"v":0,"d":"0.00"},null,"prüfen",{"$f":"IFERROR(OFFSET(MD!$U$5,MATCH(Grundlagen_Abrechnung_KAE!$E808,MD_GENDER,0),0),\"\")","v":""},{"v":0,"d":"0.00"},null,{"v":0,"d":"0.00"},{"$f":"IF(F808=\"Arbeitgeberähnliche Stellung\",OFFSET(MD!$Q$5,MATCH(Grundlagen_Abrechnung_KAE!$AK$7,MD_JAHR,0),0)*$H808,IF(J808>0,AC808,I808))","v":{"v":0,"d":"0.00"}},null,{"$f":"OFFSET(MD!$P$5,MATCH($AK$7,MD_JAHR,0),0)*12","v":{"$error":"#VALUE!"}},{"v":0,"d":"0.00"}]
[{"$nulls":14},{"$f":"IF($B809=\"\",\"\",IF(F809=\"Arbeitgeberähnliche Stellung\",OFFSET(MD!$Q$5,MATCH(Grundlagen_Abrechnung_KAE!$AK$7,MD_JAHR,0),0)*$H809,IF(((AD809/12*M809*12)+N809)>AF809,AF809/12,((AD809/12*M809*12)+N809)/12)))","v":""},null,null,{"v":0,"d":"0.00"},null,{"v":0,"d":"0.00%"},{"v":0,"d":"0.00"},{"v":0,"d":"0.00"},{"v":0,"d":"0.00"},null,"prüfen",{"$f":"IFERROR(OFFSET(MD!$U$5,MATCH(Grundlagen_Abrechnung_KAE!$E809,MD_GENDER,0),0),\"\")","v":""},{"v":0,"d":"0.00"},null,{"v":0,"d":"0.00"},{"$f":"IF(F809=\"Arbeitgeberähnliche Stellung\",OFFSET(MD!$Q$5,MATCH(Grundlagen_Abrechnung_KAE!$AK$7,MD_JAHR,0),0)*$H809,IF(J809>0,AC809,I809))","v":{"v":0,"d":"0.00"}},null,{"$f":"OFFSET(MD!$P$5,MATCH($AK$7,MD_JAHR,0),0)*12","v":{"$error":"#VALUE!"}},{"v":0,"d":"0.00"}]
[{"$nulls":14},{"$f":"IF($B810=\"\",\"\",IF(F810=\"Arbeitgeberähnliche Stellung\",OFFSET(MD!$Q$5,MATCH(Grundlagen_Abrechnung_KAE!$AK$7,MD_JAHR,0),0)*$H810,IF(((AD810/12*M810*12)+N810)>AF810,AF810/12,((AD810/12*M810*12)+N810)/12)))","v":""},null,null,{"v":0,"d":"0.00"},null,{"v":0,"d":"0.00%"},{"v":0,"d":"0.00"},{"v":0,"d":"0.00"},{"v":0,"d":"0.00"},null,"prüfen",{"$f":"IFERROR(OFFSET(MD!$U$5,MATCH(Grundlagen_Abrechnung_KAE!$E810,MD_GENDER,0),0),\"\")","v":""},{"v":0,"d":"0.00"},null,{"v":0,"d":"0.00"},{"$f":"IF(F810=\"Arbeitgeberähnliche Stellung\",OFFSET(MD!$Q$5,MATCH(Grundlagen_Abrechnung_KAE!$AK$7,MD_JAHR,0),0)*$H810,IF(J810>0,AC810,I810))","v":{"v":0,"d":"0.00"}},null,{"$f":"OFFSET(MD!$P$5,MATCH($AK$7,MD_JAHR,0),0)*12","v":{"$error":"#VALUE!"}},{"v":0,"d":"0.00"}]
[{"$nulls":14},{"$f":"IF($B811=\"\",\"\",IF(F811=\"Arbeitgeberähnliche Stellung\",OFFSET(MD!$Q$5,MATCH(Grundlagen_Abrechnung_KAE!$AK$7,MD_JAHR,0),0)*$H811,IF(((AD811/12*M811*12)+N811)>AF811,AF811/12,((AD811/12*M811*12)+N811)/12)))","v":""},null,null,{"v":0,"d":"0.00"},null,{"v":0,"d":"0.00%"},{"v":0,"d":"0.00"},{"v":0,"d":"0.00"},{"v":0,"d":"0.00"},null,"prüfen",{"$f":"IFERROR(OFFSET(MD!$U$5,MATCH(Grundlagen_Abrechnung_KAE!$E811,MD_GENDER,0),0),\"\")","v":""},{"v":0,"d":"0.00"},null,{"v":0,"d":"0.00"},{"$f":"IF(F811=\"Arbeitgeberähnliche Stellung\",OFFSET(MD!$Q$5,MATCH(Grundlagen_Abrechnung_KAE!$AK$7,MD_JAHR,0),0)*$H811,IF(J811>0,AC811,I811))","v":{"v":0,"d":"0.00"}},null,{"$f":"OFFSET(MD!$P$5,MATCH($AK$7,MD_JAHR,0),0)*12","v":{"$error":"#VALUE!"}},{"v":0,"d":"0.00"}]
[{"$nulls":14},{"$f":"IF($B812=\"\",\"\",IF(F812=\"Arbeitgeberähnliche Stellung\",OFFSET(MD!$Q$5,MATCH(Grundlagen_Abrechnung_KAE!$AK$7,MD_JAHR,0),0)*$H812,IF(((AD812/12*M812*12)+N812)>AF812,AF812/12,((AD812/12*M812*12)+N812)/12)))","v":""},null,null,{"v":0,"d":"0.00"},null,{"v":0,"d":"0.00%"},{"v":0,"d":"0.00"},{"v":0,"d":"0.00"},{"v":0,"d":"0.00"},null,"prüfen",{"$f":"IFERROR(OFFSET(MD!$U$5,MATCH(Grundlagen_Abrechnung_KAE!$E812,MD_GENDER,0),0),\"\")","v":""},{"v":0,"d":"0.00"},null,{"v":0,"d":"0.00"},{"$f":"IF(F812=\"Arbeitgeberähnliche Stellung\",OFFSET(MD!$Q$5,MATCH(Grundlagen_Abrechnung_KAE!$AK$7,MD_JAHR,0),0)*$H812,IF(J812>0,AC812,I812))","v":{"v":0,"d":"0.00"}},null,{"$f":"OFFSET(MD!$P$5,MATCH($AK$7,MD_JAHR,0),0)*12","v":{"$error":"#VALUE!"}},{"v":0,"d":"0.00"}]
[{"$nulls":14},{"$f":"IF($B813=\"\",\"\",IF(F813=\"Arbeitgeberähnliche Stellung\",OFFSET(MD!$Q$5,MATCH(Grundlagen_Abrechnung_KAE!$AK$7,MD_JAHR,0),0)*$H813,IF(((AD813/12*M813*12)+N813)>AF813,AF813/12,((AD813/12*M813*12)+N813)/12)))","v":""},null,null,{"v":0,"d":"0.00"},null,{"v":0,"d":"0.00%"},{"v":0,"d":"0.00"},{"v":0,"d":"0.00"},{"v":0,"d":"0.00"},null,"prüfen",{"$f":"IFERROR(OFFSET(MD!$U$5,MATCH(Grundlagen_Abrechnung_KAE!$E813,MD_GENDER,0),0),\"\")","v":""},{"v":0,"d":"0.00"},null,{"v":0,"d":"0.00"},{"$f":"IF(F813=\"Arbeitgeberähnliche Stellung\",OFFSET(MD!$Q$5,MATCH(Grundlagen_Abrechnung_KAE!$AK$7,MD_JAHR,0),0)*$H813,IF(J813>0,AC813,I813))","v":{"v":0,"d":"0.00"}},null,{"$f":"OFFSET(MD!$P$5,MATCH($AK$7,MD_JAHR,0),0)*12","v":{"$error":"#VALUE!"}},{"v":0,"d":"0.00"}]
[{"$nulls":14},{"$f":"IF($B814=\"\",\"\",IF(F814=\"Arbeitgeberähnliche Stellung\",OFFSET(MD!$Q$5,MATCH(Grundlagen_Abrechnung_KAE!$AK$7,MD_JAHR,0),0)*$H814,IF(((AD814/12*M814*12)+N814)>AF814,AF814/12,((AD814/12*M814*12)+N814)/12)))","v":""},null,null,{"v":0,"d":"0.00"},null,{"v":0,"d":"0.00%"},{"v":0,"d":"0.00"},{"v":0,"d":"0.00"},{"v":0,"d":"0.00"},null,"prüfen",{"$f":"IFERROR(OFFSET(MD!$U$5,MATCH(Grundlagen_Abrechnung_KAE!$E814,MD_GENDER,0),0),\"\")","v":""},{"v":0,"d":"0.00"},null,{"v":0,"d":"0.00"},{"$f":"IF(F814=\"Arbeitgeberähnliche Stellung\",OFFSET(MD!$Q$5,MATCH(Grundlagen_Abrechnung_KAE!$AK$7,MD_JAHR,0),0)*$H814,IF(J814>0,AC814,I814))","v":{"v":0,"d":"0.00"}},null,{"$f":"OFFSET(MD!$P$5,MATCH($AK$7,MD_JAHR,0),0)*12","v":{"$error":"#VALUE!"}},{"v":0,"d":"0.00"}]
[{"$nulls":14},{"$f":"IF($B815=\"\",\"\",IF(F815=\"Arbeitgeberähnliche Stellung\",OFFSET(MD!$Q$5,MATCH(Grundlagen_Abrechnung_KAE!$AK$7,MD_JAHR,0),0)*$H815,IF(((AD815/12*M815*12)+N815)>AF815,AF815/12,((AD815/12*M815*12)+N815)/12)))","v":""},null,null,{"v":0,"d":"0.00"},null,{"v":0,"d":"0.00%"},{"v":0,"d":"0.00"},{"v":0,"d":"0.00"},{"v":0,"d":"0.00"},null,"prüfen",{"$f":"IFERROR(OFFSET(MD!$U$5,MATCH(Grundlagen_Abrechnung_KAE!$E815,MD_GENDER,0),0),\"\")","v":""},{"v":0,"d":"0.00"},null,{"v":0,"d":"0.00"},{"$f":"IF(F815=\"Arbeitgeberähnliche Stellung\",OFFSET(MD!$Q$5,MATCH(Grundlagen_Abrechnung_KAE!$AK$7,MD_JAHR,0),0)*$H815,IF(J815>0,AC815,I815))","v":{"v":0,"d":"0.00"}},null,{"$f":"OFFSET(MD!$P$5,MATCH($AK$7,MD_JAHR,0),0)*12","v":{"$error":"#VALUE!"}},{"v":0,"d":"0.00"}]
[{"$nulls":14},{"$f":"IF($B816=\"\",\"\",IF(F816=\"Arbeitgeberähnliche Stellung\",OFFSET(MD!$Q$5,MATCH(Grundlagen_Abrechnung_KAE!$AK$7,MD_JAHR,0),0)*$H816,IF(((AD816/12*M816*12)+N816)>AF816,AF816/12,((AD816/12*M816*12)+N816)/12)))","v":""},null,null,{"v":0,"d":"0.00"},null,{"v":0,"d":"0.00%"},{"v":0,"d":"0.00"},{"v":0,"d":"0.00"},{"v":0,"d":"0.00"},null,"prüfen",{"$f":"IFERROR(OFFSET(MD!$U$5,MATCH(Grundlagen_Abrechnung_KAE!$E816,MD_GENDER,0),0),\"\")","v":""},{"v":0,"d":"0.00"},null,{"v":0,"d":"0.00"},{"$f":"IF(F816=\"Arbeitgeberähnliche Stellung\",OFFSET(MD!$Q$5,MATCH(Grundlagen_Abrechnung_KAE!$AK$7,MD_JAHR,0),0)*$H816,IF(J816>0,AC816,I816))","v":{"v":0,"d":"0.00"}},null,{"$f":"OFFSET(MD!$P$5,MATCH($AK$7,MD_JAHR,0),0)*12","v":{"$error":"#VALUE!"}},{"v":0,"d":"0.00"}]
[{"$nulls":14},{"$f":"IF($B817=\"\",\"\",IF(F817=\"Arbeitgeberähnliche Stellung\",OFFSET(MD!$Q$5,MATCH(Grundlagen_Abrechnung_KAE!$AK$7,MD_JAHR,0),0)*$H817,IF(((AD817/12*M817*12)+N817)>AF817,AF817/12,((AD817/12*M817*12)+N817)/12)))","v":""},null,null,{"v":0,"d":"0.00"},null,{"v":0,"d":"0.00%"},{"v":0,"d":"0.00"},{"v":0,"d":"0.00"},{"v":0,"d":"0.00"},null,"prüfen",{"$f":"IFERROR(OFFSET(MD!$U$5,MATCH(Grundlagen_Abrechnung_KAE!$E817,MD_GENDER,0),0),\"\")","v":""},{"v":0,"d":"0.00"},null,{"v":0,"d":"0.00"},{"$f":"IF(F817=\"Arbeitgeberähnliche Stellung\",OFFSET(MD!$Q$5,MATCH(Grundlagen_Abrechnung_KAE!$AK$7,MD_JAHR,0),0)*$H817,IF(J817>0,AC817,I817))","v":{"v":0,"d":"0.00"}},null,{"$f":"OFFSET(MD!$P$5,MATCH($AK$7,MD_JAHR,0),0)*12","v":{"$error":"#VALUE!"}},{"v":0,"d":"0.00"}]
[{"$nulls":14},{"$f":"IF($B818=\"\",\"\",IF(F818=\"Arbeitgeberähnliche Stellung\",OFFSET(MD!$Q$5,MATCH(Grundlagen_Abrechnung_KAE!$AK$7,MD_JAHR,0),0)*$H818,IF(((AD818/12*M818*12)+N818)>AF818,AF818/12,((AD818/12*M818*12)+N818)/12)))","v":""},null,null,{"v":0,"d":"0.00"},null,{"v":0,"d":"0.00%"},{"v":0,"d":"0.00"},{"v":0,"d":"0.00"},{"v":0,"d":"0.00"},null,"prüfen",{"$f":"IFERROR(OFFSET(MD!$U$5,MATCH(Grundlagen_Abrechnung_KAE!$E818,MD_GENDER,0),0),\"\")","v":""},{"v":0,"d":"0.00"},null,{"v":0,"d":"0.00"},{"$f":"IF(F818=\"Arbeitgeberähnliche Stellung\",OFFSET(MD!$Q$5,MATCH(Grundlagen_Abrechnung_KAE!$AK$7,MD_JAHR,0),0)*$H818,IF(J818>0,AC818,I818))","v":{"v":0,"d":"0.00"}},null,{"$f":"OFFSET(MD!$P$5,MATCH($AK$7,MD_JAHR,0),0)*12","v":{"$error":"#VALUE!"}},{"v":0,"d":"0.00"}]
[{"$nulls":14},{"$f":"IF($B819=\"\",\"\",IF(F819=\"Arbeitgeberähnliche Stellung\",OFFSET(MD!$Q$5,MATCH(Grundlagen_Abrechnung_KAE!$AK$7,MD_JAHR,0),0)*$H819,IF(((AD819/12*M819*12)+N819)>AF819,AF819/12,((AD819/12*M819*12)+N819)/12)))","v":""},null,null,{"v":0,"d":"0.00"},null,{"v":0,"d":"0.00%"},{"v":0,"d":"0.00"},{"v":0,"d":"0.00"},{"v":0,"d":"0.00"},null,"prüfen",{"$f":"IFERROR(OFFSET(MD!$U$5,MATCH(Grundlagen_Abrechnung_KAE!$E819,MD_GENDER,0),0),\"\")","v":""},{"v":0,"d":"0.00"},null,{"v":0,"d":"0.00"},{"$f":"IF(F819=\"Arbeitgeberähnliche Stellung\",OFFSET(MD!$Q$5,MATCH(Grundlagen_Abrechnung_KAE!$AK$7,MD_JAHR,0),0)*$H819,IF(J819>0,AC819,I819))","v":{"v":0,"d":"0.00"}},null,{"$f":"OFFSET(MD!$P$5,MATCH($AK$7,MD_JAHR,0),0)*12","v":{"$error":"#VALUE!"}},{"v":0,"d":"0.00"}]
[{"$nulls":14},{"$f":"IF($B820=\"\",\"\",IF(F820=\"Arbeitgeberähnliche Stellung\",OFFSET(MD!$Q$5,MATCH(Grundlagen_Abrechnung_KAE!$AK$7,MD_JAHR,0),0)*$H820,IF(((AD820/12*M820*12)+N820)>AF820,AF820/12,((AD820/12*M820*12)+N820)/12)))","v":""},null,null,{"v":0,"d":"0.00"},null,{"v":0,"d":"0.00%"},{"v":0,"d":"0.00"},{"v":0,"d":"0.00"},{"v":0,"d":"0.00"},null,"prüfen",{"$f":"IFERROR(OFFSET(MD!$U$5,MATCH(Grundlagen_Abrechnung_KAE!$E820,MD_GENDER,0),0),\"\")","v":""},{"v":0,"d":"0.00"},null,{"v":0,"d":"0.00"},{"$f":"IF(F820=\"Arbeitgeberähnliche Stellung\",OFFSET(MD!$Q$5,MATCH(Grundlagen_Abrechnung_KAE!$AK$7,MD_JAHR,0),0)*$H820,IF(J820>0,AC820,I820))","v":{"v":0,"d":"0.00"}},null,{"$f":"OFFSET(MD!$P$5,MATCH($AK$7,MD_JAHR,0),0)*12","v":{"$error":"#VALUE!"}},{"v":0,"d":"0.00"}]
[{"$nulls":14},{"$f":"IF($B821=\"\",\"\",IF(F821=\"Arbeitgeberähnliche Stellung\",OFFSET(MD!$Q$5,MATCH(Grundlagen_Abrechnung_KAE!$AK$7,MD_JAHR,0),0)*$H821,IF(((AD821/12*M821*12)+N821)>AF821,AF821/12,((AD821/12*M821*12)+N821)/12)))","v":""},null,null,{"v":0,"d":"0.00"},null,{"v":0,"d":"0.00%"},{"v":0,"d":"0.00"},{"v":0,"d":"0.00"},{"v":0,"d":"0.00"},null,"prüfen",{"$f":"IFERROR(OFFSET(MD!$U$5,MATCH(Grundlagen_Abrechnung_KAE!$E821,MD_GENDER,0),0),\"\")","v":""},{"v":0,"d":"0.00"},null,{"v":0,"d":"0.00"},{"$f":"IF(F821=\"Arbeitgeberähnliche Stellung\",OFFSET(MD!$Q$5,MATCH(Grundlagen_Abrechnung_KAE!$AK$7,MD_JAHR,0),0)*$H821,IF(J821>0,AC821,I821))","v":{"v":0,"d":"0.00"}},null,{"$f":"OFFSET(MD!$P$5,MATCH($AK$7,MD_JAHR,0),0)*12","v":{"$error":"#VALUE!"}},{"v":0,"d":"0.00"}]
[{"$nulls":14},{"$f":"IF($B822=\"\",\"\",IF(F822=\"Arbeitgeberähnliche Stellung\",OFFSET(MD!$Q$5,MATCH(Grundlagen_Abrechnung_KAE!$AK$7,MD_JAHR,0),0)*$H822,IF(((AD822/12*M822*12)+N822)>AF822,AF822/12,((AD822/12*M822*12)+N822)/12)))","v":""},null,null,{"v":0,"d":"0.00"},null,{"v":0,"d":"0.00%"},{"v":0,"d":"0.00"},{"v":0,"d":"0.00"},{"v":0,"d":"0.00"},null,"prüfen",{"$f":"IFERROR(OFFSET(MD!$U$5,MATCH(Grundlagen_Abrechnung_KAE!$E822,MD_GENDER,0),0),\"\")","v":""},{"v":0,"d":"0.00"},null,{"v":0,"d":"0.00"},{"$f":"IF(F822=\"Arbeitgeberähnliche Stellung\",OFFSET(MD!$Q$5,MATCH(Grundlagen_Abrechnung_KAE!$AK$7,MD_JAHR,0),0)*$H822,IF(J822>0,AC822,I822))","v":{"v":0,"d":"0.00"}},null,{"$f":"OFFSET(MD!$P$5,MATCH($AK$7,MD_JAHR,0),0)*12","v":{"$error":"#VALUE!"}},{"v":0,"d":"0.00"}]
[{"$nulls":14},{"$f":"IF($B823=\"\",\"\",IF(F823=\"Arbeitgeberähnliche Stellung\",OFFSET(MD!$Q$5,MATCH(Grundlagen_Abrechnung_KAE!$AK$7,MD_JAHR,0),0)*$H823,IF(((AD823/12*M823*12)+N823)>AF823,AF823/12,((AD823/12*M823*12)+N823)/12)))","v":""},null,null,{"v":0,"d":"0.00"},null,{"v":0,"d":"0.00%"},{"v":0,"d":"0.00"},{"v":0,"d":"0.00"},{"v":0,"d":"0.00"},null,"prüfen",{"$f":"IFERROR(OFFSET(MD!$U$5,MATCH(Grundlagen_Abrechnung_KAE!$E823,MD_GENDER,0),0),\"\")","v":""},{"v":0,"d":"0.00"},null,{"v":0,"d":"0.00"},{"$f":"IF(F823=\"Arbeitgeberähnliche Stellung\",OFFSET(MD!$Q$5,MATCH(Grundlagen_Abrechnung_KAE!$AK$7,MD_JAHR,0),0)*$H823,IF(J823>0,AC823,I823))","v":{"v":0,"d":"0.00"}},null,{"$f":"OFFSET(MD!$P$5,MATCH($AK$7,MD_JAHR,0),0)*12","v":{"$error":"#VALUE!"}},{"v":0,"d":"0.00"}]
[{"$nulls":14},{"$f":"IF($B824=\"\",\"\",IF(F824=\"Arbeitgeberähnliche Stellung\",OFFSET(MD!$Q$5,MATCH(Grundlagen_Abrechnung_KAE!$AK$7,MD_JAHR,0),0)*$H824,IF(((AD824/12*M824*12)+N824)>AF824,AF824/12,((AD824/12*M824*12)+N824)/12)))","v":""},null,null,{"v":0,"d":"0.00"},null,{"v":0,"d":"0.00%"},{"v":0,"d":"0.00"},{"v":0,"d":"0.00"},{"v":0,"d":"0.00"},null,"prüfen",{"$f":"IFERROR(OFFSET(MD!$U$5,MATCH(Grundlagen_Abrechnung_KAE!$E824,MD_GENDER,0),0),\"\")","v":""},{"v":0,"d":"0.00"},null,{"v":0,"d":"0.00"},{"$f":"IF(F824=\"Arbeitgeberähnliche Stellung\",OFFSET(MD!$Q$5,MATCH(Grundlagen_Abrechnung_KAE!$AK$7,MD_JAHR,0),0)*$H824,IF(J824>0,AC824,I824))","v":{"v":0,"d":"0.00"}},null,{"$f":"OFFSET(MD!$P$5,MATCH($AK$7,MD_JAHR,0),0)*12","v":{"$error":"#VALUE!"}},{"v":0,"d":"0.00"}]
[{"$nulls":14},{"$f":"IF($B825=\"\",\"\",IF(F825=\"Arbeitgeberähnliche Stellung\",OFFSET(MD!$Q$5,MATCH(Grundlagen_Abrechnung_KAE!$AK$7,MD_JAHR,0),0)*$H825,IF(((AD825/12*M825*12)+N825)>AF825,AF825/12,((AD825/12*M825*12)+N825)/12)))","v":""},null,null,{"v":0,"d":"0.00"},null,{"v":0,"d":"0.00%"},{"v":0,"d":"0.00"},{"v":0,"d":"0.00"},{"v":0,"d":"0.00"},null,"prüfen",{"$f":"IFERROR(OFFSET(MD!$U$5,MATCH(Grundlagen_Abrechnung_KAE!$E825,MD_GENDER,0),0),\"\")","v":""},{"v":0,"d":"0.00"},null,{"v":0,"d":"0.00"},{"$f":"IF(F825=\"Arbeitgeberähnliche Stellung\",OFFSET(MD!$Q$5,MATCH(Grundlagen_Abrechnung_KAE!$AK$7,MD_JAHR,0),0)*$H825,IF(J825>0,AC825,I825))","v":{"v":0,"d":"0.00"}},null,{"$f":"OFFSET(MD!$P$5,MATCH($AK$7,MD_JAHR,0),0)*12","v":{"$error":"#VALUE!"}},{"v":0,"d":"0.00"}]
[{"$nulls":14},{"$f":"IF($B826=\"\",\"\",IF(F826=\"Arbeitgeberähnliche Stellung\",OFFSET(MD!$Q$5,MATCH(Grundlagen_Abrechnung_KAE!$AK$7,MD_JAHR,0),0)*$H826,IF(((AD826/12*M826*12)+N826)>AF826,AF826/12,((AD826/12*M826*12)+N826)/12)))","v":""},null,null,{"v":0,"d":"0.00"},null,{"v":0,"d":"0.00%"},{"v":0,"d":"0.00"},{"v":0,"d":"0.00"},{"v":0,"d":"0.00"},null,"prüfen",{"$f":"IFERROR(OFFSET(MD!$U$5,MATCH(Grundlagen_Abrechnung_KAE!$E826,MD_GENDER,0),0),\"\")","v":""},{"v":0,"d":"0.00"},null,{"v":0,"d":"0.00"},{"$f":"IF(F826=\"Arbeitgeberähnliche Stellung\",OFFSET(MD!$Q$5,MATCH(Grundlagen_Abrechnung_KAE!$AK$7,MD_JAHR,0),0)*$H826,IF(J826>0,AC826,I826))","v":{"v":0,"d":"0.00"}},null,{"$f":"OFFSET(MD!$P$5,MATCH($AK$7,MD_JAHR,0),0)*12","v":{"$error":"#VALUE!"}},{"v":0,"d":"0.00"}]
[{"$nulls":14},{"$f":"IF($B827=\"\",\"\",IF(F827=\"Arbeitgeberähnliche Stellung\",OFFSET(MD!$Q$5,MATCH(Grundlagen_Abrechnung_KAE!$AK$7,MD_JAHR,0),0)*$H827,IF(((AD827/12*M827*12)+N827)>AF827,AF827/12,((AD827/12*M827*12)+N827)/12)))","v":""},null,null,{"v":0,"d":"0.00"},null,{"v":0,"d":"0.00%"},{"v":0,"d":"0.00"},{"v":0,"d":"0.00"},{"v":0,"d":"0.00"},null,"prüfen",{"$f":"IFERROR(OFFSET(MD!$U$5,MATCH(Grundlagen_Abrechnung_KAE!$E827,MD_GENDER,0),0),\"\")","v":""},{"v":0,"d":"0.00"},null,{"v":0,"d":"0.00"},{"$f":"IF(F827=\"Arbeitgeberähnliche Stellung\",OFFSET(MD!$Q$5,MATCH(Grundlagen_Abrechnung_KAE!$AK$7,MD_JAHR,0),0)*$H827,IF(J827>0,AC827,I827))","v":{"v":0,"d":"0.00"}},null,{"$f":"OFFSET(MD!$P$5,MATCH($AK$7,MD_JAHR,0),0)*12","v":{"$error":"#VALUE!"}},{"v":0,"d":"0.00"}]
[{"$nulls":14},{"$f":"IF($B828=\"\",\"\",IF(F828=\"Arbeitgeberähnliche Stellung\",OFFSET(MD!$Q$5,MATCH(Grundlagen_Abrechnung_KAE!$AK$7,MD_JAHR,0),0)*$H828,IF(((AD828/12*M828*12)+N828)>AF828,AF828/12,((AD828/12*M828*12)+N828)/12)))","v":""},null,null,{"v":0,"d":"0.00"},null,{"v":0,"d":"0.00%"},{"v":0,"d":"0.00"},{"v":0,"d":"0.00"},{"v":0,"d":"0.00"},null,"prüfen",{"$f":"IFERROR(OFFSET(MD!$U$5,MATCH(Grundlagen_Abrechnung_KAE!$E828,MD_GENDER,0),0),\"\")","v":""},{"v":0,"d":"0.00"},null,{"v":0,"d":"0.00"},{"$f":"IF(F828=\"Arbeitgeberähnliche Stellung\",OFFSET(MD!$Q$5,MATCH(Grundlagen_Abrechnung_KAE!$AK$7,MD_JAHR,0),0)*$H828,IF(J828>0,AC828,I828))","v":{"v":0,"d":"0.00"}},null,{"$f":"OFFSET(MD!$P$5,MATCH($AK$7,MD_JAHR,0),0)*12","v":{"$error":"#VALUE!"}},{"v":0,"d":"0.00"}]
[{"$nulls":14},{"$f":"IF($B829=\"\",\"\",IF(F829=\"Arbeitgeberähnliche Stellung\",OFFSET(MD!$Q$5,MATCH(Grundlagen_Abrechnung_KAE!$AK$7,MD_JAHR,0),0)*$H829,IF(((AD829/12*M829*12)+N829)>AF829,AF829/12,((AD829/12*M829*12)+N829)/12)))","v":""},null,null,{"v":0,"d":"0.00"},null,{"v":0,"d":"0.00%"},{"v":0,"d":"0.00"},{"v":0,"d":"0.00"},{"v":0,"d":"0.00"},null,"prüfen",{"$f":"IFERROR(OFFSET(MD!$U$5,MATCH(Grundlagen_Abrechnung_KAE!$E829,MD_GENDER,0),0),\"\")","v":""},{"v":0,"d":"0.00"},null,{"v":0,"d":"0.00"},{"$f":"IF(F829=\"Arbeitgeberähnliche Stellung\",OFFSET(MD!$Q$5,MATCH(Grundlagen_Abrechnung_KAE!$AK$7,MD_JAHR,0),0)*$H829,IF(J829>0,AC829,I829))","v":{"v":0,"d":"0.00"}},null,{"$f":"OFFSET(MD!$P$5,MATCH($AK$7,MD_JAHR,0),0)*12","v":{"$error":"#VALUE!"}},{"v":0,"d":"0.00"}]
[{"$nulls":14},{"$f":"IF($B830=\"\",\"\",IF(F830=\"Arbeitgeberähnliche Stellung\",OFFSET(MD!$Q$5,MATCH(Grundlagen_Abrechnung_KAE!$AK$7,MD_JAHR,0),0)*$H830,IF(((AD830/12*M830*12)+N830)>AF830,AF830/12,((AD830/12*M830*12)+N830)/12)))","v":""},null,null,{"v":0,"d":"0.00"},null,{"v":0,"d":"0.00%"},{"v":0,"d":"0.00"},{"v":0,"d":"0.00"},{"v":0,"d":"0.00"},null,"prüfen",{"$f":"IFERROR(OFFSET(MD!$U$5,MATCH(Grundlagen_Abrechnung_KAE!$E830,MD_GENDER,0),0),\"\")","v":""},{"v":0,"d":"0.00"},null,{"v":0,"d":"0.00"},{"$f":"IF(F830=\"Arbeitgeberähnliche Stellung\",OFFSET(MD!$Q$5,MATCH(Grundlagen_Abrechnung_KAE!$AK$7,MD_JAHR,0),0)*$H830,IF(J830>0,AC830,I830))","v":{"v":0,"d":"0.00"}},null,{"$f":"OFFSET(MD!$P$5,MATCH($AK$7,MD_JAHR,0),0)*12","v":{"$error":"#VALUE!"}},{"v":0,"d":"0.00"}]
[{"$nulls":14},{"$f":"IF($B831=\"\",\"\",IF(F831=\"Arbeitgeberähnliche Stellung\",OFFSET(MD!$Q$5,MATCH(Grundlagen_Abrechnung_KAE!$AK$7,MD_JAHR,0),0)*$H831,IF(((AD831/12*M831*12)+N831)>AF831,AF831/12,((AD831/12*M831*12)+N831)/12)))","v":""},null,null,{"v":0,"d":"0.00"},null,{"v":0,"d":"0.00%"},{"v":0,"d":"0.00"},{"v":0,"d":"0.00"},{"v":0,"d":"0.00"},null,"prüfen",{"$f":"IFERROR(OFFSET(MD!$U$5,MATCH(Grundlagen_Abrechnung_KAE!$E831,MD_GENDER,0),0),\"\")","v":""},{"v":0,"d":"0.00"},null,{"v":0,"d":"0.00"},{"$f":"IF(F831=\"Arbeitgeberähnliche Stellung\",OFFSET(MD!$Q$5,MATCH(Grundlagen_Abrechnung_KAE!$AK$7,MD_JAHR,0),0)*$H831,IF(J831>0,AC831,I831))","v":{"v":0,"d":"0.00"}},null,{"$f":"OFFSET(MD!$P$5,MATCH($AK$7,MD_JAHR,0),0)*12","v":{"$error":"#VALUE!"}},{"v":0,"d":"0.00"}]
[{"$nulls":14},{"$f":"IF($B832=\"\",\"\",IF(F832=\"Arbeitgeberähnliche Stellung\",OFFSET(MD!$Q$5,MATCH(Grundlagen_Abrechnung_KAE!$AK$7,MD_JAHR,0),0)*$H832,IF(((AD832/12*M832*12)+N832)>AF832,AF832/12,((AD832/12*M832*12)+N832)/12)))","v":""},null,null,{"v":0,"d":"0.00"},null,{"v":0,"d":"0.00%"},{"v":0,"d":"0.00"},{"v":0,"d":"0.00"},{"v":0,"d":"0.00"},null,"prüfen",{"$f":"IFERROR(OFFSET(MD!$U$5,MATCH(Grundlagen_Abrechnung_KAE!$E832,MD_GENDER,0),0),\"\")","v":""},{"v":0,"d":"0.00"},null,{"v":0,"d":"0.00"},{"$f":"IF(F832=\"Arbeitgeberähnliche Stellung\",OFFSET(MD!$Q$5,MATCH(Grundlagen_Abrechnung_KAE!$AK$7,MD_JAHR,0),0)*$H832,IF(J832>0,AC832,I832))","v":{"v":0,"d":"0.00"}},null,{"$f":"OFFSET(MD!$P$5,MATCH($AK$7,MD_JAHR,0),0)*12","v":{"$error":"#VALUE!"}},{"v":0,"d":"0.00"}]
[{"$nulls":14},{"$f":"IF($B833=\"\",\"\",IF(F833=\"Arbeitgeberähnliche Stellung\",OFFSET(MD!$Q$5,MATCH(Grundlagen_Abrechnung_KAE!$AK$7,MD_JAHR,0),0)*$H833,IF(((AD833/12*M833*12)+N833)>AF833,AF833/12,((AD833/12*M833*12)+N833)/12)))","v":""},null,null,{"v":0,"d":"0.00"},null,{"v":0,"d":"0.00%"},{"v":0,"d":"0.00"},{"v":0,"d":"0.00"},{"v":0,"d":"0.00"},null,"prüfen",{"$f":"IFERROR(OFFSET(MD!$U$5,MATCH(Grundlagen_Abrechnung_KAE!$E833,MD_GENDER,0),0),\"\")","v":""},{"v":0,"d":"0.00"},null,{"v":0,"d":"0.00"},{"$f":"IF(F833=\"Arbeitgeberähnliche Stellung\",OFFSET(MD!$Q$5,MATCH(Grundlagen_Abrechnung_KAE!$AK$7,MD_JAHR,0),0)*$H833,IF(J833>0,AC833,I833))","v":{"v":0,"d":"0.00"}},null,{"$f":"OFFSET(MD!$P$5,MATCH($AK$7,MD_JAHR,0),0)*12","v":{"$error":"#VALUE!"}},{"v":0,"d":"0.00"}]
[{"$nulls":14},{"$f":"IF($B834=\"\",\"\",IF(F834=\"Arbeitgeberähnliche Stellung\",OFFSET(MD!$Q$5,MATCH(Grundlagen_Abrechnung_KAE!$AK$7,MD_JAHR,0),0)*$H834,IF(((AD834/12*M834*12)+N834)>AF834,AF834/12,((AD834/12*M834*12)+N834)/12)))","v":""},null,null,{"v":0,"d":"0.00"},null,{"v":0,"d":"0.00%"},{"v":0,"d":"0.00"},{"v":0,"d":"0.00"},{"v":0,"d":"0.00"},null,"prüfen",{"$f":"IFERROR(OFFSET(MD!$U$5,MATCH(Grundlagen_Abrechnung_KAE!$E834,MD_GENDER,0),0),\"\")","v":""},{"v":0,"d":"0.00"},null,{"v":0,"d":"0.00"},{"$f":"IF(F834=\"Arbeitgeberähnliche Stellung\",OFFSET(MD!$Q$5,MATCH(Grundlagen_Abrechnung_KAE!$AK$7,MD_JAHR,0),0)*$H834,IF(J834>0,AC834,I834))","v":{"v":0,"d":"0.00"}},null,{"$f":"OFFSET(MD!$P$5,MATCH($AK$7,MD_JAHR,0),0)*12","v":{"$error":"#VALUE!"}},{"v":0,"d":"0.00"}]
[{"$nulls":14},{"$f":"IF($B835=\"\",\"\",IF(F835=\"Arbeitgeberähnliche Stellung\",OFFSET(MD!$Q$5,MATCH(Grundlagen_Abrechnung_KAE!$AK$7,MD_JAHR,0),0)*$H835,IF(((AD835/12*M835*12)+N835)>AF835,AF835/12,((AD835/12*M835*12)+N835)/12)))","v":""},null,null,{"v":0,"d":"0.00"},null,{"v":0,"d":"0.00%"},{"v":0,"d":"0.00"},{"v":0,"d":"0.00"},{"v":0,"d":"0.00"},null,"prüfen",{"$f":"IFERROR(OFFSET(MD!$U$5,MATCH(Grundlagen_Abrechnung_KAE!$E835,MD_GENDER,0),0),\"\")","v":""},{"v":0,"d":"0.00"},null,{"v":0,"d":"0.00"},{"$f":"IF(F835=\"Arbeitgeberähnliche Stellung\",OFFSET(MD!$Q$5,MATCH(Grundlagen_Abrechnung_KAE!$AK$7,MD_JAHR,0),0)*$H835,IF(J835>0,AC835,I835))","v":{"v":0,"d":"0.00"}},null,{"$f":"OFFSET(MD!$P$5,MATCH($AK$7,MD_JAHR,0),0)*12","v":{"$error":"#VALUE!"}},{"v":0,"d":"0.00"}]
[{"$nulls":14},{"$f":"IF($B836=\"\",\"\",IF(F836=\"Arbeitgeberähnliche Stellung\",OFFSET(MD!$Q$5,MATCH(Grundlagen_Abrechnung_KAE!$AK$7,MD_JAHR,0),0)*$H836,IF(((AD836/12*M836*12)+N836)>AF836,AF836/12,((AD836/12*M836*12)+N836)/12)))","v":""},null,null,{"v":0,"d":"0.00"},null,{"v":0,"d":"0.00%"},{"v":0,"d":"0.00"},{"v":0,"d":"0.00"},{"v":0,"d":"0.00"},null,"prüfen",{"$f":"IFERROR(OFFSET(MD!$U$5,MATCH(Grundlagen_Abrechnung_KAE!$E836,MD_GENDER,0),0),\"\")","v":""},{"v":0,"d":"0.00"},null,{"v":0,"d":"0.00"},{"$f":"IF(F836=\"Arbeitgeberähnliche Stellung\",OFFSET(MD!$Q$5,MATCH(Grundlagen_Abrechnung_KAE!$AK$7,MD_JAHR,0),0)*$H836,IF(J836>0,AC836,I836))","v":{"v":0,"d":"0.00"}},null,{"$f":"OFFSET(MD!$P$5,MATCH($AK$7,MD_JAHR,0),0)*12","v":{"$error":"#VALUE!"}},{"v":0,"d":"0.00"}]
[{"$nulls":14},{"$f":"IF($B837=\"\",\"\",IF(F837=\"Arbeitgeberähnliche Stellung\",OFFSET(MD!$Q$5,MATCH(Grundlagen_Abrechnung_KAE!$AK$7,MD_JAHR,0),0)*$H837,IF(((AD837/12*M837*12)+N837)>AF837,AF837/12,((AD837/12*M837*12)+N837)/12)))","v":""},null,null,{"v":0,"d":"0.00"},null,{"v":0,"d":"0.00%"},{"v":0,"d":"0.00"},{"v":0,"d":"0.00"},{"v":0,"d":"0.00"},null,"prüfen",{"$f":"IFERROR(OFFSET(MD!$U$5,MATCH(Grundlagen_Abrechnung_KAE!$E837,MD_GENDER,0),0),\"\")","v":""},{"v":0,"d":"0.00"},null,{"v":0,"d":"0.00"},{"$f":"IF(F837=\"Arbeitgeberähnliche Stellung\",OFFSET(MD!$Q$5,MATCH(Grundlagen_Abrechnung_KAE!$AK$7,MD_JAHR,0),0)*$H837,IF(J837>0,AC837,I837))","v":{"v":0,"d":"0.00"}},null,{"$f":"OFFSET(MD!$P$5,MATCH($AK$7,MD_JAHR,0),0)*12","v":{"$error":"#VALUE!"}},{"v":0,"d":"0.00"}]
[{"$nulls":14},{"$f":"IF($B838=\"\",\"\",IF(F838=\"Arbeitgeberähnliche Stellung\",OFFSET(MD!$Q$5,MATCH(Grundlagen_Abrechnung_KAE!$AK$7,MD_JAHR,0),0)*$H838,IF(((AD838/12*M838*12)+N838)>AF838,AF838/12,((AD838/12*M838*12)+N838)/12)))","v":""},null,null,{"v":0,"d":"0.00"},null,{"v":0,"d":"0.00%"},{"v":0,"d":"0.00"},{"v":0,"d":"0.00"},{"v":0,"d":"0.00"},null,"prüfen",{"$f":"IFERROR(OFFSET(MD!$U$5,MATCH(Grundlagen_Abrechnung_KAE!$E838,MD_GENDER,0),0),\"\")","v":""},{"v":0,"d":"0.00"},null,{"v":0,"d":"0.00"},{"$f":"IF(F838=\"Arbeitgeberähnliche Stellung\",OFFSET(MD!$Q$5,MATCH(Grundlagen_Abrechnung_KAE!$AK$7,MD_JAHR,0),0)*$H838,IF(J838>0,AC838,I838))","v":{"v":0,"d":"0.00"}},null,{"$f":"OFFSET(MD!$P$5,MATCH($AK$7,MD_JAHR,0),0)*12","v":{"$error":"#VALUE!"}},{"v":0,"d":"0.00"}]
[{"$nulls":14},{"$f":"IF($B839=\"\",\"\",IF(F839=\"Arbeitgeberähnliche Stellung\",OFFSET(MD!$Q$5,MATCH(Grundlagen_Abrechnung_KAE!$AK$7,MD_JAHR,0),0)*$H839,IF(((AD839/12*M839*12)+N839)>AF839,AF839/12,((AD839/12*M839*12)+N839)/12)))","v":""},null,null,{"v":0,"d":"0.00"},null,{"v":0,"d":"0.00%"},{"v":0,"d":"0.00"},{"v":0,"d":"0.00"},{"v":0,"d":"0.00"},null,"prüfen",{"$f":"IFERROR(OFFSET(MD!$U$5,MATCH(Grundlagen_Abrechnung_KAE!$E839,MD_GENDER,0),0),\"\")","v":""},{"v":0,"d":"0.00"},null,{"v":0,"d":"0.00"},{"$f":"IF(F839=\"Arbeitgeberähnliche Stellung\",OFFSET(MD!$Q$5,MATCH(Grundlagen_Abrechnung_KAE!$AK$7,MD_JAHR,0),0)*$H839,IF(J839>0,AC839,I839))","v":{"v":0,"d":"0.00"}},null,{"$f":"OFFSET(MD!$P$5,MATCH($AK$7,MD_JAHR,0),0)*12","v":{"$error":"#VALUE!"}},{"v":0,"d":"0.00"}]
[{"$nulls":14},{"$f":"IF($B840=\"\",\"\",IF(F840=\"Arbeitgeberähnliche Stellung\",OFFSET(MD!$Q$5,MATCH(Grundlagen_Abrechnung_KAE!$AK$7,MD_JAHR,0),0)*$H840,IF(((AD840/12*M840*12)+N840)>AF840,AF840/12,((AD840/12*M840*12)+N840)/12)))","v":""},null,null,{"v":0,"d":"0.00"},null,{"v":0,"d":"0.00%"},{"v":0,"d":"0.00"},{"v":0,"d":"0.00"},{"v":0,"d":"0.00"},null,"prüfen",{"$f":"IFERROR(OFFSET(MD!$U$5,MATCH(Grundlagen_Abrechnung_KAE!$E840,MD_GENDER,0),0),\"\")","v":""},{"v":0,"d":"0.00"},null,{"v":0,"d":"0.00"},{"$f":"IF(F840=\"Arbeitgeberähnliche Stellung\",OFFSET(MD!$Q$5,MATCH(Grundlagen_Abrechnung_KAE!$AK$7,MD_JAHR,0),0)*$H840,IF(J840>0,AC840,I840))","v":{"v":0,"d":"0.00"}},null,{"$f":"OFFSET(MD!$P$5,MATCH($AK$7,MD_JAHR,0),0)*12","v":{"$error":"#VALUE!"}},{"v":0,"d":"0.00"}]
[{"$nulls":14},{"$f":"IF($B841=\"\",\"\",IF(F841=\"Arbeitgeberähnliche Stellung\",OFFSET(MD!$Q$5,MATCH(Grundlagen_Abrechnung_KAE!$AK$7,MD_JAHR,0),0)*$H841,IF(((AD841/12*M841*12)+N841)>AF841,AF841/12,((AD841/12*M841*12)+N841)/12)))","v":""},null,null,{"v":0,"d":"0.00"},null,{"v":0,"d":"0.00%"},{"v":0,"d":"0.00"},{"v":0,"d":"0.00"},{"v":0,"d":"0.00"},null,"prüfen",{"$f":"IFERROR(OFFSET(MD!$U$5,MATCH(Grundlagen_Abrechnung_KAE!$E841,MD_GENDER,0),0),\"\")","v":""},{"v":0,"d":"0.00"},null,{"v":0,"d":"0.00"},{"$f":"IF(F841=\"Arbeitgeberähnliche Stellung\",OFFSET(MD!$Q$5,MATCH(Grundlagen_Abrechnung_KAE!$AK$7,MD_JAHR,0),0)*$H841,IF(J841>0,AC841,I841))","v":{"v":0,"d":"0.00"}},null,{"$f":"OFFSET(MD!$P$5,MATCH($AK$7,MD_JAHR,0),0)*12","v":{"$error":"#VALUE!"}},{"v":0,"d":"0.00"}]
[{"$nulls":14},{"$f":"IF($B842=\"\",\"\",IF(F842=\"Arbeitgeberähnliche Stellung\",OFFSET(MD!$Q$5,MATCH(Grundlagen_Abrechnung_KAE!$AK$7,MD_JAHR,0),0)*$H842,IF(((AD842/12*M842*12)+N842)>AF842,AF842/12,((AD842/12*M842*12)+N842)/12)))","v":""},null,null,{"v":0,"d":"0.00"},null,{"v":0,"d":"0.00%"},{"v":0,"d":"0.00"},{"v":0,"d":"0.00"},{"v":0,"d":"0.00"},null,"prüfen",{"$f":"IFERROR(OFFSET(MD!$U$5,MATCH(Grundlagen_Abrechnung_KAE!$E842,MD_GENDER,0),0),\"\")","v":""},{"v":0,"d":"0.00"},null,{"v":0,"d":"0.00"},{"$f":"IF(F842=\"Arbeitgeberähnliche Stellung\",OFFSET(MD!$Q$5,MATCH(Grundlagen_Abrechnung_KAE!$AK$7,MD_JAHR,0),0)*$H842,IF(J842>0,AC842,I842))","v":{"v":0,"d":"0.00"}},null,{"$f":"OFFSET(MD!$P$5,MATCH($AK$7,MD_JAHR,0),0)*12","v":{"$error":"#VALUE!"}},{"v":0,"d":"0.00"}]
[{"$nulls":14},{"$f":"IF($B843=\"\",\"\",IF(F843=\"Arbeitgeberähnliche Stellung\",OFFSET(MD!$Q$5,MATCH(Grundlagen_Abrechnung_KAE!$AK$7,MD_JAHR,0),0)*$H843,IF(((AD843/12*M843*12)+N843)>AF843,AF843/12,((AD843/12*M843*12)+N843)/12)))","v":""},null,null,{"v":0,"d":"0.00"},null,{"v":0,"d":"0.00%"},{"v":0,"d":"0.00"},{"v":0,"d":"0.00"},{"v":0,"d":"0.00"},null,"prüfen",{"$f":"IFERROR(OFFSET(MD!$U$5,MATCH(Grundlagen_Abrechnung_KAE!$E843,MD_GENDER,0),0),\"\")","v":""},{"v":0,"d":"0.00"},null,{"v":0,"d":"0.00"},{"$f":"IF(F843=\"Arbeitgeberähnliche Stellung\",OFFSET(MD!$Q$5,MATCH(Grundlagen_Abrechnung_KAE!$AK$7,MD_JAHR,0),0)*$H843,IF(J843>0,AC843,I843))","v":{"v":0,"d":"0.00"}},null,{"$f":"OFFSET(MD!$P$5,MATCH($AK$7,MD_JAHR,0),0)*12","v":{"$error":"#VALUE!"}},{"v":0,"d":"0.00"}]
[{"$nulls":14},{"$f":"IF($B844=\"\",\"\",IF(F844=\"Arbeitgeberähnliche Stellung\",OFFSET(MD!$Q$5,MATCH(Grundlagen_Abrechnung_KAE!$AK$7,MD_JAHR,0),0)*$H844,IF(((AD844/12*M844*12)+N844)>AF844,AF844/12,((AD844/12*M844*12)+N844)/12)))","v":""},null,null,{"v":0,"d":"0.00"},null,{"v":0,"d":"0.00%"},{"v":0,"d":"0.00"},{"v":0,"d":"0.00"},{"v":0,"d":"0.00"},null,"prüfen",{"$f":"IFERROR(OFFSET(MD!$U$5,MATCH(Grundlagen_Abrechnung_KAE!$E844,MD_GENDER,0),0),\"\")","v":""},{"v":0,"d":"0.00"},null,{"v":0,"d":"0.00"},{"$f":"IF(F844=\"Arbeitgeberähnliche Stellung\",OFFSET(MD!$Q$5,MATCH(Grundlagen_Abrechnung_KAE!$AK$7,MD_JAHR,0),0)*$H844,IF(J844>0,AC844,I844))","v":{"v":0,"d":"0.00"}},null,{"$f":"OFFSET(MD!$P$5,MATCH($AK$7,MD_JAHR,0),0)*12","v":{"$error":"#VALUE!"}},{"v":0,"d":"0.00"}]
[{"$nulls":14},{"$f":"IF($B845=\"\",\"\",IF(F845=\"Arbeitgeberähnliche Stellung\",OFFSET(MD!$Q$5,MATCH(Grundlagen_Abrechnung_KAE!$AK$7,MD_JAHR,0),0)*$H845,IF(((AD845/12*M845*12)+N845)>AF845,AF845/12,((AD845/12*M845*12)+N845)/12)))","v":""},null,null,{"v":0,"d":"0.00"},null,{"v":0,"d":"0.00%"},{"v":0,"d":"0.00"},{"v":0,"d":"0.00"},{"v":0,"d":"0.00"},null,"prüfen",{"$f":"IFERROR(OFFSET(MD!$U$5,MATCH(Grundlagen_Abrechnung_KAE!$E845,MD_GENDER,0),0),\"\")","v":""},{"v":0,"d":"0.00"},null,{"v":0,"d":"0.00"},{"$f":"IF(F845=\"Arbeitgeberähnliche Stellung\",OFFSET(MD!$Q$5,MATCH(Grundlagen_Abrechnung_KAE!$AK$7,MD_JAHR,0),0)*$H845,IF(J845>0,AC845,I845))","v":{"v":0,"d":"0.00"}},null,{"$f":"OFFSET(MD!$P$5,MATCH($AK$7,MD_JAHR,0),0)*12","v":{"$error":"#VALUE!"}},{"v":0,"d":"0.00"}]
[{"$nulls":14},{"$f":"IF($B846=\"\",\"\",IF(F846=\"Arbeitgeberähnliche Stellung\",OFFSET(MD!$Q$5,MATCH(Grundlagen_Abrechnung_KAE!$AK$7,MD_JAHR,0),0)*$H846,IF(((AD846/12*M846*12)+N846)>AF846,AF846/12,((AD846/12*M846*12)+N846)/12)))","v":""},null,null,{"v":0,"d":"0.00"},null,{"v":0,"d":"0.00%"},{"v":0,"d":"0.00"},{"v":0,"d":"0.00"},{"v":0,"d":"0.00"},null,"prüfen",{"$f":"IFERROR(OFFSET(MD!$U$5,MATCH(Grundlagen_Abrechnung_KAE!$E846,MD_GENDER,0),0),\"\")","v":""},{"v":0,"d":"0.00"},null,{"v":0,"d":"0.00"},{"$f":"IF(F846=\"Arbeitgeberähnliche Stellung\",OFFSET(MD!$Q$5,MATCH(Grundlagen_Abrechnung_KAE!$AK$7,MD_JAHR,0),0)*$H846,IF(J846>0,AC846,I846))","v":{"v":0,"d":"0.00"}},null,{"$f":"OFFSET(MD!$P$5,MATCH($AK$7,MD_JAHR,0),0)*12","v":{"$error":"#VALUE!"}},{"v":0,"d":"0.00"}]
[{"$nulls":14},{"$f":"IF($B847=\"\",\"\",IF(F847=\"Arbeitgeberähnliche Stellung\",OFFSET(MD!$Q$5,MATCH(Grundlagen_Abrechnung_KAE!$AK$7,MD_JAHR,0),0)*$H847,IF(((AD847/12*M847*12)+N847)>AF847,AF847/12,((AD847/12*M847*12)+N847)/12)))","v":""},null,null,{"v":0,"d":"0.00"},null,{"v":0,"d":"0.00%"},{"v":0,"d":"0.00"},{"v":0,"d":"0.00"},{"v":0,"d":"0.00"},null,"prüfen",{"$f":"IFERROR(OFFSET(MD!$U$5,MATCH(Grundlagen_Abrechnung_KAE!$E847,MD_GENDER,0),0),\"\")","v":""},{"v":0,"d":"0.00"},null,{"v":0,"d":"0.00"},{"$f":"IF(F847=\"Arbeitgeberähnliche Stellung\",OFFSET(MD!$Q$5,MATCH(Grundlagen_Abrechnung_KAE!$AK$7,MD_JAHR,0),0)*$H847,IF(J847>0,AC847,I847))","v":{"v":0,"d":"0.00"}},null,{"$f":"OFFSET(MD!$P$5,MATCH($AK$7,MD_JAHR,0),0)*12","v":{"$error":"#VALUE!"}},{"v":0,"d":"0.00"}]
[{"$nulls":14},{"$f":"IF($B848=\"\",\"\",IF(F848=\"Arbeitgeberähnliche Stellung\",OFFSET(MD!$Q$5,MATCH(Grundlagen_Abrechnung_KAE!$AK$7,MD_JAHR,0),0)*$H848,IF(((AD848/12*M848*12)+N848)>AF848,AF848/12,((AD848/12*M848*12)+N848)/12)))","v":""},null,null,{"v":0,"d":"0.00"},null,{"v":0,"d":"0.00%"},{"v":0,"d":"0.00"},{"v":0,"d":"0.00"},{"v":0,"d":"0.00"},null,"prüfen",{"$f":"IFERROR(OFFSET(MD!$U$5,MATCH(Grundlagen_Abrechnung_KAE!$E848,MD_GENDER,0),0),\"\")","v":""},{"v":0,"d":"0.00"},null,{"v":0,"d":"0.00"},{"$f":"IF(F848=\"Arbeitgeberähnliche Stellung\",OFFSET(MD!$Q$5,MATCH(Grundlagen_Abrechnung_KAE!$AK$7,MD_JAHR,0),0)*$H848,IF(J848>0,AC848,I848))","v":{"v":0,"d":"0.00"}},null,{"$f":"OFFSET(MD!$P$5,MATCH($AK$7,MD_JAHR,0),0)*12","v":{"$error":"#VALUE!"}},{"v":0,"d":"0.00"}]
[{"$nulls":14},{"$f":"IF($B849=\"\",\"\",IF(F849=\"Arbeitgeberähnliche Stellung\",OFFSET(MD!$Q$5,MATCH(Grundlagen_Abrechnung_KAE!$AK$7,MD_JAHR,0),0)*$H849,IF(((AD849/12*M849*12)+N849)>AF849,AF849/12,((AD849/12*M849*12)+N849)/12)))","v":""},null,null,{"v":0,"d":"0.00"},null,{"v":0,"d":"0.00%"},{"v":0,"d":"0.00"},{"v":0,"d":"0.00"},{"v":0,"d":"0.00"},null,"prüfen",{"$f":"IFERROR(OFFSET(MD!$U$5,MATCH(Grundlagen_Abrechnung_KAE!$E849,MD_GENDER,0),0),\"\")","v":""},{"v":0,"d":"0.00"},null,{"v":0,"d":"0.00"},{"$f":"IF(F849=\"Arbeitgeberähnliche Stellung\",OFFSET(MD!$Q$5,MATCH(Grundlagen_Abrechnung_KAE!$AK$7,MD_JAHR,0),0)*$H849,IF(J849>0,AC849,I849))","v":{"v":0,"d":"0.00"}},null,{"$f":"OFFSET(MD!$P$5,MATCH($AK$7,MD_JAHR,0),0)*12","v":{"$error":"#VALUE!"}},{"v":0,"d":"0.00"}]
[{"$nulls":14},{"$f":"IF($B850=\"\",\"\",IF(F850=\"Arbeitgeberähnliche Stellung\",OFFSET(MD!$Q$5,MATCH(Grundlagen_Abrechnung_KAE!$AK$7,MD_JAHR,0),0)*$H850,IF(((AD850/12*M850*12)+N850)>AF850,AF850/12,((AD850/12*M850*12)+N850)/12)))","v":""},null,null,{"v":0,"d":"0.00"},null,{"v":0,"d":"0.00%"},{"v":0,"d":"0.00"},{"v":0,"d":"0.00"},{"v":0,"d":"0.00"},null,"prüfen",{"$f":"IFERROR(OFFSET(MD!$U$5,MATCH(Grundlagen_Abrechnung_KAE!$E850,MD_GENDER,0),0),\"\")","v":""},{"v":0,"d":"0.00"},null,{"v":0,"d":"0.00"},{"$f":"IF(F850=\"Arbeitgeberähnliche Stellung\",OFFSET(MD!$Q$5,MATCH(Grundlagen_Abrechnung_KAE!$AK$7,MD_JAHR,0),0)*$H850,IF(J850>0,AC850,I850))","v":{"v":0,"d":"0.00"}},null,{"$f":"OFFSET(MD!$P$5,MATCH($AK$7,MD_JAHR,0),0)*12","v":{"$error":"#VALUE!"}},{"v":0,"d":"0.00"}]
[{"$nulls":14},{"$f":"IF($B851=\"\",\"\",IF(F851=\"Arbeitgeberähnliche Stellung\",OFFSET(MD!$Q$5,MATCH(Grundlagen_Abrechnung_KAE!$AK$7,MD_JAHR,0),0)*$H851,IF(((AD851/12*M851*12)+N851)>AF851,AF851/12,((AD851/12*M851*12)+N851)/12)))","v":""},null,null,{"$f":"ROUND(IF(Q851=\"\",0,IF(P851=0,0,IF(Q851>P851,0,P851-Q851))),2)","v":{"v":0,"d":"0.00"}},null,{"$f":"IFERROR(R851/P851,0)","v":{"v":0,"d":"0.00%"}},{"$f":"IFERROR(IF(O851-W851=0,O851,(O851)*(1-T851)),0)","v":{"v":0,"d":"0.00"}},{"v":0,"d":"0.00"},{"$f":"IFERROR(O851*T851,0)*0.8","v":{"v":0,"d":"0.00"}},null,{"$f":"IF(YEAR($G851)>$Y$16,\"prüfen\",\"\")","v":"prüfen"},{"$f":"IFERROR(OFFSET(MD!$U$5,MATCH(Grundlagen_Abrechnung_KAE!$E851,MD_GENDER,0),0),\"\")","v":""},{"$f":"IF(B851=\"\",0,IF(YEAR(G851)>$AA$16,0,1))","v":{"v":0,"d":"0.00"}},null,{"$f":"IF(J851*K851/6>J851*L851/12,J851*K851/6,J851*L851/12)","v":{"v":0,"d":"0.00"}},{"$f":"IF(F851=\"Arbeitgeberähnliche Stellung\",OFFSET(MD!$Q$5,MATCH(Grundlagen_Abrechnung_KAE!$AK$7,MD_JAHR,0),0)*$H851,IF(J851>0,AC851,I851))","v":{"v":0,"d":"0.00"}},null,{"$f":"OFFSET(MD!$P$5,MATCH($AK$7,MD_JAHR,0),0)*12","v":{"$error":"#VALUE!"}},{"$f":"I851*M851+N851","v":{"v":0,"d":"0.00"}}]
[{"$nulls":14},{"$f":"IF($B852=\"\",\"\",IF(F852=\"Arbeitgeberähnliche Stellung\",OFFSET(MD!$Q$5,MATCH(Grundlagen_Abrechnung_KAE!$AK$7,MD_JAHR,0),0)*$H852,IF(((AD852/12*M852*12)+N852)>AF852,AF852/12,((AD852/12*M852*12)+N852)/12)))","v":""},null,null,{"v":0,"d":"0.00"},null,{"v":0,"d":"0.00%"},{"v":0,"d":"0.00"},{"$f":"IFERROR(O852*T852,0)","v":{"v":0,"d":"0.00"}},{"v":0,"d":"0.00"},null,"prüfen",{"$f":"IFERROR(OFFSET(MD!$U$5,MATCH(Grundlagen_Abrechnung_KAE!$E852,MD_GENDER,0),0),\"\")","v":""},{"v":0,"d":"0.00"},null,{"v":0,"d":"0.00"},{"$f":"IF(F852=\"Arbeitgeberähnliche Stellung\",OFFSET(MD!$Q$5,MATCH(Grundlagen_Abrechnung_KAE!$AK$7,MD_JAHR,0),0)*$H852,IF(J852>0,AC852,I852))","v":{"v":0,"d":"0.00"}},null,{"$f":"OFFSET(MD!$P$5,MATCH($AK$7,MD_JAHR,0),0)*12","v":{"$error":"#VALUE!"}},{"v":0,"d":"0.00"}]
[{"$nulls":14},{"$f":"IF($B853=\"\",\"\",IF(F853=\"Arbeitgeberähnliche Stellung\",OFFSET(MD!$Q$5,MATCH(Grundlagen_Abrechnung_KAE!$AK$7,MD_JAHR,0),0)*$H853,IF(((AD853/12*M853*12)+N853)>AF853,AF853/12,((AD853/12*M853*12)+N853)/12)))","v":""},null,null,{"v":0,"d":"0.00"},null,{"v":0,"d":"0.00%"},{"v":0,"d":"0.00"},{"v":0,"d":"0.00"},{"v":0,"d":"0.00"},null,"prüfen",{"$f":"IFERROR(OFFSET(MD!$U$5,MATCH(Grundlagen_Abrechnung_KAE!$E853,MD_GENDER,0),0),\"\")","v":""},{"v":0,"d":"0.00"},null,{"v":0,"d":"0.00"},{"$f":"IF(F853=\"Arbeitgeberähnliche Stellung\",OFFSET(MD!$Q$5,MATCH(Grundlagen_Abrechnung_KAE!$AK$7,MD_JAHR,0),0)*$H853,IF(J853>0,AC853,I853))","v":{"v":0,"d":"0.00"}},null,{"$f":"OFFSET(MD!$P$5,MATCH($AK$7,MD_JAHR,0),0)*12","v":{"$error":"#VALUE!"}},{"v":0,"d":"0.00"}]
[{"$nulls":14},{"$f":"IF($B854=\"\",\"\",IF(F854=\"Arbeitgeberähnliche Stellung\",OFFSET(MD!$Q$5,MATCH(Grundlagen_Abrechnung_KAE!$AK$7,MD_JAHR,0),0)*$H854,IF(((AD854/12*M854*12)+N854)>AF854,AF854/12,((AD854/12*M854*12)+N854)/12)))","v":""},null,null,{"v":0,"d":"0.00"},null,{"v":0,"d":"0.00%"},{"v":0,"d":"0.00"},{"v":0,"d":"0.00"},{"v":0,"d":"0.00"},null,"prüfen",{"$f":"IFERROR(OFFSET(MD!$U$5,MATCH(Grundlagen_Abrechnung_KAE!$E854,MD_GENDER,0),0),\"\")","v":""},{"v":0,"d":"0.00"},null,{"v":0,"d":"0.00"},{"$f":"IF(F854=\"Arbeitgeberähnliche Stellung\",OFFSET(MD!$Q$5,MATCH(Grundlagen_Abrechnung_KAE!$AK$7,MD_JAHR,0),0)*$H854,IF(J854>0,AC854,I854))","v":{"v":0,"d":"0.00"}},null,{"$f":"OFFSET(MD!$P$5,MATCH($AK$7,MD_JAHR,0),0)*12","v":{"$error":"#VALUE!"}},{"v":0,"d":"0.00"}]
[{"$nulls":14},{"$f":"IF($B855=\"\",\"\",IF(F855=\"Arbeitgeberähnliche Stellung\",OFFSET(MD!$Q$5,MATCH(Grundlagen_Abrechnung_KAE!$AK$7,MD_JAHR,0),0)*$H855,IF(((AD855/12*M855*12)+N855)>AF855,AF855/12,((AD855/12*M855*12)+N855)/12)))","v":""},null,null,{"v":0,"d":"0.00"},null,{"v":0,"d":"0.00%"},{"v":0,"d":"0.00"},{"v":0,"d":"0.00"},{"v":0,"d":"0.00"},null,"prüfen",{"$f":"IFERROR(OFFSET(MD!$U$5,MATCH(Grundlagen_Abrechnung_KAE!$E855,MD_GENDER,0),0),\"\")","v":""},{"v":0,"d":"0.00"},null,{"v":0,"d":"0.00"},{"$f":"IF(F855=\"Arbeitgeberähnliche Stellung\",OFFSET(MD!$Q$5,MATCH(Grundlagen_Abrechnung_KAE!$AK$7,MD_JAHR,0),0)*$H855,IF(J855>0,AC855,I855))","v":{"v":0,"d":"0.00"}},null,{"$f":"OFFSET(MD!$P$5,MATCH($AK$7,MD_JAHR,0),0)*12","v":{"$error":"#VALUE!"}},{"v":0,"d":"0.00"}]
[{"$nulls":14},{"$f":"IF($B856=\"\",\"\",IF(F856=\"Arbeitgeberähnliche Stellung\",OFFSET(MD!$Q$5,MATCH(Grundlagen_Abrechnung_KAE!$AK$7,MD_JAHR,0),0)*$H856,IF(((AD856/12*M856*12)+N856)>AF856,AF856/12,((AD856/12*M856*12)+N856)/12)))","v":""},null,null,{"v":0,"d":"0.00"},null,{"v":0,"d":"0.00%"},{"v":0,"d":"0.00"},{"v":0,"d":"0.00"},{"v":0,"d":"0.00"},null,"prüfen",{"$f":"IFERROR(OFFSET(MD!$U$5,MATCH(Grundlagen_Abrechnung_KAE!$E856,MD_GENDER,0),0),\"\")","v":""},{"v":0,"d":"0.00"},null,{"v":0,"d":"0.00"},{"$f":"IF(F856=\"Arbeitgeberähnliche Stellung\",OFFSET(MD!$Q$5,MATCH(Grundlagen_Abrechnung_KAE!$AK$7,MD_JAHR,0),0)*$H856,IF(J856>0,AC856,I856))","v":{"v":0,"d":"0.00"}},null,{"$f":"OFFSET(MD!$P$5,MATCH($AK$7,MD_JAHR,0),0)*12","v":{"$error":"#VALUE!"}},{"v":0,"d":"0.00"}]
[{"$nulls":14},{"$f":"IF($B857=\"\",\"\",IF(F857=\"Arbeitgeberähnliche Stellung\",OFFSET(MD!$Q$5,MATCH(Grundlagen_Abrechnung_KAE!$AK$7,MD_JAHR,0),0)*$H857,IF(((AD857/12*M857*12)+N857)>AF857,AF857/12,((AD857/12*M857*12)+N857)/12)))","v":""},null,null,{"v":0,"d":"0.00"},null,{"v":0,"d":"0.00%"},{"v":0,"d":"0.00"},{"v":0,"d":"0.00"},{"v":0,"d":"0.00"},null,"prüfen",{"$f":"IFERROR(OFFSET(MD!$U$5,MATCH(Grundlagen_Abrechnung_KAE!$E857,MD_GENDER,0),0),\"\")","v":""},{"v":0,"d":"0.00"},null,{"v":0,"d":"0.00"},{"$f":"IF(F857=\"Arbeitgeberähnliche Stellung\",OFFSET(MD!$Q$5,MATCH(Grundlagen_Abrechnung_KAE!$AK$7,MD_JAHR,0),0)*$H857,IF(J857>0,AC857,I857))","v":{"v":0,"d":"0.00"}},null,{"$f":"OFFSET(MD!$P$5,MATCH($AK$7,MD_JAHR,0),0)*12","v":{"$error":"#VALUE!"}},{"v":0,"d":"0.00"}]
[{"$nulls":14},{"$f":"IF($B858=\"\",\"\",IF(F858=\"Arbeitgeberähnliche Stellung\",OFFSET(MD!$Q$5,MATCH(Grundlagen_Abrechnung_KAE!$AK$7,MD_JAHR,0),0)*$H858,IF(((AD858/12*M858*12)+N858)>AF858,AF858/12,((AD858/12*M858*12)+N858)/12)))","v":""},null,null,{"v":0,"d":"0.00"},null,{"v":0,"d":"0.00%"},{"v":0,"d":"0.00"},{"v":0,"d":"0.00"},{"v":0,"d":"0.00"},null,"prüfen",{"$f":"IFERROR(OFFSET(MD!$U$5,MATCH(Grundlagen_Abrechnung_KAE!$E858,MD_GENDER,0),0),\"\")","v":""},{"v":0,"d":"0.00"},null,{"v":0,"d":"0.00"},{"$f":"IF(F858=\"Arbeitgeberähnliche Stellung\",OFFSET(MD!$Q$5,MATCH(Grundlagen_Abrechnung_KAE!$AK$7,MD_JAHR,0),0)*$H858,IF(J858>0,AC858,I858))","v":{"v":0,"d":"0.00"}},null,{"$f":"OFFSET(MD!$P$5,MATCH($AK$7,MD_JAHR,0),0)*12","v":{"$error":"#VALUE!"}},{"v":0,"d":"0.00"}]
[{"$nulls":14},{"$f":"IF($B859=\"\",\"\",IF(F859=\"Arbeitgeberähnliche Stellung\",OFFSET(MD!$Q$5,MATCH(Grundlagen_Abrechnung_KAE!$AK$7,MD_JAHR,0),0)*$H859,IF(((AD859/12*M859*12)+N859)>AF859,AF859/12,((AD859/12*M859*12)+N859)/12)))","v":""},null,null,{"v":0,"d":"0.00"},null,{"v":0,"d":"0.00%"},{"v":0,"d":"0.00"},{"v":0,"d":"0.00"},{"v":0,"d":"0.00"},null,"prüfen",{"$f":"IFERROR(OFFSET(MD!$U$5,MATCH(Grundlagen_Abrechnung_KAE!$E859,MD_GENDER,0),0),\"\")","v":""},{"v":0,"d":"0.00"},null,{"v":0,"d":"0.00"},{"$f":"IF(F859=\"Arbeitgeberähnliche Stellung\",OFFSET(MD!$Q$5,MATCH(Grundlagen_Abrechnung_KAE!$AK$7,MD_JAHR,0),0)*$H859,IF(J859>0,AC859,I859))","v":{"v":0,"d":"0.00"}},null,{"$f":"OFFSET(MD!$P$5,MATCH($AK$7,MD_JAHR,0),0)*12","v":{"$error":"#VALUE!"}},{"v":0,"d":"0.00"}]
[{"$nulls":14},{"$f":"IF($B860=\"\",\"\",IF(F860=\"Arbeitgeberähnliche Stellung\",OFFSET(MD!$Q$5,MATCH(Grundlagen_Abrechnung_KAE!$AK$7,MD_JAHR,0),0)*$H860,IF(((AD860/12*M860*12)+N860)>AF860,AF860/12,((AD860/12*M860*12)+N860)/12)))","v":""},null,null,{"v":0,"d":"0.00"},null,{"v":0,"d":"0.00%"},{"v":0,"d":"0.00"},{"v":0,"d":"0.00"},{"v":0,"d":"0.00"},null,"prüfen",{"$f":"IFERROR(OFFSET(MD!$U$5,MATCH(Grundlagen_Abrechnung_KAE!$E860,MD_GENDER,0),0),\"\")","v":""},{"v":0,"d":"0.00"},null,{"v":0,"d":"0.00"},{"$f":"IF(F860=\"Arbeitgeberähnliche Stellung\",OFFSET(MD!$Q$5,MATCH(Grundlagen_Abrechnung_KAE!$AK$7,MD_JAHR,0),0)*$H860,IF(J860>0,AC860,I860))","v":{"v":0,"d":"0.00"}},null,{"$f":"OFFSET(MD!$P$5,MATCH($AK$7,MD_JAHR,0),0)*12","v":{"$error":"#VALUE!"}},{"v":0,"d":"0.00"}]
[{"$nulls":14},{"$f":"IF($B861=\"\",\"\",IF(F861=\"Arbeitgeberähnliche Stellung\",OFFSET(MD!$Q$5,MATCH(Grundlagen_Abrechnung_KAE!$AK$7,MD_JAHR,0),0)*$H861,IF(((AD861/12*M861*12)+N861)>AF861,AF861/12,((AD861/12*M861*12)+N861)/12)))","v":""},null,null,{"v":0,"d":"0.00"},null,{"v":0,"d":"0.00%"},{"v":0,"d":"0.00"},{"v":0,"d":"0.00"},{"v":0,"d":"0.00"},null,"prüfen",{"$f":"IFERROR(OFFSET(MD!$U$5,MATCH(Grundlagen_Abrechnung_KAE!$E861,MD_GENDER,0),0),\"\")","v":""},{"v":0,"d":"0.00"},null,{"v":0,"d":"0.00"},{"$f":"IF(F861=\"Arbeitgeberähnliche Stellung\",OFFSET(MD!$Q$5,MATCH(Grundlagen_Abrechnung_KAE!$AK$7,MD_JAHR,0),0)*$H861,IF(J861>0,AC861,I861))","v":{"v":0,"d":"0.00"}},null,{"$f":"OFFSET(MD!$P$5,MATCH($AK$7,MD_JAHR,0),0)*12","v":{"$error":"#VALUE!"}},{"v":0,"d":"0.00"}]
[{"$nulls":14},{"$f":"IF($B862=\"\",\"\",IF(F862=\"Arbeitgeberähnliche Stellung\",OFFSET(MD!$Q$5,MATCH(Grundlagen_Abrechnung_KAE!$AK$7,MD_JAHR,0),0)*$H862,IF(((AD862/12*M862*12)+N862)>AF862,AF862/12,((AD862/12*M862*12)+N862)/12)))","v":""},null,null,{"v":0,"d":"0.00"},null,{"v":0,"d":"0.00%"},{"v":0,"d":"0.00"},{"v":0,"d":"0.00"},{"v":0,"d":"0.00"},null,"prüfen",{"$f":"IFERROR(OFFSET(MD!$U$5,MATCH(Grundlagen_Abrechnung_KAE!$E862,MD_GENDER,0),0),\"\")","v":""},{"v":0,"d":"0.00"},null,{"v":0,"d":"0.00"},{"$f":"IF(F862=\"Arbeitgeberähnliche Stellung\",OFFSET(MD!$Q$5,MATCH(Grundlagen_Abrechnung_KAE!$AK$7,MD_JAHR,0),0)*$H862,IF(J862>0,AC862,I862))","v":{"v":0,"d":"0.00"}},null,{"$f":"OFFSET(MD!$P$5,MATCH($AK$7,MD_JAHR,0),0)*12","v":{"$error":"#VALUE!"}},{"v":0,"d":"0.00"}]
[{"$nulls":14},{"$f":"IF($B863=\"\",\"\",IF(F863=\"Arbeitgeberähnliche Stellung\",OFFSET(MD!$Q$5,MATCH(Grundlagen_Abrechnung_KAE!$AK$7,MD_JAHR,0),0)*$H863,IF(((AD863/12*M863*12)+N863)>AF863,AF863/12,((AD863/12*M863*12)+N863)/12)))","v":""},null,null,{"v":0,"d":"0.00"},null,{"v":0,"d":"0.00%"},{"v":0,"d":"0.00"},{"v":0,"d":"0.00"},{"v":0,"d":"0.00"},null,"prüfen",{"$f":"IFERROR(OFFSET(MD!$U$5,MATCH(Grundlagen_Abrechnung_KAE!$E863,MD_GENDER,0),0),\"\")","v":""},{"v":0,"d":"0.00"},null,{"v":0,"d":"0.00"},{"$f":"IF(F863=\"Arbeitgeberähnliche Stellung\",OFFSET(MD!$Q$5,MATCH(Grundlagen_Abrechnung_KAE!$AK$7,MD_JAHR,0),0)*$H863,IF(J863>0,AC863,I863))","v":{"v":0,"d":"0.00"}},null,{"$f":"OFFSET(MD!$P$5,MATCH($AK$7,MD_JAHR,0),0)*12","v":{"$error":"#VALUE!"}},{"v":0,"d":"0.00"}]
[{"$nulls":14},{"$f":"IF($B864=\"\",\"\",IF(F864=\"Arbeitgeberähnliche Stellung\",OFFSET(MD!$Q$5,MATCH(Grundlagen_Abrechnung_KAE!$AK$7,MD_JAHR,0),0)*$H864,IF(((AD864/12*M864*12)+N864)>AF864,AF864/12,((AD864/12*M864*12)+N864)/12)))","v":""},null,null,{"v":0,"d":"0.00"},null,{"v":0,"d":"0.00%"},{"v":0,"d":"0.00"},{"v":0,"d":"0.00"},{"v":0,"d":"0.00"},null,"prüfen",{"$f":"IFERROR(OFFSET(MD!$U$5,MATCH(Grundlagen_Abrechnung_KAE!$E864,MD_GENDER,0),0),\"\")","v":""},{"v":0,"d":"0.00"},null,{"v":0,"d":"0.00"},{"$f":"IF(F864=\"Arbeitgeberähnliche Stellung\",OFFSET(MD!$Q$5,MATCH(Grundlagen_Abrechnung_KAE!$AK$7,MD_JAHR,0),0)*$H864,IF(J864>0,AC864,I864))","v":{"v":0,"d":"0.00"}},null,{"$f":"OFFSET(MD!$P$5,MATCH($AK$7,MD_JAHR,0),0)*12","v":{"$error":"#VALUE!"}},{"v":0,"d":"0.00"}]
[{"$nulls":14},{"$f":"IF($B865=\"\",\"\",IF(F865=\"Arbeitgeberähnliche Stellung\",OFFSET(MD!$Q$5,MATCH(Grundlagen_Abrechnung_KAE!$AK$7,MD_JAHR,0),0)*$H865,IF(((AD865/12*M865*12)+N865)>AF865,AF865/12,((AD865/12*M865*12)+N865)/12)))","v":""},null,null,{"v":0,"d":"0.00"},null,{"v":0,"d":"0.00%"},{"v":0,"d":"0.00"},{"v":0,"d":"0.00"},{"v":0,"d":"0.00"},null,"prüfen",{"$f":"IFERROR(OFFSET(MD!$U$5,MATCH(Grundlagen_Abrechnung_KAE!$E865,MD_GENDER,0),0),\"\")","v":""},{"v":0,"d":"0.00"},null,{"v":0,"d":"0.00"},{"$f":"IF(F865=\"Arbeitgeberähnliche Stellung\",OFFSET(MD!$Q$5,MATCH(Grundlagen_Abrechnung_KAE!$AK$7,MD_JAHR,0),0)*$H865,IF(J865>0,AC865,I865))","v":{"v":0,"d":"0.00"}},null,{"$f":"OFFSET(MD!$P$5,MATCH($AK$7,MD_JAHR,0),0)*12","v":{"$error":"#VALUE!"}},{"v":0,"d":"0.00"}]
[{"$nulls":14},{"$f":"IF($B866=\"\",\"\",IF(F866=\"Arbeitgeberähnliche Stellung\",OFFSET(MD!$Q$5,MATCH(Grundlagen_Abrechnung_KAE!$AK$7,MD_JAHR,0),0)*$H866,IF(((AD866/12*M866*12)+N866)>AF866,AF866/12,((AD866/12*M866*12)+N866)/12)))","v":""},null,null,{"v":0,"d":"0.00"},null,{"v":0,"d":"0.00%"},{"v":0,"d":"0.00"},{"v":0,"d":"0.00"},{"v":0,"d":"0.00"},null,"prüfen",{"$f":"IFERROR(OFFSET(MD!$U$5,MATCH(Grundlagen_Abrechnung_KAE!$E866,MD_GENDER,0),0),\"\")","v":""},{"v":0,"d":"0.00"},null,{"v":0,"d":"0.00"},{"$f":"IF(F866=\"Arbeitgeberähnliche Stellung\",OFFSET(MD!$Q$5,MATCH(Grundlagen_Abrechnung_KAE!$AK$7,MD_JAHR,0),0)*$H866,IF(J866>0,AC866,I866))","v":{"v":0,"d":"0.00"}},null,{"$f":"OFFSET(MD!$P$5,MATCH($AK$7,MD_JAHR,0),0)*12","v":{"$error":"#VALUE!"}},{"v":0,"d":"0.00"}]
[{"$nulls":14},{"$f":"IF($B867=\"\",\"\",IF(F867=\"Arbeitgeberähnliche Stellung\",OFFSET(MD!$Q$5,MATCH(Grundlagen_Abrechnung_KAE!$AK$7,MD_JAHR,0),0)*$H867,IF(((AD867/12*M867*12)+N867)>AF867,AF867/12,((AD867/12*M867*12)+N867)/12)))","v":""},null,null,{"v":0,"d":"0.00"},null,{"v":0,"d":"0.00%"},{"v":0,"d":"0.00"},{"v":0,"d":"0.00"},{"v":0,"d":"0.00"},null,"prüfen",{"$f":"IFERROR(OFFSET(MD!$U$5,MATCH(Grundlagen_Abrechnung_KAE!$E867,MD_GENDER,0),0),\"\")","v":""},{"v":0,"d":"0.00"},null,{"v":0,"d":"0.00"},{"$f":"IF(F867=\"Arbeitgeberähnliche Stellung\",OFFSET(MD!$Q$5,MATCH(Grundlagen_Abrechnung_KAE!$AK$7,MD_JAHR,0),0)*$H867,IF(J867>0,AC867,I867))","v":{"v":0,"d":"0.00"}},null,{"$f":"OFFSET(MD!$P$5,MATCH($AK$7,MD_JAHR,0),0)*12","v":{"$error":"#VALUE!"}},{"v":0,"d":"0.00"}]
[{"$nulls":14},{"$f":"IF($B868=\"\",\"\",IF(F868=\"Arbeitgeberähnliche Stellung\",OFFSET(MD!$Q$5,MATCH(Grundlagen_Abrechnung_KAE!$AK$7,MD_JAHR,0),0)*$H868,IF(((AD868/12*M868*12)+N868)>AF868,AF868/12,((AD868/12*M868*12)+N868)/12)))","v":""},null,null,{"v":0,"d":"0.00"},null,{"v":0,"d":"0.00%"},{"v":0,"d":"0.00"},{"v":0,"d":"0.00"},{"v":0,"d":"0.00"},null,"prüfen",{"$f":"IFERROR(OFFSET(MD!$U$5,MATCH(Grundlagen_Abrechnung_KAE!$E868,MD_GENDER,0),0),\"\")","v":""},{"v":0,"d":"0.00"},null,{"v":0,"d":"0.00"},{"$f":"IF(F868=\"Arbeitgeberähnliche Stellung\",OFFSET(MD!$Q$5,MATCH(Grundlagen_Abrechnung_KAE!$AK$7,MD_JAHR,0),0)*$H868,IF(J868>0,AC868,I868))","v":{"v":0,"d":"0.00"}},null,{"$f":"OFFSET(MD!$P$5,MATCH($AK$7,MD_JAHR,0),0)*12","v":{"$error":"#VALUE!"}},{"v":0,"d":"0.00"}]
[{"$nulls":14},{"$f":"IF($B869=\"\",\"\",IF(F869=\"Arbeitgeberähnliche Stellung\",OFFSET(MD!$Q$5,MATCH(Grundlagen_Abrechnung_KAE!$AK$7,MD_JAHR,0),0)*$H869,IF(((AD869/12*M869*12)+N869)>AF869,AF869/12,((AD869/12*M869*12)+N869)/12)))","v":""},null,null,{"v":0,"d":"0.00"},null,{"v":0,"d":"0.00%"},{"v":0,"d":"0.00"},{"v":0,"d":"0.00"},{"v":0,"d":"0.00"},null,"prüfen",{"$f":"IFERROR(OFFSET(MD!$U$5,MATCH(Grundlagen_Abrechnung_KAE!$E869,MD_GENDER,0),0),\"\")","v":""},{"v":0,"d":"0.00"},null,{"v":0,"d":"0.00"},{"$f":"IF(F869=\"Arbeitgeberähnliche Stellung\",OFFSET(MD!$Q$5,MATCH(Grundlagen_Abrechnung_KAE!$AK$7,MD_JAHR,0),0)*$H869,IF(J869>0,AC869,I869))","v":{"v":0,"d":"0.00"}},null,{"$f":"OFFSET(MD!$P$5,MATCH($AK$7,MD_JAHR,0),0)*12","v":{"$error":"#VALUE!"}},{"v":0,"d":"0.00"}]
[{"$nulls":14},{"$f":"IF($B870=\"\",\"\",IF(F870=\"Arbeitgeberähnliche Stellung\",OFFSET(MD!$Q$5,MATCH(Grundlagen_Abrechnung_KAE!$AK$7,MD_JAHR,0),0)*$H870,IF(((AD870/12*M870*12)+N870)>AF870,AF870/12,((AD870/12*M870*12)+N870)/12)))","v":""},null,null,{"v":0,"d":"0.00"},null,{"v":0,"d":"0.00%"},{"v":0,"d":"0.00"},{"v":0,"d":"0.00"},{"v":0,"d":"0.00"},null,"prüfen",{"$f":"IFERROR(OFFSET(MD!$U$5,MATCH(Grundlagen_Abrechnung_KAE!$E870,MD_GENDER,0),0),\"\")","v":""},{"v":0,"d":"0.00"},null,{"v":0,"d":"0.00"},{"$f":"IF(F870=\"Arbeitgeberähnliche Stellung\",OFFSET(MD!$Q$5,MATCH(Grundlagen_Abrechnung_KAE!$AK$7,MD_JAHR,0),0)*$H870,IF(J870>0,AC870,I870))","v":{"v":0,"d":"0.00"}},null,{"$f":"OFFSET(MD!$P$5,MATCH($AK$7,MD_JAHR,0),0)*12","v":{"$error":"#VALUE!"}},{"v":0,"d":"0.00"}]
[{"$nulls":14},{"$f":"IF($B871=\"\",\"\",IF(F871=\"Arbeitgeberähnliche Stellung\",OFFSET(MD!$Q$5,MATCH(Grundlagen_Abrechnung_KAE!$AK$7,MD_JAHR,0),0)*$H871,IF(((AD871/12*M871*12)+N871)>AF871,AF871/12,((AD871/12*M871*12)+N871)/12)))","v":""},null,null,{"v":0,"d":"0.00"},null,{"v":0,"d":"0.00%"},{"v":0,"d":"0.00"},{"v":0,"d":"0.00"},{"v":0,"d":"0.00"},null,"prüfen",{"$f":"IFERROR(OFFSET(MD!$U$5,MATCH(Grundlagen_Abrechnung_KAE!$E871,MD_GENDER,0),0),\"\")","v":""},{"v":0,"d":"0.00"},null,{"v":0,"d":"0.00"},{"$f":"IF(F871=\"Arbeitgeberähnliche Stellung\",OFFSET(MD!$Q$5,MATCH(Grundlagen_Abrechnung_KAE!$AK$7,MD_JAHR,0),0)*$H871,IF(J871>0,AC871,I871))","v":{"v":0,"d":"0.00"}},null,{"$f":"OFFSET(MD!$P$5,MATCH($AK$7,MD_JAHR,0),0)*12","v":{"$error":"#VALUE!"}},{"v":0,"d":"0.00"}]
[{"$nulls":14},{"$f":"IF($B872=\"\",\"\",IF(F872=\"Arbeitgeberähnliche Stellung\",OFFSET(MD!$Q$5,MATCH(Grundlagen_Abrechnung_KAE!$AK$7,MD_JAHR,0),0)*$H872,IF(((AD872/12*M872*12)+N872)>AF872,AF872/12,((AD872/12*M872*12)+N872)/12)))","v":""},null,null,{"v":0,"d":"0.00"},null,{"v":0,"d":"0.00%"},{"v":0,"d":"0.00"},{"v":0,"d":"0.00"},{"v":0,"d":"0.00"},null,"prüfen",{"$f":"IFERROR(OFFSET(MD!$U$5,MATCH(Grundlagen_Abrechnung_KAE!$E872,MD_GENDER,0),0),\"\")","v":""},{"v":0,"d":"0.00"},null,{"v":0,"d":"0.00"},{"$f":"IF(F872=\"Arbeitgeberähnliche Stellung\",OFFSET(MD!$Q$5,MATCH(Grundlagen_Abrechnung_KAE!$AK$7,MD_JAHR,0),0)*$H872,IF(J872>0,AC872,I872))","v":{"v":0,"d":"0.00"}},null,{"$f":"OFFSET(MD!$P$5,MATCH($AK$7,MD_JAHR,0),0)*12","v":{"$error":"#VALUE!"}},{"v":0,"d":"0.00"}]
[{"$nulls":14},{"$f":"IF($B873=\"\",\"\",IF(F873=\"Arbeitgeberähnliche Stellung\",OFFSET(MD!$Q$5,MATCH(Grundlagen_Abrechnung_KAE!$AK$7,MD_JAHR,0),0)*$H873,IF(((AD873/12*M873*12)+N873)>AF873,AF873/12,((AD873/12*M873*12)+N873)/12)))","v":""},null,null,{"v":0,"d":"0.00"},null,{"v":0,"d":"0.00%"},{"v":0,"d":"0.00"},{"v":0,"d":"0.00"},{"v":0,"d":"0.00"},null,"prüfen",{"$f":"IFERROR(OFFSET(MD!$U$5,MATCH(Grundlagen_Abrechnung_KAE!$E873,MD_GENDER,0),0),\"\")","v":""},{"v":0,"d":"0.00"},null,{"v":0,"d":"0.00"},{"$f":"IF(F873=\"Arbeitgeberähnliche Stellung\",OFFSET(MD!$Q$5,MATCH(Grundlagen_Abrechnung_KAE!$AK$7,MD_JAHR,0),0)*$H873,IF(J873>0,AC873,I873))","v":{"v":0,"d":"0.00"}},null,{"$f":"OFFSET(MD!$P$5,MATCH($AK$7,MD_JAHR,0),0)*12","v":{"$error":"#VALUE!"}},{"v":0,"d":"0.00"}]
[{"$nulls":14},{"$f":"IF($B874=\"\",\"\",IF(F874=\"Arbeitgeberähnliche Stellung\",OFFSET(MD!$Q$5,MATCH(Grundlagen_Abrechnung_KAE!$AK$7,MD_JAHR,0),0)*$H874,IF(((AD874/12*M874*12)+N874)>AF874,AF874/12,((AD874/12*M874*12)+N874)/12)))","v":""},null,null,{"v":0,"d":"0.00"},null,{"v":0,"d":"0.00%"},{"v":0,"d":"0.00"},{"v":0,"d":"0.00"},{"v":0,"d":"0.00"},null,"prüfen",{"$f":"IFERROR(OFFSET(MD!$U$5,MATCH(Grundlagen_Abrechnung_KAE!$E874,MD_GENDER,0),0),\"\")","v":""},{"v":0,"d":"0.00"},null,{"v":0,"d":"0.00"},{"$f":"IF(F874=\"Arbeitgeberähnliche Stellung\",OFFSET(MD!$Q$5,MATCH(Grundlagen_Abrechnung_KAE!$AK$7,MD_JAHR,0),0)*$H874,IF(J874>0,AC874,I874))","v":{"v":0,"d":"0.00"}},null,{"$f":"OFFSET(MD!$P$5,MATCH($AK$7,MD_JAHR,0),0)*12","v":{"$error":"#VALUE!"}},{"v":0,"d":"0.00"}]
[{"$nulls":14},{"$f":"IF($B875=\"\",\"\",IF(F875=\"Arbeitgeberähnliche Stellung\",OFFSET(MD!$Q$5,MATCH(Grundlagen_Abrechnung_KAE!$AK$7,MD_JAHR,0),0)*$H875,IF(((AD875/12*M875*12)+N875)>AF875,AF875/12,((AD875/12*M875*12)+N875)/12)))","v":""},null,null,{"v":0,"d":"0.00"},null,{"v":0,"d":"0.00%"},{"v":0,"d":"0.00"},{"v":0,"d":"0.00"},{"v":0,"d":"0.00"},null,"prüfen",{"$f":"IFERROR(OFFSET(MD!$U$5,MATCH(Grundlagen_Abrechnung_KAE!$E875,MD_GENDER,0),0),\"\")","v":""},{"v":0,"d":"0.00"},null,{"v":0,"d":"0.00"},{"$f":"IF(F875=\"Arbeitgeberähnliche Stellung\",OFFSET(MD!$Q$5,MATCH(Grundlagen_Abrechnung_KAE!$AK$7,MD_JAHR,0),0)*$H875,IF(J875>0,AC875,I875))","v":{"v":0,"d":"0.00"}},null,{"$f":"OFFSET(MD!$P$5,MATCH($AK$7,MD_JAHR,0),0)*12","v":{"$error":"#VALUE!"}},{"v":0,"d":"0.00"}]
[{"$nulls":14},{"$f":"IF($B876=\"\",\"\",IF(F876=\"Arbeitgeberähnliche Stellung\",OFFSET(MD!$Q$5,MATCH(Grundlagen_Abrechnung_KAE!$AK$7,MD_JAHR,0),0)*$H876,IF(((AD876/12*M876*12)+N876)>AF876,AF876/12,((AD876/12*M876*12)+N876)/12)))","v":""},null,null,{"v":0,"d":"0.00"},null,{"v":0,"d":"0.00%"},{"v":0,"d":"0.00"},{"v":0,"d":"0.00"},{"v":0,"d":"0.00"},null,"prüfen",{"$f":"IFERROR(OFFSET(MD!$U$5,MATCH(Grundlagen_Abrechnung_KAE!$E876,MD_GENDER,0),0),\"\")","v":""},{"v":0,"d":"0.00"},null,{"v":0,"d":"0.00"},{"$f":"IF(F876=\"Arbeitgeberähnliche Stellung\",OFFSET(MD!$Q$5,MATCH(Grundlagen_Abrechnung_KAE!$AK$7,MD_JAHR,0),0)*$H876,IF(J876>0,AC876,I876))","v":{"v":0,"d":"0.00"}},null,{"$f":"OFFSET(MD!$P$5,MATCH($AK$7,MD_JAHR,0),0)*12","v":{"$error":"#VALUE!"}},{"v":0,"d":"0.00"}]
[{"$nulls":14},{"$f":"IF($B877=\"\",\"\",IF(F877=\"Arbeitgeberähnliche Stellung\",OFFSET(MD!$Q$5,MATCH(Grundlagen_Abrechnung_KAE!$AK$7,MD_JAHR,0),0)*$H877,IF(((AD877/12*M877*12)+N877)>AF877,AF877/12,((AD877/12*M877*12)+N877)/12)))","v":""},null,null,{"v":0,"d":"0.00"},null,{"v":0,"d":"0.00%"},{"v":0,"d":"0.00"},{"v":0,"d":"0.00"},{"v":0,"d":"0.00"},null,"prüfen",{"$f":"IFERROR(OFFSET(MD!$U$5,MATCH(Grundlagen_Abrechnung_KAE!$E877,MD_GENDER,0),0),\"\")","v":""},{"v":0,"d":"0.00"},null,{"v":0,"d":"0.00"},{"$f":"IF(F877=\"Arbeitgeberähnliche Stellung\",OFFSET(MD!$Q$5,MATCH(Grundlagen_Abrechnung_KAE!$AK$7,MD_JAHR,0),0)*$H877,IF(J877>0,AC877,I877))","v":{"v":0,"d":"0.00"}},null,{"$f":"OFFSET(MD!$P$5,MATCH($AK$7,MD_JAHR,0),0)*12","v":{"$error":"#VALUE!"}},{"v":0,"d":"0.00"}]
[{"$nulls":14},{"$f":"IF($B878=\"\",\"\",IF(F878=\"Arbeitgeberähnliche Stellung\",OFFSET(MD!$Q$5,MATCH(Grundlagen_Abrechnung_KAE!$AK$7,MD_JAHR,0),0)*$H878,IF(((AD878/12*M878*12)+N878)>AF878,AF878/12,((AD878/12*M878*12)+N878)/12)))","v":""},null,null,{"v":0,"d":"0.00"},null,{"v":0,"d":"0.00%"},{"v":0,"d":"0.00"},{"v":0,"d":"0.00"},{"v":0,"d":"0.00"},null,"prüfen",{"$f":"IFERROR(OFFSET(MD!$U$5,MATCH(Grundlagen_Abrechnung_KAE!$E878,MD_GENDER,0),0),\"\")","v":""},{"v":0,"d":"0.00"},null,{"v":0,"d":"0.00"},{"$f":"IF(F878=\"Arbeitgeberähnliche Stellung\",OFFSET(MD!$Q$5,MATCH(Grundlagen_Abrechnung_KAE!$AK$7,MD_JAHR,0),0)*$H878,IF(J878>0,AC878,I878))","v":{"v":0,"d":"0.00"}},null,{"$f":"OFFSET(MD!$P$5,MATCH($AK$7,MD_JAHR,0),0)*12","v":{"$error":"#VALUE!"}},{"v":0,"d":"0.00"}]
[{"$nulls":14},{"$f":"IF($B879=\"\",\"\",IF(F879=\"Arbeitgeberähnliche Stellung\",OFFSET(MD!$Q$5,MATCH(Grundlagen_Abrechnung_KAE!$AK$7,MD_JAHR,0),0)*$H879,IF(((AD879/12*M879*12)+N879)>AF879,AF879/12,((AD879/12*M879*12)+N879)/12)))","v":""},null,null,{"v":0,"d":"0.00"},null,{"v":0,"d":"0.00%"},{"v":0,"d":"0.00"},{"v":0,"d":"0.00"},{"v":0,"d":"0.00"},null,"prüfen",{"$f":"IFERROR(OFFSET(MD!$U$5,MATCH(Grundlagen_Abrechnung_KAE!$E879,MD_GENDER,0),0),\"\")","v":""},{"v":0,"d":"0.00"},null,{"v":0,"d":"0.00"},{"$f":"IF(F879=\"Arbeitgeberähnliche Stellung\",OFFSET(MD!$Q$5,MATCH(Grundlagen_Abrechnung_KAE!$AK$7,MD_JAHR,0),0)*$H879,IF(J879>0,AC879,I879))","v":{"v":0,"d":"0.00"}},null,{"$f":"OFFSET(MD!$P$5,MATCH($AK$7,MD_JAHR,0),0)*12","v":{"$error":"#VALUE!"}},{"v":0,"d":"0.00"}]
[{"$nulls":14},{"$f":"IF($B880=\"\",\"\",IF(F880=\"Arbeitgeberähnliche Stellung\",OFFSET(MD!$Q$5,MATCH(Grundlagen_Abrechnung_KAE!$AK$7,MD_JAHR,0),0)*$H880,IF(((AD880/12*M880*12)+N880)>AF880,AF880/12,((AD880/12*M880*12)+N880)/12)))","v":""},null,null,{"v":0,"d":"0.00"},null,{"v":0,"d":"0.00%"},{"v":0,"d":"0.00"},{"v":0,"d":"0.00"},{"v":0,"d":"0.00"},null,"prüfen",{"$f":"IFERROR(OFFSET(MD!$U$5,MATCH(Grundlagen_Abrechnung_KAE!$E880,MD_GENDER,0),0),\"\")","v":""},{"v":0,"d":"0.00"},null,{"v":0,"d":"0.00"},{"$f":"IF(F880=\"Arbeitgeberähnliche Stellung\",OFFSET(MD!$Q$5,MATCH(Grundlagen_Abrechnung_KAE!$AK$7,MD_JAHR,0),0)*$H880,IF(J880>0,AC880,I880))","v":{"v":0,"d":"0.00"}},null,{"$f":"OFFSET(MD!$P$5,MATCH($AK$7,MD_JAHR,0),0)*12","v":{"$error":"#VALUE!"}},{"v":0,"d":"0.00"}]
[{"$nulls":14},{"$f":"IF($B881=\"\",\"\",IF(F881=\"Arbeitgeberähnliche Stellung\",OFFSET(MD!$Q$5,MATCH(Grundlagen_Abrechnung_KAE!$AK$7,MD_JAHR,0),0)*$H881,IF(((AD881/12*M881*12)+N881)>AF881,AF881/12,((AD881/12*M881*12)+N881)/12)))","v":""},null,null,{"v":0,"d":"0.00"},null,{"v":0,"d":"0.00%"},{"v":0,"d":"0.00"},{"v":0,"d":"0.00"},{"v":0,"d":"0.00"},null,"prüfen",{"$f":"IFERROR(OFFSET(MD!$U$5,MATCH(Grundlagen_Abrechnung_KAE!$E881,MD_GENDER,0),0),\"\")","v":""},{"v":0,"d":"0.00"},null,{"v":0,"d":"0.00"},{"$f":"IF(F881=\"Arbeitgeberähnliche Stellung\",OFFSET(MD!$Q$5,MATCH(Grundlagen_Abrechnung_KAE!$AK$7,MD_JAHR,0),0)*$H881,IF(J881>0,AC881,I881))","v":{"v":0,"d":"0.00"}},null,{"$f":"OFFSET(MD!$P$5,MATCH($AK$7,MD_JAHR,0),0)*12","v":{"$error":"#VALUE!"}},{"v":0,"d":"0.00"}]
[{"$nulls":14},{"$f":"IF($B882=\"\",\"\",IF(F882=\"Arbeitgeberähnliche Stellung\",OFFSET(MD!$Q$5,MATCH(Grundlagen_Abrechnung_KAE!$AK$7,MD_JAHR,0),0)*$H882,IF(((AD882/12*M882*12)+N882)>AF882,AF882/12,((AD882/12*M882*12)+N882)/12)))","v":""},null,null,{"v":0,"d":"0.00"},null,{"v":0,"d":"0.00%"},{"v":0,"d":"0.00"},{"v":0,"d":"0.00"},{"v":0,"d":"0.00"},null,"prüfen",{"$f":"IFERROR(OFFSET(MD!$U$5,MATCH(Grundlagen_Abrechnung_KAE!$E882,MD_GENDER,0),0),\"\")","v":""},{"v":0,"d":"0.00"},null,{"v":0,"d":"0.00"},{"$f":"IF(F882=\"Arbeitgeberähnliche Stellung\",OFFSET(MD!$Q$5,MATCH(Grundlagen_Abrechnung_KAE!$AK$7,MD_JAHR,0),0)*$H882,IF(J882>0,AC882,I882))","v":{"v":0,"d":"0.00"}},null,{"$f":"OFFSET(MD!$P$5,MATCH($AK$7,MD_JAHR,0),0)*12","v":{"$error":"#VALUE!"}},{"v":0,"d":"0.00"}]
[{"$nulls":14},{"$f":"IF($B883=\"\",\"\",IF(F883=\"Arbeitgeberähnliche Stellung\",OFFSET(MD!$Q$5,MATCH(Grundlagen_Abrechnung_KAE!$AK$7,MD_JAHR,0),0)*$H883,IF(((AD883/12*M883*12)+N883)>AF883,AF883/12,((AD883/12*M883*12)+N883)/12)))","v":""},null,null,{"v":0,"d":"0.00"},null,{"v":0,"d":"0.00%"},{"v":0,"d":"0.00"},{"v":0,"d":"0.00"},{"v":0,"d":"0.00"},null,"prüfen",{"$f":"IFERROR(OFFSET(MD!$U$5,MATCH(Grundlagen_Abrechnung_KAE!$E883,MD_GENDER,0),0),\"\")","v":""},{"v":0,"d":"0.00"},null,{"v":0,"d":"0.00"},{"$f":"IF(F883=\"Arbeitgeberähnliche Stellung\",OFFSET(MD!$Q$5,MATCH(Grundlagen_Abrechnung_KAE!$AK$7,MD_JAHR,0),0)*$H883,IF(J883>0,AC883,I883))","v":{"v":0,"d":"0.00"}},null,{"$f":"OFFSET(MD!$P$5,MATCH($AK$7,MD_JAHR,0),0)*12","v":{"$error":"#VALUE!"}},{"v":0,"d":"0.00"}]
[{"$nulls":14},{"$f":"IF($B884=\"\",\"\",IF(F884=\"Arbeitgeberähnliche Stellung\",OFFSET(MD!$Q$5,MATCH(Grundlagen_Abrechnung_KAE!$AK$7,MD_JAHR,0),0)*$H884,IF(((AD884/12*M884*12)+N884)>AF884,AF884/12,((AD884/12*M884*12)+N884)/12)))","v":""},null,null,{"v":0,"d":"0.00"},null,{"v":0,"d":"0.00%"},{"v":0,"d":"0.00"},{"v":0,"d":"0.00"},{"v":0,"d":"0.00"},null,"prüfen",{"$f":"IFERROR(OFFSET(MD!$U$5,MATCH(Grundlagen_Abrechnung_KAE!$E884,MD_GENDER,0),0),\"\")","v":""},{"v":0,"d":"0.00"},null,{"v":0,"d":"0.00"},{"$f":"IF(F884=\"Arbeitgeberähnliche Stellung\",OFFSET(MD!$Q$5,MATCH(Grundlagen_Abrechnung_KAE!$AK$7,MD_JAHR,0),0)*$H884,IF(J884>0,AC884,I884))","v":{"v":0,"d":"0.00"}},null,{"$f":"OFFSET(MD!$P$5,MATCH($AK$7,MD_JAHR,0),0)*12","v":{"$error":"#VALUE!"}},{"v":0,"d":"0.00"}]
[{"$nulls":14},{"$f":"IF($B885=\"\",\"\",IF(F885=\"Arbeitgeberähnliche Stellung\",OFFSET(MD!$Q$5,MATCH(Grundlagen_Abrechnung_KAE!$AK$7,MD_JAHR,0),0)*$H885,IF(((AD885/12*M885*12)+N885)>AF885,AF885/12,((AD885/12*M885*12)+N885)/12)))","v":""},null,null,{"v":0,"d":"0.00"},null,{"v":0,"d":"0.00%"},{"v":0,"d":"0.00"},{"v":0,"d":"0.00"},{"v":0,"d":"0.00"},null,"prüfen",{"$f":"IFERROR(OFFSET(MD!$U$5,MATCH(Grundlagen_Abrechnung_KAE!$E885,MD_GENDER,0),0),\"\")","v":""},{"v":0,"d":"0.00"},null,{"v":0,"d":"0.00"},{"$f":"IF(F885=\"Arbeitgeberähnliche Stellung\",OFFSET(MD!$Q$5,MATCH(Grundlagen_Abrechnung_KAE!$AK$7,MD_JAHR,0),0)*$H885,IF(J885>0,AC885,I885))","v":{"v":0,"d":"0.00"}},null,{"$f":"OFFSET(MD!$P$5,MATCH($AK$7,MD_JAHR,0),0)*12","v":{"$error":"#VALUE!"}},{"v":0,"d":"0.00"}]
[{"$nulls":14},{"$f":"IF($B886=\"\",\"\",IF(F886=\"Arbeitgeberähnliche Stellung\",OFFSET(MD!$Q$5,MATCH(Grundlagen_Abrechnung_KAE!$AK$7,MD_JAHR,0),0)*$H886,IF(((AD886/12*M886*12)+N886)>AF886,AF886/12,((AD886/12*M886*12)+N886)/12)))","v":""},null,null,{"v":0,"d":"0.00"},null,{"v":0,"d":"0.00%"},{"v":0,"d":"0.00"},{"v":0,"d":"0.00"},{"v":0,"d":"0.00"},null,"prüfen",{"$f":"IFERROR(OFFSET(MD!$U$5,MATCH(Grundlagen_Abrechnung_KAE!$E886,MD_GENDER,0),0),\"\")","v":""},{"v":0,"d":"0.00"},null,{"v":0,"d":"0.00"},{"$f":"IF(F886=\"Arbeitgeberähnliche Stellung\",OFFSET(MD!$Q$5,MATCH(Grundlagen_Abrechnung_KAE!$AK$7,MD_JAHR,0),0)*$H886,IF(J886>0,AC886,I886))","v":{"v":0,"d":"0.00"}},null,{"$f":"OFFSET(MD!$P$5,MATCH($AK$7,MD_JAHR,0),0)*12","v":{"$error":"#VALUE!"}},{"v":0,"d":"0.00"}]
[{"$nulls":14},{"$f":"IF($B887=\"\",\"\",IF(F887=\"Arbeitgeberähnliche Stellung\",OFFSET(MD!$Q$5,MATCH(Grundlagen_Abrechnung_KAE!$AK$7,MD_JAHR,0),0)*$H887,IF(((AD887/12*M887*12)+N887)>AF887,AF887/12,((AD887/12*M887*12)+N887)/12)))","v":""},null,null,{"v":0,"d":"0.00"},null,{"v":0,"d":"0.00%"},{"v":0,"d":"0.00"},{"v":0,"d":"0.00"},{"v":0,"d":"0.00"},null,"prüfen",{"$f":"IFERROR(OFFSET(MD!$U$5,MATCH(Grundlagen_Abrechnung_KAE!$E887,MD_GENDER,0),0),\"\")","v":""},{"v":0,"d":"0.00"},null,{"v":0,"d":"0.00"},{"$f":"IF(F887=\"Arbeitgeberähnliche Stellung\",OFFSET(MD!$Q$5,MATCH(Grundlagen_Abrechnung_KAE!$AK$7,MD_JAHR,0),0)*$H887,IF(J887>0,AC887,I887))","v":{"v":0,"d":"0.00"}},null,{"$f":"OFFSET(MD!$P$5,MATCH($AK$7,MD_JAHR,0),0)*12","v":{"$error":"#VALUE!"}},{"v":0,"d":"0.00"}]
[{"$nulls":14},{"$f":"IF($B888=\"\",\"\",IF(F888=\"Arbeitgeberähnliche Stellung\",OFFSET(MD!$Q$5,MATCH(Grundlagen_Abrechnung_KAE!$AK$7,MD_JAHR,0),0)*$H888,IF(((AD888/12*M888*12)+N888)>AF888,AF888/12,((AD888/12*M888*12)+N888)/12)))","v":""},null,null,{"v":0,"d":"0.00"},null,{"v":0,"d":"0.00%"},{"v":0,"d":"0.00"},{"v":0,"d":"0.00"},{"v":0,"d":"0.00"},null,"prüfen",{"$f":"IFERROR(OFFSET(MD!$U$5,MATCH(Grundlagen_Abrechnung_KAE!$E888,MD_GENDER,0),0),\"\")","v":""},{"v":0,"d":"0.00"},null,{"v":0,"d":"0.00"},{"$f":"IF(F888=\"Arbeitgeberähnliche Stellung\",OFFSET(MD!$Q$5,MATCH(Grundlagen_Abrechnung_KAE!$AK$7,MD_JAHR,0),0)*$H888,IF(J888>0,AC888,I888))","v":{"v":0,"d":"0.00"}},null,{"$f":"OFFSET(MD!$P$5,MATCH($AK$7,MD_JAHR,0),0)*12","v":{"$error":"#VALUE!"}},{"v":0,"d":"0.00"}]
[{"$nulls":14},{"$f":"IF($B889=\"\",\"\",IF(F889=\"Arbeitgeberähnliche Stellung\",OFFSET(MD!$Q$5,MATCH(Grundlagen_Abrechnung_KAE!$AK$7,MD_JAHR,0),0)*$H889,IF(((AD889/12*M889*12)+N889)>AF889,AF889/12,((AD889/12*M889*12)+N889)/12)))","v":""},null,null,{"v":0,"d":"0.00"},null,{"v":0,"d":"0.00%"},{"v":0,"d":"0.00"},{"v":0,"d":"0.00"},{"v":0,"d":"0.00"},null,"prüfen",{"$f":"IFERROR(OFFSET(MD!$U$5,MATCH(Grundlagen_Abrechnung_KAE!$E889,MD_GENDER,0),0),\"\")","v":""},{"v":0,"d":"0.00"},null,{"v":0,"d":"0.00"},{"$f":"IF(F889=\"Arbeitgeberähnliche Stellung\",OFFSET(MD!$Q$5,MATCH(Grundlagen_Abrechnung_KAE!$AK$7,MD_JAHR,0),0)*$H889,IF(J889>0,AC889,I889))","v":{"v":0,"d":"0.00"}},null,{"$f":"OFFSET(MD!$P$5,MATCH($AK$7,MD_JAHR,0),0)*12","v":{"$error":"#VALUE!"}},{"v":0,"d":"0.00"}]
[{"$nulls":14},{"$f":"IF($B890=\"\",\"\",IF(F890=\"Arbeitgeberähnliche Stellung\",OFFSET(MD!$Q$5,MATCH(Grundlagen_Abrechnung_KAE!$AK$7,MD_JAHR,0),0)*$H890,IF(((AD890/12*M890*12)+N890)>AF890,AF890/12,((AD890/12*M890*12)+N890)/12)))","v":""},null,null,{"v":0,"d":"0.00"},null,{"v":0,"d":"0.00%"},{"v":0,"d":"0.00"},{"v":0,"d":"0.00"},{"v":0,"d":"0.00"},null,"prüfen",{"$f":"IFERROR(OFFSET(MD!$U$5,MATCH(Grundlagen_Abrechnung_KAE!$E890,MD_GENDER,0),0),\"\")","v":""},{"v":0,"d":"0.00"},null,{"v":0,"d":"0.00"},{"$f":"IF(F890=\"Arbeitgeberähnliche Stellung\",OFFSET(MD!$Q$5,MATCH(Grundlagen_Abrechnung_KAE!$AK$7,MD_JAHR,0),0)*$H890,IF(J890>0,AC890,I890))","v":{"v":0,"d":"0.00"}},null,{"$f":"OFFSET(MD!$P$5,MATCH($AK$7,MD_JAHR,0),0)*12","v":{"$error":"#VALUE!"}},{"v":0,"d":"0.00"}]
[{"$nulls":14},{"$f":"IF($B891=\"\",\"\",IF(F891=\"Arbeitgeberähnliche Stellung\",OFFSET(MD!$Q$5,MATCH(Grundlagen_Abrechnung_KAE!$AK$7,MD_JAHR,0),0)*$H891,IF(((AD891/12*M891*12)+N891)>AF891,AF891/12,((AD891/12*M891*12)+N891)/12)))","v":""},null,null,{"v":0,"d":"0.00"},null,{"v":0,"d":"0.00%"},{"v":0,"d":"0.00"},{"v":0,"d":"0.00"},{"v":0,"d":"0.00"},null,"prüfen",{"$f":"IFERROR(OFFSET(MD!$U$5,MATCH(Grundlagen_Abrechnung_KAE!$E891,MD_GENDER,0),0),\"\")","v":""},{"v":0,"d":"0.00"},null,{"v":0,"d":"0.00"},{"$f":"IF(F891=\"Arbeitgeberähnliche Stellung\",OFFSET(MD!$Q$5,MATCH(Grundlagen_Abrechnung_KAE!$AK$7,MD_JAHR,0),0)*$H891,IF(J891>0,AC891,I891))","v":{"v":0,"d":"0.00"}},null,{"$f":"OFFSET(MD!$P$5,MATCH($AK$7,MD_JAHR,0),0)*12","v":{"$error":"#VALUE!"}},{"v":0,"d":"0.00"}]
[{"$nulls":14},{"$f":"IF($B892=\"\",\"\",IF(F892=\"Arbeitgeberähnliche Stellung\",OFFSET(MD!$Q$5,MATCH(Grundlagen_Abrechnung_KAE!$AK$7,MD_JAHR,0),0)*$H892,IF(((AD892/12*M892*12)+N892)>AF892,AF892/12,((AD892/12*M892*12)+N892)/12)))","v":""},null,null,{"v":0,"d":"0.00"},null,{"v":0,"d":"0.00%"},{"v":0,"d":"0.00"},{"v":0,"d":"0.00"},{"v":0,"d":"0.00"},null,"prüfen",{"$f":"IFERROR(OFFSET(MD!$U$5,MATCH(Grundlagen_Abrechnung_KAE!$E892,MD_GENDER,0),0),\"\")","v":""},{"v":0,"d":"0.00"},null,{"v":0,"d":"0.00"},{"$f":"IF(F892=\"Arbeitgeberähnliche Stellung\",OFFSET(MD!$Q$5,MATCH(Grundlagen_Abrechnung_KAE!$AK$7,MD_JAHR,0),0)*$H892,IF(J892>0,AC892,I892))","v":{"v":0,"d":"0.00"}},null,{"$f":"OFFSET(MD!$P$5,MATCH($AK$7,MD_JAHR,0),0)*12","v":{"$error":"#VALUE!"}},{"v":0,"d":"0.00"}]
[{"$nulls":14},{"$f":"IF($B893=\"\",\"\",IF(F893=\"Arbeitgeberähnliche Stellung\",OFFSET(MD!$Q$5,MATCH(Grundlagen_Abrechnung_KAE!$AK$7,MD_JAHR,0),0)*$H893,IF(((AD893/12*M893*12)+N893)>AF893,AF893/12,((AD893/12*M893*12)+N893)/12)))","v":""},null,null,{"v":0,"d":"0.00"},null,{"v":0,"d":"0.00%"},{"v":0,"d":"0.00"},{"v":0,"d":"0.00"},{"v":0,"d":"0.00"},null,"prüfen",{"$f":"IFERROR(OFFSET(MD!$U$5,MATCH(Grundlagen_Abrechnung_KAE!$E893,MD_GENDER,0),0),\"\")","v":""},{"v":0,"d":"0.00"},null,{"v":0,"d":"0.00"},{"$f":"IF(F893=\"Arbeitgeberähnliche Stellung\",OFFSET(MD!$Q$5,MATCH(Grundlagen_Abrechnung_KAE!$AK$7,MD_JAHR,0),0)*$H893,IF(J893>0,AC893,I893))","v":{"v":0,"d":"0.00"}},null,{"$f":"OFFSET(MD!$P$5,MATCH($AK$7,MD_JAHR,0),0)*12","v":{"$error":"#VALUE!"}},{"v":0,"d":"0.00"}]
[{"$nulls":14},{"$f":"IF($B894=\"\",\"\",IF(F894=\"Arbeitgeberähnliche Stellung\",OFFSET(MD!$Q$5,MATCH(Grundlagen_Abrechnung_KAE!$AK$7,MD_JAHR,0),0)*$H894,IF(((AD894/12*M894*12)+N894)>AF894,AF894/12,((AD894/12*M894*12)+N894)/12)))","v":""},null,null,{"v":0,"d":"0.00"},null,{"v":0,"d":"0.00%"},{"v":0,"d":"0.00"},{"v":0,"d":"0.00"},{"v":0,"d":"0.00"},null,"prüfen",{"$f":"IFERROR(OFFSET(MD!$U$5,MATCH(Grundlagen_Abrechnung_KAE!$E894,MD_GENDER,0),0),\"\")","v":""},{"v":0,"d":"0.00"},null,{"v":0,"d":"0.00"},{"$f":"IF(F894=\"Arbeitgeberähnliche Stellung\",OFFSET(MD!$Q$5,MATCH(Grundlagen_Abrechnung_KAE!$AK$7,MD_JAHR,0),0)*$H894,IF(J894>0,AC894,I894))","v":{"v":0,"d":"0.00"}},null,{"$f":"OFFSET(MD!$P$5,MATCH($AK$7,MD_JAHR,0),0)*12","v":{"$error":"#VALUE!"}},{"v":0,"d":"0.00"}]
[{"$nulls":14},{"$f":"IF($B895=\"\",\"\",IF(F895=\"Arbeitgeberähnliche Stellung\",OFFSET(MD!$Q$5,MATCH(Grundlagen_Abrechnung_KAE!$AK$7,MD_JAHR,0),0)*$H895,IF(((AD895/12*M895*12)+N895)>AF895,AF895/12,((AD895/12*M895*12)+N895)/12)))","v":""},null,null,{"v":0,"d":"0.00"},null,{"v":0,"d":"0.00%"},{"v":0,"d":"0.00"},{"v":0,"d":"0.00"},{"v":0,"d":"0.00"},null,"prüfen",{"$f":"IFERROR(OFFSET(MD!$U$5,MATCH(Grundlagen_Abrechnung_KAE!$E895,MD_GENDER,0),0),\"\")","v":""},{"v":0,"d":"0.00"},null,{"v":0,"d":"0.00"},{"$f":"IF(F895=\"Arbeitgeberähnliche Stellung\",OFFSET(MD!$Q$5,MATCH(Grundlagen_Abrechnung_KAE!$AK$7,MD_JAHR,0),0)*$H895,IF(J895>0,AC895,I895))","v":{"v":0,"d":"0.00"}},null,{"$f":"OFFSET(MD!$P$5,MATCH($AK$7,MD_JAHR,0),0)*12","v":{"$error":"#VALUE!"}},{"v":0,"d":"0.00"}]
[{"$nulls":14},{"$f":"IF($B896=\"\",\"\",IF(F896=\"Arbeitgeberähnliche Stellung\",OFFSET(MD!$Q$5,MATCH(Grundlagen_Abrechnung_KAE!$AK$7,MD_JAHR,0),0)*$H896,IF(((AD896/12*M896*12)+N896)>AF896,AF896/12,((AD896/12*M896*12)+N896)/12)))","v":""},null,null,{"v":0,"d":"0.00"},null,{"v":0,"d":"0.00%"},{"v":0,"d":"0.00"},{"v":0,"d":"0.00"},{"v":0,"d":"0.00"},null,"prüfen",{"$f":"IFERROR(OFFSET(MD!$U$5,MATCH(Grundlagen_Abrechnung_KAE!$E896,MD_GENDER,0),0),\"\")","v":""},{"v":0,"d":"0.00"},null,{"v":0,"d":"0.00"},{"$f":"IF(F896=\"Arbeitgeberähnliche Stellung\",OFFSET(MD!$Q$5,MATCH(Grundlagen_Abrechnung_KAE!$AK$7,MD_JAHR,0),0)*$H896,IF(J896>0,AC896,I896))","v":{"v":0,"d":"0.00"}},null,{"$f":"OFFSET(MD!$P$5,MATCH($AK$7,MD_JAHR,0),0)*12","v":{"$error":"#VALUE!"}},{"v":0,"d":"0.00"}]
[{"$nulls":14},{"$f":"IF($B897=\"\",\"\",IF(F897=\"Arbeitgeberähnliche Stellung\",OFFSET(MD!$Q$5,MATCH(Grundlagen_Abrechnung_KAE!$AK$7,MD_JAHR,0),0)*$H897,IF(((AD897/12*M897*12)+N897)>AF897,AF897/12,((AD897/12*M897*12)+N897)/12)))","v":""},null,null,{"v":0,"d":"0.00"},null,{"v":0,"d":"0.00%"},{"v":0,"d":"0.00"},{"v":0,"d":"0.00"},{"v":0,"d":"0.00"},null,"prüfen",{"$f":"IFERROR(OFFSET(MD!$U$5,MATCH(Grundlagen_Abrechnung_KAE!$E897,MD_GENDER,0),0),\"\")","v":""},{"v":0,"d":"0.00"},null,{"v":0,"d":"0.00"},{"$f":"IF(F897=\"Arbeitgeberähnliche Stellung\",OFFSET(MD!$Q$5,MATCH(Grundlagen_Abrechnung_KAE!$AK$7,MD_JAHR,0),0)*$H897,IF(J897>0,AC897,I897))","v":{"v":0,"d":"0.00"}},null,{"$f":"OFFSET(MD!$P$5,MATCH($AK$7,MD_JAHR,0),0)*12","v":{"$error":"#VALUE!"}},{"v":0,"d":"0.00"}]
[{"$nulls":14},{"$f":"IF($B898=\"\",\"\",IF(F898=\"Arbeitgeberähnliche Stellung\",OFFSET(MD!$Q$5,MATCH(Grundlagen_Abrechnung_KAE!$AK$7,MD_JAHR,0),0)*$H898,IF(((AD898/12*M898*12)+N898)>AF898,AF898/12,((AD898/12*M898*12)+N898)/12)))","v":""},null,null,{"v":0,"d":"0.00"},null,{"v":0,"d":"0.00%"},{"v":0,"d":"0.00"},{"v":0,"d":"0.00"},{"v":0,"d":"0.00"},null,"prüfen",{"$f":"IFERROR(OFFSET(MD!$U$5,MATCH(Grundlagen_Abrechnung_KAE!$E898,MD_GENDER,0),0),\"\")","v":""},{"v":0,"d":"0.00"},null,{"v":0,"d":"0.00"},{"$f":"IF(F898=\"Arbeitgeberähnliche Stellung\",OFFSET(MD!$Q$5,MATCH(Grundlagen_Abrechnung_KAE!$AK$7,MD_JAHR,0),0)*$H898,IF(J898>0,AC898,I898))","v":{"v":0,"d":"0.00"}},null,{"$f":"OFFSET(MD!$P$5,MATCH($AK$7,MD_JAHR,0),0)*12","v":{"$error":"#VALUE!"}},{"v":0,"d":"0.00"}]
[{"$nulls":14},{"$f":"IF($B899=\"\",\"\",IF(F899=\"Arbeitgeberähnliche Stellung\",OFFSET(MD!$Q$5,MATCH(Grundlagen_Abrechnung_KAE!$AK$7,MD_JAHR,0),0)*$H899,IF(((AD899/12*M899*12)+N899)>AF899,AF899/12,((AD899/12*M899*12)+N899)/12)))","v":""},null,null,{"v":0,"d":"0.00"},null,{"v":0,"d":"0.00%"},{"v":0,"d":"0.00"},{"v":0,"d":"0.00"},{"v":0,"d":"0.00"},null,"prüfen",{"$f":"IFERROR(OFFSET(MD!$U$5,MATCH(Grundlagen_Abrechnung_KAE!$E899,MD_GENDER,0),0),\"\")","v":""},{"v":0,"d":"0.00"},null,{"v":0,"d":"0.00"},{"$f":"IF(F899=\"Arbeitgeberähnliche Stellung\",OFFSET(MD!$Q$5,MATCH(Grundlagen_Abrechnung_KAE!$AK$7,MD_JAHR,0),0)*$H899,IF(J899>0,AC899,I899))","v":{"v":0,"d":"0.00"}},null,{"$f":"OFFSET(MD!$P$5,MATCH($AK$7,MD_JAHR,0),0)*12","v":{"$error":"#VALUE!"}},{"v":0,"d":"0.00"}]
[{"$nulls":14},{"$f":"IF($B900=\"\",\"\",IF(F900=\"Arbeitgeberähnliche Stellung\",OFFSET(MD!$Q$5,MATCH(Grundlagen_Abrechnung_KAE!$AK$7,MD_JAHR,0),0)*$H900,IF(((AD900/12*M900*12)+N900)>AF900,AF900/12,((AD900/12*M900*12)+N900)/12)))","v":""},null,null,{"v":0,"d":"0.00"},null,{"v":0,"d":"0.00%"},{"v":0,"d":"0.00"},{"v":0,"d":"0.00"},{"v":0,"d":"0.00"},null,"prüfen",{"$f":"IFERROR(OFFSET(MD!$U$5,MATCH(Grundlagen_Abrechnung_KAE!$E900,MD_GENDER,0),0),\"\")","v":""},{"v":0,"d":"0.00"},null,{"v":0,"d":"0.00"},{"$f":"IF(F900=\"Arbeitgeberähnliche Stellung\",OFFSET(MD!$Q$5,MATCH(Grundlagen_Abrechnung_KAE!$AK$7,MD_JAHR,0),0)*$H900,IF(J900>0,AC900,I900))","v":{"v":0,"d":"0.00"}},null,{"$f":"OFFSET(MD!$P$5,MATCH($AK$7,MD_JAHR,0),0)*12","v":{"$error":"#VALUE!"}},{"v":0,"d":"0.00"}]
[{"$nulls":14},{"$f":"IF($B901=\"\",\"\",IF(F901=\"Arbeitgeberähnliche Stellung\",OFFSET(MD!$Q$5,MATCH(Grundlagen_Abrechnung_KAE!$AK$7,MD_JAHR,0),0)*$H901,IF(((AD901/12*M901*12)+N901)>AF901,AF901/12,((AD901/12*M901*12)+N901)/12)))","v":""},null,null,{"v":0,"d":"0.00"},null,{"v":0,"d":"0.00%"},{"v":0,"d":"0.00"},{"v":0,"d":"0.00"},{"v":0,"d":"0.00"},null,"prüfen",{"$f":"IFERROR(OFFSET(MD!$U$5,MATCH(Grundlagen_Abrechnung_KAE!$E901,MD_GENDER,0),0),\"\")","v":""},{"v":0,"d":"0.00"},null,{"v":0,"d":"0.00"},{"$f":"IF(F901=\"Arbeitgeberähnliche Stellung\",OFFSET(MD!$Q$5,MATCH(Grundlagen_Abrechnung_KAE!$AK$7,MD_JAHR,0),0)*$H901,IF(J901>0,AC901,I901))","v":{"v":0,"d":"0.00"}},null,{"$f":"OFFSET(MD!$P$5,MATCH($AK$7,MD_JAHR,0),0)*12","v":{"$error":"#VALUE!"}},{"v":0,"d":"0.00"}]
[{"$nulls":14},{"$f":"IF($B902=\"\",\"\",IF(F902=\"Arbeitgeberähnliche Stellung\",OFFSET(MD!$Q$5,MATCH(Grundlagen_Abrechnung_KAE!$AK$7,MD_JAHR,0),0)*$H902,IF(((AD902/12*M902*12)+N902)>AF902,AF902/12,((AD902/12*M902*12)+N902)/12)))","v":""},null,null,{"v":0,"d":"0.00"},null,{"v":0,"d":"0.00%"},{"v":0,"d":"0.00"},{"v":0,"d":"0.00"},{"v":0,"d":"0.00"},null,"prüfen",{"$f":"IFERROR(OFFSET(MD!$U$5,MATCH(Grundlagen_Abrechnung_KAE!$E902,MD_GENDER,0),0),\"\")","v":""},{"v":0,"d":"0.00"},null,{"v":0,"d":"0.00"},{"$f":"IF(F902=\"Arbeitgeberähnliche Stellung\",OFFSET(MD!$Q$5,MATCH(Grundlagen_Abrechnung_KAE!$AK$7,MD_JAHR,0),0)*$H902,IF(J902>0,AC902,I902))","v":{"v":0,"d":"0.00"}},null,{"$f":"OFFSET(MD!$P$5,MATCH($AK$7,MD_JAHR,0),0)*12","v":{"$error":"#VALUE!"}},{"v":0,"d":"0.00"}]
[{"$nulls":14},{"$f":"IF($B903=\"\",\"\",IF(F903=\"Arbeitgeberähnliche Stellung\",OFFSET(MD!$Q$5,MATCH(Grundlagen_Abrechnung_KAE!$AK$7,MD_JAHR,0),0)*$H903,IF(((AD903/12*M903*12)+N903)>AF903,AF903/12,((AD903/12*M903*12)+N903)/12)))","v":""},null,null,{"v":0,"d":"0.00"},null,{"v":0,"d":"0.00%"},{"v":0,"d":"0.00"},{"v":0,"d":"0.00"},{"v":0,"d":"0.00"},null,"prüfen",{"$f":"IFERROR(OFFSET(MD!$U$5,MATCH(Grundlagen_Abrechnung_KAE!$E903,MD_GENDER,0),0),\"\")","v":""},{"v":0,"d":"0.00"},null,{"v":0,"d":"0.00"},{"$f":"IF(F903=\"Arbeitgeberähnliche Stellung\",OFFSET(MD!$Q$5,MATCH(Grundlagen_Abrechnung_KAE!$AK$7,MD_JAHR,0),0)*$H903,IF(J903>0,AC903,I903))","v":{"v":0,"d":"0.00"}},null,{"$f":"OFFSET(MD!$P$5,MATCH($AK$7,MD_JAHR,0),0)*12","v":{"$error":"#VALUE!"}},{"v":0,"d":"0.00"}]
[{"$nulls":14},{"$f":"IF($B904=\"\",\"\",IF(F904=\"Arbeitgeberähnliche Stellung\",OFFSET(MD!$Q$5,MATCH(Grundlagen_Abrechnung_KAE!$AK$7,MD_JAHR,0),0)*$H904,IF(((AD904/12*M904*12)+N904)>AF904,AF904/12,((AD904/12*M904*12)+N904)/12)))","v":""},null,null,{"v":0,"d":"0.00"},null,{"v":0,"d":"0.00%"},{"v":0,"d":"0.00"},{"v":0,"d":"0.00"},{"v":0,"d":"0.00"},null,"prüfen",{"$f":"IFERROR(OFFSET(MD!$U$5,MATCH(Grundlagen_Abrechnung_KAE!$E904,MD_GENDER,0),0),\"\")","v":""},{"v":0,"d":"0.00"},null,{"v":0,"d":"0.00"},{"$f":"IF(F904=\"Arbeitgeberähnliche Stellung\",OFFSET(MD!$Q$5,MATCH(Grundlagen_Abrechnung_KAE!$AK$7,MD_JAHR,0),0)*$H904,IF(J904>0,AC904,I904))","v":{"v":0,"d":"0.00"}},null,{"$f":"OFFSET(MD!$P$5,MATCH($AK$7,MD_JAHR,0),0)*12","v":{"$error":"#VALUE!"}},{"v":0,"d":"0.00"}]
[{"$nulls":14},{"$f":"IF($B905=\"\",\"\",IF(F905=\"Arbeitgeberähnliche Stellung\",OFFSET(MD!$Q$5,MATCH(Grundlagen_Abrechnung_KAE!$AK$7,MD_JAHR,0),0)*$H905,IF(((AD905/12*M905*12)+N905)>AF905,AF905/12,((AD905/12*M905*12)+N905)/12)))","v":""},null,null,{"v":0,"d":"0.00"},null,{"v":0,"d":"0.00%"},{"v":0,"d":"0.00"},{"v":0,"d":"0.00"},{"v":0,"d":"0.00"},null,"prüfen",{"$f":"IFERROR(OFFSET(MD!$U$5,MATCH(Grundlagen_Abrechnung_KAE!$E905,MD_GENDER,0),0),\"\")","v":""},{"v":0,"d":"0.00"},null,{"v":0,"d":"0.00"},{"$f":"IF(F905=\"Arbeitgeberähnliche Stellung\",OFFSET(MD!$Q$5,MATCH(Grundlagen_Abrechnung_KAE!$AK$7,MD_JAHR,0),0)*$H905,IF(J905>0,AC905,I905))","v":{"v":0,"d":"0.00"}},null,{"$f":"OFFSET(MD!$P$5,MATCH($AK$7,MD_JAHR,0),0)*12","v":{"$error":"#VALUE!"}},{"v":0,"d":"0.00"}]
[{"$nulls":14},{"$f":"IF($B906=\"\",\"\",IF(F906=\"Arbeitgeberähnliche Stellung\",OFFSET(MD!$Q$5,MATCH(Grundlagen_Abrechnung_KAE!$AK$7,MD_JAHR,0),0)*$H906,IF(((AD906/12*M906*12)+N906)>AF906,AF906/12,((AD906/12*M906*12)+N906)/12)))","v":""},null,null,{"v":0,"d":"0.00"},null,{"v":0,"d":"0.00%"},{"v":0,"d":"0.00"},{"v":0,"d":"0.00"},{"v":0,"d":"0.00"},null,"prüfen",{"$f":"IFERROR(OFFSET(MD!$U$5,MATCH(Grundlagen_Abrechnung_KAE!$E906,MD_GENDER,0),0),\"\")","v":""},{"v":0,"d":"0.00"},null,{"v":0,"d":"0.00"},{"$f":"IF(F906=\"Arbeitgeberähnliche Stellung\",OFFSET(MD!$Q$5,MATCH(Grundlagen_Abrechnung_KAE!$AK$7,MD_JAHR,0),0)*$H906,IF(J906>0,AC906,I906))","v":{"v":0,"d":"0.00"}},null,{"$f":"OFFSET(MD!$P$5,MATCH($AK$7,MD_JAHR,0),0)*12","v":{"$error":"#VALUE!"}},{"v":0,"d":"0.00"}]
[{"$nulls":14},{"$f":"IF($B907=\"\",\"\",IF(F907=\"Arbeitgeberähnliche Stellung\",OFFSET(MD!$Q$5,MATCH(Grundlagen_Abrechnung_KAE!$AK$7,MD_JAHR,0),0)*$H907,IF(((AD907/12*M907*12)+N907)>AF907,AF907/12,((AD907/12*M907*12)+N907)/12)))","v":""},null,null,{"v":0,"d":"0.00"},null,{"v":0,"d":"0.00%"},{"v":0,"d":"0.00"},{"v":0,"d":"0.00"},{"v":0,"d":"0.00"},null,"prüfen",{"$f":"IFERROR(OFFSET(MD!$U$5,MATCH(Grundlagen_Abrechnung_KAE!$E907,MD_GENDER,0),0),\"\")","v":""},{"v":0,"d":"0.00"},null,{"v":0,"d":"0.00"},{"$f":"IF(F907=\"Arbeitgeberähnliche Stellung\",OFFSET(MD!$Q$5,MATCH(Grundlagen_Abrechnung_KAE!$AK$7,MD_JAHR,0),0)*$H907,IF(J907>0,AC907,I907))","v":{"v":0,"d":"0.00"}},null,{"$f":"OFFSET(MD!$P$5,MATCH($AK$7,MD_JAHR,0),0)*12","v":{"$error":"#VALUE!"}},{"v":0,"d":"0.00"}]
[{"$nulls":14},{"$f":"IF($B908=\"\",\"\",IF(F908=\"Arbeitgeberähnliche Stellung\",OFFSET(MD!$Q$5,MATCH(Grundlagen_Abrechnung_KAE!$AK$7,MD_JAHR,0),0)*$H908,IF(((AD908/12*M908*12)+N908)>AF908,AF908/12,((AD908/12*M908*12)+N908)/12)))","v":""},null,null,{"v":0,"d":"0.00"},null,{"v":0,"d":"0.00%"},{"v":0,"d":"0.00"},{"v":0,"d":"0.00"},{"v":0,"d":"0.00"},null,"prüfen",{"$f":"IFERROR(OFFSET(MD!$U$5,MATCH(Grundlagen_Abrechnung_KAE!$E908,MD_GENDER,0),0),\"\")","v":""},{"v":0,"d":"0.00"},null,{"v":0,"d":"0.00"},{"$f":"IF(F908=\"Arbeitgeberähnliche Stellung\",OFFSET(MD!$Q$5,MATCH(Grundlagen_Abrechnung_KAE!$AK$7,MD_JAHR,0),0)*$H908,IF(J908>0,AC908,I908))","v":{"v":0,"d":"0.00"}},null,{"$f":"OFFSET(MD!$P$5,MATCH($AK$7,MD_JAHR,0),0)*12","v":{"$error":"#VALUE!"}},{"v":0,"d":"0.00"}]
[{"$nulls":14},{"$f":"IF($B909=\"\",\"\",IF(F909=\"Arbeitgeberähnliche Stellung\",OFFSET(MD!$Q$5,MATCH(Grundlagen_Abrechnung_KAE!$AK$7,MD_JAHR,0),0)*$H909,IF(((AD909/12*M909*12)+N909)>AF909,AF909/12,((AD909/12*M909*12)+N909)/12)))","v":""},null,null,{"v":0,"d":"0.00"},null,{"v":0,"d":"0.00%"},{"v":0,"d":"0.00"},{"v":0,"d":"0.00"},{"v":0,"d":"0.00"},null,"prüfen",{"$f":"IFERROR(OFFSET(MD!$U$5,MATCH(Grundlagen_Abrechnung_KAE!$E909,MD_GENDER,0),0),\"\")","v":""},{"v":0,"d":"0.00"},null,{"v":0,"d":"0.00"},{"$f":"IF(F909=\"Arbeitgeberähnliche Stellung\",OFFSET(MD!$Q$5,MATCH(Grundlagen_Abrechnung_KAE!$AK$7,MD_JAHR,0),0)*$H909,IF(J909>0,AC909,I909))","v":{"v":0,"d":"0.00"}},null,{"$f":"OFFSET(MD!$P$5,MATCH($AK$7,MD_JAHR,0),0)*12","v":{"$error":"#VALUE!"}},{"v":0,"d":"0.00"}]
[{"$nulls":14},{"$f":"IF($B910=\"\",\"\",IF(F910=\"Arbeitgeberähnliche Stellung\",OFFSET(MD!$Q$5,MATCH(Grundlagen_Abrechnung_KAE!$AK$7,MD_JAHR,0),0)*$H910,IF(((AD910/12*M910*12)+N910)>AF910,AF910/12,((AD910/12*M910*12)+N910)/12)))","v":""},null,null,{"v":0,"d":"0.00"},null,{"v":0,"d":"0.00%"},{"v":0,"d":"0.00"},{"v":0,"d":"0.00"},{"v":0,"d":"0.00"},null,"prüfen",{"$f":"IFERROR(OFFSET(MD!$U$5,MATCH(Grundlagen_Abrechnung_KAE!$E910,MD_GENDER,0),0),\"\")","v":""},{"v":0,"d":"0.00"},null,{"v":0,"d":"0.00"},{"$f":"IF(F910=\"Arbeitgeberähnliche Stellung\",OFFSET(MD!$Q$5,MATCH(Grundlagen_Abrechnung_KAE!$AK$7,MD_JAHR,0),0)*$H910,IF(J910>0,AC910,I910))","v":{"v":0,"d":"0.00"}},null,{"$f":"OFFSET(MD!$P$5,MATCH($AK$7,MD_JAHR,0),0)*12","v":{"$error":"#VALUE!"}},{"v":0,"d":"0.00"}]
[{"$nulls":14},{"$f":"IF($B911=\"\",\"\",IF(F911=\"Arbeitgeberähnliche Stellung\",OFFSET(MD!$Q$5,MATCH(Grundlagen_Abrechnung_KAE!$AK$7,MD_JAHR,0),0)*$H911,IF(((AD911/12*M911*12)+N911)>AF911,AF911/12,((AD911/12*M911*12)+N911)/12)))","v":""},null,null,{"v":0,"d":"0.00"},null,{"v":0,"d":"0.00%"},{"v":0,"d":"0.00"},{"v":0,"d":"0.00"},{"v":0,"d":"0.00"},null,"prüfen",{"$f":"IFERROR(OFFSET(MD!$U$5,MATCH(Grundlagen_Abrechnung_KAE!$E911,MD_GENDER,0),0),\"\")","v":""},{"v":0,"d":"0.00"},null,{"v":0,"d":"0.00"},{"$f":"IF(F911=\"Arbeitgeberähnliche Stellung\",OFFSET(MD!$Q$5,MATCH(Grundlagen_Abrechnung_KAE!$AK$7,MD_JAHR,0),0)*$H911,IF(J911>0,AC911,I911))","v":{"v":0,"d":"0.00"}},null,{"$f":"OFFSET(MD!$P$5,MATCH($AK$7,MD_JAHR,0),0)*12","v":{"$error":"#VALUE!"}},{"v":0,"d":"0.00"}]
[{"$nulls":14},{"$f":"IF($B912=\"\",\"\",IF(F912=\"Arbeitgeberähnliche Stellung\",OFFSET(MD!$Q$5,MATCH(Grundlagen_Abrechnung_KAE!$AK$7,MD_JAHR,0),0)*$H912,IF(((AD912/12*M912*12)+N912)>AF912,AF912/12,((AD912/12*M912*12)+N912)/12)))","v":""},null,null,{"v":0,"d":"0.00"},null,{"v":0,"d":"0.00%"},{"v":0,"d":"0.00"},{"v":0,"d":"0.00"},{"v":0,"d":"0.00"},null,"prüfen",{"$f":"IFERROR(OFFSET(MD!$U$5,MATCH(Grundlagen_Abrechnung_KAE!$E912,MD_GENDER,0),0),\"\")","v":""},{"v":0,"d":"0.00"},null,{"v":0,"d":"0.00"},{"$f":"IF(F912=\"Arbeitgeberähnliche Stellung\",OFFSET(MD!$Q$5,MATCH(Grundlagen_Abrechnung_KAE!$AK$7,MD_JAHR,0),0)*$H912,IF(J912>0,AC912,I912))","v":{"v":0,"d":"0.00"}},null,{"$f":"OFFSET(MD!$P$5,MATCH($AK$7,MD_JAHR,0),0)*12","v":{"$error":"#VALUE!"}},{"v":0,"d":"0.00"}]
[{"$nulls":14},{"$f":"IF($B913=\"\",\"\",IF(F913=\"Arbeitgeberähnliche Stellung\",OFFSET(MD!$Q$5,MATCH(Grundlagen_Abrechnung_KAE!$AK$7,MD_JAHR,0),0)*$H913,IF(((AD913/12*M913*12)+N913)>AF913,AF913/12,((AD913/12*M913*12)+N913)/12)))","v":""},null,null,{"v":0,"d":"0.00"},null,{"v":0,"d":"0.00%"},{"v":0,"d":"0.00"},{"v":0,"d":"0.00"},{"v":0,"d":"0.00"},null,"prüfen",{"$f":"IFERROR(OFFSET(MD!$U$5,MATCH(Grundlagen_Abrechnung_KAE!$E913,MD_GENDER,0),0),\"\")","v":""},{"v":0,"d":"0.00"},null,{"v":0,"d":"0.00"},{"$f":"IF(F913=\"Arbeitgeberähnliche Stellung\",OFFSET(MD!$Q$5,MATCH(Grundlagen_Abrechnung_KAE!$AK$7,MD_JAHR,0),0)*$H913,IF(J913>0,AC913,I913))","v":{"v":0,"d":"0.00"}},null,{"$f":"OFFSET(MD!$P$5,MATCH($AK$7,MD_JAHR,0),0)*12","v":{"$error":"#VALUE!"}},{"v":0,"d":"0.00"}]
[{"$nulls":14},{"$f":"IF($B914=\"\",\"\",IF(F914=\"Arbeitgeberähnliche Stellung\",OFFSET(MD!$Q$5,MATCH(Grundlagen_Abrechnung_KAE!$AK$7,MD_JAHR,0),0)*$H914,IF(((AD914/12*M914*12)+N914)>AF914,AF914/12,((AD914/12*M914*12)+N914)/12)))","v":""},null,null,{"v":0,"d":"0.00"},null,{"v":0,"d":"0.00%"},{"v":0,"d":"0.00"},{"v":0,"d":"0.00"},{"v":0,"d":"0.00"},null,"prüfen",{"$f":"IFERROR(OFFSET(MD!$U$5,MATCH(Grundlagen_Abrechnung_KAE!$E914,MD_GENDER,0),0),\"\")","v":""},{"v":0,"d":"0.00"},null,{"v":0,"d":"0.00"},{"$f":"IF(F914=\"Arbeitgeberähnliche Stellung\",OFFSET(MD!$Q$5,MATCH(Grundlagen_Abrechnung_KAE!$AK$7,MD_JAHR,0),0)*$H914,IF(J914>0,AC914,I914))","v":{"v":0,"d":"0.00"}},null,{"$f":"OFFSET(MD!$P$5,MATCH($AK$7,MD_JAHR,0),0)*12","v":{"$error":"#VALUE!"}},{"v":0,"d":"0.00"}]
[{"$nulls":14},{"$f":"IF($B915=\"\",\"\",IF(F915=\"Arbeitgeberähnliche Stellung\",OFFSET(MD!$Q$5,MATCH(Grundlagen_Abrechnung_KAE!$AK$7,MD_JAHR,0),0)*$H915,IF(((AD915/12*M915*12)+N915)>AF915,AF915/12,((AD915/12*M915*12)+N915)/12)))","v":""},null,null,{"$f":"ROUND(IF(Q915=\"\",0,IF(P915=0,0,IF(Q915>P915,0,P915-Q915))),2)","v":{"v":0,"d":"0.00"}},null,{"$f":"IFERROR(R915/P915,0)","v":{"v":0,"d":"0.00%"}},{"$f":"IFERROR(IF(O915-W915=0,O915,(O915)*(1-T915)),0)","v":{"v":0,"d":"0.00"}},{"v":0,"d":"0.00"},{"$f":"IFERROR(O915*T915,0)*0.8","v":{"v":0,"d":"0.00"}},null,{"$f":"IF(YEAR($G915)>$Y$16,\"prüfen\",\"\")","v":"prüfen"},{"$f":"IFERROR(OFFSET(MD!$U$5,MATCH(Grundlagen_Abrechnung_KAE!$E915,MD_GENDER,0),0),\"\")","v":""},{"$f":"IF(B915=\"\",0,IF(YEAR(G915)>$AA$16,0,1))","v":{"v":0,"d":"0.00"}},null,{"$f":"IF(J915*K915/6>J915*L915/12,J915*K915/6,J915*L915/12)","v":{"v":0,"d":"0.00"}},{"$f":"IF(F915=\"Arbeitgeberähnliche Stellung\",OFFSET(MD!$Q$5,MATCH(Grundlagen_Abrechnung_KAE!$AK$7,MD_JAHR,0),0)*$H915,IF(J915>0,AC915,I915))","v":{"v":0,"d":"0.00"}},null,{"$f":"OFFSET(MD!$P$5,MATCH($AK$7,MD_JAHR,0),0)*12","v":{"$error":"#VALUE!"}},{"$f":"I915*M915+N915","v":{"v":0,"d":"0.00"}}]
[{"$nulls":14},{"$f":"IF($B916=\"\",\"\",IF(F916=\"Arbeitgeberähnliche Stellung\",OFFSET(MD!$Q$5,MATCH(Grundlagen_Abrechnung_KAE!$AK$7,MD_JAHR,0),0)*$H916,IF(((AD916/12*M916*12)+N916)>AF916,AF916/12,((AD916/12*M916*12)+N916)/12)))","v":""},null,null,{"v":0,"d":"0.00"},null,{"v":0,"d":"0.00%"},{"v":0,"d":"0.00"},{"$f":"IFERROR(O916*T916,0)","v":{"v":0,"d":"0.00"}},{"v":0,"d":"0.00"},null,"prüfen",{"$f":"IFERROR(OFFSET(MD!$U$5,MATCH(Grundlagen_Abrechnung_KAE!$E916,MD_GENDER,0),0),\"\")","v":""},{"v":0,"d":"0.00"},null,{"v":0,"d":"0.00"},{"$f":"IF(F916=\"Arbeitgeberähnliche Stellung\",OFFSET(MD!$Q$5,MATCH(Grundlagen_Abrechnung_KAE!$AK$7,MD_JAHR,0),0)*$H916,IF(J916>0,AC916,I916))","v":{"v":0,"d":"0.00"}},null,{"$f":"OFFSET(MD!$P$5,MATCH($AK$7,MD_JAHR,0),0)*12","v":{"$error":"#VALUE!"}},{"v":0,"d":"0.00"}]
[{"$nulls":14},{"$f":"IF($B917=\"\",\"\",IF(F917=\"Arbeitgeberähnliche Stellung\",OFFSET(MD!$Q$5,MATCH(Grundlagen_Abrechnung_KAE!$AK$7,MD_JAHR,0),0)*$H917,IF(((AD917/12*M917*12)+N917)>AF917,AF917/12,((AD917/12*M917*12)+N917)/12)))","v":""},null,null,{"v":0,"d":"0.00"},null,{"v":0,"d":"0.00%"},{"v":0,"d":"0.00"},{"v":0,"d":"0.00"},{"v":0,"d":"0.00"},null,"prüfen",{"$f":"IFERROR(OFFSET(MD!$U$5,MATCH(Grundlagen_Abrechnung_KAE!$E917,MD_GENDER,0),0),\"\")","v":""},{"v":0,"d":"0.00"},null,{"v":0,"d":"0.00"},{"$f":"IF(F917=\"Arbeitgeberähnliche Stellung\",OFFSET(MD!$Q$5,MATCH(Grundlagen_Abrechnung_KAE!$AK$7,MD_JAHR,0),0)*$H917,IF(J917>0,AC917,I917))","v":{"v":0,"d":"0.00"}},null,{"$f":"OFFSET(MD!$P$5,MATCH($AK$7,MD_JAHR,0),0)*12","v":{"$error":"#VALUE!"}},{"v":0,"d":"0.00"}]
[{"$nulls":14},{"$f":"IF($B918=\"\",\"\",IF(F918=\"Arbeitgeberähnliche Stellung\",OFFSET(MD!$Q$5,MATCH(Grundlagen_Abrechnung_KAE!$AK$7,MD_JAHR,0),0)*$H918,IF(((AD918/12*M918*12)+N918)>AF918,AF918/12,((AD918/12*M918*12)+N918)/12)))","v":""},null,null,{"v":0,"d":"0.00"},null,{"v":0,"d":"0.00%"},{"v":0,"d":"0.00"},{"v":0,"d":"0.00"},{"v":0,"d":"0.00"},null,"prüfen",{"$f":"IFERROR(OFFSET(MD!$U$5,MATCH(Grundlagen_Abrechnung_KAE!$E918,MD_GENDER,0),0),\"\")","v":""},{"v":0,"d":"0.00"},null,{"v":0,"d":"0.00"},{"$f":"IF(F918=\"Arbeitgeberähnliche Stellung\",OFFSET(MD!$Q$5,MATCH(Grundlagen_Abrechnung_KAE!$AK$7,MD_JAHR,0),0)*$H918,IF(J918>0,AC918,I918))","v":{"v":0,"d":"0.00"}},null,{"$f":"OFFSET(MD!$P$5,MATCH($AK$7,MD_JAHR,0),0)*12","v":{"$error":"#VALUE!"}},{"v":0,"d":"0.00"}]
[{"$nulls":14},{"$f":"IF($B919=\"\",\"\",IF(F919=\"Arbeitgeberähnliche Stellung\",OFFSET(MD!$Q$5,MATCH(Grundlagen_Abrechnung_KAE!$AK$7,MD_JAHR,0),0)*$H919,IF(((AD919/12*M919*12)+N919)>AF919,AF919/12,((AD919/12*M919*12)+N919)/12)))","v":""},null,null,{"v":0,"d":"0.00"},null,{"v":0,"d":"0.00%"},{"v":0,"d":"0.00"},{"v":0,"d":"0.00"},{"v":0,"d":"0.00"},null,"prüfen",{"$f":"IFERROR(OFFSET(MD!$U$5,MATCH(Grundlagen_Abrechnung_KAE!$E919,MD_GENDER,0),0),\"\")","v":""},{"v":0,"d":"0.00"},null,{"v":0,"d":"0.00"},{"$f":"IF(F919=\"Arbeitgeberähnliche Stellung\",OFFSET(MD!$Q$5,MATCH(Grundlagen_Abrechnung_KAE!$AK$7,MD_JAHR,0),0)*$H919,IF(J919>0,AC919,I919))","v":{"v":0,"d":"0.00"}},null,{"$f":"OFFSET(MD!$P$5,MATCH($AK$7,MD_JAHR,0),0)*12","v":{"$error":"#VALUE!"}},{"v":0,"d":"0.00"}]
[{"$nulls":14},{"$f":"IF($B920=\"\",\"\",IF(F920=\"Arbeitgeberähnliche Stellung\",OFFSET(MD!$Q$5,MATCH(Grundlagen_Abrechnung_KAE!$AK$7,MD_JAHR,0),0)*$H920,IF(((AD920/12*M920*12)+N920)>AF920,AF920/12,((AD920/12*M920*12)+N920)/12)))","v":""},null,null,{"v":0,"d":"0.00"},null,{"v":0,"d":"0.00%"},{"v":0,"d":"0.00"},{"v":0,"d":"0.00"},{"v":0,"d":"0.00"},null,"prüfen",{"$f":"IFERROR(OFFSET(MD!$U$5,MATCH(Grundlagen_Abrechnung_KAE!$E920,MD_GENDER,0),0),\"\")","v":""},{"v":0,"d":"0.00"},null,{"v":0,"d":"0.00"},{"$f":"IF(F920=\"Arbeitgeberähnliche Stellung\",OFFSET(MD!$Q$5,MATCH(Grundlagen_Abrechnung_KAE!$AK$7,MD_JAHR,0),0)*$H920,IF(J920>0,AC920,I920))","v":{"v":0,"d":"0.00"}},null,{"$f":"OFFSET(MD!$P$5,MATCH($AK$7,MD_JAHR,0),0)*12","v":{"$error":"#VALUE!"}},{"v":0,"d":"0.00"}]
[{"$nulls":14},{"$f":"IF($B921=\"\",\"\",IF(F921=\"Arbeitgeberähnliche Stellung\",OFFSET(MD!$Q$5,MATCH(Grundlagen_Abrechnung_KAE!$AK$7,MD_JAHR,0),0)*$H921,IF(((AD921/12*M921*12)+N921)>AF921,AF921/12,((AD921/12*M921*12)+N921)/12)))","v":""},null,null,{"v":0,"d":"0.00"},null,{"v":0,"d":"0.00%"},{"v":0,"d":"0.00"},{"v":0,"d":"0.00"},{"v":0,"d":"0.00"},null,"prüfen",{"$f":"IFERROR(OFFSET(MD!$U$5,MATCH(Grundlagen_Abrechnung_KAE!$E921,MD_GENDER,0),0),\"\")","v":""},{"v":0,"d":"0.00"},null,{"v":0,"d":"0.00"},{"$f":"IF(F921=\"Arbeitgeberähnliche Stellung\",OFFSET(MD!$Q$5,MATCH(Grundlagen_Abrechnung_KAE!$AK$7,MD_JAHR,0),0)*$H921,IF(J921>0,AC921,I921))","v":{"v":0,"d":"0.00"}},null,{"$f":"OFFSET(MD!$P$5,MATCH($AK$7,MD_JAHR,0),0)*12","v":{"$error":"#VALUE!"}},{"v":0,"d":"0.00"}]
[{"$nulls":14},{"$f":"IF($B922=\"\",\"\",IF(F922=\"Arbeitgeberähnliche Stellung\",OFFSET(MD!$Q$5,MATCH(Grundlagen_Abrechnung_KAE!$AK$7,MD_JAHR,0),0)*$H922,IF(((AD922/12*M922*12)+N922)>AF922,AF922/12,((AD922/12*M922*12)+N922)/12)))","v":""},null,null,{"v":0,"d":"0.00"},null,{"v":0,"d":"0.00%"},{"v":0,"d":"0.00"},{"v":0,"d":"0.00"},{"v":0,"d":"0.00"},null,"prüfen",{"$f":"IFERROR(OFFSET(MD!$U$5,MATCH(Grundlagen_Abrechnung_KAE!$E922,MD_GENDER,0),0),\"\")","v":""},{"v":0,"d":"0.00"},null,{"v":0,"d":"0.00"},{"$f":"IF(F922=\"Arbeitgeberähnliche Stellung\",OFFSET(MD!$Q$5,MATCH(Grundlagen_Abrechnung_KAE!$AK$7,MD_JAHR,0),0)*$H922,IF(J922>0,AC922,I922))","v":{"v":0,"d":"0.00"}},null,{"$f":"OFFSET(MD!$P$5,MATCH($AK$7,MD_JAHR,0),0)*12","v":{"$error":"#VALUE!"}},{"v":0,"d":"0.00"}]
[{"$nulls":14},{"$f":"IF($B923=\"\",\"\",IF(F923=\"Arbeitgeberähnliche Stellung\",OFFSET(MD!$Q$5,MATCH(Grundlagen_Abrechnung_KAE!$AK$7,MD_JAHR,0),0)*$H923,IF(((AD923/12*M923*12)+N923)>AF923,AF923/12,((AD923/12*M923*12)+N923)/12)))","v":""},null,null,{"v":0,"d":"0.00"},null,{"v":0,"d":"0.00%"},{"v":0,"d":"0.00"},{"v":0,"d":"0.00"},{"v":0,"d":"0.00"},null,"prüfen",{"$f":"IFERROR(OFFSET(MD!$U$5,MATCH(Grundlagen_Abrechnung_KAE!$E923,MD_GENDER,0),0),\"\")","v":""},{"v":0,"d":"0.00"},null,{"v":0,"d":"0.00"},{"$f":"IF(F923=\"Arbeitgeberähnliche Stellung\",OFFSET(MD!$Q$5,MATCH(Grundlagen_Abrechnung_KAE!$AK$7,MD_JAHR,0),0)*$H923,IF(J923>0,AC923,I923))","v":{"v":0,"d":"0.00"}},null,{"$f":"OFFSET(MD!$P$5,MATCH($AK$7,MD_JAHR,0),0)*12","v":{"$error":"#VALUE!"}},{"v":0,"d":"0.00"}]
[{"$nulls":14},{"$f":"IF($B924=\"\",\"\",IF(F924=\"Arbeitgeberähnliche Stellung\",OFFSET(MD!$Q$5,MATCH(Grundlagen_Abrechnung_KAE!$AK$7,MD_JAHR,0),0)*$H924,IF(((AD924/12*M924*12)+N924)>AF924,AF924/12,((AD924/12*M924*12)+N924)/12)))","v":""},null,null,{"v":0,"d":"0.00"},null,{"v":0,"d":"0.00%"},{"v":0,"d":"0.00"},{"v":0,"d":"0.00"},{"v":0,"d":"0.00"},null,"prüfen",{"$f":"IFERROR(OFFSET(MD!$U$5,MATCH(Grundlagen_Abrechnung_KAE!$E924,MD_GENDER,0),0),\"\")","v":""},{"v":0,"d":"0.00"},null,{"v":0,"d":"0.00"},{"$f":"IF(F924=\"Arbeitgeberähnliche Stellung\",OFFSET(MD!$Q$5,MATCH(Grundlagen_Abrechnung_KAE!$AK$7,MD_JAHR,0),0)*$H924,IF(J924>0,AC924,I924))","v":{"v":0,"d":"0.00"}},null,{"$f":"OFFSET(MD!$P$5,MATCH($AK$7,MD_JAHR,0),0)*12","v":{"$error":"#VALUE!"}},{"v":0,"d":"0.00"}]
[{"$nulls":14},{"$f":"IF($B925=\"\",\"\",IF(F925=\"Arbeitgeberähnliche Stellung\",OFFSET(MD!$Q$5,MATCH(Grundlagen_Abrechnung_KAE!$AK$7,MD_JAHR,0),0)*$H925,IF(((AD925/12*M925*12)+N925)>AF925,AF925/12,((AD925/12*M925*12)+N925)/12)))","v":""},null,null,{"v":0,"d":"0.00"},null,{"v":0,"d":"0.00%"},{"v":0,"d":"0.00"},{"v":0,"d":"0.00"},{"v":0,"d":"0.00"},null,"prüfen",{"$f":"IFERROR(OFFSET(MD!$U$5,MATCH(Grundlagen_Abrechnung_KAE!$E925,MD_GENDER,0),0),\"\")","v":""},{"v":0,"d":"0.00"},null,{"v":0,"d":"0.00"},{"$f":"IF(F925=\"Arbeitgeberähnliche Stellung\",OFFSET(MD!$Q$5,MATCH(Grundlagen_Abrechnung_KAE!$AK$7,MD_JAHR,0),0)*$H925,IF(J925>0,AC925,I925))","v":{"v":0,"d":"0.00"}},null,{"$f":"OFFSET(MD!$P$5,MATCH($AK$7,MD_JAHR,0),0)*12","v":{"$error":"#VALUE!"}},{"v":0,"d":"0.00"}]
[{"$nulls":14},{"$f":"IF($B926=\"\",\"\",IF(F926=\"Arbeitgeberähnliche Stellung\",OFFSET(MD!$Q$5,MATCH(Grundlagen_Abrechnung_KAE!$AK$7,MD_JAHR,0),0)*$H926,IF(((AD926/12*M926*12)+N926)>AF926,AF926/12,((AD926/12*M926*12)+N926)/12)))","v":""},null,null,{"v":0,"d":"0.00"},null,{"v":0,"d":"0.00%"},{"v":0,"d":"0.00"},{"v":0,"d":"0.00"},{"v":0,"d":"0.00"},null,"prüfen",{"$f":"IFERROR(OFFSET(MD!$U$5,MATCH(Grundlagen_Abrechnung_KAE!$E926,MD_GENDER,0),0),\"\")","v":""},{"v":0,"d":"0.00"},null,{"v":0,"d":"0.00"},{"$f":"IF(F926=\"Arbeitgeberähnliche Stellung\",OFFSET(MD!$Q$5,MATCH(Grundlagen_Abrechnung_KAE!$AK$7,MD_JAHR,0),0)*$H926,IF(J926>0,AC926,I926))","v":{"v":0,"d":"0.00"}},null,{"$f":"OFFSET(MD!$P$5,MATCH($AK$7,MD_JAHR,0),0)*12","v":{"$error":"#VALUE!"}},{"v":0,"d":"0.00"}]
[{"$nulls":14},{"$f":"IF($B927=\"\",\"\",IF(F927=\"Arbeitgeberähnliche Stellung\",OFFSET(MD!$Q$5,MATCH(Grundlagen_Abrechnung_KAE!$AK$7,MD_JAHR,0),0)*$H927,IF(((AD927/12*M927*12)+N927)>AF927,AF927/12,((AD927/12*M927*12)+N927)/12)))","v":""},null,null,{"v":0,"d":"0.00"},null,{"v":0,"d":"0.00%"},{"v":0,"d":"0.00"},{"v":0,"d":"0.00"},{"v":0,"d":"0.00"},null,"prüfen",{"$f":"IFERROR(OFFSET(MD!$U$5,MATCH(Grundlagen_Abrechnung_KAE!$E927,MD_GENDER,0),0),\"\")","v":""},{"v":0,"d":"0.00"},null,{"v":0,"d":"0.00"},{"$f":"IF(F927=\"Arbeitgeberähnliche Stellung\",OFFSET(MD!$Q$5,MATCH(Grundlagen_Abrechnung_KAE!$AK$7,MD_JAHR,0),0)*$H927,IF(J927>0,AC927,I927))","v":{"v":0,"d":"0.00"}},null,{"$f":"OFFSET(MD!$P$5,MATCH($AK$7,MD_JAHR,0),0)*12","v":{"$error":"#VALUE!"}},{"v":0,"d":"0.00"}]
[{"$nulls":14},{"$f":"IF($B928=\"\",\"\",IF(F928=\"Arbeitgeberähnliche Stellung\",OFFSET(MD!$Q$5,MATCH(Grundlagen_Abrechnung_KAE!$AK$7,MD_JAHR,0),0)*$H928,IF(((AD928/12*M928*12)+N928)>AF928,AF928/12,((AD928/12*M928*12)+N928)/12)))","v":""},null,null,{"v":0,"d":"0.00"},null,{"v":0,"d":"0.00%"},{"v":0,"d":"0.00"},{"v":0,"d":"0.00"},{"v":0,"d":"0.00"},null,"prüfen",{"$f":"IFERROR(OFFSET(MD!$U$5,MATCH(Grundlagen_Abrechnung_KAE!$E928,MD_GENDER,0),0),\"\")","v":""},{"v":0,"d":"0.00"},null,{"v":0,"d":"0.00"},{"$f":"IF(F928=\"Arbeitgeberähnliche Stellung\",OFFSET(MD!$Q$5,MATCH(Grundlagen_Abrechnung_KAE!$AK$7,MD_JAHR,0),0)*$H928,IF(J928>0,AC928,I928))","v":{"v":0,"d":"0.00"}},null,{"$f":"OFFSET(MD!$P$5,MATCH($AK$7,MD_JAHR,0),0)*12","v":{"$error":"#VALUE!"}},{"v":0,"d":"0.00"}]
[{"$nulls":14},{"$f":"IF($B929=\"\",\"\",IF(F929=\"Arbeitgeberähnliche Stellung\",OFFSET(MD!$Q$5,MATCH(Grundlagen_Abrechnung_KAE!$AK$7,MD_JAHR,0),0)*$H929,IF(((AD929/12*M929*12)+N929)>AF929,AF929/12,((AD929/12*M929*12)+N929)/12)))","v":""},null,null,{"v":0,"d":"0.00"},null,{"v":0,"d":"0.00%"},{"v":0,"d":"0.00"},{"v":0,"d":"0.00"},{"v":0,"d":"0.00"},null,"prüfen",{"$f":"IFERROR(OFFSET(MD!$U$5,MATCH(Grundlagen_Abrechnung_KAE!$E929,MD_GENDER,0),0),\"\")","v":""},{"v":0,"d":"0.00"},null,{"v":0,"d":"0.00"},{"$f":"IF(F929=\"Arbeitgeberähnliche Stellung\",OFFSET(MD!$Q$5,MATCH(Grundlagen_Abrechnung_KAE!$AK$7,MD_JAHR,0),0)*$H929,IF(J929>0,AC929,I929))","v":{"v":0,"d":"0.00"}},null,{"$f":"OFFSET(MD!$P$5,MATCH($AK$7,MD_JAHR,0),0)*12","v":{"$error":"#VALUE!"}},{"v":0,"d":"0.00"}]
[{"$nulls":14},{"$f":"IF($B930=\"\",\"\",IF(F930=\"Arbeitgeberähnliche Stellung\",OFFSET(MD!$Q$5,MATCH(Grundlagen_Abrechnung_KAE!$AK$7,MD_JAHR,0),0)*$H930,IF(((AD930/12*M930*12)+N930)>AF930,AF930/12,((AD930/12*M930*12)+N930)/12)))","v":""},null,null,{"v":0,"d":"0.00"},null,{"v":0,"d":"0.00%"},{"v":0,"d":"0.00"},{"v":0,"d":"0.00"},{"v":0,"d":"0.00"},null,"prüfen",{"$f":"IFERROR(OFFSET(MD!$U$5,MATCH(Grundlagen_Abrechnung_KAE!$E930,MD_GENDER,0),0),\"\")","v":""},{"v":0,"d":"0.00"},null,{"v":0,"d":"0.00"},{"$f":"IF(F930=\"Arbeitgeberähnliche Stellung\",OFFSET(MD!$Q$5,MATCH(Grundlagen_Abrechnung_KAE!$AK$7,MD_JAHR,0),0)*$H930,IF(J930>0,AC930,I930))","v":{"v":0,"d":"0.00"}},null,{"$f":"OFFSET(MD!$P$5,MATCH($AK$7,MD_JAHR,0),0)*12","v":{"$error":"#VALUE!"}},{"v":0,"d":"0.00"}]
[{"$nulls":14},{"$f":"IF($B931=\"\",\"\",IF(F931=\"Arbeitgeberähnliche Stellung\",OFFSET(MD!$Q$5,MATCH(Grundlagen_Abrechnung_KAE!$AK$7,MD_JAHR,0),0)*$H931,IF(((AD931/12*M931*12)+N931)>AF931,AF931/12,((AD931/12*M931*12)+N931)/12)))","v":""},null,null,{"v":0,"d":"0.00"},null,{"v":0,"d":"0.00%"},{"v":0,"d":"0.00"},{"v":0,"d":"0.00"},{"v":0,"d":"0.00"},null,"prüfen",{"$f":"IFERROR(OFFSET(MD!$U$5,MATCH(Grundlagen_Abrechnung_KAE!$E931,MD_GENDER,0),0),\"\")","v":""},{"v":0,"d":"0.00"},null,{"v":0,"d":"0.00"},{"$f":"IF(F931=\"Arbeitgeberähnliche Stellung\",OFFSET(MD!$Q$5,MATCH(Grundlagen_Abrechnung_KAE!$AK$7,MD_JAHR,0),0)*$H931,IF(J931>0,AC931,I931))","v":{"v":0,"d":"0.00"}},null,{"$f":"OFFSET(MD!$P$5,MATCH($AK$7,MD_JAHR,0),0)*12","v":{"$error":"#VALUE!"}},{"v":0,"d":"0.00"}]
[{"$nulls":14},{"$f":"IF($B932=\"\",\"\",IF(F932=\"Arbeitgeberähnliche Stellung\",OFFSET(MD!$Q$5,MATCH(Grundlagen_Abrechnung_KAE!$AK$7,MD_JAHR,0),0)*$H932,IF(((AD932/12*M932*12)+N932)>AF932,AF932/12,((AD932/12*M932*12)+N932)/12)))","v":""},null,null,{"v":0,"d":"0.00"},null,{"v":0,"d":"0.00%"},{"v":0,"d":"0.00"},{"v":0,"d":"0.00"},{"v":0,"d":"0.00"},null,"prüfen",{"$f":"IFERROR(OFFSET(MD!$U$5,MATCH(Grundlagen_Abrechnung_KAE!$E932,MD_GENDER,0),0),\"\")","v":""},{"v":0,"d":"0.00"},null,{"v":0,"d":"0.00"},{"$f":"IF(F932=\"Arbeitgeberähnliche Stellung\",OFFSET(MD!$Q$5,MATCH(Grundlagen_Abrechnung_KAE!$AK$7,MD_JAHR,0),0)*$H932,IF(J932>0,AC932,I932))","v":{"v":0,"d":"0.00"}},null,{"$f":"OFFSET(MD!$P$5,MATCH($AK$7,MD_JAHR,0),0)*12","v":{"$error":"#VALUE!"}},{"v":0,"d":"0.00"}]
[{"$nulls":14},{"$f":"IF($B933=\"\",\"\",IF(F933=\"Arbeitgeberähnliche Stellung\",OFFSET(MD!$Q$5,MATCH(Grundlagen_Abrechnung_KAE!$AK$7,MD_JAHR,0),0)*$H933,IF(((AD933/12*M933*12)+N933)>AF933,AF933/12,((AD933/12*M933*12)+N933)/12)))","v":""},null,null,{"v":0,"d":"0.00"},null,{"v":0,"d":"0.00%"},{"v":0,"d":"0.00"},{"v":0,"d":"0.00"},{"v":0,"d":"0.00"},null,"prüfen",{"$f":"IFERROR(OFFSET(MD!$U$5,MATCH(Grundlagen_Abrechnung_KAE!$E933,MD_GENDER,0),0),\"\")","v":""},{"v":0,"d":"0.00"},null,{"v":0,"d":"0.00"},{"$f":"IF(F933=\"Arbeitgeberähnliche Stellung\",OFFSET(MD!$Q$5,MATCH(Grundlagen_Abrechnung_KAE!$AK$7,MD_JAHR,0),0)*$H933,IF(J933>0,AC933,I933))","v":{"v":0,"d":"0.00"}},null,{"$f":"OFFSET(MD!$P$5,MATCH($AK$7,MD_JAHR,0),0)*12","v":{"$error":"#VALUE!"}},{"v":0,"d":"0.00"}]
[{"$nulls":14},{"$f":"IF($B934=\"\",\"\",IF(F934=\"Arbeitgeberähnliche Stellung\",OFFSET(MD!$Q$5,MATCH(Grundlagen_Abrechnung_KAE!$AK$7,MD_JAHR,0),0)*$H934,IF(((AD934/12*M934*12)+N934)>AF934,AF934/12,((AD934/12*M934*12)+N934)/12)))","v":""},null,null,{"v":0,"d":"0.00"},null,{"v":0,"d":"0.00%"},{"v":0,"d":"0.00"},{"v":0,"d":"0.00"},{"v":0,"d":"0.00"},null,"prüfen",{"$f":"IFERROR(OFFSET(MD!$U$5,MATCH(Grundlagen_Abrechnung_KAE!$E934,MD_GENDER,0),0),\"\")","v":""},{"v":0,"d":"0.00"},null,{"v":0,"d":"0.00"},{"$f":"IF(F934=\"Arbeitgeberähnliche Stellung\",OFFSET(MD!$Q$5,MATCH(Grundlagen_Abrechnung_KAE!$AK$7,MD_JAHR,0),0)*$H934,IF(J934>0,AC934,I934))","v":{"v":0,"d":"0.00"}},null,{"$f":"OFFSET(MD!$P$5,MATCH($AK$7,MD_JAHR,0),0)*12","v":{"$error":"#VALUE!"}},{"v":0,"d":"0.00"}]
[{"$nulls":14},{"$f":"IF($B935=\"\",\"\",IF(F935=\"Arbeitgeberähnliche Stellung\",OFFSET(MD!$Q$5,MATCH(Grundlagen_Abrechnung_KAE!$AK$7,MD_JAHR,0),0)*$H935,IF(((AD935/12*M935*12)+N935)>AF935,AF935/12,((AD935/12*M935*12)+N935)/12)))","v":""},null,null,{"v":0,"d":"0.00"},null,{"v":0,"d":"0.00%"},{"v":0,"d":"0.00"},{"v":0,"d":"0.00"},{"v":0,"d":"0.00"},null,"prüfen",{"$f":"IFERROR(OFFSET(MD!$U$5,MATCH(Grundlagen_Abrechnung_KAE!$E935,MD_GENDER,0),0),\"\")","v":""},{"v":0,"d":"0.00"},null,{"v":0,"d":"0.00"},{"$f":"IF(F935=\"Arbeitgeberähnliche Stellung\",OFFSET(MD!$Q$5,MATCH(Grundlagen_Abrechnung_KAE!$AK$7,MD_JAHR,0),0)*$H935,IF(J935>0,AC935,I935))","v":{"v":0,"d":"0.00"}},null,{"$f":"OFFSET(MD!$P$5,MATCH($AK$7,MD_JAHR,0),0)*12","v":{"$error":"#VALUE!"}},{"v":0,"d":"0.00"}]
[{"$nulls":14},{"$f":"IF($B936=\"\",\"\",IF(F936=\"Arbeitgeberähnliche Stellung\",OFFSET(MD!$Q$5,MATCH(Grundlagen_Abrechnung_KAE!$AK$7,MD_JAHR,0),0)*$H936,IF(((AD936/12*M936*12)+N936)>AF936,AF936/12,((AD936/12*M936*12)+N936)/12)))","v":""},null,null,{"v":0,"d":"0.00"},null,{"v":0,"d":"0.00%"},{"v":0,"d":"0.00"},{"v":0,"d":"0.00"},{"v":0,"d":"0.00"},null,"prüfen",{"$f":"IFERROR(OFFSET(MD!$U$5,MATCH(Grundlagen_Abrechnung_KAE!$E936,MD_GENDER,0),0),\"\")","v":""},{"v":0,"d":"0.00"},null,{"v":0,"d":"0.00"},{"$f":"IF(F936=\"Arbeitgeberähnliche Stellung\",OFFSET(MD!$Q$5,MATCH(Grundlagen_Abrechnung_KAE!$AK$7,MD_JAHR,0),0)*$H936,IF(J936>0,AC936,I936))","v":{"v":0,"d":"0.00"}},null,{"$f":"OFFSET(MD!$P$5,MATCH($AK$7,MD_JAHR,0),0)*12","v":{"$error":"#VALUE!"}},{"v":0,"d":"0.00"}]
[{"$nulls":14},{"$f":"IF($B937=\"\",\"\",IF(F937=\"Arbeitgeberähnliche Stellung\",OFFSET(MD!$Q$5,MATCH(Grundlagen_Abrechnung_KAE!$AK$7,MD_JAHR,0),0)*$H937,IF(((AD937/12*M937*12)+N937)>AF937,AF937/12,((AD937/12*M937*12)+N937)/12)))","v":""},null,null,{"v":0,"d":"0.00"},null,{"v":0,"d":"0.00%"},{"v":0,"d":"0.00"},{"v":0,"d":"0.00"},{"v":0,"d":"0.00"},null,"prüfen",{"$f":"IFERROR(OFFSET(MD!$U$5,MATCH(Grundlagen_Abrechnung_KAE!$E937,MD_GENDER,0),0),\"\")","v":""},{"v":0,"d":"0.00"},null,{"v":0,"d":"0.00"},{"$f":"IF(F937=\"Arbeitgeberähnliche Stellung\",OFFSET(MD!$Q$5,MATCH(Grundlagen_Abrechnung_KAE!$AK$7,MD_JAHR,0),0)*$H937,IF(J937>0,AC937,I937))","v":{"v":0,"d":"0.00"}},null,{"$f":"OFFSET(MD!$P$5,MATCH($AK$7,MD_JAHR,0),0)*12","v":{"$error":"#VALUE!"}},{"v":0,"d":"0.00"}]
[{"$nulls":14},{"$f":"IF($B938=\"\",\"\",IF(F938=\"Arbeitgeberähnliche Stellung\",OFFSET(MD!$Q$5,MATCH(Grundlagen_Abrechnung_KAE!$AK$7,MD_JAHR,0),0)*$H938,IF(((AD938/12*M938*12)+N938)>AF938,AF938/12,((AD938/12*M938*12)+N938)/12)))","v":""},null,null,{"v":0,"d":"0.00"},null,{"v":0,"d":"0.00%"},{"v":0,"d":"0.00"},{"v":0,"d":"0.00"},{"v":0,"d":"0.00"},null,"prüfen",{"$f":"IFERROR(OFFSET(MD!$U$5,MATCH(Grundlagen_Abrechnung_KAE!$E938,MD_GENDER,0),0),\"\")","v":""},{"v":0,"d":"0.00"},null,{"v":0,"d":"0.00"},{"$f":"IF(F938=\"Arbeitgeberähnliche Stellung\",OFFSET(MD!$Q$5,MATCH(Grundlagen_Abrechnung_KAE!$AK$7,MD_JAHR,0),0)*$H938,IF(J938>0,AC938,I938))","v":{"v":0,"d":"0.00"}},null,{"$f":"OFFSET(MD!$P$5,MATCH($AK$7,MD_JAHR,0),0)*12","v":{"$error":"#VALUE!"}},{"v":0,"d":"0.00"}]
[{"$nulls":14},{"$f":"IF($B939=\"\",\"\",IF(F939=\"Arbeitgeberähnliche Stellung\",OFFSET(MD!$Q$5,MATCH(Grundlagen_Abrechnung_KAE!$AK$7,MD_JAHR,0),0)*$H939,IF(((AD939/12*M939*12)+N939)>AF939,AF939/12,((AD939/12*M939*12)+N939)/12)))","v":""},null,null,{"v":0,"d":"0.00"},null,{"v":0,"d":"0.00%"},{"v":0,"d":"0.00"},{"v":0,"d":"0.00"},{"v":0,"d":"0.00"},null,"prüfen",{"$f":"IFERROR(OFFSET(MD!$U$5,MATCH(Grundlagen_Abrechnung_KAE!$E939,MD_GENDER,0),0),\"\")","v":""},{"v":0,"d":"0.00"},null,{"v":0,"d":"0.00"},{"$f":"IF(F939=\"Arbeitgeberähnliche Stellung\",OFFSET(MD!$Q$5,MATCH(Grundlagen_Abrechnung_KAE!$AK$7,MD_JAHR,0),0)*$H939,IF(J939>0,AC939,I939))","v":{"v":0,"d":"0.00"}},null,{"$f":"OFFSET(MD!$P$5,MATCH($AK$7,MD_JAHR,0),0)*12","v":{"$error":"#VALUE!"}},{"v":0,"d":"0.00"}]
[{"$nulls":14},{"$f":"IF($B940=\"\",\"\",IF(F940=\"Arbeitgeberähnliche Stellung\",OFFSET(MD!$Q$5,MATCH(Grundlagen_Abrechnung_KAE!$AK$7,MD_JAHR,0),0)*$H940,IF(((AD940/12*M940*12)+N940)>AF940,AF940/12,((AD940/12*M940*12)+N940)/12)))","v":""},null,null,{"v":0,"d":"0.00"},null,{"v":0,"d":"0.00%"},{"v":0,"d":"0.00"},{"v":0,"d":"0.00"},{"v":0,"d":"0.00"},null,"prüfen",{"$f":"IFERROR(OFFSET(MD!$U$5,MATCH(Grundlagen_Abrechnung_KAE!$E940,MD_GENDER,0),0),\"\")","v":""},{"v":0,"d":"0.00"},null,{"v":0,"d":"0.00"},{"$f":"IF(F940=\"Arbeitgeberähnliche Stellung\",OFFSET(MD!$Q$5,MATCH(Grundlagen_Abrechnung_KAE!$AK$7,MD_JAHR,0),0)*$H940,IF(J940>0,AC940,I940))","v":{"v":0,"d":"0.00"}},null,{"$f":"OFFSET(MD!$P$5,MATCH($AK$7,MD_JAHR,0),0)*12","v":{"$error":"#VALUE!"}},{"v":0,"d":"0.00"}]
[{"$nulls":14},{"$f":"IF($B941=\"\",\"\",IF(F941=\"Arbeitgeberähnliche Stellung\",OFFSET(MD!$Q$5,MATCH(Grundlagen_Abrechnung_KAE!$AK$7,MD_JAHR,0),0)*$H941,IF(((AD941/12*M941*12)+N941)>AF941,AF941/12,((AD941/12*M941*12)+N941)/12)))","v":""},null,null,{"v":0,"d":"0.00"},null,{"v":0,"d":"0.00%"},{"v":0,"d":"0.00"},{"v":0,"d":"0.00"},{"v":0,"d":"0.00"},null,"prüfen",{"$f":"IFERROR(OFFSET(MD!$U$5,MATCH(Grundlagen_Abrechnung_KAE!$E941,MD_GENDER,0),0),\"\")","v":""},{"v":0,"d":"0.00"},null,{"v":0,"d":"0.00"},{"$f":"IF(F941=\"Arbeitgeberähnliche Stellung\",OFFSET(MD!$Q$5,MATCH(Grundlagen_Abrechnung_KAE!$AK$7,MD_JAHR,0),0)*$H941,IF(J941>0,AC941,I941))","v":{"v":0,"d":"0.00"}},null,{"$f":"OFFSET(MD!$P$5,MATCH($AK$7,MD_JAHR,0),0)*12","v":{"$error":"#VALUE!"}},{"v":0,"d":"0.00"}]
[{"$nulls":14},{"$f":"IF($B942=\"\",\"\",IF(F942=\"Arbeitgeberähnliche Stellung\",OFFSET(MD!$Q$5,MATCH(Grundlagen_Abrechnung_KAE!$AK$7,MD_JAHR,0),0)*$H942,IF(((AD942/12*M942*12)+N942)>AF942,AF942/12,((AD942/12*M942*12)+N942)/12)))","v":""},null,null,{"v":0,"d":"0.00"},null,{"v":0,"d":"0.00%"},{"v":0,"d":"0.00"},{"v":0,"d":"0.00"},{"v":0,"d":"0.00"},null,"prüfen",{"$f":"IFERROR(OFFSET(MD!$U$5,MATCH(Grundlagen_Abrechnung_KAE!$E942,MD_GENDER,0),0),\"\")","v":""},{"v":0,"d":"0.00"},null,{"v":0,"d":"0.00"},{"$f":"IF(F942=\"Arbeitgeberähnliche Stellung\",OFFSET(MD!$Q$5,MATCH(Grundlagen_Abrechnung_KAE!$AK$7,MD_JAHR,0),0)*$H942,IF(J942>0,AC942,I942))","v":{"v":0,"d":"0.00"}},null,{"$f":"OFFSET(MD!$P$5,MATCH($AK$7,MD_JAHR,0),0)*12","v":{"$error":"#VALUE!"}},{"v":0,"d":"0.00"}]
[{"$nulls":14},{"$f":"IF($B943=\"\",\"\",IF(F943=\"Arbeitgeberähnliche Stellung\",OFFSET(MD!$Q$5,MATCH(Grundlagen_Abrechnung_KAE!$AK$7,MD_JAHR,0),0)*$H943,IF(((AD943/12*M943*12)+N943)>AF943,AF943/12,((AD943/12*M943*12)+N943)/12)))","v":""},null,null,{"v":0,"d":"0.00"},null,{"v":0,"d":"0.00%"},{"v":0,"d":"0.00"},{"v":0,"d":"0.00"},{"v":0,"d":"0.00"},null,"prüfen",{"$f":"IFERROR(OFFSET(MD!$U$5,MATCH(Grundlagen_Abrechnung_KAE!$E943,MD_GENDER,0),0),\"\")","v":""},{"v":0,"d":"0.00"},null,{"v":0,"d":"0.00"},{"$f":"IF(F943=\"Arbeitgeberähnliche Stellung\",OFFSET(MD!$Q$5,MATCH(Grundlagen_Abrechnung_KAE!$AK$7,MD_JAHR,0),0)*$H943,IF(J943>0,AC943,I943))","v":{"v":0,"d":"0.00"}},null,{"$f":"OFFSET(MD!$P$5,MATCH($AK$7,MD_JAHR,0),0)*12","v":{"$error":"#VALUE!"}},{"v":0,"d":"0.00"}]
[{"$nulls":14},{"$f":"IF($B944=\"\",\"\",IF(F944=\"Arbeitgeberähnliche Stellung\",OFFSET(MD!$Q$5,MATCH(Grundlagen_Abrechnung_KAE!$AK$7,MD_JAHR,0),0)*$H944,IF(((AD944/12*M944*12)+N944)>AF944,AF944/12,((AD944/12*M944*12)+N944)/12)))","v":""},null,null,{"v":0,"d":"0.00"},null,{"v":0,"d":"0.00%"},{"v":0,"d":"0.00"},{"v":0,"d":"0.00"},{"v":0,"d":"0.00"},null,"prüfen",{"$f":"IFERROR(OFFSET(MD!$U$5,MATCH(Grundlagen_Abrechnung_KAE!$E944,MD_GENDER,0),0),\"\")","v":""},{"v":0,"d":"0.00"},null,{"v":0,"d":"0.00"},{"$f":"IF(F944=\"Arbeitgeberähnliche Stellung\",OFFSET(MD!$Q$5,MATCH(Grundlagen_Abrechnung_KAE!$AK$7,MD_JAHR,0),0)*$H944,IF(J944>0,AC944,I944))","v":{"v":0,"d":"0.00"}},null,{"$f":"OFFSET(MD!$P$5,MATCH($AK$7,MD_JAHR,0),0)*12","v":{"$error":"#VALUE!"}},{"v":0,"d":"0.00"}]
[{"$nulls":14},{"$f":"IF($B945=\"\",\"\",IF(F945=\"Arbeitgeberähnliche Stellung\",OFFSET(MD!$Q$5,MATCH(Grundlagen_Abrechnung_KAE!$AK$7,MD_JAHR,0),0)*$H945,IF(((AD945/12*M945*12)+N945)>AF945,AF945/12,((AD945/12*M945*12)+N945)/12)))","v":""},null,null,{"v":0,"d":"0.00"},null,{"v":0,"d":"0.00%"},{"v":0,"d":"0.00"},{"v":0,"d":"0.00"},{"v":0,"d":"0.00"},null,"prüfen",{"$f":"IFERROR(OFFSET(MD!$U$5,MATCH(Grundlagen_Abrechnung_KAE!$E945,MD_GENDER,0),0),\"\")","v":""},{"v":0,"d":"0.00"},null,{"v":0,"d":"0.00"},{"$f":"IF(F945=\"Arbeitgeberähnliche Stellung\",OFFSET(MD!$Q$5,MATCH(Grundlagen_Abrechnung_KAE!$AK$7,MD_JAHR,0),0)*$H945,IF(J945>0,AC945,I945))","v":{"v":0,"d":"0.00"}},null,{"$f":"OFFSET(MD!$P$5,MATCH($AK$7,MD_JAHR,0),0)*12","v":{"$error":"#VALUE!"}},{"v":0,"d":"0.00"}]
[{"$nulls":14},{"$f":"IF($B946=\"\",\"\",IF(F946=\"Arbeitgeberähnliche Stellung\",OFFSET(MD!$Q$5,MATCH(Grundlagen_Abrechnung_KAE!$AK$7,MD_JAHR,0),0)*$H946,IF(((AD946/12*M946*12)+N946)>AF946,AF946/12,((AD946/12*M946*12)+N946)/12)))","v":""},null,null,{"v":0,"d":"0.00"},null,{"v":0,"d":"0.00%"},{"v":0,"d":"0.00"},{"v":0,"d":"0.00"},{"v":0,"d":"0.00"},null,"prüfen",{"$f":"IFERROR(OFFSET(MD!$U$5,MATCH(Grundlagen_Abrechnung_KAE!$E946,MD_GENDER,0),0),\"\")","v":""},{"v":0,"d":"0.00"},null,{"v":0,"d":"0.00"},{"$f":"IF(F946=\"Arbeitgeberähnliche Stellung\",OFFSET(MD!$Q$5,MATCH(Grundlagen_Abrechnung_KAE!$AK$7,MD_JAHR,0),0)*$H946,IF(J946>0,AC946,I946))","v":{"v":0,"d":"0.00"}},null,{"$f":"OFFSET(MD!$P$5,MATCH($AK$7,MD_JAHR,0),0)*12","v":{"$error":"#VALUE!"}},{"v":0,"d":"0.00"}]
[{"$nulls":14},{"$f":"IF($B947=\"\",\"\",IF(F947=\"Arbeitgeberähnliche Stellung\",OFFSET(MD!$Q$5,MATCH(Grundlagen_Abrechnung_KAE!$AK$7,MD_JAHR,0),0)*$H947,IF(((AD947/12*M947*12)+N947)>AF947,AF947/12,((AD947/12*M947*12)+N947)/12)))","v":""},null,null,{"v":0,"d":"0.00"},null,{"v":0,"d":"0.00%"},{"v":0,"d":"0.00"},{"v":0,"d":"0.00"},{"v":0,"d":"0.00"},null,"prüfen",{"$f":"IFERROR(OFFSET(MD!$U$5,MATCH(Grundlagen_Abrechnung_KAE!$E947,MD_GENDER,0),0),\"\")","v":""},{"v":0,"d":"0.00"},null,{"v":0,"d":"0.00"},{"$f":"IF(F947=\"Arbeitgeberähnliche Stellung\",OFFSET(MD!$Q$5,MATCH(Grundlagen_Abrechnung_KAE!$AK$7,MD_JAHR,0),0)*$H947,IF(J947>0,AC947,I947))","v":{"v":0,"d":"0.00"}},null,{"$f":"OFFSET(MD!$P$5,MATCH($AK$7,MD_JAHR,0),0)*12","v":{"$error":"#VALUE!"}},{"v":0,"d":"0.00"}]
[{"$nulls":14},{"$f":"IF($B948=\"\",\"\",IF(F948=\"Arbeitgeberähnliche Stellung\",OFFSET(MD!$Q$5,MATCH(Grundlagen_Abrechnung_KAE!$AK$7,MD_JAHR,0),0)*$H948,IF(((AD948/12*M948*12)+N948)>AF948,AF948/12,((AD948/12*M948*12)+N948)/12)))","v":""},null,null,{"v":0,"d":"0.00"},null,{"v":0,"d":"0.00%"},{"v":0,"d":"0.00"},{"v":0,"d":"0.00"},{"v":0,"d":"0.00"},null,"prüfen",{"$f":"IFERROR(OFFSET(MD!$U$5,MATCH(Grundlagen_Abrechnung_KAE!$E948,MD_GENDER,0),0),\"\")","v":""},{"v":0,"d":"0.00"},null,{"v":0,"d":"0.00"},{"$f":"IF(F948=\"Arbeitgeberähnliche Stellung\",OFFSET(MD!$Q$5,MATCH(Grundlagen_Abrechnung_KAE!$AK$7,MD_JAHR,0),0)*$H948,IF(J948>0,AC948,I948))","v":{"v":0,"d":"0.00"}},null,{"$f":"OFFSET(MD!$P$5,MATCH($AK$7,MD_JAHR,0),0)*12","v":{"$error":"#VALUE!"}},{"v":0,"d":"0.00"}]
[{"$nulls":14},{"$f":"IF($B949=\"\",\"\",IF(F949=\"Arbeitgeberähnliche Stellung\",OFFSET(MD!$Q$5,MATCH(Grundlagen_Abrechnung_KAE!$AK$7,MD_JAHR,0),0)*$H949,IF(((AD949/12*M949*12)+N949)>AF949,AF949/12,((AD949/12*M949*12)+N949)/12)))","v":""},null,null,{"v":0,"d":"0.00"},null,{"v":0,"d":"0.00%"},{"v":0,"d":"0.00"},{"v":0,"d":"0.00"},{"v":0,"d":"0.00"},null,"prüfen",{"$f":"IFERROR(OFFSET(MD!$U$5,MATCH(Grundlagen_Abrechnung_KAE!$E949,MD_GENDER,0),0),\"\")","v":""},{"v":0,"d":"0.00"},null,{"v":0,"d":"0.00"},{"$f":"IF(F949=\"Arbeitgeberähnliche Stellung\",OFFSET(MD!$Q$5,MATCH(Grundlagen_Abrechnung_KAE!$AK$7,MD_JAHR,0),0)*$H949,IF(J949>0,AC949,I949))","v":{"v":0,"d":"0.00"}},null,{"$f":"OFFSET(MD!$P$5,MATCH($AK$7,MD_JAHR,0),0)*12","v":{"$error":"#VALUE!"}},{"v":0,"d":"0.00"}]
[{"$nulls":14},{"$f":"IF($B950=\"\",\"\",IF(F950=\"Arbeitgeberähnliche Stellung\",OFFSET(MD!$Q$5,MATCH(Grundlagen_Abrechnung_KAE!$AK$7,MD_JAHR,0),0)*$H950,IF(((AD950/12*M950*12)+N950)>AF950,AF950/12,((AD950/12*M950*12)+N950)/12)))","v":""},null,null,{"v":0,"d":"0.00"},null,{"v":0,"d":"0.00%"},{"v":0,"d":"0.00"},{"v":0,"d":"0.00"},{"v":0,"d":"0.00"},null,"prüfen",{"$f":"IFERROR(OFFSET(MD!$U$5,MATCH(Grundlagen_Abrechnung_KAE!$E950,MD_GENDER,0),0),\"\")","v":""},{"v":0,"d":"0.00"},null,{"v":0,"d":"0.00"},{"$f":"IF(F950=\"Arbeitgeberähnliche Stellung\",OFFSET(MD!$Q$5,MATCH(Grundlagen_Abrechnung_KAE!$AK$7,MD_JAHR,0),0)*$H950,IF(J950>0,AC950,I950))","v":{"v":0,"d":"0.00"}},null,{"$f":"OFFSET(MD!$P$5,MATCH($AK$7,MD_JAHR,0),0)*12","v":{"$error":"#VALUE!"}},{"v":0,"d":"0.00"}]
[{"$nulls":14},{"$f":"IF($B951=\"\",\"\",IF(F951=\"Arbeitgeberähnliche Stellung\",OFFSET(MD!$Q$5,MATCH(Grundlagen_Abrechnung_KAE!$AK$7,MD_JAHR,0),0)*$H951,IF(((AD951/12*M951*12)+N951)>AF951,AF951/12,((AD951/12*M951*12)+N951)/12)))","v":""},null,null,{"v":0,"d":"0.00"},null,{"v":0,"d":"0.00%"},{"v":0,"d":"0.00"},{"v":0,"d":"0.00"},{"v":0,"d":"0.00"},null,"prüfen",{"$f":"IFERROR(OFFSET(MD!$U$5,MATCH(Grundlagen_Abrechnung_KAE!$E951,MD_GENDER,0),0),\"\")","v":""},{"v":0,"d":"0.00"},null,{"v":0,"d":"0.00"},{"$f":"IF(F951=\"Arbeitgeberähnliche Stellung\",OFFSET(MD!$Q$5,MATCH(Grundlagen_Abrechnung_KAE!$AK$7,MD_JAHR,0),0)*$H951,IF(J951>0,AC951,I951))","v":{"v":0,"d":"0.00"}},null,{"$f":"OFFSET(MD!$P$5,MATCH($AK$7,MD_JAHR,0),0)*12","v":{"$error":"#VALUE!"}},{"v":0,"d":"0.00"}]
[{"$nulls":14},{"$f":"IF($B952=\"\",\"\",IF(F952=\"Arbeitgeberähnliche Stellung\",OFFSET(MD!$Q$5,MATCH(Grundlagen_Abrechnung_KAE!$AK$7,MD_JAHR,0),0)*$H952,IF(((AD952/12*M952*12)+N952)>AF952,AF952/12,((AD952/12*M952*12)+N952)/12)))","v":""},null,null,{"v":0,"d":"0.00"},null,{"v":0,"d":"0.00%"},{"v":0,"d":"0.00"},{"v":0,"d":"0.00"},{"v":0,"d":"0.00"},null,"prüfen",{"$f":"IFERROR(OFFSET(MD!$U$5,MATCH(Grundlagen_Abrechnung_KAE!$E952,MD_GENDER,0),0),\"\")","v":""},{"v":0,"d":"0.00"},null,{"v":0,"d":"0.00"},{"$f":"IF(F952=\"Arbeitgeberähnliche Stellung\",OFFSET(MD!$Q$5,MATCH(Grundlagen_Abrechnung_KAE!$AK$7,MD_JAHR,0),0)*$H952,IF(J952>0,AC952,I952))","v":{"v":0,"d":"0.00"}},null,{"$f":"OFFSET(MD!$P$5,MATCH($AK$7,MD_JAHR,0),0)*12","v":{"$error":"#VALUE!"}},{"v":0,"d":"0.00"}]
[{"$nulls":14},{"$f":"IF($B953=\"\",\"\",IF(F953=\"Arbeitgeberähnliche Stellung\",OFFSET(MD!$Q$5,MATCH(Grundlagen_Abrechnung_KAE!$AK$7,MD_JAHR,0),0)*$H953,IF(((AD953/12*M953*12)+N953)>AF953,AF953/12,((AD953/12*M953*12)+N953)/12)))","v":""},null,null,{"v":0,"d":"0.00"},null,{"v":0,"d":"0.00%"},{"v":0,"d":"0.00"},{"v":0,"d":"0.00"},{"v":0,"d":"0.00"},null,"prüfen",{"$f":"IFERROR(OFFSET(MD!$U$5,MATCH(Grundlagen_Abrechnung_KAE!$E953,MD_GENDER,0),0),\"\")","v":""},{"v":0,"d":"0.00"},null,{"v":0,"d":"0.00"},{"$f":"IF(F953=\"Arbeitgeberähnliche Stellung\",OFFSET(MD!$Q$5,MATCH(Grundlagen_Abrechnung_KAE!$AK$7,MD_JAHR,0),0)*$H953,IF(J953>0,AC953,I953))","v":{"v":0,"d":"0.00"}},null,{"$f":"OFFSET(MD!$P$5,MATCH($AK$7,MD_JAHR,0),0)*12","v":{"$error":"#VALUE!"}},{"v":0,"d":"0.00"}]
[{"$nulls":14},{"$f":"IF($B954=\"\",\"\",IF(F954=\"Arbeitgeberähnliche Stellung\",OFFSET(MD!$Q$5,MATCH(Grundlagen_Abrechnung_KAE!$AK$7,MD_JAHR,0),0)*$H954,IF(((AD954/12*M954*12)+N954)>AF954,AF954/12,((AD954/12*M954*12)+N954)/12)))","v":""},null,null,{"v":0,"d":"0.00"},null,{"v":0,"d":"0.00%"},{"v":0,"d":"0.00"},{"v":0,"d":"0.00"},{"v":0,"d":"0.00"},null,"prüfen",{"$f":"IFERROR(OFFSET(MD!$U$5,MATCH(Grundlagen_Abrechnung_KAE!$E954,MD_GENDER,0),0),\"\")","v":""},{"v":0,"d":"0.00"},null,{"v":0,"d":"0.00"},{"$f":"IF(F954=\"Arbeitgeberähnliche Stellung\",OFFSET(MD!$Q$5,MATCH(Grundlagen_Abrechnung_KAE!$AK$7,MD_JAHR,0),0)*$H954,IF(J954>0,AC954,I954))","v":{"v":0,"d":"0.00"}},null,{"$f":"OFFSET(MD!$P$5,MATCH($AK$7,MD_JAHR,0),0)*12","v":{"$error":"#VALUE!"}},{"v":0,"d":"0.00"}]
[{"$nulls":14},{"$f":"IF($B955=\"\",\"\",IF(F955=\"Arbeitgeberähnliche Stellung\",OFFSET(MD!$Q$5,MATCH(Grundlagen_Abrechnung_KAE!$AK$7,MD_JAHR,0),0)*$H955,IF(((AD955/12*M955*12)+N955)>AF955,AF955/12,((AD955/12*M955*12)+N955)/12)))","v":""},null,null,{"v":0,"d":"0.00"},null,{"v":0,"d":"0.00%"},{"v":0,"d":"0.00"},{"v":0,"d":"0.00"},{"v":0,"d":"0.00"},null,"prüfen",{"$f":"IFERROR(OFFSET(MD!$U$5,MATCH(Grundlagen_Abrechnung_KAE!$E955,MD_GENDER,0),0),\"\")","v":""},{"v":0,"d":"0.00"},null,{"v":0,"d":"0.00"},{"$f":"IF(F955=\"Arbeitgeberähnliche Stellung\",OFFSET(MD!$Q$5,MATCH(Grundlagen_Abrechnung_KAE!$AK$7,MD_JAHR,0),0)*$H955,IF(J955>0,AC955,I955))","v":{"v":0,"d":"0.00"}},null,{"$f":"OFFSET(MD!$P$5,MATCH($AK$7,MD_JAHR,0),0)*12","v":{"$error":"#VALUE!"}},{"v":0,"d":"0.00"}]
[{"$nulls":14},{"$f":"IF($B956=\"\",\"\",IF(F956=\"Arbeitgeberähnliche Stellung\",OFFSET(MD!$Q$5,MATCH(Grundlagen_Abrechnung_KAE!$AK$7,MD_JAHR,0),0)*$H956,IF(((AD956/12*M956*12)+N956)>AF956,AF956/12,((AD956/12*M956*12)+N956)/12)))","v":""},null,null,{"v":0,"d":"0.00"},null,{"v":0,"d":"0.00%"},{"v":0,"d":"0.00"},{"v":0,"d":"0.00"},{"v":0,"d":"0.00"},null,"prüfen",{"$f":"IFERROR(OFFSET(MD!$U$5,MATCH(Grundlagen_Abrechnung_KAE!$E956,MD_GENDER,0),0),\"\")","v":""},{"v":0,"d":"0.00"},null,{"v":0,"d":"0.00"},{"$f":"IF(F956=\"Arbeitgeberähnliche Stellung\",OFFSET(MD!$Q$5,MATCH(Grundlagen_Abrechnung_KAE!$AK$7,MD_JAHR,0),0)*$H956,IF(J956>0,AC956,I956))","v":{"v":0,"d":"0.00"}},null,{"$f":"OFFSET(MD!$P$5,MATCH($AK$7,MD_JAHR,0),0)*12","v":{"$error":"#VALUE!"}},{"v":0,"d":"0.00"}]
[{"$nulls":14},{"$f":"IF($B957=\"\",\"\",IF(F957=\"Arbeitgeberähnliche Stellung\",OFFSET(MD!$Q$5,MATCH(Grundlagen_Abrechnung_KAE!$AK$7,MD_JAHR,0),0)*$H957,IF(((AD957/12*M957*12)+N957)>AF957,AF957/12,((AD957/12*M957*12)+N957)/12)))","v":""},null,null,{"v":0,"d":"0.00"},null,{"v":0,"d":"0.00%"},{"v":0,"d":"0.00"},{"v":0,"d":"0.00"},{"v":0,"d":"0.00"},null,"prüfen",{"$f":"IFERROR(OFFSET(MD!$U$5,MATCH(Grundlagen_Abrechnung_KAE!$E957,MD_GENDER,0),0),\"\")","v":""},{"v":0,"d":"0.00"},null,{"v":0,"d":"0.00"},{"$f":"IF(F957=\"Arbeitgeberähnliche Stellung\",OFFSET(MD!$Q$5,MATCH(Grundlagen_Abrechnung_KAE!$AK$7,MD_JAHR,0),0)*$H957,IF(J957>0,AC957,I957))","v":{"v":0,"d":"0.00"}},null,{"$f":"OFFSET(MD!$P$5,MATCH($AK$7,MD_JAHR,0),0)*12","v":{"$error":"#VALUE!"}},{"v":0,"d":"0.00"}]
[{"$nulls":14},{"$f":"IF($B958=\"\",\"\",IF(F958=\"Arbeitgeberähnliche Stellung\",OFFSET(MD!$Q$5,MATCH(Grundlagen_Abrechnung_KAE!$AK$7,MD_JAHR,0),0)*$H958,IF(((AD958/12*M958*12)+N958)>AF958,AF958/12,((AD958/12*M958*12)+N958)/12)))","v":""},null,null,{"v":0,"d":"0.00"},null,{"v":0,"d":"0.00%"},{"v":0,"d":"0.00"},{"v":0,"d":"0.00"},{"v":0,"d":"0.00"},null,"prüfen",{"$f":"IFERROR(OFFSET(MD!$U$5,MATCH(Grundlagen_Abrechnung_KAE!$E958,MD_GENDER,0),0),\"\")","v":""},{"v":0,"d":"0.00"},null,{"v":0,"d":"0.00"},{"$f":"IF(F958=\"Arbeitgeberähnliche Stellung\",OFFSET(MD!$Q$5,MATCH(Grundlagen_Abrechnung_KAE!$AK$7,MD_JAHR,0),0)*$H958,IF(J958>0,AC958,I958))","v":{"v":0,"d":"0.00"}},null,{"$f":"OFFSET(MD!$P$5,MATCH($AK$7,MD_JAHR,0),0)*12","v":{"$error":"#VALUE!"}},{"v":0,"d":"0.00"}]
[{"$nulls":14},{"$f":"IF($B959=\"\",\"\",IF(F959=\"Arbeitgeberähnliche Stellung\",OFFSET(MD!$Q$5,MATCH(Grundlagen_Abrechnung_KAE!$AK$7,MD_JAHR,0),0)*$H959,IF(((AD959/12*M959*12)+N959)>AF959,AF959/12,((AD959/12*M959*12)+N959)/12)))","v":""},null,null,{"v":0,"d":"0.00"},null,{"v":0,"d":"0.00%"},{"v":0,"d":"0.00"},{"v":0,"d":"0.00"},{"v":0,"d":"0.00"},null,"prüfen",{"$f":"IFERROR(OFFSET(MD!$U$5,MATCH(Grundlagen_Abrechnung_KAE!$E959,MD_GENDER,0),0),\"\")","v":""},{"v":0,"d":"0.00"},null,{"v":0,"d":"0.00"},{"$f":"IF(F959=\"Arbeitgeberähnliche Stellung\",OFFSET(MD!$Q$5,MATCH(Grundlagen_Abrechnung_KAE!$AK$7,MD_JAHR,0),0)*$H959,IF(J959>0,AC959,I959))","v":{"v":0,"d":"0.00"}},null,{"$f":"OFFSET(MD!$P$5,MATCH($AK$7,MD_JAHR,0),0)*12","v":{"$error":"#VALUE!"}},{"v":0,"d":"0.00"}]
[{"$nulls":14},{"$f":"IF($B960=\"\",\"\",IF(F960=\"Arbeitgeberähnliche Stellung\",OFFSET(MD!$Q$5,MATCH(Grundlagen_Abrechnung_KAE!$AK$7,MD_JAHR,0),0)*$H960,IF(((AD960/12*M960*12)+N960)>AF960,AF960/12,((AD960/12*M960*12)+N960)/12)))","v":""},null,null,{"v":0,"d":"0.00"},null,{"v":0,"d":"0.00%"},{"v":0,"d":"0.00"},{"v":0,"d":"0.00"},{"v":0,"d":"0.00"},null,"prüfen",{"$f":"IFERROR(OFFSET(MD!$U$5,MATCH(Grundlagen_Abrechnung_KAE!$E960,MD_GENDER,0),0),\"\")","v":""},{"v":0,"d":"0.00"},null,{"v":0,"d":"0.00"},{"$f":"IF(F960=\"Arbeitgeberähnliche Stellung\",OFFSET(MD!$Q$5,MATCH(Grundlagen_Abrechnung_KAE!$AK$7,MD_JAHR,0),0)*$H960,IF(J960>0,AC960,I960))","v":{"v":0,"d":"0.00"}},null,{"$f":"OFFSET(MD!$P$5,MATCH($AK$7,MD_JAHR,0),0)*12","v":{"$error":"#VALUE!"}},{"v":0,"d":"0.00"}]
[{"$nulls":14},{"$f":"IF($B961=\"\",\"\",IF(F961=\"Arbeitgeberähnliche Stellung\",OFFSET(MD!$Q$5,MATCH(Grundlagen_Abrechnung_KAE!$AK$7,MD_JAHR,0),0)*$H961,IF(((AD961/12*M961*12)+N961)>AF961,AF961/12,((AD961/12*M961*12)+N961)/12)))","v":""},null,null,{"v":0,"d":"0.00"},null,{"v":0,"d":"0.00%"},{"v":0,"d":"0.00"},{"v":0,"d":"0.00"},{"v":0,"d":"0.00"},null,"prüfen",{"$f":"IFERROR(OFFSET(MD!$U$5,MATCH(Grundlagen_Abrechnung_KAE!$E961,MD_GENDER,0),0),\"\")","v":""},{"v":0,"d":"0.00"},null,{"v":0,"d":"0.00"},{"$f":"IF(F961=\"Arbeitgeberähnliche Stellung\",OFFSET(MD!$Q$5,MATCH(Grundlagen_Abrechnung_KAE!$AK$7,MD_JAHR,0),0)*$H961,IF(J961>0,AC961,I961))","v":{"v":0,"d":"0.00"}},null,{"$f":"OFFSET(MD!$P$5,MATCH($AK$7,MD_JAHR,0),0)*12","v":{"$error":"#VALUE!"}},{"v":0,"d":"0.00"}]
[{"$nulls":14},{"$f":"IF($B962=\"\",\"\",IF(F962=\"Arbeitgeberähnliche Stellung\",OFFSET(MD!$Q$5,MATCH(Grundlagen_Abrechnung_KAE!$AK$7,MD_JAHR,0),0)*$H962,IF(((AD962/12*M962*12)+N962)>AF962,AF962/12,((AD962/12*M962*12)+N962)/12)))","v":""},null,null,{"v":0,"d":"0.00"},null,{"v":0,"d":"0.00%"},{"v":0,"d":"0.00"},{"v":0,"d":"0.00"},{"v":0,"d":"0.00"},null,"prüfen",{"$f":"IFERROR(OFFSET(MD!$U$5,MATCH(Grundlagen_Abrechnung_KAE!$E962,MD_GENDER,0),0),\"\")","v":""},{"v":0,"d":"0.00"},null,{"v":0,"d":"0.00"},{"$f":"IF(F962=\"Arbeitgeberähnliche Stellung\",OFFSET(MD!$Q$5,MATCH(Grundlagen_Abrechnung_KAE!$AK$7,MD_JAHR,0),0)*$H962,IF(J962>0,AC962,I962))","v":{"v":0,"d":"0.00"}},null,{"$f":"OFFSET(MD!$P$5,MATCH($AK$7,MD_JAHR,0),0)*12","v":{"$error":"#VALUE!"}},{"v":0,"d":"0.00"}]
[{"$nulls":14},{"$f":"IF($B963=\"\",\"\",IF(F963=\"Arbeitgeberähnliche Stellung\",OFFSET(MD!$Q$5,MATCH(Grundlagen_Abrechnung_KAE!$AK$7,MD_JAHR,0),0)*$H963,IF(((AD963/12*M963*12)+N963)>AF963,AF963/12,((AD963/12*M963*12)+N963)/12)))","v":""},null,null,{"v":0,"d":"0.00"},null,{"v":0,"d":"0.00%"},{"v":0,"d":"0.00"},{"v":0,"d":"0.00"},{"v":0,"d":"0.00"},null,"prüfen",{"$f":"IFERROR(OFFSET(MD!$U$5,MATCH(Grundlagen_Abrechnung_KAE!$E963,MD_GENDER,0),0),\"\")","v":""},{"v":0,"d":"0.00"},null,{"v":0,"d":"0.00"},{"$f":"IF(F963=\"Arbeitgeberähnliche Stellung\",OFFSET(MD!$Q$5,MATCH(Grundlagen_Abrechnung_KAE!$AK$7,MD_JAHR,0),0)*$H963,IF(J963>0,AC963,I963))","v":{"v":0,"d":"0.00"}},null,{"$f":"OFFSET(MD!$P$5,MATCH($AK$7,MD_JAHR,0),0)*12","v":{"$error":"#VALUE!"}},{"v":0,"d":"0.00"}]
[{"$nulls":14},{"$f":"IF($B964=\"\",\"\",IF(F964=\"Arbeitgeberähnliche Stellung\",OFFSET(MD!$Q$5,MATCH(Grundlagen_Abrechnung_KAE!$AK$7,MD_JAHR,0),0)*$H964,IF(((AD964/12*M964*12)+N964)>AF964,AF964/12,((AD964/12*M964*12)+N964)/12)))","v":""},null,null,{"v":0,"d":"0.00"},null,{"v":0,"d":"0.00%"},{"v":0,"d":"0.00"},{"v":0,"d":"0.00"},{"v":0,"d":"0.00"},null,"prüfen",{"$f":"IFERROR(OFFSET(MD!$U$5,MATCH(Grundlagen_Abrechnung_KAE!$E964,MD_GENDER,0),0),\"\")","v":""},{"v":0,"d":"0.00"},null,{"v":0,"d":"0.00"},{"$f":"IF(F964=\"Arbeitgeberähnliche Stellung\",OFFSET(MD!$Q$5,MATCH(Grundlagen_Abrechnung_KAE!$AK$7,MD_JAHR,0),0)*$H964,IF(J964>0,AC964,I964))","v":{"v":0,"d":"0.00"}},null,{"$f":"OFFSET(MD!$P$5,MATCH($AK$7,MD_JAHR,0),0)*12","v":{"$error":"#VALUE!"}},{"v":0,"d":"0.00"}]
[{"$nulls":14},{"$f":"IF($B965=\"\",\"\",IF(F965=\"Arbeitgeberähnliche Stellung\",OFFSET(MD!$Q$5,MATCH(Grundlagen_Abrechnung_KAE!$AK$7,MD_JAHR,0),0)*$H965,IF(((AD965/12*M965*12)+N965)>AF965,AF965/12,((AD965/12*M965*12)+N965)/12)))","v":""},null,null,{"v":0,"d":"0.00"},null,{"v":0,"d":"0.00%"},{"v":0,"d":"0.00"},{"v":0,"d":"0.00"},{"v":0,"d":"0.00"},null,"prüfen",{"$f":"IFERROR(OFFSET(MD!$U$5,MATCH(Grundlagen_Abrechnung_KAE!$E965,MD_GENDER,0),0),\"\")","v":""},{"v":0,"d":"0.00"},null,{"v":0,"d":"0.00"},{"$f":"IF(F965=\"Arbeitgeberähnliche Stellung\",OFFSET(MD!$Q$5,MATCH(Grundlagen_Abrechnung_KAE!$AK$7,MD_JAHR,0),0)*$H965,IF(J965>0,AC965,I965))","v":{"v":0,"d":"0.00"}},null,{"$f":"OFFSET(MD!$P$5,MATCH($AK$7,MD_JAHR,0),0)*12","v":{"$error":"#VALUE!"}},{"v":0,"d":"0.00"}]
[{"$nulls":14},{"$f":"IF($B966=\"\",\"\",IF(F966=\"Arbeitgeberähnliche Stellung\",OFFSET(MD!$Q$5,MATCH(Grundlagen_Abrechnung_KAE!$AK$7,MD_JAHR,0),0)*$H966,IF(((AD966/12*M966*12)+N966)>AF966,AF966/12,((AD966/12*M966*12)+N966)/12)))","v":""},null,null,{"v":0,"d":"0.00"},null,{"v":0,"d":"0.00%"},{"v":0,"d":"0.00"},{"v":0,"d":"0.00"},{"v":0,"d":"0.00"},null,"prüfen",{"$f":"IFERROR(OFFSET(MD!$U$5,MATCH(Grundlagen_Abrechnung_KAE!$E966,MD_GENDER,0),0),\"\")","v":""},{"v":0,"d":"0.00"},null,{"v":0,"d":"0.00"},{"$f":"IF(F966=\"Arbeitgeberähnliche Stellung\",OFFSET(MD!$Q$5,MATCH(Grundlagen_Abrechnung_KAE!$AK$7,MD_JAHR,0),0)*$H966,IF(J966>0,AC966,I966))","v":{"v":0,"d":"0.00"}},null,{"$f":"OFFSET(MD!$P$5,MATCH($AK$7,MD_JAHR,0),0)*12","v":{"$error":"#VALUE!"}},{"v":0,"d":"0.00"}]
[{"$nulls":14},{"$f":"IF($B967=\"\",\"\",IF(F967=\"Arbeitgeberähnliche Stellung\",OFFSET(MD!$Q$5,MATCH(Grundlagen_Abrechnung_KAE!$AK$7,MD_JAHR,0),0)*$H967,IF(((AD967/12*M967*12)+N967)>AF967,AF967/12,((AD967/12*M967*12)+N967)/12)))","v":""},null,null,{"v":0,"d":"0.00"},null,{"v":0,"d":"0.00%"},{"v":0,"d":"0.00"},{"v":0,"d":"0.00"},{"v":0,"d":"0.00"},null,"prüfen",{"$f":"IFERROR(OFFSET(MD!$U$5,MATCH(Grundlagen_Abrechnung_KAE!$E967,MD_GENDER,0),0),\"\")","v":""},{"v":0,"d":"0.00"},null,{"v":0,"d":"0.00"},{"$f":"IF(F967=\"Arbeitgeberähnliche Stellung\",OFFSET(MD!$Q$5,MATCH(Grundlagen_Abrechnung_KAE!$AK$7,MD_JAHR,0),0)*$H967,IF(J967>0,AC967,I967))","v":{"v":0,"d":"0.00"}},null,{"$f":"OFFSET(MD!$P$5,MATCH($AK$7,MD_JAHR,0),0)*12","v":{"$error":"#VALUE!"}},{"v":0,"d":"0.00"}]
[{"$nulls":14},{"$f":"IF($B968=\"\",\"\",IF(F968=\"Arbeitgeberähnliche Stellung\",OFFSET(MD!$Q$5,MATCH(Grundlagen_Abrechnung_KAE!$AK$7,MD_JAHR,0),0)*$H968,IF(((AD968/12*M968*12)+N968)>AF968,AF968/12,((AD968/12*M968*12)+N968)/12)))","v":""},null,null,{"v":0,"d":"0.00"},null,{"v":0,"d":"0.00%"},{"v":0,"d":"0.00"},{"v":0,"d":"0.00"},{"v":0,"d":"0.00"},null,"prüfen",{"$f":"IFERROR(OFFSET(MD!$U$5,MATCH(Grundlagen_Abrechnung_KAE!$E968,MD_GENDER,0),0),\"\")","v":""},{"v":0,"d":"0.00"},null,{"v":0,"d":"0.00"},{"$f":"IF(F968=\"Arbeitgeberähnliche Stellung\",OFFSET(MD!$Q$5,MATCH(Grundlagen_Abrechnung_KAE!$AK$7,MD_JAHR,0),0)*$H968,IF(J968>0,AC968,I968))","v":{"v":0,"d":"0.00"}},null,{"$f":"OFFSET(MD!$P$5,MATCH($AK$7,MD_JAHR,0),0)*12","v":{"$error":"#VALUE!"}},{"v":0,"d":"0.00"}]
[{"$nulls":14},{"$f":"IF($B969=\"\",\"\",IF(F969=\"Arbeitgeberähnliche Stellung\",OFFSET(MD!$Q$5,MATCH(Grundlagen_Abrechnung_KAE!$AK$7,MD_JAHR,0),0)*$H969,IF(((AD969/12*M969*12)+N969)>AF969,AF969/12,((AD969/12*M969*12)+N969)/12)))","v":""},null,null,{"v":0,"d":"0.00"},null,{"v":0,"d":"0.00%"},{"v":0,"d":"0.00"},{"v":0,"d":"0.00"},{"v":0,"d":"0.00"},null,"prüfen",{"$f":"IFERROR(OFFSET(MD!$U$5,MATCH(Grundlagen_Abrechnung_KAE!$E969,MD_GENDER,0),0),\"\")","v":""},{"v":0,"d":"0.00"},null,{"v":0,"d":"0.00"},{"$f":"IF(F969=\"Arbeitgeberähnliche Stellung\",OFFSET(MD!$Q$5,MATCH(Grundlagen_Abrechnung_KAE!$AK$7,MD_JAHR,0),0)*$H969,IF(J969>0,AC969,I969))","v":{"v":0,"d":"0.00"}},null,{"$f":"OFFSET(MD!$P$5,MATCH($AK$7,MD_JAHR,0),0)*12","v":{"$error":"#VALUE!"}},{"v":0,"d":"0.00"}]
[{"$nulls":14},{"$f":"IF($B970=\"\",\"\",IF(F970=\"Arbeitgeberähnliche Stellung\",OFFSET(MD!$Q$5,MATCH(Grundlagen_Abrechnung_KAE!$AK$7,MD_JAHR,0),0)*$H970,IF(((AD970/12*M970*12)+N970)>AF970,AF970/12,((AD970/12*M970*12)+N970)/12)))","v":""},null,null,{"v":0,"d":"0.00"},null,{"v":0,"d":"0.00%"},{"v":0,"d":"0.00"},{"v":0,"d":"0.00"},{"v":0,"d":"0.00"},null,"prüfen",{"$f":"IFERROR(OFFSET(MD!$U$5,MATCH(Grundlagen_Abrechnung_KAE!$E970,MD_GENDER,0),0),\"\")","v":""},{"v":0,"d":"0.00"},null,{"v":0,"d":"0.00"},{"$f":"IF(F970=\"Arbeitgeberähnliche Stellung\",OFFSET(MD!$Q$5,MATCH(Grundlagen_Abrechnung_KAE!$AK$7,MD_JAHR,0),0)*$H970,IF(J970>0,AC970,I970))","v":{"v":0,"d":"0.00"}},null,{"$f":"OFFSET(MD!$P$5,MATCH($AK$7,MD_JAHR,0),0)*12","v":{"$error":"#VALUE!"}},{"v":0,"d":"0.00"}]
[{"$nulls":14},{"$f":"IF($B971=\"\",\"\",IF(F971=\"Arbeitgeberähnliche Stellung\",OFFSET(MD!$Q$5,MATCH(Grundlagen_Abrechnung_KAE!$AK$7,MD_JAHR,0),0)*$H971,IF(((AD971/12*M971*12)+N971)>AF971,AF971/12,((AD971/12*M971*12)+N971)/12)))","v":""},null,null,{"v":0,"d":"0.00"},null,{"v":0,"d":"0.00%"},{"v":0,"d":"0.00"},{"v":0,"d":"0.00"},{"v":0,"d":"0.00"},null,"prüfen",{"$f":"IFERROR(OFFSET(MD!$U$5,MATCH(Grundlagen_Abrechnung_KAE!$E971,MD_GENDER,0),0),\"\")","v":""},{"v":0,"d":"0.00"},null,{"v":0,"d":"0.00"},{"$f":"IF(F971=\"Arbeitgeberähnliche Stellung\",OFFSET(MD!$Q$5,MATCH(Grundlagen_Abrechnung_KAE!$AK$7,MD_JAHR,0),0)*$H971,IF(J971>0,AC971,I971))","v":{"v":0,"d":"0.00"}},null,{"$f":"OFFSET(MD!$P$5,MATCH($AK$7,MD_JAHR,0),0)*12","v":{"$error":"#VALUE!"}},{"v":0,"d":"0.00"}]
[{"$nulls":14},{"$f":"IF($B972=\"\",\"\",IF(F972=\"Arbeitgeberähnliche Stellung\",OFFSET(MD!$Q$5,MATCH(Grundlagen_Abrechnung_KAE!$AK$7,MD_JAHR,0),0)*$H972,IF(((AD972/12*M972*12)+N972)>AF972,AF972/12,((AD972/12*M972*12)+N972)/12)))","v":""},null,null,{"v":0,"d":"0.00"},null,{"v":0,"d":"0.00%"},{"v":0,"d":"0.00"},{"v":0,"d":"0.00"},{"v":0,"d":"0.00"},null,"prüfen",{"$f":"IFERROR(OFFSET(MD!$U$5,MATCH(Grundlagen_Abrechnung_KAE!$E972,MD_GENDER,0),0),\"\")","v":""},{"v":0,"d":"0.00"},null,{"v":0,"d":"0.00"},{"$f":"IF(F972=\"Arbeitgeberähnliche Stellung\",OFFSET(MD!$Q$5,MATCH(Grundlagen_Abrechnung_KAE!$AK$7,MD_JAHR,0),0)*$H972,IF(J972>0,AC972,I972))","v":{"v":0,"d":"0.00"}},null,{"$f":"OFFSET(MD!$P$5,MATCH($AK$7,MD_JAHR,0),0)*12","v":{"$error":"#VALUE!"}},{"v":0,"d":"0.00"}]
[{"$nulls":14},{"$f":"IF($B973=\"\",\"\",IF(F973=\"Arbeitgeberähnliche Stellung\",OFFSET(MD!$Q$5,MATCH(Grundlagen_Abrechnung_KAE!$AK$7,MD_JAHR,0),0)*$H973,IF(((AD973/12*M973*12)+N973)>AF973,AF973/12,((AD973/12*M973*12)+N973)/12)))","v":""},null,null,{"v":0,"d":"0.00"},null,{"v":0,"d":"0.00%"},{"v":0,"d":"0.00"},{"v":0,"d":"0.00"},{"v":0,"d":"0.00"},null,"prüfen",{"$f":"IFERROR(OFFSET(MD!$U$5,MATCH(Grundlagen_Abrechnung_KAE!$E973,MD_GENDER,0),0),\"\")","v":""},{"v":0,"d":"0.00"},null,{"v":0,"d":"0.00"},{"$f":"IF(F973=\"Arbeitgeberähnliche Stellung\",OFFSET(MD!$Q$5,MATCH(Grundlagen_Abrechnung_KAE!$AK$7,MD_JAHR,0),0)*$H973,IF(J973>0,AC973,I973))","v":{"v":0,"d":"0.00"}},null,{"$f":"OFFSET(MD!$P$5,MATCH($AK$7,MD_JAHR,0),0)*12","v":{"$error":"#VALUE!"}},{"v":0,"d":"0.00"}]
[{"$nulls":14},{"$f":"IF($B974=\"\",\"\",IF(F974=\"Arbeitgeberähnliche Stellung\",OFFSET(MD!$Q$5,MATCH(Grundlagen_Abrechnung_KAE!$AK$7,MD_JAHR,0),0)*$H974,IF(((AD974/12*M974*12)+N974)>AF974,AF974/12,((AD974/12*M974*12)+N974)/12)))","v":""},null,null,{"v":0,"d":"0.00"},null,{"v":0,"d":"0.00%"},{"v":0,"d":"0.00"},{"v":0,"d":"0.00"},{"v":0,"d":"0.00"},null,"prüfen",{"$f":"IFERROR(OFFSET(MD!$U$5,MATCH(Grundlagen_Abrechnung_KAE!$E974,MD_GENDER,0),0),\"\")","v":""},{"v":0,"d":"0.00"},null,{"v":0,"d":"0.00"},{"$f":"IF(F974=\"Arbeitgeberähnliche Stellung\",OFFSET(MD!$Q$5,MATCH(Grundlagen_Abrechnung_KAE!$AK$7,MD_JAHR,0),0)*$H974,IF(J974>0,AC974,I974))","v":{"v":0,"d":"0.00"}},null,{"$f":"OFFSET(MD!$P$5,MATCH($AK$7,MD_JAHR,0),0)*12","v":{"$error":"#VALUE!"}},{"v":0,"d":"0.00"}]
[{"$nulls":14},{"$f":"IF($B975=\"\",\"\",IF(F975=\"Arbeitgeberähnliche Stellung\",OFFSET(MD!$Q$5,MATCH(Grundlagen_Abrechnung_KAE!$AK$7,MD_JAHR,0),0)*$H975,IF(((AD975/12*M975*12)+N975)>AF975,AF975/12,((AD975/12*M975*12)+N975)/12)))","v":""},null,null,{"v":0,"d":"0.00"},null,{"v":0,"d":"0.00%"},{"v":0,"d":"0.00"},{"v":0,"d":"0.00"},{"v":0,"d":"0.00"},null,"prüfen",{"$f":"IFERROR(OFFSET(MD!$U$5,MATCH(Grundlagen_Abrechnung_KAE!$E975,MD_GENDER,0),0),\"\")","v":""},{"v":0,"d":"0.00"},null,{"v":0,"d":"0.00"},{"$f":"IF(F975=\"Arbeitgeberähnliche Stellung\",OFFSET(MD!$Q$5,MATCH(Grundlagen_Abrechnung_KAE!$AK$7,MD_JAHR,0),0)*$H975,IF(J975>0,AC975,I975))","v":{"v":0,"d":"0.00"}},null,{"$f":"OFFSET(MD!$P$5,MATCH($AK$7,MD_JAHR,0),0)*12","v":{"$error":"#VALUE!"}},{"v":0,"d":"0.00"}]
[{"$nulls":14},{"$f":"IF($B976=\"\",\"\",IF(F976=\"Arbeitgeberähnliche Stellung\",OFFSET(MD!$Q$5,MATCH(Grundlagen_Abrechnung_KAE!$AK$7,MD_JAHR,0),0)*$H976,IF(((AD976/12*M976*12)+N976)>AF976,AF976/12,((AD976/12*M976*12)+N976)/12)))","v":""},null,null,{"v":0,"d":"0.00"},null,{"v":0,"d":"0.00%"},{"v":0,"d":"0.00"},{"v":0,"d":"0.00"},{"v":0,"d":"0.00"},null,"prüfen",{"$f":"IFERROR(OFFSET(MD!$U$5,MATCH(Grundlagen_Abrechnung_KAE!$E976,MD_GENDER,0),0),\"\")","v":""},{"v":0,"d":"0.00"},null,{"v":0,"d":"0.00"},{"$f":"IF(F976=\"Arbeitgeberähnliche Stellung\",OFFSET(MD!$Q$5,MATCH(Grundlagen_Abrechnung_KAE!$AK$7,MD_JAHR,0),0)*$H976,IF(J976>0,AC976,I976))","v":{"v":0,"d":"0.00"}},null,{"$f":"OFFSET(MD!$P$5,MATCH($AK$7,MD_JAHR,0),0)*12","v":{"$error":"#VALUE!"}},{"v":0,"d":"0.00"}]
[{"$nulls":14},{"$f":"IF($B977=\"\",\"\",IF(F977=\"Arbeitgeberähnliche Stellung\",OFFSET(MD!$Q$5,MATCH(Grundlagen_Abrechnung_KAE!$AK$7,MD_JAHR,0),0)*$H977,IF(((AD977/12*M977*12)+N977)>AF977,AF977/12,((AD977/12*M977*12)+N977)/12)))","v":""},null,null,{"v":0,"d":"0.00"},null,{"v":0,"d":"0.00%"},{"v":0,"d":"0.00"},{"v":0,"d":"0.00"},{"v":0,"d":"0.00"},null,"prüfen",{"$f":"IFERROR(OFFSET(MD!$U$5,MATCH(Grundlagen_Abrechnung_KAE!$E977,MD_GENDER,0),0),\"\")","v":""},{"v":0,"d":"0.00"},null,{"v":0,"d":"0.00"},{"$f":"IF(F977=\"Arbeitgeberähnliche Stellung\",OFFSET(MD!$Q$5,MATCH(Grundlagen_Abrechnung_KAE!$AK$7,MD_JAHR,0),0)*$H977,IF(J977>0,AC977,I977))","v":{"v":0,"d":"0.00"}},null,{"$f":"OFFSET(MD!$P$5,MATCH($AK$7,MD_JAHR,0),0)*12","v":{"$error":"#VALUE!"}},{"v":0,"d":"0.00"}]
[{"$nulls":14},{"$f":"IF($B978=\"\",\"\",IF(F978=\"Arbeitgeberähnliche Stellung\",OFFSET(MD!$Q$5,MATCH(Grundlagen_Abrechnung_KAE!$AK$7,MD_JAHR,0),0)*$H978,IF(((AD978/12*M978*12)+N978)>AF978,AF978/12,((AD978/12*M978*12)+N978)/12)))","v":""},null,null,{"v":0,"d":"0.00"},null,{"v":0,"d":"0.00%"},{"v":0,"d":"0.00"},{"v":0,"d":"0.00"},{"v":0,"d":"0.00"},null,"prüfen",{"$f":"IFERROR(OFFSET(MD!$U$5,MATCH(Grundlagen_Abrechnung_KAE!$E978,MD_GENDER,0),0),\"\")","v":""},{"v":0,"d":"0.00"},null,{"v":0,"d":"0.00"},{"$f":"IF(F978=\"Arbeitgeberähnliche Stellung\",OFFSET(MD!$Q$5,MATCH(Grundlagen_Abrechnung_KAE!$AK$7,MD_JAHR,0),0)*$H978,IF(J978>0,AC978,I978))","v":{"v":0,"d":"0.00"}},null,{"$f":"OFFSET(MD!$P$5,MATCH($AK$7,MD_JAHR,0),0)*12","v":{"$error":"#VALUE!"}},{"v":0,"d":"0.00"}]
[{"$nulls":14},{"$f":"IF($B979=\"\",\"\",IF(F979=\"Arbeitgeberähnliche Stellung\",OFFSET(MD!$Q$5,MATCH(Grundlagen_Abrechnung_KAE!$AK$7,MD_JAHR,0),0)*$H979,IF(((AD979/12*M979*12)+N979)>AF979,AF979/12,((AD979/12*M979*12)+N979)/12)))","v":""},null,null,{"$f":"ROUND(IF(Q979=\"\",0,IF(P979=0,0,IF(Q979>P979,0,P979-Q979))),2)","v":{"v":0,"d":"0.00"}},null,{"$f":"IFERROR(R979/P979,0)","v":{"v":0,"d":"0.00%"}},{"$f":"IFERROR(IF(O979-W979=0,O979,(O979)*(1-T979)),0)","v":{"v":0,"d":"0.00"}},{"v":0,"d":"0.00"},{"$f":"IFERROR(O979*T979,0)*0.8","v":{"v":0,"d":"0.00"}},null,{"$f":"IF(YEAR($G979)>$Y$16,\"prüfen\",\"\")","v":"prüfen"},{"$f":"IFERROR(OFFSET(MD!$U$5,MATCH(Grundlagen_Abrechnung_KAE!$E979,MD_GENDER,0),0),\"\")","v":""},{"$f":"IF(B979=\"\",0,IF(YEAR(G979)>$AA$16,0,1))","v":{"v":0,"d":"0.00"}},null,{"$f":"IF(J979*K979/6>J979*L979/12,J979*K979/6,J979*L979/12)","v":{"v":0,"d":"0.00"}},{"$f":"IF(F979=\"Arbeitgeberähnliche Stellung\",OFFSET(MD!$Q$5,MATCH(Grundlagen_Abrechnung_KAE!$AK$7,MD_JAHR,0),0)*$H979,IF(J979>0,AC979,I979))","v":{"v":0,"d":"0.00"}},null,{"$f":"OFFSET(MD!$P$5,MATCH($AK$7,MD_JAHR,0),0)*12","v":{"$error":"#VALUE!"}},{"$f":"I979*M979+N979","v":{"v":0,"d":"0.00"}}]
[{"$nulls":14},{"$f":"IF($B980=\"\",\"\",IF(F980=\"Arbeitgeberähnliche Stellung\",OFFSET(MD!$Q$5,MATCH(Grundlagen_Abrechnung_KAE!$AK$7,MD_JAHR,0),0)*$H980,IF(((AD980/12*M980*12)+N980)>AF980,AF980/12,((AD980/12*M980*12)+N980)/12)))","v":""},null,null,{"v":0,"d":"0.00"},null,{"v":0,"d":"0.00%"},{"v":0,"d":"0.00"},{"$f":"IFERROR(O980*T980,0)","v":{"v":0,"d":"0.00"}},{"v":0,"d":"0.00"},null,"prüfen",{"$f":"IFERROR(OFFSET(MD!$U$5,MATCH(Grundlagen_Abrechnung_KAE!$E980,MD_GENDER,0),0),\"\")","v":""},{"v":0,"d":"0.00"},null,{"v":0,"d":"0.00"},{"$f":"IF(F980=\"Arbeitgeberähnliche Stellung\",OFFSET(MD!$Q$5,MATCH(Grundlagen_Abrechnung_KAE!$AK$7,MD_JAHR,0),0)*$H980,IF(J980>0,AC980,I980))","v":{"v":0,"d":"0.00"}},null,{"$f":"OFFSET(MD!$P$5,MATCH($AK$7,MD_JAHR,0),0)*12","v":{"$error":"#VALUE!"}},{"v":0,"d":"0.00"}]
[{"$nulls":14},{"$f":"IF($B981=\"\",\"\",IF(F981=\"Arbeitgeberähnliche Stellung\",OFFSET(MD!$Q$5,MATCH(Grundlagen_Abrechnung_KAE!$AK$7,MD_JAHR,0),0)*$H981,IF(((AD981/12*M981*12)+N981)>AF981,AF981/12,((AD981/12*M981*12)+N981)/12)))","v":""},null,null,{"v":0,"d":"0.00"},null,{"v":0,"d":"0.00%"},{"v":0,"d":"0.00"},{"v":0,"d":"0.00"},{"v":0,"d":"0.00"},null,"prüfen",{"$f":"IFERROR(OFFSET(MD!$U$5,MATCH(Grundlagen_Abrechnung_KAE!$E981,MD_GENDER,0),0),\"\")","v":""},{"v":0,"d":"0.00"},null,{"v":0,"d":"0.00"},{"$f":"IF(F981=\"Arbeitgeberähnliche Stellung\",OFFSET(MD!$Q$5,MATCH(Grundlagen_Abrechnung_KAE!$AK$7,MD_JAHR,0),0)*$H981,IF(J981>0,AC981,I981))","v":{"v":0,"d":"0.00"}},null,{"$f":"OFFSET(MD!$P$5,MATCH($AK$7,MD_JAHR,0),0)*12","v":{"$error":"#VALUE!"}},{"v":0,"d":"0.00"}]
[{"$nulls":14},{"$f":"IF($B982=\"\",\"\",IF(F982=\"Arbeitgeberähnliche Stellung\",OFFSET(MD!$Q$5,MATCH(Grundlagen_Abrechnung_KAE!$AK$7,MD_JAHR,0),0)*$H982,IF(((AD982/12*M982*12)+N982)>AF982,AF982/12,((AD982/12*M982*12)+N982)/12)))","v":""},null,null,{"v":0,"d":"0.00"},null,{"v":0,"d":"0.00%"},{"v":0,"d":"0.00"},{"v":0,"d":"0.00"},{"v":0,"d":"0.00"},null,"prüfen",{"$f":"IFERROR(OFFSET(MD!$U$5,MATCH(Grundlagen_Abrechnung_KAE!$E982,MD_GENDER,0),0),\"\")","v":""},{"v":0,"d":"0.00"},null,{"v":0,"d":"0.00"},{"$f":"IF(F982=\"Arbeitgeberähnliche Stellung\",OFFSET(MD!$Q$5,MATCH(Grundlagen_Abrechnung_KAE!$AK$7,MD_JAHR,0),0)*$H982,IF(J982>0,AC982,I982))","v":{"v":0,"d":"0.00"}},null,{"$f":"OFFSET(MD!$P$5,MATCH($AK$7,MD_JAHR,0),0)*12","v":{"$error":"#VALUE!"}},{"v":0,"d":"0.00"}]
[{"$nulls":14},{"$f":"IF($B983=\"\",\"\",IF(F983=\"Arbeitgeberähnliche Stellung\",OFFSET(MD!$Q$5,MATCH(Grundlagen_Abrechnung_KAE!$AK$7,MD_JAHR,0),0)*$H983,IF(((AD983/12*M983*12)+N983)>AF983,AF983/12,((AD983/12*M983*12)+N983)/12)))","v":""},null,null,{"v":0,"d":"0.00"},null,{"v":0,"d":"0.00%"},{"v":0,"d":"0.00"},{"v":0,"d":"0.00"},{"v":0,"d":"0.00"},null,"prüfen",{"$f":"IFERROR(OFFSET(MD!$U$5,MATCH(Grundlagen_Abrechnung_KAE!$E983,MD_GENDER,0),0),\"\")","v":""},{"v":0,"d":"0.00"},null,{"v":0,"d":"0.00"},{"$f":"IF(F983=\"Arbeitgeberähnliche Stellung\",OFFSET(MD!$Q$5,MATCH(Grundlagen_Abrechnung_KAE!$AK$7,MD_JAHR,0),0)*$H983,IF(J983>0,AC983,I983))","v":{"v":0,"d":"0.00"}},null,{"$f":"OFFSET(MD!$P$5,MATCH($AK$7,MD_JAHR,0),0)*12","v":{"$error":"#VALUE!"}},{"v":0,"d":"0.00"}]
[{"$nulls":14},{"$f":"IF($B984=\"\",\"\",IF(F984=\"Arbeitgeberähnliche Stellung\",OFFSET(MD!$Q$5,MATCH(Grundlagen_Abrechnung_KAE!$AK$7,MD_JAHR,0),0)*$H984,IF(((AD984/12*M984*12)+N984)>AF984,AF984/12,((AD984/12*M984*12)+N984)/12)))","v":""},null,null,{"v":0,"d":"0.00"},null,{"v":0,"d":"0.00%"},{"v":0,"d":"0.00"},{"v":0,"d":"0.00"},{"v":0,"d":"0.00"},null,"prüfen",{"$f":"IFERROR(OFFSET(MD!$U$5,MATCH(Grundlagen_Abrechnung_KAE!$E984,MD_GENDER,0),0),\"\")","v":""},{"v":0,"d":"0.00"},null,{"v":0,"d":"0.00"},{"$f":"IF(F984=\"Arbeitgeberähnliche Stellung\",OFFSET(MD!$Q$5,MATCH(Grundlagen_Abrechnung_KAE!$AK$7,MD_JAHR,0),0)*$H984,IF(J984>0,AC984,I984))","v":{"v":0,"d":"0.00"}},null,{"$f":"OFFSET(MD!$P$5,MATCH($AK$7,MD_JAHR,0),0)*12","v":{"$error":"#VALUE!"}},{"v":0,"d":"0.00"}]
[{"$nulls":14},{"$f":"IF($B985=\"\",\"\",IF(F985=\"Arbeitgeberähnliche Stellung\",OFFSET(MD!$Q$5,MATCH(Grundlagen_Abrechnung_KAE!$AK$7,MD_JAHR,0),0)*$H985,IF(((AD985/12*M985*12)+N985)>AF985,AF985/12,((AD985/12*M985*12)+N985)/12)))","v":""},null,null,{"v":0,"d":"0.00"},null,{"v":0,"d":"0.00%"},{"v":0,"d":"0.00"},{"v":0,"d":"0.00"},{"v":0,"d":"0.00"},null,"prüfen",{"$f":"IFERROR(OFFSET(MD!$U$5,MATCH(Grundlagen_Abrechnung_KAE!$E985,MD_GENDER,0),0),\"\")","v":""},{"v":0,"d":"0.00"},null,{"v":0,"d":"0.00"},{"$f":"IF(F985=\"Arbeitgeberähnliche Stellung\",OFFSET(MD!$Q$5,MATCH(Grundlagen_Abrechnung_KAE!$AK$7,MD_JAHR,0),0)*$H985,IF(J985>0,AC985,I985))","v":{"v":0,"d":"0.00"}},null,{"$f":"OFFSET(MD!$P$5,MATCH($AK$7,MD_JAHR,0),0)*12","v":{"$error":"#VALUE!"}},{"v":0,"d":"0.00"}]
[{"$nulls":14},{"$f":"IF($B986=\"\",\"\",IF(F986=\"Arbeitgeberähnliche Stellung\",OFFSET(MD!$Q$5,MATCH(Grundlagen_Abrechnung_KAE!$AK$7,MD_JAHR,0),0)*$H986,IF(((AD986/12*M986*12)+N986)>AF986,AF986/12,((AD986/12*M986*12)+N986)/12)))","v":""},null,null,{"v":0,"d":"0.00"},null,{"v":0,"d":"0.00%"},{"v":0,"d":"0.00"},{"v":0,"d":"0.00"},{"v":0,"d":"0.00"},null,"prüfen",{"$f":"IFERROR(OFFSET(MD!$U$5,MATCH(Grundlagen_Abrechnung_KAE!$E986,MD_GENDER,0),0),\"\")","v":""},{"v":0,"d":"0.00"},null,{"v":0,"d":"0.00"},{"$f":"IF(F986=\"Arbeitgeberähnliche Stellung\",OFFSET(MD!$Q$5,MATCH(Grundlagen_Abrechnung_KAE!$AK$7,MD_JAHR,0),0)*$H986,IF(J986>0,AC986,I986))","v":{"v":0,"d":"0.00"}},null,{"$f":"OFFSET(MD!$P$5,MATCH($AK$7,MD_JAHR,0),0)*12","v":{"$error":"#VALUE!"}},{"v":0,"d":"0.00"}]
[{"$nulls":14},{"$f":"IF($B987=\"\",\"\",IF(F987=\"Arbeitgeberähnliche Stellung\",OFFSET(MD!$Q$5,MATCH(Grundlagen_Abrechnung_KAE!$AK$7,MD_JAHR,0),0)*$H987,IF(((AD987/12*M987*12)+N987)>AF987,AF987/12,((AD987/12*M987*12)+N987)/12)))","v":""},null,null,{"v":0,"d":"0.00"},null,{"v":0,"d":"0.00%"},{"v":0,"d":"0.00"},{"v":0,"d":"0.00"},{"v":0,"d":"0.00"},null,"prüfen",{"$f":"IFERROR(OFFSET(MD!$U$5,MATCH(Grundlagen_Abrechnung_KAE!$E987,MD_GENDER,0),0),\"\")","v":""},{"v":0,"d":"0.00"},null,{"v":0,"d":"0.00"},{"$f":"IF(F987=\"Arbeitgeberähnliche Stellung\",OFFSET(MD!$Q$5,MATCH(Grundlagen_Abrechnung_KAE!$AK$7,MD_JAHR,0),0)*$H987,IF(J987>0,AC987,I987))","v":{"v":0,"d":"0.00"}},null,{"$f":"OFFSET(MD!$P$5,MATCH($AK$7,MD_JAHR,0),0)*12","v":{"$error":"#VALUE!"}},{"v":0,"d":"0.00"}]
[{"$nulls":14},{"$f":"IF($B988=\"\",\"\",IF(F988=\"Arbeitgeberähnliche Stellung\",OFFSET(MD!$Q$5,MATCH(Grundlagen_Abrechnung_KAE!$AK$7,MD_JAHR,0),0)*$H988,IF(((AD988/12*M988*12)+N988)>AF988,AF988/12,((AD988/12*M988*12)+N988)/12)))","v":""},null,null,{"v":0,"d":"0.00"},null,{"v":0,"d":"0.00%"},{"v":0,"d":"0.00"},{"v":0,"d":"0.00"},{"v":0,"d":"0.00"},null,"prüfen",{"$f":"IFERROR(OFFSET(MD!$U$5,MATCH(Grundlagen_Abrechnung_KAE!$E988,MD_GENDER,0),0),\"\")","v":""},{"v":0,"d":"0.00"},null,{"v":0,"d":"0.00"},{"$f":"IF(F988=\"Arbeitgeberähnliche Stellung\",OFFSET(MD!$Q$5,MATCH(Grundlagen_Abrechnung_KAE!$AK$7,MD_JAHR,0),0)*$H988,IF(J988>0,AC988,I988))","v":{"v":0,"d":"0.00"}},null,{"$f":"OFFSET(MD!$P$5,MATCH($AK$7,MD_JAHR,0),0)*12","v":{"$error":"#VALUE!"}},{"v":0,"d":"0.00"}]
[{"$nulls":14},{"$f":"IF($B989=\"\",\"\",IF(F989=\"Arbeitgeberähnliche Stellung\",OFFSET(MD!$Q$5,MATCH(Grundlagen_Abrechnung_KAE!$AK$7,MD_JAHR,0),0)*$H989,IF(((AD989/12*M989*12)+N989)>AF989,AF989/12,((AD989/12*M989*12)+N989)/12)))","v":""},null,null,{"v":0,"d":"0.00"},null,{"v":0,"d":"0.00%"},{"v":0,"d":"0.00"},{"v":0,"d":"0.00"},{"v":0,"d":"0.00"},null,"prüfen",{"$f":"IFERROR(OFFSET(MD!$U$5,MATCH(Grundlagen_Abrechnung_KAE!$E989,MD_GENDER,0),0),\"\")","v":""},{"v":0,"d":"0.00"},null,{"v":0,"d":"0.00"},{"$f":"IF(F989=\"Arbeitgeberähnliche Stellung\",OFFSET(MD!$Q$5,MATCH(Grundlagen_Abrechnung_KAE!$AK$7,MD_JAHR,0),0)*$H989,IF(J989>0,AC989,I989))","v":{"v":0,"d":"0.00"}},null,{"$f":"OFFSET(MD!$P$5,MATCH($AK$7,MD_JAHR,0),0)*12","v":{"$error":"#VALUE!"}},{"v":0,"d":"0.00"}]
[{"$nulls":14},{"$f":"IF($B990=\"\",\"\",IF(F990=\"Arbeitgeberähnliche Stellung\",OFFSET(MD!$Q$5,MATCH(Grundlagen_Abrechnung_KAE!$AK$7,MD_JAHR,0),0)*$H990,IF(((AD990/12*M990*12)+N990)>AF990,AF990/12,((AD990/12*M990*12)+N990)/12)))","v":""},null,null,{"v":0,"d":"0.00"},null,{"v":0,"d":"0.00%"},{"v":0,"d":"0.00"},{"v":0,"d":"0.00"},{"v":0,"d":"0.00"},null,"prüfen",{"$f":"IFERROR(OFFSET(MD!$U$5,MATCH(Grundlagen_Abrechnung_KAE!$E990,MD_GENDER,0),0),\"\")","v":""},{"v":0,"d":"0.00"},null,{"v":0,"d":"0.00"},{"$f":"IF(F990=\"Arbeitgeberähnliche Stellung\",OFFSET(MD!$Q$5,MATCH(Grundlagen_Abrechnung_KAE!$AK$7,MD_JAHR,0),0)*$H990,IF(J990>0,AC990,I990))","v":{"v":0,"d":"0.00"}},null,{"$f":"OFFSET(MD!$P$5,MATCH($AK$7,MD_JAHR,0),0)*12","v":{"$error":"#VALUE!"}},{"v":0,"d":"0.00"}]
[{"$nulls":14},{"$f":"IF($B991=\"\",\"\",IF(F991=\"Arbeitgeberähnliche Stellung\",OFFSET(MD!$Q$5,MATCH(Grundlagen_Abrechnung_KAE!$AK$7,MD_JAHR,0),0)*$H991,IF(((AD991/12*M991*12)+N991)>AF991,AF991/12,((AD991/12*M991*12)+N991)/12)))","v":""},null,null,{"v":0,"d":"0.00"},null,{"v":0,"d":"0.00%"},{"v":0,"d":"0.00"},{"v":0,"d":"0.00"},{"v":0,"d":"0.00"},null,"prüfen",{"$f":"IFERROR(OFFSET(MD!$U$5,MATCH(Grundlagen_Abrechnung_KAE!$E991,MD_GENDER,0),0),\"\")","v":""},{"v":0,"d":"0.00"},null,{"v":0,"d":"0.00"},{"$f":"IF(F991=\"Arbeitgeberähnliche Stellung\",OFFSET(MD!$Q$5,MATCH(Grundlagen_Abrechnung_KAE!$AK$7,MD_JAHR,0),0)*$H991,IF(J991>0,AC991,I991))","v":{"v":0,"d":"0.00"}},null,{"$f":"OFFSET(MD!$P$5,MATCH($AK$7,MD_JAHR,0),0)*12","v":{"$error":"#VALUE!"}},{"v":0,"d":"0.00"}]
[{"$nulls":14},{"$f":"IF($B992=\"\",\"\",IF(F992=\"Arbeitgeberähnliche Stellung\",OFFSET(MD!$Q$5,MATCH(Grundlagen_Abrechnung_KAE!$AK$7,MD_JAHR,0),0)*$H992,IF(((AD992/12*M992*12)+N992)>AF992,AF992/12,((AD992/12*M992*12)+N992)/12)))","v":""},null,null,{"v":0,"d":"0.00"},null,{"v":0,"d":"0.00%"},{"v":0,"d":"0.00"},{"v":0,"d":"0.00"},{"v":0,"d":"0.00"},null,"prüfen",{"$f":"IFERROR(OFFSET(MD!$U$5,MATCH(Grundlagen_Abrechnung_KAE!$E992,MD_GENDER,0),0),\"\")","v":""},{"v":0,"d":"0.00"},null,{"v":0,"d":"0.00"},{"$f":"IF(F992=\"Arbeitgeberähnliche Stellung\",OFFSET(MD!$Q$5,MATCH(Grundlagen_Abrechnung_KAE!$AK$7,MD_JAHR,0),0)*$H992,IF(J992>0,AC992,I992))","v":{"v":0,"d":"0.00"}},null,{"$f":"OFFSET(MD!$P$5,MATCH($AK$7,MD_JAHR,0),0)*12","v":{"$error":"#VALUE!"}},{"v":0,"d":"0.00"}]
[{"$nulls":14},{"$f":"IF($B993=\"\",\"\",IF(F993=\"Arbeitgeberähnliche Stellung\",OFFSET(MD!$Q$5,MATCH(Grundlagen_Abrechnung_KAE!$AK$7,MD_JAHR,0),0)*$H993,IF(((AD993/12*M993*12)+N993)>AF993,AF993/12,((AD993/12*M993*12)+N993)/12)))","v":""},null,null,{"v":0,"d":"0.00"},null,{"v":0,"d":"0.00%"},{"v":0,"d":"0.00"},{"v":0,"d":"0.00"},{"v":0,"d":"0.00"},null,"prüfen",{"$f":"IFERROR(OFFSET(MD!$U$5,MATCH(Grundlagen_Abrechnung_KAE!$E993,MD_GENDER,0),0),\"\")","v":""},{"v":0,"d":"0.00"},null,{"v":0,"d":"0.00"},{"$f":"IF(F993=\"Arbeitgeberähnliche Stellung\",OFFSET(MD!$Q$5,MATCH(Grundlagen_Abrechnung_KAE!$AK$7,MD_JAHR,0),0)*$H993,IF(J993>0,AC993,I993))","v":{"v":0,"d":"0.00"}},null,{"$f":"OFFSET(MD!$P$5,MATCH($AK$7,MD_JAHR,0),0)*12","v":{"$error":"#VALUE!"}},{"v":0,"d":"0.00"}]
[{"$nulls":14},{"$f":"IF($B994=\"\",\"\",IF(F994=\"Arbeitgeberähnliche Stellung\",OFFSET(MD!$Q$5,MATCH(Grundlagen_Abrechnung_KAE!$AK$7,MD_JAHR,0),0)*$H994,IF(((AD994/12*M994*12)+N994)>AF994,AF994/12,((AD994/12*M994*12)+N994)/12)))","v":""},null,null,{"v":0,"d":"0.00"},null,{"v":0,"d":"0.00%"},{"v":0,"d":"0.00"},{"v":0,"d":"0.00"},{"v":0,"d":"0.00"},null,"prüfen",{"$f":"IFERROR(OFFSET(MD!$U$5,MATCH(Grundlagen_Abrechnung_KAE!$E994,MD_GENDER,0),0),\"\")","v":""},{"v":0,"d":"0.00"},null,{"v":0,"d":"0.00"},{"$f":"IF(F994=\"Arbeitgeberähnliche Stellung\",OFFSET(MD!$Q$5,MATCH(Grundlagen_Abrechnung_KAE!$AK$7,MD_JAHR,0),0)*$H994,IF(J994>0,AC994,I994))","v":{"v":0,"d":"0.00"}},null,{"$f":"OFFSET(MD!$P$5,MATCH($AK$7,MD_JAHR,0),0)*12","v":{"$error":"#VALUE!"}},{"v":0,"d":"0.00"}]
[{"$nulls":14},{"$f":"IF($B995=\"\",\"\",IF(F995=\"Arbeitgeberähnliche Stellung\",OFFSET(MD!$Q$5,MATCH(Grundlagen_Abrechnung_KAE!$AK$7,MD_JAHR,0),0)*$H995,IF(((AD995/12*M995*12)+N995)>AF995,AF995/12,((AD995/12*M995*12)+N995)/12)))","v":""},null,null,{"v":0,"d":"0.00"},null,{"v":0,"d":"0.00%"},{"v":0,"d":"0.00"},{"v":0,"d":"0.00"},{"v":0,"d":"0.00"},null,"prüfen",{"$f":"IFERROR(OFFSET(MD!$U$5,MATCH(Grundlagen_Abrechnung_KAE!$E995,MD_GENDER,0),0),\"\")","v":""},{"v":0,"d":"0.00"},null,{"v":0,"d":"0.00"},{"$f":"IF(F995=\"Arbeitgeberähnliche Stellung\",OFFSET(MD!$Q$5,MATCH(Grundlagen_Abrechnung_KAE!$AK$7,MD_JAHR,0),0)*$H995,IF(J995>0,AC995,I995))","v":{"v":0,"d":"0.00"}},null,{"$f":"OFFSET(MD!$P$5,MATCH($AK$7,MD_JAHR,0),0)*12","v":{"$error":"#VALUE!"}},{"v":0,"d":"0.00"}]
[{"$nulls":14},{"$f":"IF($B996=\"\",\"\",IF(F996=\"Arbeitgeberähnliche Stellung\",OFFSET(MD!$Q$5,MATCH(Grundlagen_Abrechnung_KAE!$AK$7,MD_JAHR,0),0)*$H996,IF(((AD996/12*M996*12)+N996)>AF996,AF996/12,((AD996/12*M996*12)+N996)/12)))","v":""},null,null,{"v":0,"d":"0.00"},null,{"v":0,"d":"0.00%"},{"v":0,"d":"0.00"},{"v":0,"d":"0.00"},{"v":0,"d":"0.00"},null,"prüfen",{"$f":"IFERROR(OFFSET(MD!$U$5,MATCH(Grundlagen_Abrechnung_KAE!$E996,MD_GENDER,0),0),\"\")","v":""},{"v":0,"d":"0.00"},null,{"v":0,"d":"0.00"},{"$f":"IF(F996=\"Arbeitgeberähnliche Stellung\",OFFSET(MD!$Q$5,MATCH(Grundlagen_Abrechnung_KAE!$AK$7,MD_JAHR,0),0)*$H996,IF(J996>0,AC996,I996))","v":{"v":0,"d":"0.00"}},null,{"$f":"OFFSET(MD!$P$5,MATCH($AK$7,MD_JAHR,0),0)*12","v":{"$error":"#VALUE!"}},{"v":0,"d":"0.00"}]
[{"$nulls":14},{"$f":"IF($B997=\"\",\"\",IF(F997=\"Arbeitgeberähnliche Stellung\",OFFSET(MD!$Q$5,MATCH(Grundlagen_Abrechnung_KAE!$AK$7,MD_JAHR,0),0)*$H997,IF(((AD997/12*M997*12)+N997)>AF997,AF997/12,((AD997/12*M997*12)+N997)/12)))","v":""},null,null,{"v":0,"d":"0.00"},null,{"v":0,"d":"0.00%"},{"v":0,"d":"0.00"},{"v":0,"d":"0.00"},{"v":0,"d":"0.00"},null,"prüfen",{"$f":"IFERROR(OFFSET(MD!$U$5,MATCH(Grundlagen_Abrechnung_KAE!$E997,MD_GENDER,0),0),\"\")","v":""},{"v":0,"d":"0.00"},null,{"v":0,"d":"0.00"},{"$f":"IF(F997=\"Arbeitgeberähnliche Stellung\",OFFSET(MD!$Q$5,MATCH(Grundlagen_Abrechnung_KAE!$AK$7,MD_JAHR,0),0)*$H997,IF(J997>0,AC997,I997))","v":{"v":0,"d":"0.00"}},null,{"$f":"OFFSET(MD!$P$5,MATCH($AK$7,MD_JAHR,0),0)*12","v":{"$error":"#VALUE!"}},{"v":0,"d":"0.00"}]
[{"$nulls":14},{"$f":"IF($B998=\"\",\"\",IF(F998=\"Arbeitgeberähnliche Stellung\",OFFSET(MD!$Q$5,MATCH(Grundlagen_Abrechnung_KAE!$AK$7,MD_JAHR,0),0)*$H998,IF(((AD998/12*M998*12)+N998)>AF998,AF998/12,((AD998/12*M998*12)+N998)/12)))","v":""},null,null,{"v":0,"d":"0.00"},null,{"v":0,"d":"0.00%"},{"v":0,"d":"0.00"},{"v":0,"d":"0.00"},{"v":0,"d":"0.00"},null,"prüfen",{"$f":"IFERROR(OFFSET(MD!$U$5,MATCH(Grundlagen_Abrechnung_KAE!$E998,MD_GENDER,0),0),\"\")","v":""},{"v":0,"d":"0.00"},null,{"v":0,"d":"0.00"},{"$f":"IF(F998=\"Arbeitgeberähnliche Stellung\",OFFSET(MD!$Q$5,MATCH(Grundlagen_Abrechnung_KAE!$AK$7,MD_JAHR,0),0)*$H998,IF(J998>0,AC998,I998))","v":{"v":0,"d":"0.00"}},null,{"$f":"OFFSET(MD!$P$5,MATCH($AK$7,MD_JAHR,0),0)*12","v":{"$error":"#VALUE!"}},{"v":0,"d":"0.00"}]
[{"$nulls":14},{"$f":"IF($B999=\"\",\"\",IF(F999=\"Arbeitgeberähnliche Stellung\",OFFSET(MD!$Q$5,MATCH(Grundlagen_Abrechnung_KAE!$AK$7,MD_JAHR,0),0)*$H999,IF(((AD999/12*M999*12)+N999)>AF999,AF999/12,((AD999/12*M999*12)+N999)/12)))","v":""},null,null,{"v":0,"d":"0.00"},null,{"v":0,"d":"0.00%"},{"v":0,"d":"0.00"},{"v":0,"d":"0.00"},{"v":0,"d":"0.00"},null,"prüfen",{"$f":"IFERROR(OFFSET(MD!$U$5,MATCH(Grundlagen_Abrechnung_KAE!$E999,MD_GENDER,0),0),\"\")","v":""},{"v":0,"d":"0.00"},null,{"v":0,"d":"0.00"},{"$f":"IF(F999=\"Arbeitgeberähnliche Stellung\",OFFSET(MD!$Q$5,MATCH(Grundlagen_Abrechnung_KAE!$AK$7,MD_JAHR,0),0)*$H999,IF(J999>0,AC999,I999))","v":{"v":0,"d":"0.00"}},null,{"$f":"OFFSET(MD!$P$5,MATCH($AK$7,MD_JAHR,0),0)*12","v":{"$error":"#VALUE!"}},{"v":0,"d":"0.00"}]
[{"$nulls":14},{"$f":"IF($B1000=\"\",\"\",IF(F1000=\"Arbeitgeberähnliche Stellung\",OFFSET(MD!$Q$5,MATCH(Grundlagen_Abrechnung_KAE!$AK$7,MD_JAHR,0),0)*$H1000,IF(((AD1000/12*M1000*12)+N1000)>AF1000,AF1000/12,((AD1000/12*M1000*12)+N1000)/12)))","v":""},null,null,{"v":0,"d":"0.00"},null,{"v":0,"d":"0.00%"},{"v":0,"d":"0.00"},{"v":0,"d":"0.00"},{"v":0,"d":"0.00"},null,"prüfen",{"$f":"IFERROR(OFFSET(MD!$U$5,MATCH(Grundlagen_Abrechnung_KAE!$E1000,MD_GENDER,0),0),\"\")","v":""},{"v":0,"d":"0.00"},null,{"v":0,"d":"0.00"},{"$f":"IF(F1000=\"Arbeitgeberähnliche Stellung\",OFFSET(MD!$Q$5,MATCH(Grundlagen_Abrechnung_KAE!$AK$7,MD_JAHR,0),0)*$H1000,IF(J1000>0,AC1000,I1000))","v":{"v":0,"d":"0.00"}},null,{"$f":"OFFSET(MD!$P$5,MATCH($AK$7,MD_JAHR,0),0)*12","v":{"$error":"#VALUE!"}},{"v":0,"d":"0.00"}]
[{"$nulls":14},{"$f":"IF($B1001=\"\",\"\",IF(F1001=\"Arbeitgeberähnliche Stellung\",OFFSET(MD!$Q$5,MATCH(Grundlagen_Abrechnung_KAE!$AK$7,MD_JAHR,0),0)*$H1001,IF(((AD1001/12*M1001*12)+N1001)>AF1001,AF1001/12,((AD1001/12*M1001*12)+N1001)/12)))","v":""},null,null,{"v":0,"d":"0.00"},null,{"v":0,"d":"0.00%"},{"v":0,"d":"0.00"},{"v":0,"d":"0.00"},{"v":0,"d":"0.00"},null,"prüfen",{"$f":"IFERROR(OFFSET(MD!$U$5,MATCH(Grundlagen_Abrechnung_KAE!$E1001,MD_GENDER,0),0),\"\")","v":""},{"v":0,"d":"0.00"},null,{"v":0,"d":"0.00"},{"$f":"IF(F1001=\"Arbeitgeberähnliche Stellung\",OFFSET(MD!$Q$5,MATCH(Grundlagen_Abrechnung_KAE!$AK$7,MD_JAHR,0),0)*$H1001,IF(J1001>0,AC1001,I1001))","v":{"v":0,"d":"0.00"}},null,{"$f":"OFFSET(MD!$P$5,MATCH($AK$7,MD_JAHR,0),0)*12","v":{"$error":"#VALUE!"}},{"v":0,"d":"0.00"}]
[{"$nulls":14},{"$f":"IF($B1002=\"\",\"\",IF(F1002=\"Arbeitgeberähnliche Stellung\",OFFSET(MD!$Q$5,MATCH(Grundlagen_Abrechnung_KAE!$AK$7,MD_JAHR,0),0)*$H1002,IF(((AD1002/12*M1002*12)+N1002)>AF1002,AF1002/12,((AD1002/12*M1002*12)+N1002)/12)))","v":""},null,null,{"v":0,"d":"0.00"},null,{"v":0,"d":"0.00%"},{"v":0,"d":"0.00"},{"v":0,"d":"0.00"},{"v":0,"d":"0.00"},null,"prüfen",{"$f":"IFERROR(OFFSET(MD!$U$5,MATCH(Grundlagen_Abrechnung_KAE!$E1002,MD_GENDER,0),0),\"\")","v":""},{"v":0,"d":"0.00"},null,{"v":0,"d":"0.00"},{"$f":"IF(F1002=\"Arbeitgeberähnliche Stellung\",OFFSET(MD!$Q$5,MATCH(Grundlagen_Abrechnung_KAE!$AK$7,MD_JAHR,0),0)*$H1002,IF(J1002>0,AC1002,I1002))","v":{"v":0,"d":"0.00"}},null,{"$f":"OFFSET(MD!$P$5,MATCH($AK$7,MD_JAHR,0),0)*12","v":{"$error":"#VALUE!"}},{"v":0,"d":"0.00"}]
[{"$nulls":14},{"$f":"IF($B1003=\"\",\"\",IF(F1003=\"Arbeitgeberähnliche Stellung\",OFFSET(MD!$Q$5,MATCH(Grundlagen_Abrechnung_KAE!$AK$7,MD_JAHR,0),0)*$H1003,IF(((AD1003/12*M1003*12)+N1003)>AF1003,AF1003/12,((AD1003/12*M1003*12)+N1003)/12)))","v":""},null,null,{"v":0,"d":"0.00"},null,{"v":0,"d":"0.00%"},{"v":0,"d":"0.00"},{"v":0,"d":"0.00"},{"v":0,"d":"0.00"},null,"prüfen",{"$f":"IFERROR(OFFSET(MD!$U$5,MATCH(Grundlagen_Abrechnung_KAE!$E1003,MD_GENDER,0),0),\"\")","v":""},{"v":0,"d":"0.00"},null,{"v":0,"d":"0.00"},{"$f":"IF(F1003=\"Arbeitgeberähnliche Stellung\",OFFSET(MD!$Q$5,MATCH(Grundlagen_Abrechnung_KAE!$AK$7,MD_JAHR,0),0)*$H1003,IF(J1003>0,AC1003,I1003))","v":{"v":0,"d":"0.00"}},null,{"$f":"OFFSET(MD!$P$5,MATCH($AK$7,MD_JAHR,0),0)*12","v":{"$error":"#VALUE!"}},{"v":0,"d":"0.00"}]
[{"$nulls":14},{"$f":"IF($B1004=\"\",\"\",IF(F1004=\"Arbeitgeberähnliche Stellung\",OFFSET(MD!$Q$5,MATCH(Grundlagen_Abrechnung_KAE!$AK$7,MD_JAHR,0),0)*$H1004,IF(((AD1004/12*M1004*12)+N1004)>AF1004,AF1004/12,((AD1004/12*M1004*12)+N1004)/12)))","v":""},null,null,{"v":0,"d":"0.00"},null,{"v":0,"d":"0.00%"},{"v":0,"d":"0.00"},{"v":0,"d":"0.00"},{"v":0,"d":"0.00"},null,"prüfen",{"$f":"IFERROR(OFFSET(MD!$U$5,MATCH(Grundlagen_Abrechnung_KAE!$E1004,MD_GENDER,0),0),\"\")","v":""},{"v":0,"d":"0.00"},null,{"v":0,"d":"0.00"},{"$f":"IF(F1004=\"Arbeitgeberähnliche Stellung\",OFFSET(MD!$Q$5,MATCH(Grundlagen_Abrechnung_KAE!$AK$7,MD_JAHR,0),0)*$H1004,IF(J1004>0,AC1004,I1004))","v":{"v":0,"d":"0.00"}},null,{"$f":"OFFSET(MD!$P$5,MATCH($AK$7,MD_JAHR,0),0)*12","v":{"$error":"#VALUE!"}},{"v":0,"d":"0.00"}]
[{"$nulls":14},{"$f":"IF($B1005=\"\",\"\",IF(F1005=\"Arbeitgeberähnliche Stellung\",OFFSET(MD!$Q$5,MATCH(Grundlagen_Abrechnung_KAE!$AK$7,MD_JAHR,0),0)*$H1005,IF(((AD1005/12*M1005*12)+N1005)>AF1005,AF1005/12,((AD1005/12*M1005*12)+N1005)/12)))","v":""},null,null,{"v":0,"d":"0.00"},null,{"v":0,"d":"0.00%"},{"v":0,"d":"0.00"},{"v":0,"d":"0.00"},{"v":0,"d":"0.00"},null,"prüfen",{"$f":"IFERROR(OFFSET(MD!$U$5,MATCH(Grundlagen_Abrechnung_KAE!$E1005,MD_GENDER,0),0),\"\")","v":""},{"v":0,"d":"0.00"},null,{"v":0,"d":"0.00"},{"$f":"IF(F1005=\"Arbeitgeberähnliche Stellung\",OFFSET(MD!$Q$5,MATCH(Grundlagen_Abrechnung_KAE!$AK$7,MD_JAHR,0),0)*$H1005,IF(J1005>0,AC1005,I1005))","v":{"v":0,"d":"0.00"}},null,{"$f":"OFFSET(MD!$P$5,MATCH($AK$7,MD_JAHR,0),0)*12","v":{"$error":"#VALUE!"}},{"v":0,"d":"0.00"}]
[{"$nulls":14},{"$f":"IF($B1006=\"\",\"\",IF(F1006=\"Arbeitgeberähnliche Stellung\",OFFSET(MD!$Q$5,MATCH(Grundlagen_Abrechnung_KAE!$AK$7,MD_JAHR,0),0)*$H1006,IF(((AD1006/12*M1006*12)+N1006)>AF1006,AF1006/12,((AD1006/12*M1006*12)+N1006)/12)))","v":""},null,null,{"v":0,"d":"0.00"},null,{"v":0,"d":"0.00%"},{"v":0,"d":"0.00"},{"v":0,"d":"0.00"},{"v":0,"d":"0.00"},null,"prüfen",{"$f":"IFERROR(OFFSET(MD!$U$5,MATCH(Grundlagen_Abrechnung_KAE!$E1006,MD_GENDER,0),0),\"\")","v":""},{"v":0,"d":"0.00"},null,{"v":0,"d":"0.00"},{"$f":"IF(F1006=\"Arbeitgeberähnliche Stellung\",OFFSET(MD!$Q$5,MATCH(Grundlagen_Abrechnung_KAE!$AK$7,MD_JAHR,0),0)*$H1006,IF(J1006>0,AC1006,I1006))","v":{"v":0,"d":"0.00"}},null,{"$f":"OFFSET(MD!$P$5,MATCH($AK$7,MD_JAHR,0),0)*12","v":{"$error":"#VALUE!"}},{"v":0,"d":"0.00"}]
[{"$nulls":14},{"$f":"IF($B1007=\"\",\"\",IF(F1007=\"Arbeitgeberähnliche Stellung\",OFFSET(MD!$Q$5,MATCH(Grundlagen_Abrechnung_KAE!$AK$7,MD_JAHR,0),0)*$H1007,IF(((AD1007/12*M1007*12)+N1007)>AF1007,AF1007/12,((AD1007/12*M1007*12)+N1007)/12)))","v":""},null,null,{"v":0,"d":"0.00"},null,{"v":0,"d":"0.00%"},{"v":0,"d":"0.00"},{"v":0,"d":"0.00"},{"v":0,"d":"0.00"},null,"prüfen",{"$f":"IFERROR(OFFSET(MD!$U$5,MATCH(Grundlagen_Abrechnung_KAE!$E1007,MD_GENDER,0),0),\"\")","v":""},{"v":0,"d":"0.00"},null,{"v":0,"d":"0.00"},{"$f":"IF(F1007=\"Arbeitgeberähnliche Stellung\",OFFSET(MD!$Q$5,MATCH(Grundlagen_Abrechnung_KAE!$AK$7,MD_JAHR,0),0)*$H1007,IF(J1007>0,AC1007,I1007))","v":{"v":0,"d":"0.00"}},null,{"$f":"OFFSET(MD!$P$5,MATCH($AK$7,MD_JAHR,0),0)*12","v":{"$error":"#VALUE!"}},{"v":0,"d":"0.00"}]
[{"$nulls":14},{"$f":"IF($B1008=\"\",\"\",IF(F1008=\"Arbeitgeberähnliche Stellung\",OFFSET(MD!$Q$5,MATCH(Grundlagen_Abrechnung_KAE!$AK$7,MD_JAHR,0),0)*$H1008,IF(((AD1008/12*M1008*12)+N1008)>AF1008,AF1008/12,((AD1008/12*M1008*12)+N1008)/12)))","v":""},null,null,{"v":0,"d":"0.00"},null,{"v":0,"d":"0.00%"},{"v":0,"d":"0.00"},{"v":0,"d":"0.00"},{"v":0,"d":"0.00"},null,"prüfen",{"$f":"IFERROR(OFFSET(MD!$U$5,MATCH(Grundlagen_Abrechnung_KAE!$E1008,MD_GENDER,0),0),\"\")","v":""},{"v":0,"d":"0.00"},null,{"v":0,"d":"0.00"},{"$f":"IF(F1008=\"Arbeitgeberähnliche Stellung\",OFFSET(MD!$Q$5,MATCH(Grundlagen_Abrechnung_KAE!$AK$7,MD_JAHR,0),0)*$H1008,IF(J1008>0,AC1008,I1008))","v":{"v":0,"d":"0.00"}},null,{"$f":"OFFSET(MD!$P$5,MATCH($AK$7,MD_JAHR,0),0)*12","v":{"$error":"#VALUE!"}},{"v":0,"d":"0.00"}]
[{"$nulls":14},{"$f":"IF($B1009=\"\",\"\",IF(F1009=\"Arbeitgeberähnliche Stellung\",OFFSET(MD!$Q$5,MATCH(Grundlagen_Abrechnung_KAE!$AK$7,MD_JAHR,0),0)*$H1009,IF(((AD1009/12*M1009*12)+N1009)>AF1009,AF1009/12,((AD1009/12*M1009*12)+N1009)/12)))","v":""},null,null,{"v":0,"d":"0.00"},null,{"v":0,"d":"0.00%"},{"v":0,"d":"0.00"},{"v":0,"d":"0.00"},{"v":0,"d":"0.00"},null,"prüfen",{"$f":"IFERROR(OFFSET(MD!$U$5,MATCH(Grundlagen_Abrechnung_KAE!$E1009,MD_GENDER,0),0),\"\")","v":""},{"v":0,"d":"0.00"},null,{"v":0,"d":"0.00"},{"$f":"IF(F1009=\"Arbeitgeberähnliche Stellung\",OFFSET(MD!$Q$5,MATCH(Grundlagen_Abrechnung_KAE!$AK$7,MD_JAHR,0),0)*$H1009,IF(J1009>0,AC1009,I1009))","v":{"v":0,"d":"0.00"}},null,{"$f":"OFFSET(MD!$P$5,MATCH($AK$7,MD_JAHR,0),0)*12","v":{"$error":"#VALUE!"}},{"v":0,"d":"0.00"}]
[{"$nulls":14},{"$f":"IF($B1010=\"\",\"\",IF(F1010=\"Arbeitgeberähnliche Stellung\",OFFSET(MD!$Q$5,MATCH(Grundlagen_Abrechnung_KAE!$AK$7,MD_JAHR,0),0)*$H1010,IF(((AD1010/12*M1010*12)+N1010)>AF1010,AF1010/12,((AD1010/12*M1010*12)+N1010)/12)))","v":""},null,null,{"v":0,"d":"0.00"},null,{"v":0,"d":"0.00%"},{"v":0,"d":"0.00"},{"v":0,"d":"0.00"},{"v":0,"d":"0.00"},null,"prüfen",{"$f":"IFERROR(OFFSET(MD!$U$5,MATCH(Grundlagen_Abrechnung_KAE!$E1010,MD_GENDER,0),0),\"\")","v":""},{"v":0,"d":"0.00"},null,{"v":0,"d":"0.00"},{"$f":"IF(F1010=\"Arbeitgeberähnliche Stellung\",OFFSET(MD!$Q$5,MATCH(Grundlagen_Abrechnung_KAE!$AK$7,MD_JAHR,0),0)*$H1010,IF(J1010>0,AC1010,I1010))","v":{"v":0,"d":"0.00"}},null,{"$f":"OFFSET(MD!$P$5,MATCH($AK$7,MD_JAHR,0),0)*12","v":{"$error":"#VALUE!"}},{"v":0,"d":"0.00"}]
[{"$nulls":14},{"$f":"IF($B1011=\"\",\"\",IF(F1011=\"Arbeitgeberähnliche Stellung\",OFFSET(MD!$Q$5,MATCH(Grundlagen_Abrechnung_KAE!$AK$7,MD_JAHR,0),0)*$H1011,IF(((AD1011/12*M1011*12)+N1011)>AF1011,AF1011/12,((AD1011/12*M1011*12)+N1011)/12)))","v":""},null,null,{"v":0,"d":"0.00"},null,{"v":0,"d":"0.00%"},{"v":0,"d":"0.00"},{"v":0,"d":"0.00"},{"v":0,"d":"0.00"},null,"prüfen",{"$f":"IFERROR(OFFSET(MD!$U$5,MATCH(Grundlagen_Abrechnung_KAE!$E1011,MD_GENDER,0),0),\"\")","v":""},{"v":0,"d":"0.00"},null,{"v":0,"d":"0.00"},{"$f":"IF(F1011=\"Arbeitgeberähnliche Stellung\",OFFSET(MD!$Q$5,MATCH(Grundlagen_Abrechnung_KAE!$AK$7,MD_JAHR,0),0)*$H1011,IF(J1011>0,AC1011,I1011))","v":{"v":0,"d":"0.00"}},null,{"$f":"OFFSET(MD!$P$5,MATCH($AK$7,MD_JAHR,0),0)*12","v":{"$error":"#VALUE!"}},{"v":0,"d":"0.00"}]
[{"$nulls":14},{"$f":"IF($B1012=\"\",\"\",IF(F1012=\"Arbeitgeberähnliche Stellung\",OFFSET(MD!$Q$5,MATCH(Grundlagen_Abrechnung_KAE!$AK$7,MD_JAHR,0),0)*$H1012,IF(((AD1012/12*M1012*12)+N1012)>AF1012,AF1012/12,((AD1012/12*M1012*12)+N1012)/12)))","v":""},null,null,{"v":0,"d":"0.00"},null,{"v":0,"d":"0.00%"},{"v":0,"d":"0.00"},{"v":0,"d":"0.00"},{"v":0,"d":"0.00"},null,"prüfen",{"$f":"IFERROR(OFFSET(MD!$U$5,MATCH(Grundlagen_Abrechnung_KAE!$E1012,MD_GENDER,0),0),\"\")","v":""},{"v":0,"d":"0.00"},null,{"v":0,"d":"0.00"},{"$f":"IF(F1012=\"Arbeitgeberähnliche Stellung\",OFFSET(MD!$Q$5,MATCH(Grundlagen_Abrechnung_KAE!$AK$7,MD_JAHR,0),0)*$H1012,IF(J1012>0,AC1012,I1012))","v":{"v":0,"d":"0.00"}},null,{"$f":"OFFSET(MD!$P$5,MATCH($AK$7,MD_JAHR,0),0)*12","v":{"$error":"#VALUE!"}},{"v":0,"d":"0.00"}]
[{"$nulls":14},{"$f":"IF($B1013=\"\",\"\",IF(F1013=\"Arbeitgeberähnliche Stellung\",OFFSET(MD!$Q$5,MATCH(Grundlagen_Abrechnung_KAE!$AK$7,MD_JAHR,0),0)*$H1013,IF(((AD1013/12*M1013*12)+N1013)>AF1013,AF1013/12,((AD1013/12*M1013*12)+N1013)/12)))","v":""},null,null,{"v":0,"d":"0.00"},null,{"v":0,"d":"0.00%"},{"v":0,"d":"0.00"},{"v":0,"d":"0.00"},{"v":0,"d":"0.00"},null,"prüfen",{"$f":"IFERROR(OFFSET(MD!$U$5,MATCH(Grundlagen_Abrechnung_KAE!$E1013,MD_GENDER,0),0),\"\")","v":""},{"v":0,"d":"0.00"},null,{"v":0,"d":"0.00"},{"$f":"IF(F1013=\"Arbeitgeberähnliche Stellung\",OFFSET(MD!$Q$5,MATCH(Grundlagen_Abrechnung_KAE!$AK$7,MD_JAHR,0),0)*$H1013,IF(J1013>0,AC1013,I1013))","v":{"v":0,"d":"0.00"}},null,{"$f":"OFFSET(MD!$P$5,MATCH($AK$7,MD_JAHR,0),0)*12","v":{"$error":"#VALUE!"}},{"v":0,"d":"0.00"}]
[{"$nulls":14},{"$f":"IF($B1014=\"\",\"\",IF(F1014=\"Arbeitgeberähnliche Stellung\",OFFSET(MD!$Q$5,MATCH(Grundlagen_Abrechnung_KAE!$AK$7,MD_JAHR,0),0)*$H1014,IF(((AD1014/12*M1014*12)+N1014)>AF1014,AF1014/12,((AD1014/12*M1014*12)+N1014)/12)))","v":""},null,null,{"v":0,"d":"0.00"},null,{"v":0,"d":"0.00%"},{"v":0,"d":"0.00"},{"v":0,"d":"0.00"},{"v":0,"d":"0.00"},null,"prüfen",{"$f":"IFERROR(OFFSET(MD!$U$5,MATCH(Grundlagen_Abrechnung_KAE!$E1014,MD_GENDER,0),0),\"\")","v":""},{"v":0,"d":"0.00"},null,{"v":0,"d":"0.00"},{"$f":"IF(F1014=\"Arbeitgeberähnliche Stellung\",OFFSET(MD!$Q$5,MATCH(Grundlagen_Abrechnung_KAE!$AK$7,MD_JAHR,0),0)*$H1014,IF(J1014>0,AC1014,I1014))","v":{"v":0,"d":"0.00"}},null,{"$f":"OFFSET(MD!$P$5,MATCH($AK$7,MD_JAHR,0),0)*12","v":{"$error":"#VALUE!"}},{"v":0,"d":"0.00"}]
[{"$nulls":14},{"$f":"IF($B1015=\"\",\"\",IF(F1015=\"Arbeitgeberähnliche Stellung\",OFFSET(MD!$Q$5,MATCH(Grundlagen_Abrechnung_KAE!$AK$7,MD_JAHR,0),0)*$H1015,IF(((AD1015/12*M1015*12)+N1015)>AF1015,AF1015/12,((AD1015/12*M1015*12)+N1015)/12)))","v":""},null,null,{"v":0,"d":"0.00"},null,{"v":0,"d":"0.00%"},{"v":0,"d":"0.00"},{"v":0,"d":"0.00"},{"v":0,"d":"0.00"},null,"prüfen",{"$f":"IFERROR(OFFSET(MD!$U$5,MATCH(Grundlagen_Abrechnung_KAE!$E1015,MD_GENDER,0),0),\"\")","v":""},{"v":0,"d":"0.00"},null,{"v":0,"d":"0.00"},{"$f":"IF(F1015=\"Arbeitgeberähnliche Stellung\",OFFSET(MD!$Q$5,MATCH(Grundlagen_Abrechnung_KAE!$AK$7,MD_JAHR,0),0)*$H1015,IF(J1015>0,AC1015,I1015))","v":{"v":0,"d":"0.00"}},null,{"$f":"OFFSET(MD!$P$5,MATCH($AK$7,MD_JAHR,0),0)*12","v":{"$error":"#VALUE!"}},{"v":0,"d":"0.00"}]
[{"$nulls":14},{"$f":"IF($B1016=\"\",\"\",IF(F1016=\"Arbeitgeberähnliche Stellung\",OFFSET(MD!$Q$5,MATCH(Grundlagen_Abrechnung_KAE!$AK$7,MD_JAHR,0),0)*$H1016,IF(((AD1016/12*M1016*12)+N1016)>AF1016,AF1016/12,((AD1016/12*M1016*12)+N1016)/12)))","v":""},null,null,{"v":0,"d":"0.00"},null,{"v":0,"d":"0.00%"},{"v":0,"d":"0.00"},{"v":0,"d":"0.00"},{"v":0,"d":"0.00"},null,"prüfen",{"$f":"IFERROR(OFFSET(MD!$U$5,MATCH(Grundlagen_Abrechnung_KAE!$E1016,MD_GENDER,0),0),\"\")","v":""},{"v":0,"d":"0.00"},null,{"v":0,"d":"0.00"},{"$f":"IF(F1016=\"Arbeitgeberähnliche Stellung\",OFFSET(MD!$Q$5,MATCH(Grundlagen_Abrechnung_KAE!$AK$7,MD_JAHR,0),0)*$H1016,IF(J1016>0,AC1016,I1016))","v":{"v":0,"d":"0.00"}},null,{"$f":"OFFSET(MD!$P$5,MATCH($AK$7,MD_JAHR,0),0)*12","v":{"$error":"#VALUE!"}},{"v":0,"d":"0.00"}]
[{"$nulls":14},{"$f":"IF($B1017=\"\",\"\",IF(F1017=\"Arbeitgeberähnliche Stellung\",OFFSET(MD!$Q$5,MATCH(Grundlagen_Abrechnung_KAE!$AK$7,MD_JAHR,0),0)*$H1017,IF(((AD1017/12*M1017*12)+N1017)>AF1017,AF1017/12,((AD1017/12*M1017*12)+N1017)/12)))","v":""},null,null,{"v":0,"d":"0.00"},null,{"v":0,"d":"0.00%"},{"v":0,"d":"0.00"},{"v":0,"d":"0.00"},{"v":0,"d":"0.00"},null,"prüfen",{"$f":"IFERROR(OFFSET(MD!$U$5,MATCH(Grundlagen_Abrechnung_KAE!$E1017,MD_GENDER,0),0),\"\")","v":""},{"v":0,"d":"0.00"},null,{"v":0,"d":"0.00"},{"$f":"IF(F1017=\"Arbeitgeberähnliche Stellung\",OFFSET(MD!$Q$5,MATCH(Grundlagen_Abrechnung_KAE!$AK$7,MD_JAHR,0),0)*$H1017,IF(J1017>0,AC1017,I1017))","v":{"v":0,"d":"0.00"}},null,{"$f":"OFFSET(MD!$P$5,MATCH($AK$7,MD_JAHR,0),0)*12","v":{"$error":"#VALUE!"}},{"v":0,"d":"0.00"}]
[{"$nulls":14},{"$f":"IF($B1018=\"\",\"\",IF(F1018=\"Arbeitgeberähnliche Stellung\",OFFSET(MD!$Q$5,MATCH(Grundlagen_Abrechnung_KAE!$AK$7,MD_JAHR,0),0)*$H1018,IF(((AD1018/12*M1018*12)+N1018)>AF1018,AF1018/12,((AD1018/12*M1018*12)+N1018)/12)))","v":""},null,null,{"v":0,"d":"0.00"},null,{"v":0,"d":"0.00%"},{"v":0,"d":"0.00"},{"v":0,"d":"0.00"},{"v":0,"d":"0.00"},null,"prüfen",{"$f":"IFERROR(OFFSET(MD!$U$5,MATCH(Grundlagen_Abrechnung_KAE!$E1018,MD_GENDER,0),0),\"\")","v":""},{"v":0,"d":"0.00"},null,{"v":0,"d":"0.00"},{"$f":"IF(F1018=\"Arbeitgeberähnliche Stellung\",OFFSET(MD!$Q$5,MATCH(Grundlagen_Abrechnung_KAE!$AK$7,MD_JAHR,0),0)*$H1018,IF(J1018>0,AC1018,I1018))","v":{"v":0,"d":"0.00"}},null,{"$f":"OFFSET(MD!$P$5,MATCH($AK$7,MD_JAHR,0),0)*12","v":{"$error":"#VALUE!"}},{"v":0,"d":"0.00"}]
[{"$nulls":14},{"$f":"IF($B1019=\"\",\"\",IF(F1019=\"Arbeitgeberähnliche Stellung\",OFFSET(MD!$Q$5,MATCH(Grundlagen_Abrechnung_KAE!$AK$7,MD_JAHR,0),0)*$H1019,IF(((AD1019/12*M1019*12)+N1019)>AF1019,AF1019/12,((AD1019/12*M1019*12)+N1019)/12)))","v":""},null,null,{"v":0,"d":"0.00"},null,{"v":0,"d":"0.00%"},{"v":0,"d":"0.00"},{"v":0,"d":"0.00"},{"v":0,"d":"0.00"},null,"prüfen",{"$f":"IFERROR(OFFSET(MD!$U$5,MATCH(Grundlagen_Abrechnung_KAE!$E1019,MD_GENDER,0),0),\"\")","v":""},{"v":0,"d":"0.00"},null,{"v":0,"d":"0.00"},{"$f":"IF(F1019=\"Arbeitgeberähnliche Stellung\",OFFSET(MD!$Q$5,MATCH(Grundlagen_Abrechnung_KAE!$AK$7,MD_JAHR,0),0)*$H1019,IF(J1019>0,AC1019,I1019))","v":{"v":0,"d":"0.00"}},null,{"$f":"OFFSET(MD!$P$5,MATCH($AK$7,MD_JAHR,0),0)*12","v":{"$error":"#VALUE!"}},{"v":0,"d":"0.00"}]
[{"$nulls":14},{"$f":"IF($B1020=\"\",\"\",IF(F1020=\"Arbeitgeberähnliche Stellung\",OFFSET(MD!$Q$5,MATCH(Grundlagen_Abrechnung_KAE!$AK$7,MD_JAHR,0),0)*$H1020,IF(((AD1020/12*M1020*12)+N1020)>AF1020,AF1020/12,((AD1020/12*M1020*12)+N1020)/12)))","v":""},null,null,{"v":0,"d":"0.00"},null,{"v":0,"d":"0.00%"},{"v":0,"d":"0.00"},{"v":0,"d":"0.00"},{"v":0,"d":"0.00"},null,"prüfen",{"$f":"IFERROR(OFFSET(MD!$U$5,MATCH(Grundlagen_Abrechnung_KAE!$E1020,MD_GENDER,0),0),\"\")","v":""},{"v":0,"d":"0.00"},null,{"v":0,"d":"0.00"},{"$f":"IF(F1020=\"Arbeitgeberähnliche Stellung\",OFFSET(MD!$Q$5,MATCH(Grundlagen_Abrechnung_KAE!$AK$7,MD_JAHR,0),0)*$H1020,IF(J1020>0,AC1020,I1020))","v":{"v":0,"d":"0.00"}},null,{"$f":"OFFSET(MD!$P$5,MATCH($AK$7,MD_JAHR,0),0)*12","v":{"$error":"#VALUE!"}},{"v":0,"d":"0.00"}]
[{"$nulls":14},{"$f":"IF($B1021=\"\",\"\",IF(F1021=\"Arbeitgeberähnliche Stellung\",OFFSET(MD!$Q$5,MATCH(Grundlagen_Abrechnung_KAE!$AK$7,MD_JAHR,0),0)*$H1021,IF(((AD1021/12*M1021*12)+N1021)>AF1021,AF1021/12,((AD1021/12*M1021*12)+N1021)/12)))","v":""},null,null,{"v":0,"d":"0.00"},null,{"v":0,"d":"0.00%"},{"v":0,"d":"0.00"},{"v":0,"d":"0.00"},{"v":0,"d":"0.00"},null,"prüfen",{"$f":"IFERROR(OFFSET(MD!$U$5,MATCH(Grundlagen_Abrechnung_KAE!$E1021,MD_GENDER,0),0),\"\")","v":""},{"v":0,"d":"0.00"},null,{"v":0,"d":"0.00"},{"$f":"IF(F1021=\"Arbeitgeberähnliche Stellung\",OFFSET(MD!$Q$5,MATCH(Grundlagen_Abrechnung_KAE!$AK$7,MD_JAHR,0),0)*$H1021,IF(J1021>0,AC1021,I1021))","v":{"v":0,"d":"0.00"}},null,{"$f":"OFFSET(MD!$P$5,MATCH($AK$7,MD_JAHR,0),0)*12","v":{"$error":"#VALUE!"}},{"v":0,"d":"0.00"}]
[{"$nulls":14},{"$f":"IF($B1022=\"\",\"\",IF(F1022=\"Arbeitgeberähnliche Stellung\",OFFSET(MD!$Q$5,MATCH(Grundlagen_Abrechnung_KAE!$AK$7,MD_JAHR,0),0)*$H1022,IF(((AD1022/12*M1022*12)+N1022)>AF1022,AF1022/12,((AD1022/12*M1022*12)+N1022)/12)))","v":""},null,null,{"v":0,"d":"0.00"},null,{"v":0,"d":"0.00%"},{"v":0,"d":"0.00"},{"v":0,"d":"0.00"},{"v":0,"d":"0.00"},null,"prüfen",{"$f":"IFERROR(OFFSET(MD!$U$5,MATCH(Grundlagen_Abrechnung_KAE!$E1022,MD_GENDER,0),0),\"\")","v":""},{"v":0,"d":"0.00"},null,{"v":0,"d":"0.00"},{"$f":"IF(F1022=\"Arbeitgeberähnliche Stellung\",OFFSET(MD!$Q$5,MATCH(Grundlagen_Abrechnung_KAE!$AK$7,MD_JAHR,0),0)*$H1022,IF(J1022>0,AC1022,I1022))","v":{"v":0,"d":"0.00"}},null,{"$f":"OFFSET(MD!$P$5,MATCH($AK$7,MD_JAHR,0),0)*12","v":{"$error":"#VALUE!"}},{"v":0,"d":"0.00"}]
[{"$nulls":14},{"$f":"IF($B1023=\"\",\"\",IF(F1023=\"Arbeitgeberähnliche Stellung\",OFFSET(MD!$Q$5,MATCH(Grundlagen_Abrechnung_KAE!$AK$7,MD_JAHR,0),0)*$H1023,IF(((AD1023/12*M1023*12)+N1023)>AF1023,AF1023/12,((AD1023/12*M1023*12)+N1023)/12)))","v":""},null,null,{"v":0,"d":"0.00"},null,{"v":0,"d":"0.00%"},{"v":0,"d":"0.00"},{"v":0,"d":"0.00"},{"v":0,"d":"0.00"},null,"prüfen",{"$f":"IFERROR(OFFSET(MD!$U$5,MATCH(Grundlagen_Abrechnung_KAE!$E1023,MD_GENDER,0),0),\"\")","v":""},{"v":0,"d":"0.00"},null,{"v":0,"d":"0.00"},{"$f":"IF(F1023=\"Arbeitgeberähnliche Stellung\",OFFSET(MD!$Q$5,MATCH(Grundlagen_Abrechnung_KAE!$AK$7,MD_JAHR,0),0)*$H1023,IF(J1023>0,AC1023,I1023))","v":{"v":0,"d":"0.00"}},null,{"$f":"OFFSET(MD!$P$5,MATCH($AK$7,MD_JAHR,0),0)*12","v":{"$error":"#VALUE!"}},{"v":0,"d":"0.00"}]
[{"$nulls":14},{"$f":"IF($B1024=\"\",\"\",IF(F1024=\"Arbeitgeberähnliche Stellung\",OFFSET(MD!$Q$5,MATCH(Grundlagen_Abrechnung_KAE!$AK$7,MD_JAHR,0),0)*$H1024,IF(((AD1024/12*M1024*12)+N1024)>AF1024,AF1024/12,((AD1024/12*M1024*12)+N1024)/12)))","v":""},null,null,{"v":0,"d":"0.00"},null,{"v":0,"d":"0.00%"},{"v":0,"d":"0.00"},{"v":0,"d":"0.00"},{"v":0,"d":"0.00"},null,"prüfen",{"$f":"IFERROR(OFFSET(MD!$U$5,MATCH(Grundlagen_Abrechnung_KAE!$E1024,MD_GENDER,0),0),\"\")","v":""},{"v":0,"d":"0.00"},null,{"v":0,"d":"0.00"},{"$f":"IF(F1024=\"Arbeitgeberähnliche Stellung\",OFFSET(MD!$Q$5,MATCH(Grundlagen_Abrechnung_KAE!$AK$7,MD_JAHR,0),0)*$H1024,IF(J1024>0,AC1024,I1024))","v":{"v":0,"d":"0.00"}},null,{"$f":"OFFSET(MD!$P$5,MATCH($AK$7,MD_JAHR,0),0)*12","v":{"$error":"#VALUE!"}},{"v":0,"d":"0.00"}]
[{"$nulls":14},{"$f":"IF($B1025=\"\",\"\",IF(F1025=\"Arbeitgeberähnliche Stellung\",OFFSET(MD!$Q$5,MATCH(Grundlagen_Abrechnung_KAE!$AK$7,MD_JAHR,0),0)*$H1025,IF(((AD1025/12*M1025*12)+N1025)>AF1025,AF1025/12,((AD1025/12*M1025*12)+N1025)/12)))","v":""},null,null,{"v":0,"d":"0.00"},null,{"v":0,"d":"0.00%"},{"v":0,"d":"0.00"},{"v":0,"d":"0.00"},{"v":0,"d":"0.00"},null,"prüfen",{"$f":"IFERROR(OFFSET(MD!$U$5,MATCH(Grundlagen_Abrechnung_KAE!$E1025,MD_GENDER,0),0),\"\")","v":""},{"v":0,"d":"0.00"},null,{"v":0,"d":"0.00"},{"$f":"IF(F1025=\"Arbeitgeberähnliche Stellung\",OFFSET(MD!$Q$5,MATCH(Grundlagen_Abrechnung_KAE!$AK$7,MD_JAHR,0),0)*$H1025,IF(J1025>0,AC1025,I1025))","v":{"v":0,"d":"0.00"}},null,{"$f":"OFFSET(MD!$P$5,MATCH($AK$7,MD_JAHR,0),0)*12","v":{"$error":"#VALUE!"}},{"v":0,"d":"0.00"}]
[{"$nulls":14},{"$f":"IF($B1026=\"\",\"\",IF(F1026=\"Arbeitgeberähnliche Stellung\",OFFSET(MD!$Q$5,MATCH(Grundlagen_Abrechnung_KAE!$AK$7,MD_JAHR,0),0)*$H1026,IF(((AD1026/12*M1026*12)+N1026)>AF1026,AF1026/12,((AD1026/12*M1026*12)+N1026)/12)))","v":""},null,null,{"v":0,"d":"0.00"},null,{"v":0,"d":"0.00%"},{"v":0,"d":"0.00"},{"v":0,"d":"0.00"},{"v":0,"d":"0.00"},null,"prüfen",{"$f":"IFERROR(OFFSET(MD!$U$5,MATCH(Grundlagen_Abrechnung_KAE!$E1026,MD_GENDER,0),0),\"\")","v":""},{"v":0,"d":"0.00"},null,{"v":0,"d":"0.00"},{"$f":"IF(F1026=\"Arbeitgeberähnliche Stellung\",OFFSET(MD!$Q$5,MATCH(Grundlagen_Abrechnung_KAE!$AK$7,MD_JAHR,0),0)*$H1026,IF(J1026>0,AC1026,I1026))","v":{"v":0,"d":"0.00"}},null,{"$f":"OFFSET(MD!$P$5,MATCH($AK$7,MD_JAHR,0),0)*12","v":{"$error":"#VALUE!"}},{"v":0,"d":"0.00"}]
[{"$nulls":14},{"$f":"IF($B1027=\"\",\"\",IF(F1027=\"Arbeitgeberähnliche Stellung\",OFFSET(MD!$Q$5,MATCH(Grundlagen_Abrechnung_KAE!$AK$7,MD_JAHR,0),0)*$H1027,IF(((AD1027/12*M1027*12)+N1027)>AF1027,AF1027/12,((AD1027/12*M1027*12)+N1027)/12)))","v":""},null,null,{"v":0,"d":"0.00"},null,{"v":0,"d":"0.00%"},{"v":0,"d":"0.00"},{"v":0,"d":"0.00"},{"v":0,"d":"0.00"},null,"prüfen",{"$f":"IFERROR(OFFSET(MD!$U$5,MATCH(Grundlagen_Abrechnung_KAE!$E1027,MD_GENDER,0),0),\"\")","v":""},{"v":0,"d":"0.00"},null,{"v":0,"d":"0.00"},{"$f":"IF(F1027=\"Arbeitgeberähnliche Stellung\",OFFSET(MD!$Q$5,MATCH(Grundlagen_Abrechnung_KAE!$AK$7,MD_JAHR,0),0)*$H1027,IF(J1027>0,AC1027,I1027))","v":{"v":0,"d":"0.00"}},null,{"$f":"OFFSET(MD!$P$5,MATCH($AK$7,MD_JAHR,0),0)*12","v":{"$error":"#VALUE!"}},{"v":0,"d":"0.00"}]
[{"$nulls":14},{"$f":"IF($B1028=\"\",\"\",IF(F1028=\"Arbeitgeberähnliche Stellung\",OFFSET(MD!$Q$5,MATCH(Grundlagen_Abrechnung_KAE!$AK$7,MD_JAHR,0),0)*$H1028,IF(((AD1028/12*M1028*12)+N1028)>AF1028,AF1028/12,((AD1028/12*M1028*12)+N1028)/12)))","v":""},null,null,{"v":0,"d":"0.00"},null,{"v":0,"d":"0.00%"},{"v":0,"d":"0.00"},{"v":0,"d":"0.00"},{"v":0,"d":"0.00"},null,"prüfen",{"$f":"IFERROR(OFFSET(MD!$U$5,MATCH(Grundlagen_Abrechnung_KAE!$E1028,MD_GENDER,0),0),\"\")","v":""},{"v":0,"d":"0.00"},null,{"v":0,"d":"0.00"},{"$f":"IF(F1028=\"Arbeitgeberähnliche Stellung\",OFFSET(MD!$Q$5,MATCH(Grundlagen_Abrechnung_KAE!$AK$7,MD_JAHR,0),0)*$H1028,IF(J1028>0,AC1028,I1028))","v":{"v":0,"d":"0.00"}},null,{"$f":"OFFSET(MD!$P$5,MATCH($AK$7,MD_JAHR,0),0)*12","v":{"$error":"#VALUE!"}},{"v":0,"d":"0.00"}]
[{"$nulls":14},{"$f":"IF($B1029=\"\",\"\",IF(F1029=\"Arbeitgeberähnliche Stellung\",OFFSET(MD!$Q$5,MATCH(Grundlagen_Abrechnung_KAE!$AK$7,MD_JAHR,0),0)*$H1029,IF(((AD1029/12*M1029*12)+N1029)>AF1029,AF1029/12,((AD1029/12*M1029*12)+N1029)/12)))","v":""},null,null,{"v":0,"d":"0.00"},null,{"v":0,"d":"0.00%"},{"v":0,"d":"0.00"},{"v":0,"d":"0.00"},{"v":0,"d":"0.00"},null,"prüfen",{"$f":"IFERROR(OFFSET(MD!$U$5,MATCH(Grundlagen_Abrechnung_KAE!$E1029,MD_GENDER,0),0),\"\")","v":""},{"v":0,"d":"0.00"},null,{"v":0,"d":"0.00"},{"$f":"IF(F1029=\"Arbeitgeberähnliche Stellung\",OFFSET(MD!$Q$5,MATCH(Grundlagen_Abrechnung_KAE!$AK$7,MD_JAHR,0),0)*$H1029,IF(J1029>0,AC1029,I1029))","v":{"v":0,"d":"0.00"}},null,{"$f":"OFFSET(MD!$P$5,MATCH($AK$7,MD_JAHR,0),0)*12","v":{"$error":"#VALUE!"}},{"v":0,"d":"0.00"}]
[{"$nulls":14},{"$f":"IF($B1030=\"\",\"\",IF(F1030=\"Arbeitgeberähnliche Stellung\",OFFSET(MD!$Q$5,MATCH(Grundlagen_Abrechnung_KAE!$AK$7,MD_JAHR,0),0)*$H1030,IF(((AD1030/12*M1030*12)+N1030)>AF1030,AF1030/12,((AD1030/12*M1030*12)+N1030)/12)))","v":""},null,null,{"v":0,"d":"0.00"},null,{"v":0,"d":"0.00%"},{"v":0,"d":"0.00"},{"v":0,"d":"0.00"},{"v":0,"d":"0.00"},null,"prüfen",{"$f":"IFERROR(OFFSET(MD!$U$5,MATCH(Grundlagen_Abrechnung_KAE!$E1030,MD_GENDER,0),0),\"\")","v":""},{"v":0,"d":"0.00"},null,{"v":0,"d":"0.00"},{"$f":"IF(F1030=\"Arbeitgeberähnliche Stellung\",OFFSET(MD!$Q$5,MATCH(Grundlagen_Abrechnung_KAE!$AK$7,MD_JAHR,0),0)*$H1030,IF(J1030>0,AC1030,I1030))","v":{"v":0,"d":"0.00"}},null,{"$f":"OFFSET(MD!$P$5,MATCH($AK$7,MD_JAHR,0),0)*12","v":{"$error":"#VALUE!"}},{"v":0,"d":"0.00"}]
[{"$nulls":14},{"$f":"IF($B1031=\"\",\"\",IF(F1031=\"Arbeitgeberähnliche Stellung\",OFFSET(MD!$Q$5,MATCH(Grundlagen_Abrechnung_KAE!$AK$7,MD_JAHR,0),0)*$H1031,IF(((AD1031/12*M1031*12)+N1031)>AF1031,AF1031/12,((AD1031/12*M1031*12)+N1031)/12)))","v":""},null,null,{"v":0,"d":"0.00"},null,{"v":0,"d":"0.00%"},{"v":0,"d":"0.00"},{"v":0,"d":"0.00"},{"v":0,"d":"0.00"},null,"prüfen",{"$f":"IFERROR(OFFSET(MD!$U$5,MATCH(Grundlagen_Abrechnung_KAE!$E1031,MD_GENDER,0),0),\"\")","v":""},{"v":0,"d":"0.00"},null,{"v":0,"d":"0.00"},{"$f":"IF(F1031=\"Arbeitgeberähnliche Stellung\",OFFSET(MD!$Q$5,MATCH(Grundlagen_Abrechnung_KAE!$AK$7,MD_JAHR,0),0)*$H1031,IF(J1031>0,AC1031,I1031))","v":{"v":0,"d":"0.00"}},null,{"$f":"OFFSET(MD!$P$5,MATCH($AK$7,MD_JAHR,0),0)*12","v":{"$error":"#VALUE!"}},{"v":0,"d":"0.00"}]
[{"$nulls":14},{"$f":"IF($B1032=\"\",\"\",IF(F1032=\"Arbeitgeberähnliche Stellung\",OFFSET(MD!$Q$5,MATCH(Grundlagen_Abrechnung_KAE!$AK$7,MD_JAHR,0),0)*$H1032,IF(((AD1032/12*M1032*12)+N1032)>AF1032,AF1032/12,((AD1032/12*M1032*12)+N1032)/12)))","v":""},null,null,{"v":0,"d":"0.00"},null,{"v":0,"d":"0.00%"},{"v":0,"d":"0.00"},{"v":0,"d":"0.00"},{"v":0,"d":"0.00"},null,"prüfen",{"$f":"IFERROR(OFFSET(MD!$U$5,MATCH(Grundlagen_Abrechnung_KAE!$E1032,MD_GENDER,0),0),\"\")","v":""},{"v":0,"d":"0.00"},null,{"v":0,"d":"0.00"},{"$f":"IF(F1032=\"Arbeitgeberähnliche Stellung\",OFFSET(MD!$Q$5,MATCH(Grundlagen_Abrechnung_KAE!$AK$7,MD_JAHR,0),0)*$H1032,IF(J1032>0,AC1032,I1032))","v":{"v":0,"d":"0.00"}},null,{"$f":"OFFSET(MD!$P$5,MATCH($AK$7,MD_JAHR,0),0)*12","v":{"$error":"#VALUE!"}},{"v":0,"d":"0.00"}]
[{"$nulls":14},{"$f":"IF($B1033=\"\",\"\",IF(F1033=\"Arbeitgeberähnliche Stellung\",OFFSET(MD!$Q$5,MATCH(Grundlagen_Abrechnung_KAE!$AK$7,MD_JAHR,0),0)*$H1033,IF(((AD1033/12*M1033*12)+N1033)>AF1033,AF1033/12,((AD1033/12*M1033*12)+N1033)/12)))","v":""},null,null,{"v":0,"d":"0.00"},null,{"v":0,"d":"0.00%"},{"v":0,"d":"0.00"},{"v":0,"d":"0.00"},{"v":0,"d":"0.00"},null,"prüfen",{"$f":"IFERROR(OFFSET(MD!$U$5,MATCH(Grundlagen_Abrechnung_KAE!$E1033,MD_GENDER,0),0),\"\")","v":""},{"v":0,"d":"0.00"},null,{"v":0,"d":"0.00"},{"$f":"IF(F1033=\"Arbeitgeberähnliche Stellung\",OFFSET(MD!$Q$5,MATCH(Grundlagen_Abrechnung_KAE!$AK$7,MD_JAHR,0),0)*$H1033,IF(J1033>0,AC1033,I1033))","v":{"v":0,"d":"0.00"}},null,{"$f":"OFFSET(MD!$P$5,MATCH($AK$7,MD_JAHR,0),0)*12","v":{"$error":"#VALUE!"}},{"v":0,"d":"0.00"}]
[{"$nulls":14},{"$f":"IF($B1034=\"\",\"\",IF(F1034=\"Arbeitgeberähnliche Stellung\",OFFSET(MD!$Q$5,MATCH(Grundlagen_Abrechnung_KAE!$AK$7,MD_JAHR,0),0)*$H1034,IF(((AD1034/12*M1034*12)+N1034)>AF1034,AF1034/12,((AD1034/12*M1034*12)+N1034)/12)))","v":""},null,null,{"v":0,"d":"0.00"},null,{"v":0,"d":"0.00%"},{"v":0,"d":"0.00"},{"v":0,"d":"0.00"},{"v":0,"d":"0.00"},null,"prüfen",{"$f":"IFERROR(OFFSET(MD!$U$5,MATCH(Grundlagen_Abrechnung_KAE!$E1034,MD_GENDER,0),0),\"\")","v":""},{"v":0,"d":"0.00"},null,{"v":0,"d":"0.00"},{"$f":"IF(F1034=\"Arbeitgeberähnliche Stellung\",OFFSET(MD!$Q$5,MATCH(Grundlagen_Abrechnung_KAE!$AK$7,MD_JAHR,0),0)*$H1034,IF(J1034>0,AC1034,I1034))","v":{"v":0,"d":"0.00"}},null,{"$f":"OFFSET(MD!$P$5,MATCH($AK$7,MD_JAHR,0),0)*12","v":{"$error":"#VALUE!"}},{"v":0,"d":"0.00"}]
[{"$nulls":14},{"$f":"IF($B1035=\"\",\"\",IF(F1035=\"Arbeitgeberähnliche Stellung\",OFFSET(MD!$Q$5,MATCH(Grundlagen_Abrechnung_KAE!$AK$7,MD_JAHR,0),0)*$H1035,IF(((AD1035/12*M1035*12)+N1035)>AF1035,AF1035/12,((AD1035/12*M1035*12)+N1035)/12)))","v":""},null,null,{"v":0,"d":"0.00"},null,{"v":0,"d":"0.00%"},{"v":0,"d":"0.00"},{"v":0,"d":"0.00"},{"v":0,"d":"0.00"},null,"prüfen",{"$f":"IFERROR(OFFSET(MD!$U$5,MATCH(Grundlagen_Abrechnung_KAE!$E1035,MD_GENDER,0),0),\"\")","v":""},{"v":0,"d":"0.00"},null,{"v":0,"d":"0.00"},{"$f":"IF(F1035=\"Arbeitgeberähnliche Stellung\",OFFSET(MD!$Q$5,MATCH(Grundlagen_Abrechnung_KAE!$AK$7,MD_JAHR,0),0)*$H1035,IF(J1035>0,AC1035,I1035))","v":{"v":0,"d":"0.00"}},null,{"$f":"OFFSET(MD!$P$5,MATCH($AK$7,MD_JAHR,0),0)*12","v":{"$error":"#VALUE!"}},{"v":0,"d":"0.00"}]
[{"$nulls":14},{"$f":"IF($B1036=\"\",\"\",IF(F1036=\"Arbeitgeberähnliche Stellung\",OFFSET(MD!$Q$5,MATCH(Grundlagen_Abrechnung_KAE!$AK$7,MD_JAHR,0),0)*$H1036,IF(((AD1036/12*M1036*12)+N1036)>AF1036,AF1036/12,((AD1036/12*M1036*12)+N1036)/12)))","v":""},null,null,{"v":0,"d":"0.00"},null,{"v":0,"d":"0.00%"},{"v":0,"d":"0.00"},{"v":0,"d":"0.00"},{"v":0,"d":"0.00"},null,"prüfen",{"$f":"IFERROR(OFFSET(MD!$U$5,MATCH(Grundlagen_Abrechnung_KAE!$E1036,MD_GENDER,0),0),\"\")","v":""},{"v":0,"d":"0.00"},null,{"v":0,"d":"0.00"},{"$f":"IF(F1036=\"Arbeitgeberähnliche Stellung\",OFFSET(MD!$Q$5,MATCH(Grundlagen_Abrechnung_KAE!$AK$7,MD_JAHR,0),0)*$H1036,IF(J1036>0,AC1036,I1036))","v":{"v":0,"d":"0.00"}},null,{"$f":"OFFSET(MD!$P$5,MATCH($AK$7,MD_JAHR,0),0)*12","v":{"$error":"#VALUE!"}},{"v":0,"d":"0.00"}]
[{"$nulls":14},{"$f":"IF($B1037=\"\",\"\",IF(F1037=\"Arbeitgeberähnliche Stellung\",OFFSET(MD!$Q$5,MATCH(Grundlagen_Abrechnung_KAE!$AK$7,MD_JAHR,0),0)*$H1037,IF(((AD1037/12*M1037*12)+N1037)>AF1037,AF1037/12,((AD1037/12*M1037*12)+N1037)/12)))","v":""},null,null,{"v":0,"d":"0.00"},null,{"v":0,"d":"0.00%"},{"v":0,"d":"0.00"},{"v":0,"d":"0.00"},{"v":0,"d":"0.00"},null,"prüfen",{"$f":"IFERROR(OFFSET(MD!$U$5,MATCH(Grundlagen_Abrechnung_KAE!$E1037,MD_GENDER,0),0),\"\")","v":""},{"v":0,"d":"0.00"},null,{"v":0,"d":"0.00"},{"$f":"IF(F1037=\"Arbeitgeberähnliche Stellung\",OFFSET(MD!$Q$5,MATCH(Grundlagen_Abrechnung_KAE!$AK$7,MD_JAHR,0),0)*$H1037,IF(J1037>0,AC1037,I1037))","v":{"v":0,"d":"0.00"}},null,{"$f":"OFFSET(MD!$P$5,MATCH($AK$7,MD_JAHR,0),0)*12","v":{"$error":"#VALUE!"}},{"v":0,"d":"0.00"}]
[{"$nulls":14},{"$f":"IF($B1038=\"\",\"\",IF(F1038=\"Arbeitgeberähnliche Stellung\",OFFSET(MD!$Q$5,MATCH(Grundlagen_Abrechnung_KAE!$AK$7,MD_JAHR,0),0)*$H1038,IF(((AD1038/12*M1038*12)+N1038)>AF1038,AF1038/12,((AD1038/12*M1038*12)+N1038)/12)))","v":""},null,null,{"v":0,"d":"0.00"},null,{"v":0,"d":"0.00%"},{"v":0,"d":"0.00"},{"v":0,"d":"0.00"},{"v":0,"d":"0.00"},null,"prüfen",{"$f":"IFERROR(OFFSET(MD!$U$5,MATCH(Grundlagen_Abrechnung_KAE!$E1038,MD_GENDER,0),0),\"\")","v":""},{"v":0,"d":"0.00"},null,{"v":0,"d":"0.00"},{"$f":"IF(F1038=\"Arbeitgeberähnliche Stellung\",OFFSET(MD!$Q$5,MATCH(Grundlagen_Abrechnung_KAE!$AK$7,MD_JAHR,0),0)*$H1038,IF(J1038>0,AC1038,I1038))","v":{"v":0,"d":"0.00"}},null,{"$f":"OFFSET(MD!$P$5,MATCH($AK$7,MD_JAHR,0),0)*12","v":{"$error":"#VALUE!"}},{"v":0,"d":"0.00"}]
[{"$nulls":14},{"$f":"IF($B1039=\"\",\"\",IF(F1039=\"Arbeitgeberähnliche Stellung\",OFFSET(MD!$Q$5,MATCH(Grundlagen_Abrechnung_KAE!$AK$7,MD_JAHR,0),0)*$H1039,IF(((AD1039/12*M1039*12)+N1039)>AF1039,AF1039/12,((AD1039/12*M1039*12)+N1039)/12)))","v":""},null,null,{"v":0,"d":"0.00"},null,{"v":0,"d":"0.00%"},{"v":0,"d":"0.00"},{"v":0,"d":"0.00"},{"v":0,"d":"0.00"},null,"prüfen",{"$f":"IFERROR(OFFSET(MD!$U$5,MATCH(Grundlagen_Abrechnung_KAE!$E1039,MD_GENDER,0),0),\"\")","v":""},{"v":0,"d":"0.00"},null,{"v":0,"d":"0.00"},{"$f":"IF(F1039=\"Arbeitgeberähnliche Stellung\",OFFSET(MD!$Q$5,MATCH(Grundlagen_Abrechnung_KAE!$AK$7,MD_JAHR,0),0)*$H1039,IF(J1039>0,AC1039,I1039))","v":{"v":0,"d":"0.00"}},null,{"$f":"OFFSET(MD!$P$5,MATCH($AK$7,MD_JAHR,0),0)*12","v":{"$error":"#VALUE!"}},{"v":0,"d":"0.00"}]
[{"$nulls":14},{"$f":"IF($B1040=\"\",\"\",IF(F1040=\"Arbeitgeberähnliche Stellung\",OFFSET(MD!$Q$5,MATCH(Grundlagen_Abrechnung_KAE!$AK$7,MD_JAHR,0),0)*$H1040,IF(((AD1040/12*M1040*12)+N1040)>AF1040,AF1040/12,((AD1040/12*M1040*12)+N1040)/12)))","v":""},null,null,{"v":0,"d":"0.00"},null,{"v":0,"d":"0.00%"},{"v":0,"d":"0.00"},{"v":0,"d":"0.00"},{"v":0,"d":"0.00"},null,"prüfen",{"$f":"IFERROR(OFFSET(MD!$U$5,MATCH(Grundlagen_Abrechnung_KAE!$E1040,MD_GENDER,0),0),\"\")","v":""},{"v":0,"d":"0.00"},null,{"v":0,"d":"0.00"},{"$f":"IF(F1040=\"Arbeitgeberähnliche Stellung\",OFFSET(MD!$Q$5,MATCH(Grundlagen_Abrechnung_KAE!$AK$7,MD_JAHR,0),0)*$H1040,IF(J1040>0,AC1040,I1040))","v":{"v":0,"d":"0.00"}},null,{"$f":"OFFSET(MD!$P$5,MATCH($AK$7,MD_JAHR,0),0)*12","v":{"$error":"#VALUE!"}},{"v":0,"d":"0.00"}]
[{"$nulls":14},{"$f":"IF($B1041=\"\",\"\",IF(F1041=\"Arbeitgeberähnliche Stellung\",OFFSET(MD!$Q$5,MATCH(Grundlagen_Abrechnung_KAE!$AK$7,MD_JAHR,0),0)*$H1041,IF(((AD1041/12*M1041*12)+N1041)>AF1041,AF1041/12,((AD1041/12*M1041*12)+N1041)/12)))","v":""},null,null,{"v":0,"d":"0.00"},null,{"v":0,"d":"0.00%"},{"v":0,"d":"0.00"},{"v":0,"d":"0.00"},{"v":0,"d":"0.00"},null,"prüfen",{"$f":"IFERROR(OFFSET(MD!$U$5,MATCH(Grundlagen_Abrechnung_KAE!$E1041,MD_GENDER,0),0),\"\")","v":""},{"v":0,"d":"0.00"},null,{"v":0,"d":"0.00"},{"$f":"IF(F1041=\"Arbeitgeberähnliche Stellung\",OFFSET(MD!$Q$5,MATCH(Grundlagen_Abrechnung_KAE!$AK$7,MD_JAHR,0),0)*$H1041,IF(J1041>0,AC1041,I1041))","v":{"v":0,"d":"0.00"}},null,{"$f":"OFFSET(MD!$P$5,MATCH($AK$7,MD_JAHR,0),0)*12","v":{"$error":"#VALUE!"}},{"v":0,"d":"0.00"}]
[{"$nulls":14},{"$f":"IF($B1042=\"\",\"\",IF(F1042=\"Arbeitgeberähnliche Stellung\",OFFSET(MD!$Q$5,MATCH(Grundlagen_Abrechnung_KAE!$AK$7,MD_JAHR,0),0)*$H1042,IF(((AD1042/12*M1042*12)+N1042)>AF1042,AF1042/12,((AD1042/12*M1042*12)+N1042)/12)))","v":""},null,null,{"v":0,"d":"0.00"},null,{"v":0,"d":"0.00%"},{"v":0,"d":"0.00"},{"v":0,"d":"0.00"},{"v":0,"d":"0.00"},null,"prüfen",{"$f":"IFERROR(OFFSET(MD!$U$5,MATCH(Grundlagen_Abrechnung_KAE!$E1042,MD_GENDER,0),0),\"\")","v":""},{"v":0,"d":"0.00"},null,{"v":0,"d":"0.00"},{"$f":"IF(F1042=\"Arbeitgeberähnliche Stellung\",OFFSET(MD!$Q$5,MATCH(Grundlagen_Abrechnung_KAE!$AK$7,MD_JAHR,0),0)*$H1042,IF(J1042>0,AC1042,I1042))","v":{"v":0,"d":"0.00"}},null,{"$f":"OFFSET(MD!$P$5,MATCH($AK$7,MD_JAHR,0),0)*12","v":{"$error":"#VALUE!"}},{"v":0,"d":"0.00"}]
[{"$nulls":14},{"$f":"IF($B1043=\"\",\"\",IF(F1043=\"Arbeitgeberähnliche Stellung\",OFFSET(MD!$Q$5,MATCH(Grundlagen_Abrechnung_KAE!$AK$7,MD_JAHR,0),0)*$H1043,IF(((AD1043/12*M1043*12)+N1043)>AF1043,AF1043/12,((AD1043/12*M1043*12)+N1043)/12)))","v":""},null,null,{"$f":"ROUND(IF(Q1043=\"\",0,IF(P1043=0,0,IF(Q1043>P1043,0,P1043-Q1043))),2)","v":{"v":0,"d":"0.00"}},null,{"$f":"IFERROR(R1043/P1043,0)","v":{"v":0,"d":"0.00%"}},{"$f":"IFERROR(IF(O1043-W1043=0,O1043,(O1043)*(1-T1043)),0)","v":{"v":0,"d":"0.00"}},{"v":0,"d":"0.00"},{"$f":"IFERROR(O1043*T1043,0)*0.8","v":{"v":0,"d":"0.00"}},null,{"$f":"IF(YEAR($G1043)>$Y$16,\"prüfen\",\"\")","v":"prüfen"},{"$f":"IFERROR(OFFSET(MD!$U$5,MATCH(Grundlagen_Abrechnung_KAE!$E1043,MD_GENDER,0),0),\"\")","v":""},{"$f":"IF(B1043=\"\",0,IF(YEAR(G1043)>$AA$16,0,1))","v":{"v":0,"d":"0.00"}},null,{"$f":"IF(J1043*K1043/6>J1043*L1043/12,J1043*K1043/6,J1043*L1043/12)","v":{"v":0,"d":"0.00"}},{"$f":"IF(F1043=\"Arbeitgeberähnliche Stellung\",OFFSET(MD!$Q$5,MATCH(Grundlagen_Abrechnung_KAE!$AK$7,MD_JAHR,0),0)*$H1043,IF(J1043>0,AC1043,I1043))","v":{"v":0,"d":"0.00"}},null,{"$f":"OFFSET(MD!$P$5,MATCH($AK$7,MD_JAHR,0),0)*12","v":{"$error":"#VALUE!"}},{"$f":"I1043*M1043+N1043","v":{"v":0,"d":"0.00"}}]
[{"$nulls":14},{"$f":"IF($B1044=\"\",\"\",IF(F1044=\"Arbeitgeberähnliche Stellung\",OFFSET(MD!$Q$5,MATCH(Grundlagen_Abrechnung_KAE!$AK$7,MD_JAHR,0),0)*$H1044,IF(((AD1044/12*M1044*12)+N1044)>AF1044,AF1044/12,((AD1044/12*M1044*12)+N1044)/12)))","v":""},null,null,{"v":0,"d":"0.00"},null,{"v":0,"d":"0.00%"},{"v":0,"d":"0.00"},{"$f":"IFERROR(O1044*T1044,0)","v":{"v":0,"d":"0.00"}},{"v":0,"d":"0.00"},null,"prüfen",{"$f":"IFERROR(OFFSET(MD!$U$5,MATCH(Grundlagen_Abrechnung_KAE!$E1044,MD_GENDER,0),0),\"\")","v":""},{"v":0,"d":"0.00"},null,{"v":0,"d":"0.00"},{"$f":"IF(F1044=\"Arbeitgeberähnliche Stellung\",OFFSET(MD!$Q$5,MATCH(Grundlagen_Abrechnung_KAE!$AK$7,MD_JAHR,0),0)*$H1044,IF(J1044>0,AC1044,I1044))","v":{"v":0,"d":"0.00"}},null,{"$f":"OFFSET(MD!$P$5,MATCH($AK$7,MD_JAHR,0),0)*12","v":{"$error":"#VALUE!"}},{"v":0,"d":"0.00"}]
[{"$nulls":14},{"$f":"IF($B1045=\"\",\"\",IF(F1045=\"Arbeitgeberähnliche Stellung\",OFFSET(MD!$Q$5,MATCH(Grundlagen_Abrechnung_KAE!$AK$7,MD_JAHR,0),0)*$H1045,IF(((AD1045/12*M1045*12)+N1045)>AF1045,AF1045/12,((AD1045/12*M1045*12)+N1045)/12)))","v":""},null,null,{"v":0,"d":"0.00"},null,{"v":0,"d":"0.00%"},{"v":0,"d":"0.00"},{"v":0,"d":"0.00"},{"v":0,"d":"0.00"},null,"prüfen",{"$f":"IFERROR(OFFSET(MD!$U$5,MATCH(Grundlagen_Abrechnung_KAE!$E1045,MD_GENDER,0),0),\"\")","v":""},{"v":0,"d":"0.00"},null,{"v":0,"d":"0.00"},{"$f":"IF(F1045=\"Arbeitgeberähnliche Stellung\",OFFSET(MD!$Q$5,MATCH(Grundlagen_Abrechnung_KAE!$AK$7,MD_JAHR,0),0)*$H1045,IF(J1045>0,AC1045,I1045))","v":{"v":0,"d":"0.00"}},null,{"$f":"OFFSET(MD!$P$5,MATCH($AK$7,MD_JAHR,0),0)*12","v":{"$error":"#VALUE!"}},{"v":0,"d":"0.00"}]
[{"$nulls":14},{"$f":"IF($B1046=\"\",\"\",IF(F1046=\"Arbeitgeberähnliche Stellung\",OFFSET(MD!$Q$5,MATCH(Grundlagen_Abrechnung_KAE!$AK$7,MD_JAHR,0),0)*$H1046,IF(((AD1046/12*M1046*12)+N1046)>AF1046,AF1046/12,((AD1046/12*M1046*12)+N1046)/12)))","v":""},null,null,{"v":0,"d":"0.00"},null,{"v":0,"d":"0.00%"},{"v":0,"d":"0.00"},{"v":0,"d":"0.00"},{"v":0,"d":"0.00"},null,"prüfen",{"$f":"IFERROR(OFFSET(MD!$U$5,MATCH(Grundlagen_Abrechnung_KAE!$E1046,MD_GENDER,0),0),\"\")","v":""},{"v":0,"d":"0.00"},null,{"v":0,"d":"0.00"},{"$f":"IF(F1046=\"Arbeitgeberähnliche Stellung\",OFFSET(MD!$Q$5,MATCH(Grundlagen_Abrechnung_KAE!$AK$7,MD_JAHR,0),0)*$H1046,IF(J1046>0,AC1046,I1046))","v":{"v":0,"d":"0.00"}},null,{"$f":"OFFSET(MD!$P$5,MATCH($AK$7,MD_JAHR,0),0)*12","v":{"$error":"#VALUE!"}},{"v":0,"d":"0.00"}]
[{"$nulls":14},{"$f":"IF($B1047=\"\",\"\",IF(F1047=\"Arbeitgeberähnliche Stellung\",OFFSET(MD!$Q$5,MATCH(Grundlagen_Abrechnung_KAE!$AK$7,MD_JAHR,0),0)*$H1047,IF(((AD1047/12*M1047*12)+N1047)>AF1047,AF1047/12,((AD1047/12*M1047*12)+N1047)/12)))","v":""},null,null,{"v":0,"d":"0.00"},null,{"v":0,"d":"0.00%"},{"v":0,"d":"0.00"},{"v":0,"d":"0.00"},{"v":0,"d":"0.00"},null,"prüfen",{"$f":"IFERROR(OFFSET(MD!$U$5,MATCH(Grundlagen_Abrechnung_KAE!$E1047,MD_GENDER,0),0),\"\")","v":""},{"v":0,"d":"0.00"},null,{"v":0,"d":"0.00"},{"$f":"IF(F1047=\"Arbeitgeberähnliche Stellung\",OFFSET(MD!$Q$5,MATCH(Grundlagen_Abrechnung_KAE!$AK$7,MD_JAHR,0),0)*$H1047,IF(J1047>0,AC1047,I1047))","v":{"v":0,"d":"0.00"}},null,{"$f":"OFFSET(MD!$P$5,MATCH($AK$7,MD_JAHR,0),0)*12","v":{"$error":"#VALUE!"}},{"v":0,"d":"0.00"}]
[{"$nulls":14},{"$f":"IF($B1048=\"\",\"\",IF(F1048=\"Arbeitgeberähnliche Stellung\",OFFSET(MD!$Q$5,MATCH(Grundlagen_Abrechnung_KAE!$AK$7,MD_JAHR,0),0)*$H1048,IF(((AD1048/12*M1048*12)+N1048)>AF1048,AF1048/12,((AD1048/12*M1048*12)+N1048)/12)))","v":""},null,null,{"v":0,"d":"0.00"},null,{"v":0,"d":"0.00%"},{"v":0,"d":"0.00"},{"v":0,"d":"0.00"},{"v":0,"d":"0.00"},null,"prüfen",{"$f":"IFERROR(OFFSET(MD!$U$5,MATCH(Grundlagen_Abrechnung_KAE!$E1048,MD_GENDER,0),0),\"\")","v":""},{"v":0,"d":"0.00"},null,{"v":0,"d":"0.00"},{"$f":"IF(F1048=\"Arbeitgeberähnliche Stellung\",OFFSET(MD!$Q$5,MATCH(Grundlagen_Abrechnung_KAE!$AK$7,MD_JAHR,0),0)*$H1048,IF(J1048>0,AC1048,I1048))","v":{"v":0,"d":"0.00"}},null,{"$f":"OFFSET(MD!$P$5,MATCH($AK$7,MD_JAHR,0),0)*12","v":{"$error":"#VALUE!"}},{"v":0,"d":"0.00"}]
[{"$nulls":14},{"$f":"IF($B1049=\"\",\"\",IF(F1049=\"Arbeitgeberähnliche Stellung\",OFFSET(MD!$Q$5,MATCH(Grundlagen_Abrechnung_KAE!$AK$7,MD_JAHR,0),0)*$H1049,IF(((AD1049/12*M1049*12)+N1049)>AF1049,AF1049/12,((AD1049/12*M1049*12)+N1049)/12)))","v":""},null,null,{"v":0,"d":"0.00"},null,{"v":0,"d":"0.00%"},{"v":0,"d":"0.00"},{"v":0,"d":"0.00"},{"v":0,"d":"0.00"},null,"prüfen",{"$f":"IFERROR(OFFSET(MD!$U$5,MATCH(Grundlagen_Abrechnung_KAE!$E1049,MD_GENDER,0),0),\"\")","v":""},{"v":0,"d":"0.00"},null,{"v":0,"d":"0.00"},{"$f":"IF(F1049=\"Arbeitgeberähnliche Stellung\",OFFSET(MD!$Q$5,MATCH(Grundlagen_Abrechnung_KAE!$AK$7,MD_JAHR,0),0)*$H1049,IF(J1049>0,AC1049,I1049))","v":{"v":0,"d":"0.00"}},null,{"$f":"OFFSET(MD!$P$5,MATCH($AK$7,MD_JAHR,0),0)*12","v":{"$error":"#VALUE!"}},{"v":0,"d":"0.00"}]
[{"$nulls":14},{"$f":"IF($B1050=\"\",\"\",IF(F1050=\"Arbeitgeberähnliche Stellung\",OFFSET(MD!$Q$5,MATCH(Grundlagen_Abrechnung_KAE!$AK$7,MD_JAHR,0),0)*$H1050,IF(((AD1050/12*M1050*12)+N1050)>AF1050,AF1050/12,((AD1050/12*M1050*12)+N1050)/12)))","v":""},null,null,{"v":0,"d":"0.00"},null,{"v":0,"d":"0.00%"},{"v":0,"d":"0.00"},{"v":0,"d":"0.00"},{"v":0,"d":"0.00"},null,"prüfen",{"$f":"IFERROR(OFFSET(MD!$U$5,MATCH(Grundlagen_Abrechnung_KAE!$E1050,MD_GENDER,0),0),\"\")","v":""},{"v":0,"d":"0.00"},null,{"v":0,"d":"0.00"},{"$f":"IF(F1050=\"Arbeitgeberähnliche Stellung\",OFFSET(MD!$Q$5,MATCH(Grundlagen_Abrechnung_KAE!$AK$7,MD_JAHR,0),0)*$H1050,IF(J1050>0,AC1050,I1050))","v":{"v":0,"d":"0.00"}},null,{"$f":"OFFSET(MD!$P$5,MATCH($AK$7,MD_JAHR,0),0)*12","v":{"$error":"#VALUE!"}},{"v":0,"d":"0.00"}]
[{"$nulls":14},{"$f":"IF($B1051=\"\",\"\",IF(F1051=\"Arbeitgeberähnliche Stellung\",OFFSET(MD!$Q$5,MATCH(Grundlagen_Abrechnung_KAE!$AK$7,MD_JAHR,0),0)*$H1051,IF(((AD1051/12*M1051*12)+N1051)>AF1051,AF1051/12,((AD1051/12*M1051*12)+N1051)/12)))","v":""},null,null,{"v":0,"d":"0.00"},null,{"v":0,"d":"0.00%"},{"v":0,"d":"0.00"},{"v":0,"d":"0.00"},{"v":0,"d":"0.00"},null,"prüfen",{"$f":"IFERROR(OFFSET(MD!$U$5,MATCH(Grundlagen_Abrechnung_KAE!$E1051,MD_GENDER,0),0),\"\")","v":""},{"v":0,"d":"0.00"},null,{"v":0,"d":"0.00"},{"$f":"IF(F1051=\"Arbeitgeberähnliche Stellung\",OFFSET(MD!$Q$5,MATCH(Grundlagen_Abrechnung_KAE!$AK$7,MD_JAHR,0),0)*$H1051,IF(J1051>0,AC1051,I1051))","v":{"v":0,"d":"0.00"}},null,{"$f":"OFFSET(MD!$P$5,MATCH($AK$7,MD_JAHR,0),0)*12","v":{"$error":"#VALUE!"}},{"v":0,"d":"0.00"}]
[{"$nulls":14},{"$f":"IF($B1052=\"\",\"\",IF(F1052=\"Arbeitgeberähnliche Stellung\",OFFSET(MD!$Q$5,MATCH(Grundlagen_Abrechnung_KAE!$AK$7,MD_JAHR,0),0)*$H1052,IF(((AD1052/12*M1052*12)+N1052)>AF1052,AF1052/12,((AD1052/12*M1052*12)+N1052)/12)))","v":""},null,null,{"v":0,"d":"0.00"},null,{"v":0,"d":"0.00%"},{"v":0,"d":"0.00"},{"v":0,"d":"0.00"},{"v":0,"d":"0.00"},null,"prüfen",{"$f":"IFERROR(OFFSET(MD!$U$5,MATCH(Grundlagen_Abrechnung_KAE!$E1052,MD_GENDER,0),0),\"\")","v":""},{"v":0,"d":"0.00"},null,{"v":0,"d":"0.00"},{"$f":"IF(F1052=\"Arbeitgeberähnliche Stellung\",OFFSET(MD!$Q$5,MATCH(Grundlagen_Abrechnung_KAE!$AK$7,MD_JAHR,0),0)*$H1052,IF(J1052>0,AC1052,I1052))","v":{"v":0,"d":"0.00"}},null,{"$f":"OFFSET(MD!$P$5,MATCH($AK$7,MD_JAHR,0),0)*12","v":{"$error":"#VALUE!"}},{"v":0,"d":"0.00"}]
[{"$nulls":14},{"$f":"IF($B1053=\"\",\"\",IF(F1053=\"Arbeitgeberähnliche Stellung\",OFFSET(MD!$Q$5,MATCH(Grundlagen_Abrechnung_KAE!$AK$7,MD_JAHR,0),0)*$H1053,IF(((AD1053/12*M1053*12)+N1053)>AF1053,AF1053/12,((AD1053/12*M1053*12)+N1053)/12)))","v":""},null,null,{"v":0,"d":"0.00"},null,{"v":0,"d":"0.00%"},{"v":0,"d":"0.00"},{"v":0,"d":"0.00"},{"v":0,"d":"0.00"},null,"prüfen",{"$f":"IFERROR(OFFSET(MD!$U$5,MATCH(Grundlagen_Abrechnung_KAE!$E1053,MD_GENDER,0),0),\"\")","v":""},{"v":0,"d":"0.00"},null,{"v":0,"d":"0.00"},{"$f":"IF(F1053=\"Arbeitgeberähnliche Stellung\",OFFSET(MD!$Q$5,MATCH(Grundlagen_Abrechnung_KAE!$AK$7,MD_JAHR,0),0)*$H1053,IF(J1053>0,AC1053,I1053))","v":{"v":0,"d":"0.00"}},null,{"$f":"OFFSET(MD!$P$5,MATCH($AK$7,MD_JAHR,0),0)*12","v":{"$error":"#VALUE!"}},{"v":0,"d":"0.00"}]
[{"$nulls":14},{"$f":"IF($B1054=\"\",\"\",IF(F1054=\"Arbeitgeberähnliche Stellung\",OFFSET(MD!$Q$5,MATCH(Grundlagen_Abrechnung_KAE!$AK$7,MD_JAHR,0),0)*$H1054,IF(((AD1054/12*M1054*12)+N1054)>AF1054,AF1054/12,((AD1054/12*M1054*12)+N1054)/12)))","v":""},null,null,{"v":0,"d":"0.00"},null,{"v":0,"d":"0.00%"},{"v":0,"d":"0.00"},{"v":0,"d":"0.00"},{"v":0,"d":"0.00"},null,"prüfen",{"$f":"IFERROR(OFFSET(MD!$U$5,MATCH(Grundlagen_Abrechnung_KAE!$E1054,MD_GENDER,0),0),\"\")","v":""},{"v":0,"d":"0.00"},null,{"v":0,"d":"0.00"},{"$f":"IF(F1054=\"Arbeitgeberähnliche Stellung\",OFFSET(MD!$Q$5,MATCH(Grundlagen_Abrechnung_KAE!$AK$7,MD_JAHR,0),0)*$H1054,IF(J1054>0,AC1054,I1054))","v":{"v":0,"d":"0.00"}},null,{"$f":"OFFSET(MD!$P$5,MATCH($AK$7,MD_JAHR,0),0)*12","v":{"$error":"#VALUE!"}},{"v":0,"d":"0.00"}]
[{"$nulls":14},{"$f":"IF($B1055=\"\",\"\",IF(F1055=\"Arbeitgeberähnliche Stellung\",OFFSET(MD!$Q$5,MATCH(Grundlagen_Abrechnung_KAE!$AK$7,MD_JAHR,0),0)*$H1055,IF(((AD1055/12*M1055*12)+N1055)>AF1055,AF1055/12,((AD1055/12*M1055*12)+N1055)/12)))","v":""},null,null,{"v":0,"d":"0.00"},null,{"v":0,"d":"0.00%"},{"v":0,"d":"0.00"},{"v":0,"d":"0.00"},{"v":0,"d":"0.00"},null,"prüfen",{"$f":"IFERROR(OFFSET(MD!$U$5,MATCH(Grundlagen_Abrechnung_KAE!$E1055,MD_GENDER,0),0),\"\")","v":""},{"v":0,"d":"0.00"},null,{"v":0,"d":"0.00"},{"$f":"IF(F1055=\"Arbeitgeberähnliche Stellung\",OFFSET(MD!$Q$5,MATCH(Grundlagen_Abrechnung_KAE!$AK$7,MD_JAHR,0),0)*$H1055,IF(J1055>0,AC1055,I1055))","v":{"v":0,"d":"0.00"}},null,{"$f":"OFFSET(MD!$P$5,MATCH($AK$7,MD_JAHR,0),0)*12","v":{"$error":"#VALUE!"}},{"v":0,"d":"0.00"}]
[{"$nulls":14},{"$f":"IF($B1056=\"\",\"\",IF(F1056=\"Arbeitgeberähnliche Stellung\",OFFSET(MD!$Q$5,MATCH(Grundlagen_Abrechnung_KAE!$AK$7,MD_JAHR,0),0)*$H1056,IF(((AD1056/12*M1056*12)+N1056)>AF1056,AF1056/12,((AD1056/12*M1056*12)+N1056)/12)))","v":""},null,null,{"v":0,"d":"0.00"},null,{"v":0,"d":"0.00%"},{"v":0,"d":"0.00"},{"v":0,"d":"0.00"},{"v":0,"d":"0.00"},null,"prüfen",{"$f":"IFERROR(OFFSET(MD!$U$5,MATCH(Grundlagen_Abrechnung_KAE!$E1056,MD_GENDER,0),0),\"\")","v":""},{"v":0,"d":"0.00"},null,{"v":0,"d":"0.00"},{"$f":"IF(F1056=\"Arbeitgeberähnliche Stellung\",OFFSET(MD!$Q$5,MATCH(Grundlagen_Abrechnung_KAE!$AK$7,MD_JAHR,0),0)*$H1056,IF(J1056>0,AC1056,I1056))","v":{"v":0,"d":"0.00"}},null,{"$f":"OFFSET(MD!$P$5,MATCH($AK$7,MD_JAHR,0),0)*12","v":{"$error":"#VALUE!"}},{"v":0,"d":"0.00"}]
[{"$nulls":14},{"$f":"IF($B1057=\"\",\"\",IF(F1057=\"Arbeitgeberähnliche Stellung\",OFFSET(MD!$Q$5,MATCH(Grundlagen_Abrechnung_KAE!$AK$7,MD_JAHR,0),0)*$H1057,IF(((AD1057/12*M1057*12)+N1057)>AF1057,AF1057/12,((AD1057/12*M1057*12)+N1057)/12)))","v":""},null,null,{"v":0,"d":"0.00"},null,{"v":0,"d":"0.00%"},{"v":0,"d":"0.00"},{"v":0,"d":"0.00"},{"v":0,"d":"0.00"},null,"prüfen",{"$f":"IFERROR(OFFSET(MD!$U$5,MATCH(Grundlagen_Abrechnung_KAE!$E1057,MD_GENDER,0),0),\"\")","v":""},{"v":0,"d":"0.00"},null,{"v":0,"d":"0.00"},{"$f":"IF(F1057=\"Arbeitgeberähnliche Stellung\",OFFSET(MD!$Q$5,MATCH(Grundlagen_Abrechnung_KAE!$AK$7,MD_JAHR,0),0)*$H1057,IF(J1057>0,AC1057,I1057))","v":{"v":0,"d":"0.00"}},null,{"$f":"OFFSET(MD!$P$5,MATCH($AK$7,MD_JAHR,0),0)*12","v":{"$error":"#VALUE!"}},{"v":0,"d":"0.00"}]
[{"$nulls":14},{"$f":"IF($B1058=\"\",\"\",IF(F1058=\"Arbeitgeberähnliche Stellung\",OFFSET(MD!$Q$5,MATCH(Grundlagen_Abrechnung_KAE!$AK$7,MD_JAHR,0),0)*$H1058,IF(((AD1058/12*M1058*12)+N1058)>AF1058,AF1058/12,((AD1058/12*M1058*12)+N1058)/12)))","v":""},null,null,{"v":0,"d":"0.00"},null,{"v":0,"d":"0.00%"},{"v":0,"d":"0.00"},{"v":0,"d":"0.00"},{"v":0,"d":"0.00"},null,"prüfen",{"$f":"IFERROR(OFFSET(MD!$U$5,MATCH(Grundlagen_Abrechnung_KAE!$E1058,MD_GENDER,0),0),\"\")","v":""},{"v":0,"d":"0.00"},null,{"v":0,"d":"0.00"},{"$f":"IF(F1058=\"Arbeitgeberähnliche Stellung\",OFFSET(MD!$Q$5,MATCH(Grundlagen_Abrechnung_KAE!$AK$7,MD_JAHR,0),0)*$H1058,IF(J1058>0,AC1058,I1058))","v":{"v":0,"d":"0.00"}},null,{"$f":"OFFSET(MD!$P$5,MATCH($AK$7,MD_JAHR,0),0)*12","v":{"$error":"#VALUE!"}},{"v":0,"d":"0.00"}]
[{"$nulls":14},{"$f":"IF($B1059=\"\",\"\",IF(F1059=\"Arbeitgeberähnliche Stellung\",OFFSET(MD!$Q$5,MATCH(Grundlagen_Abrechnung_KAE!$AK$7,MD_JAHR,0),0)*$H1059,IF(((AD1059/12*M1059*12)+N1059)>AF1059,AF1059/12,((AD1059/12*M1059*12)+N1059)/12)))","v":""},null,null,{"v":0,"d":"0.00"},null,{"v":0,"d":"0.00%"},{"v":0,"d":"0.00"},{"v":0,"d":"0.00"},{"v":0,"d":"0.00"},null,"prüfen",{"$f":"IFERROR(OFFSET(MD!$U$5,MATCH(Grundlagen_Abrechnung_KAE!$E1059,MD_GENDER,0),0),\"\")","v":""},{"v":0,"d":"0.00"},null,{"v":0,"d":"0.00"},{"$f":"IF(F1059=\"Arbeitgeberähnliche Stellung\",OFFSET(MD!$Q$5,MATCH(Grundlagen_Abrechnung_KAE!$AK$7,MD_JAHR,0),0)*$H1059,IF(J1059>0,AC1059,I1059))","v":{"v":0,"d":"0.00"}},null,{"$f":"OFFSET(MD!$P$5,MATCH($AK$7,MD_JAHR,0),0)*12","v":{"$error":"#VALUE!"}},{"v":0,"d":"0.00"}]
[{"$nulls":14},{"$f":"IF($B1060=\"\",\"\",IF(F1060=\"Arbeitgeberähnliche Stellung\",OFFSET(MD!$Q$5,MATCH(Grundlagen_Abrechnung_KAE!$AK$7,MD_JAHR,0),0)*$H1060,IF(((AD1060/12*M1060*12)+N1060)>AF1060,AF1060/12,((AD1060/12*M1060*12)+N1060)/12)))","v":""},null,null,{"v":0,"d":"0.00"},null,{"v":0,"d":"0.00%"},{"v":0,"d":"0.00"},{"v":0,"d":"0.00"},{"v":0,"d":"0.00"},null,"prüfen",{"$f":"IFERROR(OFFSET(MD!$U$5,MATCH(Grundlagen_Abrechnung_KAE!$E1060,MD_GENDER,0),0),\"\")","v":""},{"v":0,"d":"0.00"},null,{"v":0,"d":"0.00"},{"$f":"IF(F1060=\"Arbeitgeberähnliche Stellung\",OFFSET(MD!$Q$5,MATCH(Grundlagen_Abrechnung_KAE!$AK$7,MD_JAHR,0),0)*$H1060,IF(J1060>0,AC1060,I1060))","v":{"v":0,"d":"0.00"}},null,{"$f":"OFFSET(MD!$P$5,MATCH($AK$7,MD_JAHR,0),0)*12","v":{"$error":"#VALUE!"}},{"v":0,"d":"0.00"}]
[{"$nulls":14},{"$f":"IF($B1061=\"\",\"\",IF(F1061=\"Arbeitgeberähnliche Stellung\",OFFSET(MD!$Q$5,MATCH(Grundlagen_Abrechnung_KAE!$AK$7,MD_JAHR,0),0)*$H1061,IF(((AD1061/12*M1061*12)+N1061)>AF1061,AF1061/12,((AD1061/12*M1061*12)+N1061)/12)))","v":""},null,null,{"v":0,"d":"0.00"},null,{"v":0,"d":"0.00%"},{"v":0,"d":"0.00"},{"v":0,"d":"0.00"},{"v":0,"d":"0.00"},null,"prüfen",{"$f":"IFERROR(OFFSET(MD!$U$5,MATCH(Grundlagen_Abrechnung_KAE!$E1061,MD_GENDER,0),0),\"\")","v":""},{"v":0,"d":"0.00"},null,{"v":0,"d":"0.00"},{"$f":"IF(F1061=\"Arbeitgeberähnliche Stellung\",OFFSET(MD!$Q$5,MATCH(Grundlagen_Abrechnung_KAE!$AK$7,MD_JAHR,0),0)*$H1061,IF(J1061>0,AC1061,I1061))","v":{"v":0,"d":"0.00"}},null,{"$f":"OFFSET(MD!$P$5,MATCH($AK$7,MD_JAHR,0),0)*12","v":{"$error":"#VALUE!"}},{"v":0,"d":"0.00"}]
[{"$nulls":14},{"$f":"IF($B1062=\"\",\"\",IF(F1062=\"Arbeitgeberähnliche Stellung\",OFFSET(MD!$Q$5,MATCH(Grundlagen_Abrechnung_KAE!$AK$7,MD_JAHR,0),0)*$H1062,IF(((AD1062/12*M1062*12)+N1062)>AF1062,AF1062/12,((AD1062/12*M1062*12)+N1062)/12)))","v":""},null,null,{"v":0,"d":"0.00"},null,{"v":0,"d":"0.00%"},{"v":0,"d":"0.00"},{"v":0,"d":"0.00"},{"v":0,"d":"0.00"},null,"prüfen",{"$f":"IFERROR(OFFSET(MD!$U$5,MATCH(Grundlagen_Abrechnung_KAE!$E1062,MD_GENDER,0),0),\"\")","v":""},{"v":0,"d":"0.00"},null,{"v":0,"d":"0.00"},{"$f":"IF(F1062=\"Arbeitgeberähnliche Stellung\",OFFSET(MD!$Q$5,MATCH(Grundlagen_Abrechnung_KAE!$AK$7,MD_JAHR,0),0)*$H1062,IF(J1062>0,AC1062,I1062))","v":{"v":0,"d":"0.00"}},null,{"$f":"OFFSET(MD!$P$5,MATCH($AK$7,MD_JAHR,0),0)*12","v":{"$error":"#VALUE!"}},{"v":0,"d":"0.00"}]
[{"$nulls":14},{"$f":"IF($B1063=\"\",\"\",IF(F1063=\"Arbeitgeberähnliche Stellung\",OFFSET(MD!$Q$5,MATCH(Grundlagen_Abrechnung_KAE!$AK$7,MD_JAHR,0),0)*$H1063,IF(((AD1063/12*M1063*12)+N1063)>AF1063,AF1063/12,((AD1063/12*M1063*12)+N1063)/12)))","v":""},null,null,{"v":0,"d":"0.00"},null,{"v":0,"d":"0.00%"},{"v":0,"d":"0.00"},{"v":0,"d":"0.00"},{"v":0,"d":"0.00"},null,"prüfen",{"$f":"IFERROR(OFFSET(MD!$U$5,MATCH(Grundlagen_Abrechnung_KAE!$E1063,MD_GENDER,0),0),\"\")","v":""},{"v":0,"d":"0.00"},null,{"v":0,"d":"0.00"},{"$f":"IF(F1063=\"Arbeitgeberähnliche Stellung\",OFFSET(MD!$Q$5,MATCH(Grundlagen_Abrechnung_KAE!$AK$7,MD_JAHR,0),0)*$H1063,IF(J1063>0,AC1063,I1063))","v":{"v":0,"d":"0.00"}},null,{"$f":"OFFSET(MD!$P$5,MATCH($AK$7,MD_JAHR,0),0)*12","v":{"$error":"#VALUE!"}},{"v":0,"d":"0.00"}]
[{"$nulls":14},{"$f":"IF($B1064=\"\",\"\",IF(F1064=\"Arbeitgeberähnliche Stellung\",OFFSET(MD!$Q$5,MATCH(Grundlagen_Abrechnung_KAE!$AK$7,MD_JAHR,0),0)*$H1064,IF(((AD1064/12*M1064*12)+N1064)>AF1064,AF1064/12,((AD1064/12*M1064*12)+N1064)/12)))","v":""},null,null,{"v":0,"d":"0.00"},null,{"v":0,"d":"0.00%"},{"v":0,"d":"0.00"},{"v":0,"d":"0.00"},{"v":0,"d":"0.00"},null,"prüfen",{"$f":"IFERROR(OFFSET(MD!$U$5,MATCH(Grundlagen_Abrechnung_KAE!$E1064,MD_GENDER,0),0),\"\")","v":""},{"v":0,"d":"0.00"},null,{"v":0,"d":"0.00"},{"$f":"IF(F1064=\"Arbeitgeberähnliche Stellung\",OFFSET(MD!$Q$5,MATCH(Grundlagen_Abrechnung_KAE!$AK$7,MD_JAHR,0),0)*$H1064,IF(J1064>0,AC1064,I1064))","v":{"v":0,"d":"0.00"}},null,{"$f":"OFFSET(MD!$P$5,MATCH($AK$7,MD_JAHR,0),0)*12","v":{"$error":"#VALUE!"}},{"v":0,"d":"0.00"}]
[{"$nulls":14},{"$f":"IF($B1065=\"\",\"\",IF(F1065=\"Arbeitgeberähnliche Stellung\",OFFSET(MD!$Q$5,MATCH(Grundlagen_Abrechnung_KAE!$AK$7,MD_JAHR,0),0)*$H1065,IF(((AD1065/12*M1065*12)+N1065)>AF1065,AF1065/12,((AD1065/12*M1065*12)+N1065)/12)))","v":""},null,null,{"v":0,"d":"0.00"},null,{"v":0,"d":"0.00%"},{"v":0,"d":"0.00"},{"v":0,"d":"0.00"},{"v":0,"d":"0.00"},null,"prüfen",{"$f":"IFERROR(OFFSET(MD!$U$5,MATCH(Grundlagen_Abrechnung_KAE!$E1065,MD_GENDER,0),0),\"\")","v":""},{"v":0,"d":"0.00"},null,{"v":0,"d":"0.00"},{"$f":"IF(F1065=\"Arbeitgeberähnliche Stellung\",OFFSET(MD!$Q$5,MATCH(Grundlagen_Abrechnung_KAE!$AK$7,MD_JAHR,0),0)*$H1065,IF(J1065>0,AC1065,I1065))","v":{"v":0,"d":"0.00"}},null,{"$f":"OFFSET(MD!$P$5,MATCH($AK$7,MD_JAHR,0),0)*12","v":{"$error":"#VALUE!"}},{"v":0,"d":"0.00"}]
[{"$nulls":14},{"$f":"IF($B1066=\"\",\"\",IF(F1066=\"Arbeitgeberähnliche Stellung\",OFFSET(MD!$Q$5,MATCH(Grundlagen_Abrechnung_KAE!$AK$7,MD_JAHR,0),0)*$H1066,IF(((AD1066/12*M1066*12)+N1066)>AF1066,AF1066/12,((AD1066/12*M1066*12)+N1066)/12)))","v":""},null,null,{"v":0,"d":"0.00"},null,{"v":0,"d":"0.00%"},{"v":0,"d":"0.00"},{"v":0,"d":"0.00"},{"v":0,"d":"0.00"},null,"prüfen",{"$f":"IFERROR(OFFSET(MD!$U$5,MATCH(Grundlagen_Abrechnung_KAE!$E1066,MD_GENDER,0),0),\"\")","v":""},{"v":0,"d":"0.00"},null,{"v":0,"d":"0.00"},{"$f":"IF(F1066=\"Arbeitgeberähnliche Stellung\",OFFSET(MD!$Q$5,MATCH(Grundlagen_Abrechnung_KAE!$AK$7,MD_JAHR,0),0)*$H1066,IF(J1066>0,AC1066,I1066))","v":{"v":0,"d":"0.00"}},null,{"$f":"OFFSET(MD!$P$5,MATCH($AK$7,MD_JAHR,0),0)*12","v":{"$error":"#VALUE!"}},{"v":0,"d":"0.00"}]
[{"$nulls":14},{"$f":"IF($B1067=\"\",\"\",IF(F1067=\"Arbeitgeberähnliche Stellung\",OFFSET(MD!$Q$5,MATCH(Grundlagen_Abrechnung_KAE!$AK$7,MD_JAHR,0),0)*$H1067,IF(((AD1067/12*M1067*12)+N1067)>AF1067,AF1067/12,((AD1067/12*M1067*12)+N1067)/12)))","v":""},null,null,{"v":0,"d":"0.00"},null,{"v":0,"d":"0.00%"},{"v":0,"d":"0.00"},{"v":0,"d":"0.00"},{"v":0,"d":"0.00"},null,"prüfen",{"$f":"IFERROR(OFFSET(MD!$U$5,MATCH(Grundlagen_Abrechnung_KAE!$E1067,MD_GENDER,0),0),\"\")","v":""},{"v":0,"d":"0.00"},null,{"v":0,"d":"0.00"},{"$f":"IF(F1067=\"Arbeitgeberähnliche Stellung\",OFFSET(MD!$Q$5,MATCH(Grundlagen_Abrechnung_KAE!$AK$7,MD_JAHR,0),0)*$H1067,IF(J1067>0,AC1067,I1067))","v":{"v":0,"d":"0.00"}},null,{"$f":"OFFSET(MD!$P$5,MATCH($AK$7,MD_JAHR,0),0)*12","v":{"$error":"#VALUE!"}},{"v":0,"d":"0.00"}]
[{"$nulls":14},{"$f":"IF($B1068=\"\",\"\",IF(F1068=\"Arbeitgeberähnliche Stellung\",OFFSET(MD!$Q$5,MATCH(Grundlagen_Abrechnung_KAE!$AK$7,MD_JAHR,0),0)*$H1068,IF(((AD1068/12*M1068*12)+N1068)>AF1068,AF1068/12,((AD1068/12*M1068*12)+N1068)/12)))","v":""},null,null,{"v":0,"d":"0.00"},null,{"v":0,"d":"0.00%"},{"v":0,"d":"0.00"},{"v":0,"d":"0.00"},{"v":0,"d":"0.00"},null,"prüfen",{"$f":"IFERROR(OFFSET(MD!$U$5,MATCH(Grundlagen_Abrechnung_KAE!$E1068,MD_GENDER,0),0),\"\")","v":""},{"v":0,"d":"0.00"},null,{"v":0,"d":"0.00"},{"$f":"IF(F1068=\"Arbeitgeberähnliche Stellung\",OFFSET(MD!$Q$5,MATCH(Grundlagen_Abrechnung_KAE!$AK$7,MD_JAHR,0),0)*$H1068,IF(J1068>0,AC1068,I1068))","v":{"v":0,"d":"0.00"}},null,{"$f":"OFFSET(MD!$P$5,MATCH($AK$7,MD_JAHR,0),0)*12","v":{"$error":"#VALUE!"}},{"v":0,"d":"0.00"}]
[{"$nulls":14},{"$f":"IF($B1069=\"\",\"\",IF(F1069=\"Arbeitgeberähnliche Stellung\",OFFSET(MD!$Q$5,MATCH(Grundlagen_Abrechnung_KAE!$AK$7,MD_JAHR,0),0)*$H1069,IF(((AD1069/12*M1069*12)+N1069)>AF1069,AF1069/12,((AD1069/12*M1069*12)+N1069)/12)))","v":""},null,null,{"v":0,"d":"0.00"},null,{"v":0,"d":"0.00%"},{"v":0,"d":"0.00"},{"v":0,"d":"0.00"},{"v":0,"d":"0.00"},null,"prüfen",{"$f":"IFERROR(OFFSET(MD!$U$5,MATCH(Grundlagen_Abrechnung_KAE!$E1069,MD_GENDER,0),0),\"\")","v":""},{"v":0,"d":"0.00"},null,{"v":0,"d":"0.00"},{"$f":"IF(F1069=\"Arbeitgeberähnliche Stellung\",OFFSET(MD!$Q$5,MATCH(Grundlagen_Abrechnung_KAE!$AK$7,MD_JAHR,0),0)*$H1069,IF(J1069>0,AC1069,I1069))","v":{"v":0,"d":"0.00"}},null,{"$f":"OFFSET(MD!$P$5,MATCH($AK$7,MD_JAHR,0),0)*12","v":{"$error":"#VALUE!"}},{"v":0,"d":"0.00"}]
[{"$nulls":14},{"$f":"IF($B1070=\"\",\"\",IF(F1070=\"Arbeitgeberähnliche Stellung\",OFFSET(MD!$Q$5,MATCH(Grundlagen_Abrechnung_KAE!$AK$7,MD_JAHR,0),0)*$H1070,IF(((AD1070/12*M1070*12)+N1070)>AF1070,AF1070/12,((AD1070/12*M1070*12)+N1070)/12)))","v":""},null,null,{"v":0,"d":"0.00"},null,{"v":0,"d":"0.00%"},{"v":0,"d":"0.00"},{"v":0,"d":"0.00"},{"v":0,"d":"0.00"},null,"prüfen",{"$f":"IFERROR(OFFSET(MD!$U$5,MATCH(Grundlagen_Abrechnung_KAE!$E1070,MD_GENDER,0),0),\"\")","v":""},{"v":0,"d":"0.00"},null,{"v":0,"d":"0.00"},{"$f":"IF(F1070=\"Arbeitgeberähnliche Stellung\",OFFSET(MD!$Q$5,MATCH(Grundlagen_Abrechnung_KAE!$AK$7,MD_JAHR,0),0)*$H1070,IF(J1070>0,AC1070,I1070))","v":{"v":0,"d":"0.00"}},null,{"$f":"OFFSET(MD!$P$5,MATCH($AK$7,MD_JAHR,0),0)*12","v":{"$error":"#VALUE!"}},{"v":0,"d":"0.00"}]
[{"$nulls":14},{"$f":"IF($B1071=\"\",\"\",IF(F1071=\"Arbeitgeberähnliche Stellung\",OFFSET(MD!$Q$5,MATCH(Grundlagen_Abrechnung_KAE!$AK$7,MD_JAHR,0),0)*$H1071,IF(((AD1071/12*M1071*12)+N1071)>AF1071,AF1071/12,((AD1071/12*M1071*12)+N1071)/12)))","v":""},null,null,{"v":0,"d":"0.00"},null,{"v":0,"d":"0.00%"},{"v":0,"d":"0.00"},{"v":0,"d":"0.00"},{"v":0,"d":"0.00"},null,"prüfen",{"$f":"IFERROR(OFFSET(MD!$U$5,MATCH(Grundlagen_Abrechnung_KAE!$E1071,MD_GENDER,0),0),\"\")","v":""},{"v":0,"d":"0.00"},null,{"v":0,"d":"0.00"},{"$f":"IF(F1071=\"Arbeitgeberähnliche Stellung\",OFFSET(MD!$Q$5,MATCH(Grundlagen_Abrechnung_KAE!$AK$7,MD_JAHR,0),0)*$H1071,IF(J1071>0,AC1071,I1071))","v":{"v":0,"d":"0.00"}},null,{"$f":"OFFSET(MD!$P$5,MATCH($AK$7,MD_JAHR,0),0)*12","v":{"$error":"#VALUE!"}},{"v":0,"d":"0.00"}]
[{"$nulls":14},{"$f":"IF($B1072=\"\",\"\",IF(F1072=\"Arbeitgeberähnliche Stellung\",OFFSET(MD!$Q$5,MATCH(Grundlagen_Abrechnung_KAE!$AK$7,MD_JAHR,0),0)*$H1072,IF(((AD1072/12*M1072*12)+N1072)>AF1072,AF1072/12,((AD1072/12*M1072*12)+N1072)/12)))","v":""},null,null,{"v":0,"d":"0.00"},null,{"v":0,"d":"0.00%"},{"v":0,"d":"0.00"},{"v":0,"d":"0.00"},{"v":0,"d":"0.00"},null,"prüfen",{"$f":"IFERROR(OFFSET(MD!$U$5,MATCH(Grundlagen_Abrechnung_KAE!$E1072,MD_GENDER,0),0),\"\")","v":""},{"v":0,"d":"0.00"},null,{"v":0,"d":"0.00"},{"$f":"IF(F1072=\"Arbeitgeberähnliche Stellung\",OFFSET(MD!$Q$5,MATCH(Grundlagen_Abrechnung_KAE!$AK$7,MD_JAHR,0),0)*$H1072,IF(J1072>0,AC1072,I1072))","v":{"v":0,"d":"0.00"}},null,{"$f":"OFFSET(MD!$P$5,MATCH($AK$7,MD_JAHR,0),0)*12","v":{"$error":"#VALUE!"}},{"v":0,"d":"0.00"}]
[{"$nulls":14},{"$f":"IF($B1073=\"\",\"\",IF(F1073=\"Arbeitgeberähnliche Stellung\",OFFSET(MD!$Q$5,MATCH(Grundlagen_Abrechnung_KAE!$AK$7,MD_JAHR,0),0)*$H1073,IF(((AD1073/12*M1073*12)+N1073)>AF1073,AF1073/12,((AD1073/12*M1073*12)+N1073)/12)))","v":""},null,null,{"v":0,"d":"0.00"},null,{"v":0,"d":"0.00%"},{"v":0,"d":"0.00"},{"v":0,"d":"0.00"},{"v":0,"d":"0.00"},null,"prüfen",{"$f":"IFERROR(OFFSET(MD!$U$5,MATCH(Grundlagen_Abrechnung_KAE!$E1073,MD_GENDER,0),0),\"\")","v":""},{"v":0,"d":"0.00"},null,{"v":0,"d":"0.00"},{"$f":"IF(F1073=\"Arbeitgeberähnliche Stellung\",OFFSET(MD!$Q$5,MATCH(Grundlagen_Abrechnung_KAE!$AK$7,MD_JAHR,0),0)*$H1073,IF(J1073>0,AC1073,I1073))","v":{"v":0,"d":"0.00"}},null,{"$f":"OFFSET(MD!$P$5,MATCH($AK$7,MD_JAHR,0),0)*12","v":{"$error":"#VALUE!"}},{"v":0,"d":"0.00"}]
[{"$nulls":14},{"$f":"IF($B1074=\"\",\"\",IF(F1074=\"Arbeitgeberähnliche Stellung\",OFFSET(MD!$Q$5,MATCH(Grundlagen_Abrechnung_KAE!$AK$7,MD_JAHR,0),0)*$H1074,IF(((AD1074/12*M1074*12)+N1074)>AF1074,AF1074/12,((AD1074/12*M1074*12)+N1074)/12)))","v":""},null,null,{"v":0,"d":"0.00"},null,{"v":0,"d":"0.00%"},{"v":0,"d":"0.00"},{"v":0,"d":"0.00"},{"v":0,"d":"0.00"},null,"prüfen",{"$f":"IFERROR(OFFSET(MD!$U$5,MATCH(Grundlagen_Abrechnung_KAE!$E1074,MD_GENDER,0),0),\"\")","v":""},{"v":0,"d":"0.00"},null,{"v":0,"d":"0.00"},{"$f":"IF(F1074=\"Arbeitgeberähnliche Stellung\",OFFSET(MD!$Q$5,MATCH(Grundlagen_Abrechnung_KAE!$AK$7,MD_JAHR,0),0)*$H1074,IF(J1074>0,AC1074,I1074))","v":{"v":0,"d":"0.00"}},null,{"$f":"OFFSET(MD!$P$5,MATCH($AK$7,MD_JAHR,0),0)*12","v":{"$error":"#VALUE!"}},{"v":0,"d":"0.00"}]
[{"$nulls":14},{"$f":"IF($B1075=\"\",\"\",IF(F1075=\"Arbeitgeberähnliche Stellung\",OFFSET(MD!$Q$5,MATCH(Grundlagen_Abrechnung_KAE!$AK$7,MD_JAHR,0),0)*$H1075,IF(((AD1075/12*M1075*12)+N1075)>AF1075,AF1075/12,((AD1075/12*M1075*12)+N1075)/12)))","v":""},null,null,{"v":0,"d":"0.00"},null,{"v":0,"d":"0.00%"},{"v":0,"d":"0.00"},{"v":0,"d":"0.00"},{"v":0,"d":"0.00"},null,"prüfen",{"$f":"IFERROR(OFFSET(MD!$U$5,MATCH(Grundlagen_Abrechnung_KAE!$E1075,MD_GENDER,0),0),\"\")","v":""},{"v":0,"d":"0.00"},null,{"v":0,"d":"0.00"},{"$f":"IF(F1075=\"Arbeitgeberähnliche Stellung\",OFFSET(MD!$Q$5,MATCH(Grundlagen_Abrechnung_KAE!$AK$7,MD_JAHR,0),0)*$H1075,IF(J1075>0,AC1075,I1075))","v":{"v":0,"d":"0.00"}},null,{"$f":"OFFSET(MD!$P$5,MATCH($AK$7,MD_JAHR,0),0)*12","v":{"$error":"#VALUE!"}},{"v":0,"d":"0.00"}]
[{"$nulls":14},{"$f":"IF($B1076=\"\",\"\",IF(F1076=\"Arbeitgeberähnliche Stellung\",OFFSET(MD!$Q$5,MATCH(Grundlagen_Abrechnung_KAE!$AK$7,MD_JAHR,0),0)*$H1076,IF(((AD1076/12*M1076*12)+N1076)>AF1076,AF1076/12,((AD1076/12*M1076*12)+N1076)/12)))","v":""},null,null,{"v":0,"d":"0.00"},null,{"v":0,"d":"0.00%"},{"v":0,"d":"0.00"},{"v":0,"d":"0.00"},{"v":0,"d":"0.00"},null,"prüfen",{"$f":"IFERROR(OFFSET(MD!$U$5,MATCH(Grundlagen_Abrechnung_KAE!$E1076,MD_GENDER,0),0),\"\")","v":""},{"v":0,"d":"0.00"},null,{"v":0,"d":"0.00"},{"$f":"IF(F1076=\"Arbeitgeberähnliche Stellung\",OFFSET(MD!$Q$5,MATCH(Grundlagen_Abrechnung_KAE!$AK$7,MD_JAHR,0),0)*$H1076,IF(J1076>0,AC1076,I1076))","v":{"v":0,"d":"0.00"}},null,{"$f":"OFFSET(MD!$P$5,MATCH($AK$7,MD_JAHR,0),0)*12","v":{"$error":"#VALUE!"}},{"v":0,"d":"0.00"}]
[{"$nulls":14},{"$f":"IF($B1077=\"\",\"\",IF(F1077=\"Arbeitgeberähnliche Stellung\",OFFSET(MD!$Q$5,MATCH(Grundlagen_Abrechnung_KAE!$AK$7,MD_JAHR,0),0)*$H1077,IF(((AD1077/12*M1077*12)+N1077)>AF1077,AF1077/12,((AD1077/12*M1077*12)+N1077)/12)))","v":""},null,null,{"v":0,"d":"0.00"},null,{"v":0,"d":"0.00%"},{"v":0,"d":"0.00"},{"v":0,"d":"0.00"},{"v":0,"d":"0.00"},null,"prüfen",{"$f":"IFERROR(OFFSET(MD!$U$5,MATCH(Grundlagen_Abrechnung_KAE!$E1077,MD_GENDER,0),0),\"\")","v":""},{"v":0,"d":"0.00"},null,{"v":0,"d":"0.00"},{"$f":"IF(F1077=\"Arbeitgeberähnliche Stellung\",OFFSET(MD!$Q$5,MATCH(Grundlagen_Abrechnung_KAE!$AK$7,MD_JAHR,0),0)*$H1077,IF(J1077>0,AC1077,I1077))","v":{"v":0,"d":"0.00"}},null,{"$f":"OFFSET(MD!$P$5,MATCH($AK$7,MD_JAHR,0),0)*12","v":{"$error":"#VALUE!"}},{"v":0,"d":"0.00"}]
[{"$nulls":14},{"$f":"IF($B1078=\"\",\"\",IF(F1078=\"Arbeitgeberähnliche Stellung\",OFFSET(MD!$Q$5,MATCH(Grundlagen_Abrechnung_KAE!$AK$7,MD_JAHR,0),0)*$H1078,IF(((AD1078/12*M1078*12)+N1078)>AF1078,AF1078/12,((AD1078/12*M1078*12)+N1078)/12)))","v":""},null,null,{"v":0,"d":"0.00"},null,{"v":0,"d":"0.00%"},{"v":0,"d":"0.00"},{"v":0,"d":"0.00"},{"v":0,"d":"0.00"},null,"prüfen",{"$f":"IFERROR(OFFSET(MD!$U$5,MATCH(Grundlagen_Abrechnung_KAE!$E1078,MD_GENDER,0),0),\"\")","v":""},{"v":0,"d":"0.00"},null,{"v":0,"d":"0.00"},{"$f":"IF(F1078=\"Arbeitgeberähnliche Stellung\",OFFSET(MD!$Q$5,MATCH(Grundlagen_Abrechnung_KAE!$AK$7,MD_JAHR,0),0)*$H1078,IF(J1078>0,AC1078,I1078))","v":{"v":0,"d":"0.00"}},null,{"$f":"OFFSET(MD!$P$5,MATCH($AK$7,MD_JAHR,0),0)*12","v":{"$error":"#VALUE!"}},{"v":0,"d":"0.00"}]
[{"$nulls":14},{"$f":"IF($B1079=\"\",\"\",IF(F1079=\"Arbeitgeberähnliche Stellung\",OFFSET(MD!$Q$5,MATCH(Grundlagen_Abrechnung_KAE!$AK$7,MD_JAHR,0),0)*$H1079,IF(((AD1079/12*M1079*12)+N1079)>AF1079,AF1079/12,((AD1079/12*M1079*12)+N1079)/12)))","v":""},null,null,{"v":0,"d":"0.00"},null,{"v":0,"d":"0.00%"},{"v":0,"d":"0.00"},{"v":0,"d":"0.00"},{"v":0,"d":"0.00"},null,"prüfen",{"$f":"IFERROR(OFFSET(MD!$U$5,MATCH(Grundlagen_Abrechnung_KAE!$E1079,MD_GENDER,0),0),\"\")","v":""},{"v":0,"d":"0.00"},null,{"v":0,"d":"0.00"},{"$f":"IF(F1079=\"Arbeitgeberähnliche Stellung\",OFFSET(MD!$Q$5,MATCH(Grundlagen_Abrechnung_KAE!$AK$7,MD_JAHR,0),0)*$H1079,IF(J1079>0,AC1079,I1079))","v":{"v":0,"d":"0.00"}},null,{"$f":"OFFSET(MD!$P$5,MATCH($AK$7,MD_JAHR,0),0)*12","v":{"$error":"#VALUE!"}},{"v":0,"d":"0.00"}]
[{"$nulls":14},{"$f":"IF($B1080=\"\",\"\",IF(F1080=\"Arbeitgeberähnliche Stellung\",OFFSET(MD!$Q$5,MATCH(Grundlagen_Abrechnung_KAE!$AK$7,MD_JAHR,0),0)*$H1080,IF(((AD1080/12*M1080*12)+N1080)>AF1080,AF1080/12,((AD1080/12*M1080*12)+N1080)/12)))","v":""},null,null,{"v":0,"d":"0.00"},null,{"v":0,"d":"0.00%"},{"v":0,"d":"0.00"},{"v":0,"d":"0.00"},{"v":0,"d":"0.00"},null,"prüfen",{"$f":"IFERROR(OFFSET(MD!$U$5,MATCH(Grundlagen_Abrechnung_KAE!$E1080,MD_GENDER,0),0),\"\")","v":""},{"v":0,"d":"0.00"},null,{"v":0,"d":"0.00"},{"$f":"IF(F1080=\"Arbeitgeberähnliche Stellung\",OFFSET(MD!$Q$5,MATCH(Grundlagen_Abrechnung_KAE!$AK$7,MD_JAHR,0),0)*$H1080,IF(J1080>0,AC1080,I1080))","v":{"v":0,"d":"0.00"}},null,{"$f":"OFFSET(MD!$P$5,MATCH($AK$7,MD_JAHR,0),0)*12","v":{"$error":"#VALUE!"}},{"v":0,"d":"0.00"}]
[{"$nulls":14},{"$f":"IF($B1081=\"\",\"\",IF(F1081=\"Arbeitgeberähnliche Stellung\",OFFSET(MD!$Q$5,MATCH(Grundlagen_Abrechnung_KAE!$AK$7,MD_JAHR,0),0)*$H1081,IF(((AD1081/12*M1081*12)+N1081)>AF1081,AF1081/12,((AD1081/12*M1081*12)+N1081)/12)))","v":""},null,null,{"v":0,"d":"0.00"},null,{"v":0,"d":"0.00%"},{"v":0,"d":"0.00"},{"v":0,"d":"0.00"},{"v":0,"d":"0.00"},null,"prüfen",{"$f":"IFERROR(OFFSET(MD!$U$5,MATCH(Grundlagen_Abrechnung_KAE!$E1081,MD_GENDER,0),0),\"\")","v":""},{"v":0,"d":"0.00"},null,{"v":0,"d":"0.00"},{"$f":"IF(F1081=\"Arbeitgeberähnliche Stellung\",OFFSET(MD!$Q$5,MATCH(Grundlagen_Abrechnung_KAE!$AK$7,MD_JAHR,0),0)*$H1081,IF(J1081>0,AC1081,I1081))","v":{"v":0,"d":"0.00"}},null,{"$f":"OFFSET(MD!$P$5,MATCH($AK$7,MD_JAHR,0),0)*12","v":{"$error":"#VALUE!"}},{"v":0,"d":"0.00"}]
[{"$nulls":14},{"$f":"IF($B1082=\"\",\"\",IF(F1082=\"Arbeitgeberähnliche Stellung\",OFFSET(MD!$Q$5,MATCH(Grundlagen_Abrechnung_KAE!$AK$7,MD_JAHR,0),0)*$H1082,IF(((AD1082/12*M1082*12)+N1082)>AF1082,AF1082/12,((AD1082/12*M1082*12)+N1082)/12)))","v":""},null,null,{"v":0,"d":"0.00"},null,{"v":0,"d":"0.00%"},{"v":0,"d":"0.00"},{"v":0,"d":"0.00"},{"v":0,"d":"0.00"},null,"prüfen",{"$f":"IFERROR(OFFSET(MD!$U$5,MATCH(Grundlagen_Abrechnung_KAE!$E1082,MD_GENDER,0),0),\"\")","v":""},{"v":0,"d":"0.00"},null,{"v":0,"d":"0.00"},{"$f":"IF(F1082=\"Arbeitgeberähnliche Stellung\",OFFSET(MD!$Q$5,MATCH(Grundlagen_Abrechnung_KAE!$AK$7,MD_JAHR,0),0)*$H1082,IF(J1082>0,AC1082,I1082))","v":{"v":0,"d":"0.00"}},null,{"$f":"OFFSET(MD!$P$5,MATCH($AK$7,MD_JAHR,0),0)*12","v":{"$error":"#VALUE!"}},{"v":0,"d":"0.00"}]
[{"$nulls":14},{"$f":"IF($B1083=\"\",\"\",IF(F1083=\"Arbeitgeberähnliche Stellung\",OFFSET(MD!$Q$5,MATCH(Grundlagen_Abrechnung_KAE!$AK$7,MD_JAHR,0),0)*$H1083,IF(((AD1083/12*M1083*12)+N1083)>AF1083,AF1083/12,((AD1083/12*M1083*12)+N1083)/12)))","v":""},null,null,{"v":0,"d":"0.00"},null,{"v":0,"d":"0.00%"},{"v":0,"d":"0.00"},{"v":0,"d":"0.00"},{"v":0,"d":"0.00"},null,"prüfen",{"$f":"IFERROR(OFFSET(MD!$U$5,MATCH(Grundlagen_Abrechnung_KAE!$E1083,MD_GENDER,0),0),\"\")","v":""},{"v":0,"d":"0.00"},null,{"v":0,"d":"0.00"},{"$f":"IF(F1083=\"Arbeitgeberähnliche Stellung\",OFFSET(MD!$Q$5,MATCH(Grundlagen_Abrechnung_KAE!$AK$7,MD_JAHR,0),0)*$H1083,IF(J1083>0,AC1083,I1083))","v":{"v":0,"d":"0.00"}},null,{"$f":"OFFSET(MD!$P$5,MATCH($AK$7,MD_JAHR,0),0)*12","v":{"$error":"#VALUE!"}},{"v":0,"d":"0.00"}]
[{"$nulls":14},{"$f":"IF($B1084=\"\",\"\",IF(F1084=\"Arbeitgeberähnliche Stellung\",OFFSET(MD!$Q$5,MATCH(Grundlagen_Abrechnung_KAE!$AK$7,MD_JAHR,0),0)*$H1084,IF(((AD1084/12*M1084*12)+N1084)>AF1084,AF1084/12,((AD1084/12*M1084*12)+N1084)/12)))","v":""},null,null,{"v":0,"d":"0.00"},null,{"v":0,"d":"0.00%"},{"v":0,"d":"0.00"},{"v":0,"d":"0.00"},{"v":0,"d":"0.00"},null,"prüfen",{"$f":"IFERROR(OFFSET(MD!$U$5,MATCH(Grundlagen_Abrechnung_KAE!$E1084,MD_GENDER,0),0),\"\")","v":""},{"v":0,"d":"0.00"},null,{"v":0,"d":"0.00"},{"$f":"IF(F1084=\"Arbeitgeberähnliche Stellung\",OFFSET(MD!$Q$5,MATCH(Grundlagen_Abrechnung_KAE!$AK$7,MD_JAHR,0),0)*$H1084,IF(J1084>0,AC1084,I1084))","v":{"v":0,"d":"0.00"}},null,{"$f":"OFFSET(MD!$P$5,MATCH($AK$7,MD_JAHR,0),0)*12","v":{"$error":"#VALUE!"}},{"v":0,"d":"0.00"}]
[{"$nulls":14},{"$f":"IF($B1085=\"\",\"\",IF(F1085=\"Arbeitgeberähnliche Stellung\",OFFSET(MD!$Q$5,MATCH(Grundlagen_Abrechnung_KAE!$AK$7,MD_JAHR,0),0)*$H1085,IF(((AD1085/12*M1085*12)+N1085)>AF1085,AF1085/12,((AD1085/12*M1085*12)+N1085)/12)))","v":""},null,null,{"v":0,"d":"0.00"},null,{"v":0,"d":"0.00%"},{"v":0,"d":"0.00"},{"v":0,"d":"0.00"},{"v":0,"d":"0.00"},null,"prüfen",{"$f":"IFERROR(OFFSET(MD!$U$5,MATCH(Grundlagen_Abrechnung_KAE!$E1085,MD_GENDER,0),0),\"\")","v":""},{"v":0,"d":"0.00"},null,{"v":0,"d":"0.00"},{"$f":"IF(F1085=\"Arbeitgeberähnliche Stellung\",OFFSET(MD!$Q$5,MATCH(Grundlagen_Abrechnung_KAE!$AK$7,MD_JAHR,0),0)*$H1085,IF(J1085>0,AC1085,I1085))","v":{"v":0,"d":"0.00"}},null,{"$f":"OFFSET(MD!$P$5,MATCH($AK$7,MD_JAHR,0),0)*12","v":{"$error":"#VALUE!"}},{"v":0,"d":"0.00"}]
[{"$nulls":14},{"$f":"IF($B1086=\"\",\"\",IF(F1086=\"Arbeitgeberähnliche Stellung\",OFFSET(MD!$Q$5,MATCH(Grundlagen_Abrechnung_KAE!$AK$7,MD_JAHR,0),0)*$H1086,IF(((AD1086/12*M1086*12)+N1086)>AF1086,AF1086/12,((AD1086/12*M1086*12)+N1086)/12)))","v":""},null,null,{"v":0,"d":"0.00"},null,{"v":0,"d":"0.00%"},{"v":0,"d":"0.00"},{"v":0,"d":"0.00"},{"v":0,"d":"0.00"},null,"prüfen",{"$f":"IFERROR(OFFSET(MD!$U$5,MATCH(Grundlagen_Abrechnung_KAE!$E1086,MD_GENDER,0),0),\"\")","v":""},{"v":0,"d":"0.00"},null,{"v":0,"d":"0.00"},{"$f":"IF(F1086=\"Arbeitgeberähnliche Stellung\",OFFSET(MD!$Q$5,MATCH(Grundlagen_Abrechnung_KAE!$AK$7,MD_JAHR,0),0)*$H1086,IF(J1086>0,AC1086,I1086))","v":{"v":0,"d":"0.00"}},null,{"$f":"OFFSET(MD!$P$5,MATCH($AK$7,MD_JAHR,0),0)*12","v":{"$error":"#VALUE!"}},{"v":0,"d":"0.00"}]
[{"$nulls":14},{"$f":"IF($B1087=\"\",\"\",IF(F1087=\"Arbeitgeberähnliche Stellung\",OFFSET(MD!$Q$5,MATCH(Grundlagen_Abrechnung_KAE!$AK$7,MD_JAHR,0),0)*$H1087,IF(((AD1087/12*M1087*12)+N1087)>AF1087,AF1087/12,((AD1087/12*M1087*12)+N1087)/12)))","v":""},null,null,{"v":0,"d":"0.00"},null,{"v":0,"d":"0.00%"},{"v":0,"d":"0.00"},{"v":0,"d":"0.00"},{"v":0,"d":"0.00"},null,"prüfen",{"$f":"IFERROR(OFFSET(MD!$U$5,MATCH(Grundlagen_Abrechnung_KAE!$E1087,MD_GENDER,0),0),\"\")","v":""},{"v":0,"d":"0.00"},null,{"v":0,"d":"0.00"},{"$f":"IF(F1087=\"Arbeitgeberähnliche Stellung\",OFFSET(MD!$Q$5,MATCH(Grundlagen_Abrechnung_KAE!$AK$7,MD_JAHR,0),0)*$H1087,IF(J1087>0,AC1087,I1087))","v":{"v":0,"d":"0.00"}},null,{"$f":"OFFSET(MD!$P$5,MATCH($AK$7,MD_JAHR,0),0)*12","v":{"$error":"#VALUE!"}},{"v":0,"d":"0.00"}]
[{"$nulls":14},{"$f":"IF($B1088=\"\",\"\",IF(F1088=\"Arbeitgeberähnliche Stellung\",OFFSET(MD!$Q$5,MATCH(Grundlagen_Abrechnung_KAE!$AK$7,MD_JAHR,0),0)*$H1088,IF(((AD1088/12*M1088*12)+N1088)>AF1088,AF1088/12,((AD1088/12*M1088*12)+N1088)/12)))","v":""},null,null,{"v":0,"d":"0.00"},null,{"v":0,"d":"0.00%"},{"v":0,"d":"0.00"},{"v":0,"d":"0.00"},{"v":0,"d":"0.00"},null,"prüfen",{"$f":"IFERROR(OFFSET(MD!$U$5,MATCH(Grundlagen_Abrechnung_KAE!$E1088,MD_GENDER,0),0),\"\")","v":""},{"v":0,"d":"0.00"},null,{"v":0,"d":"0.00"},{"$f":"IF(F1088=\"Arbeitgeberähnliche Stellung\",OFFSET(MD!$Q$5,MATCH(Grundlagen_Abrechnung_KAE!$AK$7,MD_JAHR,0),0)*$H1088,IF(J1088>0,AC1088,I1088))","v":{"v":0,"d":"0.00"}},null,{"$f":"OFFSET(MD!$P$5,MATCH($AK$7,MD_JAHR,0),0)*12","v":{"$error":"#VALUE!"}},{"v":0,"d":"0.00"}]
[{"$nulls":14},{"$f":"IF($B1089=\"\",\"\",IF(F1089=\"Arbeitgeberähnliche Stellung\",OFFSET(MD!$Q$5,MATCH(Grundlagen_Abrechnung_KAE!$AK$7,MD_JAHR,0),0)*$H1089,IF(((AD1089/12*M1089*12)+N1089)>AF1089,AF1089/12,((AD1089/12*M1089*12)+N1089)/12)))","v":""},null,null,{"v":0,"d":"0.00"},null,{"v":0,"d":"0.00%"},{"v":0,"d":"0.00"},{"v":0,"d":"0.00"},{"v":0,"d":"0.00"},null,"prüfen",{"$f":"IFERROR(OFFSET(MD!$U$5,MATCH(Grundlagen_Abrechnung_KAE!$E1089,MD_GENDER,0),0),\"\")","v":""},{"v":0,"d":"0.00"},null,{"v":0,"d":"0.00"},{"$f":"IF(F1089=\"Arbeitgeberähnliche Stellung\",OFFSET(MD!$Q$5,MATCH(Grundlagen_Abrechnung_KAE!$AK$7,MD_JAHR,0),0)*$H1089,IF(J1089>0,AC1089,I1089))","v":{"v":0,"d":"0.00"}},null,{"$f":"OFFSET(MD!$P$5,MATCH($AK$7,MD_JAHR,0),0)*12","v":{"$error":"#VALUE!"}},{"v":0,"d":"0.00"}]
[{"$nulls":14},{"$f":"IF($B1090=\"\",\"\",IF(F1090=\"Arbeitgeberähnliche Stellung\",OFFSET(MD!$Q$5,MATCH(Grundlagen_Abrechnung_KAE!$AK$7,MD_JAHR,0),0)*$H1090,IF(((AD1090/12*M1090*12)+N1090)>AF1090,AF1090/12,((AD1090/12*M1090*12)+N1090)/12)))","v":""},null,null,{"v":0,"d":"0.00"},null,{"v":0,"d":"0.00%"},{"v":0,"d":"0.00"},{"v":0,"d":"0.00"},{"v":0,"d":"0.00"},null,"prüfen",{"$f":"IFERROR(OFFSET(MD!$U$5,MATCH(Grundlagen_Abrechnung_KAE!$E1090,MD_GENDER,0),0),\"\")","v":""},{"v":0,"d":"0.00"},null,{"v":0,"d":"0.00"},{"$f":"IF(F1090=\"Arbeitgeberähnliche Stellung\",OFFSET(MD!$Q$5,MATCH(Grundlagen_Abrechnung_KAE!$AK$7,MD_JAHR,0),0)*$H1090,IF(J1090>0,AC1090,I1090))","v":{"v":0,"d":"0.00"}},null,{"$f":"OFFSET(MD!$P$5,MATCH($AK$7,MD_JAHR,0),0)*12","v":{"$error":"#VALUE!"}},{"v":0,"d":"0.00"}]
[{"$nulls":14},{"$f":"IF($B1091=\"\",\"\",IF(F1091=\"Arbeitgeberähnliche Stellung\",OFFSET(MD!$Q$5,MATCH(Grundlagen_Abrechnung_KAE!$AK$7,MD_JAHR,0),0)*$H1091,IF(((AD1091/12*M1091*12)+N1091)>AF1091,AF1091/12,((AD1091/12*M1091*12)+N1091)/12)))","v":""},null,null,{"v":0,"d":"0.00"},null,{"v":0,"d":"0.00%"},{"v":0,"d":"0.00"},{"v":0,"d":"0.00"},{"v":0,"d":"0.00"},null,"prüfen",{"$f":"IFERROR(OFFSET(MD!$U$5,MATCH(Grundlagen_Abrechnung_KAE!$E1091,MD_GENDER,0),0),\"\")","v":""},{"v":0,"d":"0.00"},null,{"v":0,"d":"0.00"},{"$f":"IF(F1091=\"Arbeitgeberähnliche Stellung\",OFFSET(MD!$Q$5,MATCH(Grundlagen_Abrechnung_KAE!$AK$7,MD_JAHR,0),0)*$H1091,IF(J1091>0,AC1091,I1091))","v":{"v":0,"d":"0.00"}},null,{"$f":"OFFSET(MD!$P$5,MATCH($AK$7,MD_JAHR,0),0)*12","v":{"$error":"#VALUE!"}},{"v":0,"d":"0.00"}]
[{"$nulls":14},{"$f":"IF($B1092=\"\",\"\",IF(F1092=\"Arbeitgeberähnliche Stellung\",OFFSET(MD!$Q$5,MATCH(Grundlagen_Abrechnung_KAE!$AK$7,MD_JAHR,0),0)*$H1092,IF(((AD1092/12*M1092*12)+N1092)>AF1092,AF1092/12,((AD1092/12*M1092*12)+N1092)/12)))","v":""},null,null,{"v":0,"d":"0.00"},null,{"v":0,"d":"0.00%"},{"v":0,"d":"0.00"},{"v":0,"d":"0.00"},{"v":0,"d":"0.00"},null,"prüfen",{"$f":"IFERROR(OFFSET(MD!$U$5,MATCH(Grundlagen_Abrechnung_KAE!$E1092,MD_GENDER,0),0),\"\")","v":""},{"v":0,"d":"0.00"},null,{"v":0,"d":"0.00"},{"$f":"IF(F1092=\"Arbeitgeberähnliche Stellung\",OFFSET(MD!$Q$5,MATCH(Grundlagen_Abrechnung_KAE!$AK$7,MD_JAHR,0),0)*$H1092,IF(J1092>0,AC1092,I1092))","v":{"v":0,"d":"0.00"}},null,{"$f":"OFFSET(MD!$P$5,MATCH($AK$7,MD_JAHR,0),0)*12","v":{"$error":"#VALUE!"}},{"v":0,"d":"0.00"}]
[{"$nulls":14},{"$f":"IF($B1093=\"\",\"\",IF(F1093=\"Arbeitgeberähnliche Stellung\",OFFSET(MD!$Q$5,MATCH(Grundlagen_Abrechnung_KAE!$AK$7,MD_JAHR,0),0)*$H1093,IF(((AD1093/12*M1093*12)+N1093)>AF1093,AF1093/12,((AD1093/12*M1093*12)+N1093)/12)))","v":""},null,null,{"v":0,"d":"0.00"},null,{"v":0,"d":"0.00%"},{"v":0,"d":"0.00"},{"v":0,"d":"0.00"},{"v":0,"d":"0.00"},null,"prüfen",{"$f":"IFERROR(OFFSET(MD!$U$5,MATCH(Grundlagen_Abrechnung_KAE!$E1093,MD_GENDER,0),0),\"\")","v":""},{"v":0,"d":"0.00"},null,{"v":0,"d":"0.00"},{"$f":"IF(F1093=\"Arbeitgeberähnliche Stellung\",OFFSET(MD!$Q$5,MATCH(Grundlagen_Abrechnung_KAE!$AK$7,MD_JAHR,0),0)*$H1093,IF(J1093>0,AC1093,I1093))","v":{"v":0,"d":"0.00"}},null,{"$f":"OFFSET(MD!$P$5,MATCH($AK$7,MD_JAHR,0),0)*12","v":{"$error":"#VALUE!"}},{"v":0,"d":"0.00"}]
[{"$nulls":14},{"$f":"IF($B1094=\"\",\"\",IF(F1094=\"Arbeitgeberähnliche Stellung\",OFFSET(MD!$Q$5,MATCH(Grundlagen_Abrechnung_KAE!$AK$7,MD_JAHR,0),0)*$H1094,IF(((AD1094/12*M1094*12)+N1094)>AF1094,AF1094/12,((AD1094/12*M1094*12)+N1094)/12)))","v":""},null,null,{"v":0,"d":"0.00"},null,{"v":0,"d":"0.00%"},{"v":0,"d":"0.00"},{"v":0,"d":"0.00"},{"v":0,"d":"0.00"},null,"prüfen",{"$f":"IFERROR(OFFSET(MD!$U$5,MATCH(Grundlagen_Abrechnung_KAE!$E1094,MD_GENDER,0),0),\"\")","v":""},{"v":0,"d":"0.00"},null,{"v":0,"d":"0.00"},{"$f":"IF(F1094=\"Arbeitgeberähnliche Stellung\",OFFSET(MD!$Q$5,MATCH(Grundlagen_Abrechnung_KAE!$AK$7,MD_JAHR,0),0)*$H1094,IF(J1094>0,AC1094,I1094))","v":{"v":0,"d":"0.00"}},null,{"$f":"OFFSET(MD!$P$5,MATCH($AK$7,MD_JAHR,0),0)*12","v":{"$error":"#VALUE!"}},{"v":0,"d":"0.00"}]
[{"$nulls":14},{"$f":"IF($B1095=\"\",\"\",IF(F1095=\"Arbeitgeberähnliche Stellung\",OFFSET(MD!$Q$5,MATCH(Grundlagen_Abrechnung_KAE!$AK$7,MD_JAHR,0),0)*$H1095,IF(((AD1095/12*M1095*12)+N1095)>AF1095,AF1095/12,((AD1095/12*M1095*12)+N1095)/12)))","v":""},null,null,{"v":0,"d":"0.00"},null,{"v":0,"d":"0.00%"},{"v":0,"d":"0.00"},{"v":0,"d":"0.00"},{"v":0,"d":"0.00"},null,"prüfen",{"$f":"IFERROR(OFFSET(MD!$U$5,MATCH(Grundlagen_Abrechnung_KAE!$E1095,MD_GENDER,0),0),\"\")","v":""},{"v":0,"d":"0.00"},null,{"v":0,"d":"0.00"},{"$f":"IF(F1095=\"Arbeitgeberähnliche Stellung\",OFFSET(MD!$Q$5,MATCH(Grundlagen_Abrechnung_KAE!$AK$7,MD_JAHR,0),0)*$H1095,IF(J1095>0,AC1095,I1095))","v":{"v":0,"d":"0.00"}},null,{"$f":"OFFSET(MD!$P$5,MATCH($AK$7,MD_JAHR,0),0)*12","v":{"$error":"#VALUE!"}},{"v":0,"d":"0.00"}]
[{"$nulls":14},{"$f":"IF($B1096=\"\",\"\",IF(F1096=\"Arbeitgeberähnliche Stellung\",OFFSET(MD!$Q$5,MATCH(Grundlagen_Abrechnung_KAE!$AK$7,MD_JAHR,0),0)*$H1096,IF(((AD1096/12*M1096*12)+N1096)>AF1096,AF1096/12,((AD1096/12*M1096*12)+N1096)/12)))","v":""},null,null,{"v":0,"d":"0.00"},null,{"v":0,"d":"0.00%"},{"v":0,"d":"0.00"},{"v":0,"d":"0.00"},{"v":0,"d":"0.00"},null,"prüfen",{"$f":"IFERROR(OFFSET(MD!$U$5,MATCH(Grundlagen_Abrechnung_KAE!$E1096,MD_GENDER,0),0),\"\")","v":""},{"v":0,"d":"0.00"},null,{"v":0,"d":"0.00"},{"$f":"IF(F1096=\"Arbeitgeberähnliche Stellung\",OFFSET(MD!$Q$5,MATCH(Grundlagen_Abrechnung_KAE!$AK$7,MD_JAHR,0),0)*$H1096,IF(J1096>0,AC1096,I1096))","v":{"v":0,"d":"0.00"}},null,{"$f":"OFFSET(MD!$P$5,MATCH($AK$7,MD_JAHR,0),0)*12","v":{"$error":"#VALUE!"}},{"v":0,"d":"0.00"}]
[{"$nulls":14},{"$f":"IF($B1097=\"\",\"\",IF(F1097=\"Arbeitgeberähnliche Stellung\",OFFSET(MD!$Q$5,MATCH(Grundlagen_Abrechnung_KAE!$AK$7,MD_JAHR,0),0)*$H1097,IF(((AD1097/12*M1097*12)+N1097)>AF1097,AF1097/12,((AD1097/12*M1097*12)+N1097)/12)))","v":""},null,null,{"v":0,"d":"0.00"},null,{"v":0,"d":"0.00%"},{"v":0,"d":"0.00"},{"v":0,"d":"0.00"},{"v":0,"d":"0.00"},null,"prüfen",{"$f":"IFERROR(OFFSET(MD!$U$5,MATCH(Grundlagen_Abrechnung_KAE!$E1097,MD_GENDER,0),0),\"\")","v":""},{"v":0,"d":"0.00"},null,{"v":0,"d":"0.00"},{"$f":"IF(F1097=\"Arbeitgeberähnliche Stellung\",OFFSET(MD!$Q$5,MATCH(Grundlagen_Abrechnung_KAE!$AK$7,MD_JAHR,0),0)*$H1097,IF(J1097>0,AC1097,I1097))","v":{"v":0,"d":"0.00"}},null,{"$f":"OFFSET(MD!$P$5,MATCH($AK$7,MD_JAHR,0),0)*12","v":{"$error":"#VALUE!"}},{"v":0,"d":"0.00"}]
[{"$nulls":14},{"$f":"IF($B1098=\"\",\"\",IF(F1098=\"Arbeitgeberähnliche Stellung\",OFFSET(MD!$Q$5,MATCH(Grundlagen_Abrechnung_KAE!$AK$7,MD_JAHR,0),0)*$H1098,IF(((AD1098/12*M1098*12)+N1098)>AF1098,AF1098/12,((AD1098/12*M1098*12)+N1098)/12)))","v":""},null,null,{"v":0,"d":"0.00"},null,{"v":0,"d":"0.00%"},{"v":0,"d":"0.00"},{"v":0,"d":"0.00"},{"v":0,"d":"0.00"},null,"prüfen",{"$f":"IFERROR(OFFSET(MD!$U$5,MATCH(Grundlagen_Abrechnung_KAE!$E1098,MD_GENDER,0),0),\"\")","v":""},{"v":0,"d":"0.00"},null,{"v":0,"d":"0.00"},{"$f":"IF(F1098=\"Arbeitgeberähnliche Stellung\",OFFSET(MD!$Q$5,MATCH(Grundlagen_Abrechnung_KAE!$AK$7,MD_JAHR,0),0)*$H1098,IF(J1098>0,AC1098,I1098))","v":{"v":0,"d":"0.00"}},null,{"$f":"OFFSET(MD!$P$5,MATCH($AK$7,MD_JAHR,0),0)*12","v":{"$error":"#VALUE!"}},{"v":0,"d":"0.00"}]
[{"$nulls":14},{"$f":"IF($B1099=\"\",\"\",IF(F1099=\"Arbeitgeberähnliche Stellung\",OFFSET(MD!$Q$5,MATCH(Grundlagen_Abrechnung_KAE!$AK$7,MD_JAHR,0),0)*$H1099,IF(((AD1099/12*M1099*12)+N1099)>AF1099,AF1099/12,((AD1099/12*M1099*12)+N1099)/12)))","v":""},null,null,{"v":0,"d":"0.00"},null,{"v":0,"d":"0.00%"},{"v":0,"d":"0.00"},{"v":0,"d":"0.00"},{"v":0,"d":"0.00"},null,"prüfen",{"$f":"IFERROR(OFFSET(MD!$U$5,MATCH(Grundlagen_Abrechnung_KAE!$E1099,MD_GENDER,0),0),\"\")","v":""},{"v":0,"d":"0.00"},null,{"v":0,"d":"0.00"},{"$f":"IF(F1099=\"Arbeitgeberähnliche Stellung\",OFFSET(MD!$Q$5,MATCH(Grundlagen_Abrechnung_KAE!$AK$7,MD_JAHR,0),0)*$H1099,IF(J1099>0,AC1099,I1099))","v":{"v":0,"d":"0.00"}},null,{"$f":"OFFSET(MD!$P$5,MATCH($AK$7,MD_JAHR,0),0)*12","v":{"$error":"#VALUE!"}},{"v":0,"d":"0.00"}]
[{"$nulls":14},{"$f":"IF($B1100=\"\",\"\",IF(F1100=\"Arbeitgeberähnliche Stellung\",OFFSET(MD!$Q$5,MATCH(Grundlagen_Abrechnung_KAE!$AK$7,MD_JAHR,0),0)*$H1100,IF(((AD1100/12*M1100*12)+N1100)>AF1100,AF1100/12,((AD1100/12*M1100*12)+N1100)/12)))","v":""},null,null,{"v":0,"d":"0.00"},null,{"v":0,"d":"0.00%"},{"v":0,"d":"0.00"},{"v":0,"d":"0.00"},{"v":0,"d":"0.00"},null,"prüfen",{"$f":"IFERROR(OFFSET(MD!$U$5,MATCH(Grundlagen_Abrechnung_KAE!$E1100,MD_GENDER,0),0),\"\")","v":""},{"v":0,"d":"0.00"},null,{"v":0,"d":"0.00"},{"$f":"IF(F1100=\"Arbeitgeberähnliche Stellung\",OFFSET(MD!$Q$5,MATCH(Grundlagen_Abrechnung_KAE!$AK$7,MD_JAHR,0),0)*$H1100,IF(J1100>0,AC1100,I1100))","v":{"v":0,"d":"0.00"}},null,{"$f":"OFFSET(MD!$P$5,MATCH($AK$7,MD_JAHR,0),0)*12","v":{"$error":"#VALUE!"}},{"v":0,"d":"0.00"}]
[{"$nulls":14},{"$f":"IF($B1101=\"\",\"\",IF(F1101=\"Arbeitgeberähnliche Stellung\",OFFSET(MD!$Q$5,MATCH(Grundlagen_Abrechnung_KAE!$AK$7,MD_JAHR,0),0)*$H1101,IF(((AD1101/12*M1101*12)+N1101)>AF1101,AF1101/12,((AD1101/12*M1101*12)+N1101)/12)))","v":""},null,null,{"v":0,"d":"0.00"},null,{"v":0,"d":"0.00%"},{"v":0,"d":"0.00"},{"v":0,"d":"0.00"},{"v":0,"d":"0.00"},null,"prüfen",{"$f":"IFERROR(OFFSET(MD!$U$5,MATCH(Grundlagen_Abrechnung_KAE!$E1101,MD_GENDER,0),0),\"\")","v":""},{"v":0,"d":"0.00"},null,{"v":0,"d":"0.00"},{"$f":"IF(F1101=\"Arbeitgeberähnliche Stellung\",OFFSET(MD!$Q$5,MATCH(Grundlagen_Abrechnung_KAE!$AK$7,MD_JAHR,0),0)*$H1101,IF(J1101>0,AC1101,I1101))","v":{"v":0,"d":"0.00"}},null,{"$f":"OFFSET(MD!$P$5,MATCH($AK$7,MD_JAHR,0),0)*12","v":{"$error":"#VALUE!"}},{"v":0,"d":"0.00"}]
[{"$nulls":14},{"$f":"IF($B1102=\"\",\"\",IF(F1102=\"Arbeitgeberähnliche Stellung\",OFFSET(MD!$Q$5,MATCH(Grundlagen_Abrechnung_KAE!$AK$7,MD_JAHR,0),0)*$H1102,IF(((AD1102/12*M1102*12)+N1102)>AF1102,AF1102/12,((AD1102/12*M1102*12)+N1102)/12)))","v":""},null,null,{"v":0,"d":"0.00"},null,{"v":0,"d":"0.00%"},{"v":0,"d":"0.00"},{"v":0,"d":"0.00"},{"v":0,"d":"0.00"},null,"prüfen",{"$f":"IFERROR(OFFSET(MD!$U$5,MATCH(Grundlagen_Abrechnung_KAE!$E1102,MD_GENDER,0),0),\"\")","v":""},{"v":0,"d":"0.00"},null,{"v":0,"d":"0.00"},{"$f":"IF(F1102=\"Arbeitgeberähnliche Stellung\",OFFSET(MD!$Q$5,MATCH(Grundlagen_Abrechnung_KAE!$AK$7,MD_JAHR,0),0)*$H1102,IF(J1102>0,AC1102,I1102))","v":{"v":0,"d":"0.00"}},null,{"$f":"OFFSET(MD!$P$5,MATCH($AK$7,MD_JAHR,0),0)*12","v":{"$error":"#VALUE!"}},{"v":0,"d":"0.00"}]
[{"$nulls":14},{"$f":"IF($B1103=\"\",\"\",IF(F1103=\"Arbeitgeberähnliche Stellung\",OFFSET(MD!$Q$5,MATCH(Grundlagen_Abrechnung_KAE!$AK$7,MD_JAHR,0),0)*$H1103,IF(((AD1103/12*M1103*12)+N1103)>AF1103,AF1103/12,((AD1103/12*M1103*12)+N1103)/12)))","v":""},null,null,{"v":0,"d":"0.00"},null,{"v":0,"d":"0.00%"},{"v":0,"d":"0.00"},{"v":0,"d":"0.00"},{"v":0,"d":"0.00"},null,"prüfen",{"$f":"IFERROR(OFFSET(MD!$U$5,MATCH(Grundlagen_Abrechnung_KAE!$E1103,MD_GENDER,0),0),\"\")","v":""},{"v":0,"d":"0.00"},null,{"v":0,"d":"0.00"},{"$f":"IF(F1103=\"Arbeitgeberähnliche Stellung\",OFFSET(MD!$Q$5,MATCH(Grundlagen_Abrechnung_KAE!$AK$7,MD_JAHR,0),0)*$H1103,IF(J1103>0,AC1103,I1103))","v":{"v":0,"d":"0.00"}},null,{"$f":"OFFSET(MD!$P$5,MATCH($AK$7,MD_JAHR,0),0)*12","v":{"$error":"#VALUE!"}},{"v":0,"d":"0.00"}]
[{"$nulls":14},{"$f":"IF($B1104=\"\",\"\",IF(F1104=\"Arbeitgeberähnliche Stellung\",OFFSET(MD!$Q$5,MATCH(Grundlagen_Abrechnung_KAE!$AK$7,MD_JAHR,0),0)*$H1104,IF(((AD1104/12*M1104*12)+N1104)>AF1104,AF1104/12,((AD1104/12*M1104*12)+N1104)/12)))","v":""},null,null,{"v":0,"d":"0.00"},null,{"v":0,"d":"0.00%"},{"v":0,"d":"0.00"},{"v":0,"d":"0.00"},{"v":0,"d":"0.00"},null,"prüfen",{"$f":"IFERROR(OFFSET(MD!$U$5,MATCH(Grundlagen_Abrechnung_KAE!$E1104,MD_GENDER,0),0),\"\")","v":""},{"v":0,"d":"0.00"},null,{"v":0,"d":"0.00"},{"$f":"IF(F1104=\"Arbeitgeberähnliche Stellung\",OFFSET(MD!$Q$5,MATCH(Grundlagen_Abrechnung_KAE!$AK$7,MD_JAHR,0),0)*$H1104,IF(J1104>0,AC1104,I1104))","v":{"v":0,"d":"0.00"}},null,{"$f":"OFFSET(MD!$P$5,MATCH($AK$7,MD_JAHR,0),0)*12","v":{"$error":"#VALUE!"}},{"v":0,"d":"0.00"}]
[{"$nulls":14},{"$f":"IF($B1105=\"\",\"\",IF(F1105=\"Arbeitgeberähnliche Stellung\",OFFSET(MD!$Q$5,MATCH(Grundlagen_Abrechnung_KAE!$AK$7,MD_JAHR,0),0)*$H1105,IF(((AD1105/12*M1105*12)+N1105)>AF1105,AF1105/12,((AD1105/12*M1105*12)+N1105)/12)))","v":""},null,null,{"v":0,"d":"0.00"},null,{"v":0,"d":"0.00%"},{"v":0,"d":"0.00"},{"v":0,"d":"0.00"},{"v":0,"d":"0.00"},null,"prüfen",{"$f":"IFERROR(OFFSET(MD!$U$5,MATCH(Grundlagen_Abrechnung_KAE!$E1105,MD_GENDER,0),0),\"\")","v":""},{"v":0,"d":"0.00"},null,{"v":0,"d":"0.00"},{"$f":"IF(F1105=\"Arbeitgeberähnliche Stellung\",OFFSET(MD!$Q$5,MATCH(Grundlagen_Abrechnung_KAE!$AK$7,MD_JAHR,0),0)*$H1105,IF(J1105>0,AC1105,I1105))","v":{"v":0,"d":"0.00"}},null,{"$f":"OFFSET(MD!$P$5,MATCH($AK$7,MD_JAHR,0),0)*12","v":{"$error":"#VALUE!"}},{"v":0,"d":"0.00"}]
[{"$nulls":14},{"$f":"IF($B1106=\"\",\"\",IF(F1106=\"Arbeitgeberähnliche Stellung\",OFFSET(MD!$Q$5,MATCH(Grundlagen_Abrechnung_KAE!$AK$7,MD_JAHR,0),0)*$H1106,IF(((AD1106/12*M1106*12)+N1106)>AF1106,AF1106/12,((AD1106/12*M1106*12)+N1106)/12)))","v":""},null,null,{"v":0,"d":"0.00"},null,{"v":0,"d":"0.00%"},{"v":0,"d":"0.00"},{"v":0,"d":"0.00"},{"v":0,"d":"0.00"},null,"prüfen",{"$f":"IFERROR(OFFSET(MD!$U$5,MATCH(Grundlagen_Abrechnung_KAE!$E1106,MD_GENDER,0),0),\"\")","v":""},{"v":0,"d":"0.00"},null,{"v":0,"d":"0.00"},{"$f":"IF(F1106=\"Arbeitgeberähnliche Stellung\",OFFSET(MD!$Q$5,MATCH(Grundlagen_Abrechnung_KAE!$AK$7,MD_JAHR,0),0)*$H1106,IF(J1106>0,AC1106,I1106))","v":{"v":0,"d":"0.00"}},null,{"$f":"OFFSET(MD!$P$5,MATCH($AK$7,MD_JAHR,0),0)*12","v":{"$error":"#VALUE!"}},{"v":0,"d":"0.00"}]
[{"$nulls":14},{"$f":"IF($B1107=\"\",\"\",IF(F1107=\"Arbeitgeberähnliche Stellung\",OFFSET(MD!$Q$5,MATCH(Grundlagen_Abrechnung_KAE!$AK$7,MD_JAHR,0),0)*$H1107,IF(((AD1107/12*M1107*12)+N1107)>AF1107,AF1107/12,((AD1107/12*M1107*12)+N1107)/12)))","v":""},null,null,{"$f":"ROUND(IF(Q1107=\"\",0,IF(P1107=0,0,IF(Q1107>P1107,0,P1107-Q1107))),2)","v":{"v":0,"d":"0.00"}},null,{"$f":"IFERROR(R1107/P1107,0)","v":{"v":0,"d":"0.00%"}},{"$f":"IFERROR(IF(O1107-W1107=0,O1107,(O1107)*(1-T1107)),0)","v":{"v":0,"d":"0.00"}},{"v":0,"d":"0.00"},{"$f":"IFERROR(O1107*T1107,0)*0.8","v":{"v":0,"d":"0.00"}},null,{"$f":"IF(YEAR($G1107)>$Y$16,\"prüfen\",\"\")","v":"prüfen"},{"$f":"IFERROR(OFFSET(MD!$U$5,MATCH(Grundlagen_Abrechnung_KAE!$E1107,MD_GENDER,0),0),\"\")","v":""},{"$f":"IF(B1107=\"\",0,IF(YEAR(G1107)>$AA$16,0,1))","v":{"v":0,"d":"0.00"}},null,{"$f":"IF(J1107*K1107/6>J1107*L1107/12,J1107*K1107/6,J1107*L1107/12)","v":{"v":0,"d":"0.00"}},{"$f":"IF(F1107=\"Arbeitgeberähnliche Stellung\",OFFSET(MD!$Q$5,MATCH(Grundlagen_Abrechnung_KAE!$AK$7,MD_JAHR,0),0)*$H1107,IF(J1107>0,AC1107,I1107))","v":{"v":0,"d":"0.00"}},null,{"$f":"OFFSET(MD!$P$5,MATCH($AK$7,MD_JAHR,0),0)*12","v":{"$error":"#VALUE!"}},{"$f":"I1107*M1107+N1107","v":{"v":0,"d":"0.00"}}]
[{"$nulls":14},{"$f":"IF($B1108=\"\",\"\",IF(F1108=\"Arbeitgeberähnliche Stellung\",OFFSET(MD!$Q$5,MATCH(Grundlagen_Abrechnung_KAE!$AK$7,MD_JAHR,0),0)*$H1108,IF(((AD1108/12*M1108*12)+N1108)>AF1108,AF1108/12,((AD1108/12*M1108*12)+N1108)/12)))","v":""},null,null,{"v":0,"d":"0.00"},null,{"v":0,"d":"0.00%"},{"v":0,"d":"0.00"},{"$f":"IFERROR(O1108*T1108,0)","v":{"v":0,"d":"0.00"}},{"v":0,"d":"0.00"},null,"prüfen",{"$f":"IFERROR(OFFSET(MD!$U$5,MATCH(Grundlagen_Abrechnung_KAE!$E1108,MD_GENDER,0),0),\"\")","v":""},{"v":0,"d":"0.00"},null,{"v":0,"d":"0.00"},{"$f":"IF(F1108=\"Arbeitgeberähnliche Stellung\",OFFSET(MD!$Q$5,MATCH(Grundlagen_Abrechnung_KAE!$AK$7,MD_JAHR,0),0)*$H1108,IF(J1108>0,AC1108,I1108))","v":{"v":0,"d":"0.00"}},null,{"$f":"OFFSET(MD!$P$5,MATCH($AK$7,MD_JAHR,0),0)*12","v":{"$error":"#VALUE!"}},{"v":0,"d":"0.00"}]
[{"$nulls":14},{"$f":"IF($B1109=\"\",\"\",IF(F1109=\"Arbeitgeberähnliche Stellung\",OFFSET(MD!$Q$5,MATCH(Grundlagen_Abrechnung_KAE!$AK$7,MD_JAHR,0),0)*$H1109,IF(((AD1109/12*M1109*12)+N1109)>AF1109,AF1109/12,((AD1109/12*M1109*12)+N1109)/12)))","v":""},null,null,{"v":0,"d":"0.00"},null,{"v":0,"d":"0.00%"},{"v":0,"d":"0.00"},{"v":0,"d":"0.00"},{"v":0,"d":"0.00"},null,"prüfen",{"$f":"IFERROR(OFFSET(MD!$U$5,MATCH(Grundlagen_Abrechnung_KAE!$E1109,MD_GENDER,0),0),\"\")","v":""},{"v":0,"d":"0.00"},null,{"v":0,"d":"0.00"},{"$f":"IF(F1109=\"Arbeitgeberähnliche Stellung\",OFFSET(MD!$Q$5,MATCH(Grundlagen_Abrechnung_KAE!$AK$7,MD_JAHR,0),0)*$H1109,IF(J1109>0,AC1109,I1109))","v":{"v":0,"d":"0.00"}},null,{"$f":"OFFSET(MD!$P$5,MATCH($AK$7,MD_JAHR,0),0)*12","v":{"$error":"#VALUE!"}},{"v":0,"d":"0.00"}]
[{"$nulls":14},{"$f":"IF($B1110=\"\",\"\",IF(F1110=\"Arbeitgeberähnliche Stellung\",OFFSET(MD!$Q$5,MATCH(Grundlagen_Abrechnung_KAE!$AK$7,MD_JAHR,0),0)*$H1110,IF(((AD1110/12*M1110*12)+N1110)>AF1110,AF1110/12,((AD1110/12*M1110*12)+N1110)/12)))","v":""},null,null,{"v":0,"d":"0.00"},null,{"v":0,"d":"0.00%"},{"v":0,"d":"0.00"},{"v":0,"d":"0.00"},{"v":0,"d":"0.00"},null,"prüfen",{"$f":"IFERROR(OFFSET(MD!$U$5,MATCH(Grundlagen_Abrechnung_KAE!$E1110,MD_GENDER,0),0),\"\")","v":""},{"v":0,"d":"0.00"},null,{"v":0,"d":"0.00"},{"$f":"IF(F1110=\"Arbeitgeberähnliche Stellung\",OFFSET(MD!$Q$5,MATCH(Grundlagen_Abrechnung_KAE!$AK$7,MD_JAHR,0),0)*$H1110,IF(J1110>0,AC1110,I1110))","v":{"v":0,"d":"0.00"}},null,{"$f":"OFFSET(MD!$P$5,MATCH($AK$7,MD_JAHR,0),0)*12","v":{"$error":"#VALUE!"}},{"v":0,"d":"0.00"}]
[{"$nulls":14},{"$f":"IF($B1111=\"\",\"\",IF(F1111=\"Arbeitgeberähnliche Stellung\",OFFSET(MD!$Q$5,MATCH(Grundlagen_Abrechnung_KAE!$AK$7,MD_JAHR,0),0)*$H1111,IF(((AD1111/12*M1111*12)+N1111)>AF1111,AF1111/12,((AD1111/12*M1111*12)+N1111)/12)))","v":""},null,null,{"v":0,"d":"0.00"},null,{"v":0,"d":"0.00%"},{"v":0,"d":"0.00"},{"v":0,"d":"0.00"},{"v":0,"d":"0.00"},null,"prüfen",{"$f":"IFERROR(OFFSET(MD!$U$5,MATCH(Grundlagen_Abrechnung_KAE!$E1111,MD_GENDER,0),0),\"\")","v":""},{"v":0,"d":"0.00"},null,{"v":0,"d":"0.00"},{"$f":"IF(F1111=\"Arbeitgeberähnliche Stellung\",OFFSET(MD!$Q$5,MATCH(Grundlagen_Abrechnung_KAE!$AK$7,MD_JAHR,0),0)*$H1111,IF(J1111>0,AC1111,I1111))","v":{"v":0,"d":"0.00"}},null,{"$f":"OFFSET(MD!$P$5,MATCH($AK$7,MD_JAHR,0),0)*12","v":{"$error":"#VALUE!"}},{"v":0,"d":"0.00"}]
[{"$nulls":14},{"$f":"IF($B1112=\"\",\"\",IF(F1112=\"Arbeitgeberähnliche Stellung\",OFFSET(MD!$Q$5,MATCH(Grundlagen_Abrechnung_KAE!$AK$7,MD_JAHR,0),0)*$H1112,IF(((AD1112/12*M1112*12)+N1112)>AF1112,AF1112/12,((AD1112/12*M1112*12)+N1112)/12)))","v":""},null,null,{"v":0,"d":"0.00"},null,{"v":0,"d":"0.00%"},{"v":0,"d":"0.00"},{"v":0,"d":"0.00"},{"v":0,"d":"0.00"},null,"prüfen",{"$f":"IFERROR(OFFSET(MD!$U$5,MATCH(Grundlagen_Abrechnung_KAE!$E1112,MD_GENDER,0),0),\"\")","v":""},{"v":0,"d":"0.00"},null,{"v":0,"d":"0.00"},{"$f":"IF(F1112=\"Arbeitgeberähnliche Stellung\",OFFSET(MD!$Q$5,MATCH(Grundlagen_Abrechnung_KAE!$AK$7,MD_JAHR,0),0)*$H1112,IF(J1112>0,AC1112,I1112))","v":{"v":0,"d":"0.00"}},null,{"$f":"OFFSET(MD!$P$5,MATCH($AK$7,MD_JAHR,0),0)*12","v":{"$error":"#VALUE!"}},{"v":0,"d":"0.00"}]
[{"$nulls":14},{"$f":"IF($B1113=\"\",\"\",IF(F1113=\"Arbeitgeberähnliche Stellung\",OFFSET(MD!$Q$5,MATCH(Grundlagen_Abrechnung_KAE!$AK$7,MD_JAHR,0),0)*$H1113,IF(((AD1113/12*M1113*12)+N1113)>AF1113,AF1113/12,((AD1113/12*M1113*12)+N1113)/12)))","v":""},null,null,{"v":0,"d":"0.00"},null,{"v":0,"d":"0.00%"},{"v":0,"d":"0.00"},{"v":0,"d":"0.00"},{"v":0,"d":"0.00"},null,"prüfen",{"$f":"IFERROR(OFFSET(MD!$U$5,MATCH(Grundlagen_Abrechnung_KAE!$E1113,MD_GENDER,0),0),\"\")","v":""},{"v":0,"d":"0.00"},null,{"v":0,"d":"0.00"},{"$f":"IF(F1113=\"Arbeitgeberähnliche Stellung\",OFFSET(MD!$Q$5,MATCH(Grundlagen_Abrechnung_KAE!$AK$7,MD_JAHR,0),0)*$H1113,IF(J1113>0,AC1113,I1113))","v":{"v":0,"d":"0.00"}},null,{"$f":"OFFSET(MD!$P$5,MATCH($AK$7,MD_JAHR,0),0)*12","v":{"$error":"#VALUE!"}},{"v":0,"d":"0.00"}]
[{"$nulls":14},{"$f":"IF($B1114=\"\",\"\",IF(F1114=\"Arbeitgeberähnliche Stellung\",OFFSET(MD!$Q$5,MATCH(Grundlagen_Abrechnung_KAE!$AK$7,MD_JAHR,0),0)*$H1114,IF(((AD1114/12*M1114*12)+N1114)>AF1114,AF1114/12,((AD1114/12*M1114*12)+N1114)/12)))","v":""},null,null,{"v":0,"d":"0.00"},null,{"v":0,"d":"0.00%"},{"v":0,"d":"0.00"},{"v":0,"d":"0.00"},{"v":0,"d":"0.00"},null,"prüfen",{"$f":"IFERROR(OFFSET(MD!$U$5,MATCH(Grundlagen_Abrechnung_KAE!$E1114,MD_GENDER,0),0),\"\")","v":""},{"v":0,"d":"0.00"},null,{"v":0,"d":"0.00"},{"$f":"IF(F1114=\"Arbeitgeberähnliche Stellung\",OFFSET(MD!$Q$5,MATCH(Grundlagen_Abrechnung_KAE!$AK$7,MD_JAHR,0),0)*$H1114,IF(J1114>0,AC1114,I1114))","v":{"v":0,"d":"0.00"}},null,{"$f":"OFFSET(MD!$P$5,MATCH($AK$7,MD_JAHR,0),0)*12","v":{"$error":"#VALUE!"}},{"v":0,"d":"0.00"}]
[{"$nulls":14},{"$f":"IF($B1115=\"\",\"\",IF(F1115=\"Arbeitgeberähnliche Stellung\",OFFSET(MD!$Q$5,MATCH(Grundlagen_Abrechnung_KAE!$AK$7,MD_JAHR,0),0)*$H1115,IF(((AD1115/12*M1115*12)+N1115)>AF1115,AF1115/12,((AD1115/12*M1115*12)+N1115)/12)))","v":""},null,null,{"v":0,"d":"0.00"},null,{"v":0,"d":"0.00%"},{"v":0,"d":"0.00"},{"v":0,"d":"0.00"},{"v":0,"d":"0.00"},null,"prüfen",{"$f":"IFERROR(OFFSET(MD!$U$5,MATCH(Grundlagen_Abrechnung_KAE!$E1115,MD_GENDER,0),0),\"\")","v":""},{"v":0,"d":"0.00"},null,{"v":0,"d":"0.00"},{"$f":"IF(F1115=\"Arbeitgeberähnliche Stellung\",OFFSET(MD!$Q$5,MATCH(Grundlagen_Abrechnung_KAE!$AK$7,MD_JAHR,0),0)*$H1115,IF(J1115>0,AC1115,I1115))","v":{"v":0,"d":"0.00"}},null,{"$f":"OFFSET(MD!$P$5,MATCH($AK$7,MD_JAHR,0),0)*12","v":{"$error":"#VALUE!"}},{"v":0,"d":"0.00"}]
[{"$nulls":14},{"$f":"IF($B1116=\"\",\"\",IF(F1116=\"Arbeitgeberähnliche Stellung\",OFFSET(MD!$Q$5,MATCH(Grundlagen_Abrechnung_KAE!$AK$7,MD_JAHR,0),0)*$H1116,IF(((AD1116/12*M1116*12)+N1116)>AF1116,AF1116/12,((AD1116/12*M1116*12)+N1116)/12)))","v":""},null,null,{"v":0,"d":"0.00"},null,{"v":0,"d":"0.00%"},{"v":0,"d":"0.00"},{"v":0,"d":"0.00"},{"v":0,"d":"0.00"},null,"prüfen",{"$f":"IFERROR(OFFSET(MD!$U$5,MATCH(Grundlagen_Abrechnung_KAE!$E1116,MD_GENDER,0),0),\"\")","v":""},{"v":0,"d":"0.00"},null,{"v":0,"d":"0.00"},{"$f":"IF(F1116=\"Arbeitgeberähnliche Stellung\",OFFSET(MD!$Q$5,MATCH(Grundlagen_Abrechnung_KAE!$AK$7,MD_JAHR,0),0)*$H1116,IF(J1116>0,AC1116,I1116))","v":{"v":0,"d":"0.00"}},null,{"$f":"OFFSET(MD!$P$5,MATCH($AK$7,MD_JAHR,0),0)*12","v":{"$error":"#VALUE!"}},{"v":0,"d":"0.00"}]
[{"$nulls":14},{"$f":"IF($B1117=\"\",\"\",IF(F1117=\"Arbeitgeberähnliche Stellung\",OFFSET(MD!$Q$5,MATCH(Grundlagen_Abrechnung_KAE!$AK$7,MD_JAHR,0),0)*$H1117,IF(((AD1117/12*M1117*12)+N1117)>AF1117,AF1117/12,((AD1117/12*M1117*12)+N1117)/12)))","v":""},null,null,{"v":0,"d":"0.00"},null,{"v":0,"d":"0.00%"},{"v":0,"d":"0.00"},{"v":0,"d":"0.00"},{"v":0,"d":"0.00"},null,"prüfen",{"$f":"IFERROR(OFFSET(MD!$U$5,MATCH(Grundlagen_Abrechnung_KAE!$E1117,MD_GENDER,0),0),\"\")","v":""},{"v":0,"d":"0.00"},null,{"v":0,"d":"0.00"},{"$f":"IF(F1117=\"Arbeitgeberähnliche Stellung\",OFFSET(MD!$Q$5,MATCH(Grundlagen_Abrechnung_KAE!$AK$7,MD_JAHR,0),0)*$H1117,IF(J1117>0,AC1117,I1117))","v":{"v":0,"d":"0.00"}},null,{"$f":"OFFSET(MD!$P$5,MATCH($AK$7,MD_JAHR,0),0)*12","v":{"$error":"#VALUE!"}},{"v":0,"d":"0.00"}]
[{"$nulls":14},{"$f":"IF($B1118=\"\",\"\",IF(F1118=\"Arbeitgeberähnliche Stellung\",OFFSET(MD!$Q$5,MATCH(Grundlagen_Abrechnung_KAE!$AK$7,MD_JAHR,0),0)*$H1118,IF(((AD1118/12*M1118*12)+N1118)>AF1118,AF1118/12,((AD1118/12*M1118*12)+N1118)/12)))","v":""},null,null,{"v":0,"d":"0.00"},null,{"v":0,"d":"0.00%"},{"v":0,"d":"0.00"},{"v":0,"d":"0.00"},{"v":0,"d":"0.00"},null,"prüfen",{"$f":"IFERROR(OFFSET(MD!$U$5,MATCH(Grundlagen_Abrechnung_KAE!$E1118,MD_GENDER,0),0),\"\")","v":""},{"v":0,"d":"0.00"},null,{"v":0,"d":"0.00"},{"$f":"IF(F1118=\"Arbeitgeberähnliche Stellung\",OFFSET(MD!$Q$5,MATCH(Grundlagen_Abrechnung_KAE!$AK$7,MD_JAHR,0),0)*$H1118,IF(J1118>0,AC1118,I1118))","v":{"v":0,"d":"0.00"}},null,{"$f":"OFFSET(MD!$P$5,MATCH($AK$7,MD_JAHR,0),0)*12","v":{"$error":"#VALUE!"}},{"v":0,"d":"0.00"}]
[{"$nulls":14},{"$f":"IF($B1119=\"\",\"\",IF(F1119=\"Arbeitgeberähnliche Stellung\",OFFSET(MD!$Q$5,MATCH(Grundlagen_Abrechnung_KAE!$AK$7,MD_JAHR,0),0)*$H1119,IF(((AD1119/12*M1119*12)+N1119)>AF1119,AF1119/12,((AD1119/12*M1119*12)+N1119)/12)))","v":""},null,null,{"v":0,"d":"0.00"},null,{"v":0,"d":"0.00%"},{"v":0,"d":"0.00"},{"v":0,"d":"0.00"},{"v":0,"d":"0.00"},null,"prüfen",{"$f":"IFERROR(OFFSET(MD!$U$5,MATCH(Grundlagen_Abrechnung_KAE!$E1119,MD_GENDER,0),0),\"\")","v":""},{"v":0,"d":"0.00"},null,{"v":0,"d":"0.00"},{"$f":"IF(F1119=\"Arbeitgeberähnliche Stellung\",OFFSET(MD!$Q$5,MATCH(Grundlagen_Abrechnung_KAE!$AK$7,MD_JAHR,0),0)*$H1119,IF(J1119>0,AC1119,I1119))","v":{"v":0,"d":"0.00"}},null,{"$f":"OFFSET(MD!$P$5,MATCH($AK$7,MD_JAHR,0),0)*12","v":{"$error":"#VALUE!"}},{"v":0,"d":"0.00"}]
[{"$nulls":14},{"$f":"IF($B1120=\"\",\"\",IF(F1120=\"Arbeitgeberähnliche Stellung\",OFFSET(MD!$Q$5,MATCH(Grundlagen_Abrechnung_KAE!$AK$7,MD_JAHR,0),0)*$H1120,IF(((AD1120/12*M1120*12)+N1120)>AF1120,AF1120/12,((AD1120/12*M1120*12)+N1120)/12)))","v":""},null,null,{"v":0,"d":"0.00"},null,{"v":0,"d":"0.00%"},{"v":0,"d":"0.00"},{"v":0,"d":"0.00"},{"v":0,"d":"0.00"},null,"prüfen",{"$f":"IFERROR(OFFSET(MD!$U$5,MATCH(Grundlagen_Abrechnung_KAE!$E1120,MD_GENDER,0),0),\"\")","v":""},{"v":0,"d":"0.00"},null,{"v":0,"d":"0.00"},{"$f":"IF(F1120=\"Arbeitgeberähnliche Stellung\",OFFSET(MD!$Q$5,MATCH(Grundlagen_Abrechnung_KAE!$AK$7,MD_JAHR,0),0)*$H1120,IF(J1120>0,AC1120,I1120))","v":{"v":0,"d":"0.00"}},null,{"$f":"OFFSET(MD!$P$5,MATCH($AK$7,MD_JAHR,0),0)*12","v":{"$error":"#VALUE!"}},{"v":0,"d":"0.00"}]
[{"$nulls":14},{"$f":"IF($B1121=\"\",\"\",IF(F1121=\"Arbeitgeberähnliche Stellung\",OFFSET(MD!$Q$5,MATCH(Grundlagen_Abrechnung_KAE!$AK$7,MD_JAHR,0),0)*$H1121,IF(((AD1121/12*M1121*12)+N1121)>AF1121,AF1121/12,((AD1121/12*M1121*12)+N1121)/12)))","v":""},null,null,{"v":0,"d":"0.00"},null,{"v":0,"d":"0.00%"},{"v":0,"d":"0.00"},{"v":0,"d":"0.00"},{"v":0,"d":"0.00"},null,"prüfen",{"$f":"IFERROR(OFFSET(MD!$U$5,MATCH(Grundlagen_Abrechnung_KAE!$E1121,MD_GENDER,0),0),\"\")","v":""},{"v":0,"d":"0.00"},null,{"v":0,"d":"0.00"},{"$f":"IF(F1121=\"Arbeitgeberähnliche Stellung\",OFFSET(MD!$Q$5,MATCH(Grundlagen_Abrechnung_KAE!$AK$7,MD_JAHR,0),0)*$H1121,IF(J1121>0,AC1121,I1121))","v":{"v":0,"d":"0.00"}},null,{"$f":"OFFSET(MD!$P$5,MATCH($AK$7,MD_JAHR,0),0)*12","v":{"$error":"#VALUE!"}},{"v":0,"d":"0.00"}]
[{"$nulls":14},{"$f":"IF($B1122=\"\",\"\",IF(F1122=\"Arbeitgeberähnliche Stellung\",OFFSET(MD!$Q$5,MATCH(Grundlagen_Abrechnung_KAE!$AK$7,MD_JAHR,0),0)*$H1122,IF(((AD1122/12*M1122*12)+N1122)>AF1122,AF1122/12,((AD1122/12*M1122*12)+N1122)/12)))","v":""},null,null,{"v":0,"d":"0.00"},null,{"v":0,"d":"0.00%"},{"v":0,"d":"0.00"},{"v":0,"d":"0.00"},{"v":0,"d":"0.00"},null,"prüfen",{"$f":"IFERROR(OFFSET(MD!$U$5,MATCH(Grundlagen_Abrechnung_KAE!$E1122,MD_GENDER,0),0),\"\")","v":""},{"v":0,"d":"0.00"},null,{"v":0,"d":"0.00"},{"$f":"IF(F1122=\"Arbeitgeberähnliche Stellung\",OFFSET(MD!$Q$5,MATCH(Grundlagen_Abrechnung_KAE!$AK$7,MD_JAHR,0),0)*$H1122,IF(J1122>0,AC1122,I1122))","v":{"v":0,"d":"0.00"}},null,{"$f":"OFFSET(MD!$P$5,MATCH($AK$7,MD_JAHR,0),0)*12","v":{"$error":"#VALUE!"}},{"v":0,"d":"0.00"}]
[{"$nulls":14},{"$f":"IF($B1123=\"\",\"\",IF(F1123=\"Arbeitgeberähnliche Stellung\",OFFSET(MD!$Q$5,MATCH(Grundlagen_Abrechnung_KAE!$AK$7,MD_JAHR,0),0)*$H1123,IF(((AD1123/12*M1123*12)+N1123)>AF1123,AF1123/12,((AD1123/12*M1123*12)+N1123)/12)))","v":""},null,null,{"v":0,"d":"0.00"},null,{"v":0,"d":"0.00%"},{"v":0,"d":"0.00"},{"v":0,"d":"0.00"},{"v":0,"d":"0.00"},null,"prüfen",{"$f":"IFERROR(OFFSET(MD!$U$5,MATCH(Grundlagen_Abrechnung_KAE!$E1123,MD_GENDER,0),0),\"\")","v":""},{"v":0,"d":"0.00"},null,{"v":0,"d":"0.00"},{"$f":"IF(F1123=\"Arbeitgeberähnliche Stellung\",OFFSET(MD!$Q$5,MATCH(Grundlagen_Abrechnung_KAE!$AK$7,MD_JAHR,0),0)*$H1123,IF(J1123>0,AC1123,I1123))","v":{"v":0,"d":"0.00"}},null,{"$f":"OFFSET(MD!$P$5,MATCH($AK$7,MD_JAHR,0),0)*12","v":{"$error":"#VALUE!"}},{"v":0,"d":"0.00"}]
[{"$nulls":14},{"$f":"IF($B1124=\"\",\"\",IF(F1124=\"Arbeitgeberähnliche Stellung\",OFFSET(MD!$Q$5,MATCH(Grundlagen_Abrechnung_KAE!$AK$7,MD_JAHR,0),0)*$H1124,IF(((AD1124/12*M1124*12)+N1124)>AF1124,AF1124/12,((AD1124/12*M1124*12)+N1124)/12)))","v":""},null,null,{"v":0,"d":"0.00"},null,{"v":0,"d":"0.00%"},{"v":0,"d":"0.00"},{"v":0,"d":"0.00"},{"v":0,"d":"0.00"},null,"prüfen",{"$f":"IFERROR(OFFSET(MD!$U$5,MATCH(Grundlagen_Abrechnung_KAE!$E1124,MD_GENDER,0),0),\"\")","v":""},{"v":0,"d":"0.00"},null,{"v":0,"d":"0.00"},{"$f":"IF(F1124=\"Arbeitgeberähnliche Stellung\",OFFSET(MD!$Q$5,MATCH(Grundlagen_Abrechnung_KAE!$AK$7,MD_JAHR,0),0)*$H1124,IF(J1124>0,AC1124,I1124))","v":{"v":0,"d":"0.00"}},null,{"$f":"OFFSET(MD!$P$5,MATCH($AK$7,MD_JAHR,0),0)*12","v":{"$error":"#VALUE!"}},{"v":0,"d":"0.00"}]
[{"$nulls":14},{"$f":"IF($B1125=\"\",\"\",IF(F1125=\"Arbeitgeberähnliche Stellung\",OFFSET(MD!$Q$5,MATCH(Grundlagen_Abrechnung_KAE!$AK$7,MD_JAHR,0),0)*$H1125,IF(((AD1125/12*M1125*12)+N1125)>AF1125,AF1125/12,((AD1125/12*M1125*12)+N1125)/12)))","v":""},null,null,{"v":0,"d":"0.00"},null,{"v":0,"d":"0.00%"},{"v":0,"d":"0.00"},{"v":0,"d":"0.00"},{"v":0,"d":"0.00"},null,"prüfen",{"$f":"IFERROR(OFFSET(MD!$U$5,MATCH(Grundlagen_Abrechnung_KAE!$E1125,MD_GENDER,0),0),\"\")","v":""},{"v":0,"d":"0.00"},null,{"v":0,"d":"0.00"},{"$f":"IF(F1125=\"Arbeitgeberähnliche Stellung\",OFFSET(MD!$Q$5,MATCH(Grundlagen_Abrechnung_KAE!$AK$7,MD_JAHR,0),0)*$H1125,IF(J1125>0,AC1125,I1125))","v":{"v":0,"d":"0.00"}},null,{"$f":"OFFSET(MD!$P$5,MATCH($AK$7,MD_JAHR,0),0)*12","v":{"$error":"#VALUE!"}},{"v":0,"d":"0.00"}]
[{"$nulls":14},{"$f":"IF($B1126=\"\",\"\",IF(F1126=\"Arbeitgeberähnliche Stellung\",OFFSET(MD!$Q$5,MATCH(Grundlagen_Abrechnung_KAE!$AK$7,MD_JAHR,0),0)*$H1126,IF(((AD1126/12*M1126*12)+N1126)>AF1126,AF1126/12,((AD1126/12*M1126*12)+N1126)/12)))","v":""},null,null,{"v":0,"d":"0.00"},null,{"v":0,"d":"0.00%"},{"v":0,"d":"0.00"},{"v":0,"d":"0.00"},{"v":0,"d":"0.00"},null,"prüfen",{"$f":"IFERROR(OFFSET(MD!$U$5,MATCH(Grundlagen_Abrechnung_KAE!$E1126,MD_GENDER,0),0),\"\")","v":""},{"v":0,"d":"0.00"},null,{"v":0,"d":"0.00"},{"$f":"IF(F1126=\"Arbeitgeberähnliche Stellung\",OFFSET(MD!$Q$5,MATCH(Grundlagen_Abrechnung_KAE!$AK$7,MD_JAHR,0),0)*$H1126,IF(J1126>0,AC1126,I1126))","v":{"v":0,"d":"0.00"}},null,{"$f":"OFFSET(MD!$P$5,MATCH($AK$7,MD_JAHR,0),0)*12","v":{"$error":"#VALUE!"}},{"v":0,"d":"0.00"}]
[{"$nulls":14},{"$f":"IF($B1127=\"\",\"\",IF(F1127=\"Arbeitgeberähnliche Stellung\",OFFSET(MD!$Q$5,MATCH(Grundlagen_Abrechnung_KAE!$AK$7,MD_JAHR,0),0)*$H1127,IF(((AD1127/12*M1127*12)+N1127)>AF1127,AF1127/12,((AD1127/12*M1127*12)+N1127)/12)))","v":""},null,null,{"v":0,"d":"0.00"},null,{"v":0,"d":"0.00%"},{"v":0,"d":"0.00"},{"v":0,"d":"0.00"},{"v":0,"d":"0.00"},null,"prüfen",{"$f":"IFERROR(OFFSET(MD!$U$5,MATCH(Grundlagen_Abrechnung_KAE!$E1127,MD_GENDER,0),0),\"\")","v":""},{"v":0,"d":"0.00"},null,{"v":0,"d":"0.00"},{"$f":"IF(F1127=\"Arbeitgeberähnliche Stellung\",OFFSET(MD!$Q$5,MATCH(Grundlagen_Abrechnung_KAE!$AK$7,MD_JAHR,0),0)*$H1127,IF(J1127>0,AC1127,I1127))","v":{"v":0,"d":"0.00"}},null,{"$f":"OFFSET(MD!$P$5,MATCH($AK$7,MD_JAHR,0),0)*12","v":{"$error":"#VALUE!"}},{"v":0,"d":"0.00"}]
[{"$nulls":14},{"$f":"IF($B1128=\"\",\"\",IF(F1128=\"Arbeitgeberähnliche Stellung\",OFFSET(MD!$Q$5,MATCH(Grundlagen_Abrechnung_KAE!$AK$7,MD_JAHR,0),0)*$H1128,IF(((AD1128/12*M1128*12)+N1128)>AF1128,AF1128/12,((AD1128/12*M1128*12)+N1128)/12)))","v":""},null,null,{"v":0,"d":"0.00"},null,{"v":0,"d":"0.00%"},{"v":0,"d":"0.00"},{"v":0,"d":"0.00"},{"v":0,"d":"0.00"},null,"prüfen",{"$f":"IFERROR(OFFSET(MD!$U$5,MATCH(Grundlagen_Abrechnung_KAE!$E1128,MD_GENDER,0),0),\"\")","v":""},{"v":0,"d":"0.00"},null,{"v":0,"d":"0.00"},{"$f":"IF(F1128=\"Arbeitgeberähnliche Stellung\",OFFSET(MD!$Q$5,MATCH(Grundlagen_Abrechnung_KAE!$AK$7,MD_JAHR,0),0)*$H1128,IF(J1128>0,AC1128,I1128))","v":{"v":0,"d":"0.00"}},null,{"$f":"OFFSET(MD!$P$5,MATCH($AK$7,MD_JAHR,0),0)*12","v":{"$error":"#VALUE!"}},{"v":0,"d":"0.00"}]
[{"$nulls":14},{"$f":"IF($B1129=\"\",\"\",IF(F1129=\"Arbeitgeberähnliche Stellung\",OFFSET(MD!$Q$5,MATCH(Grundlagen_Abrechnung_KAE!$AK$7,MD_JAHR,0),0)*$H1129,IF(((AD1129/12*M1129*12)+N1129)>AF1129,AF1129/12,((AD1129/12*M1129*12)+N1129)/12)))","v":""},null,null,{"v":0,"d":"0.00"},null,{"v":0,"d":"0.00%"},{"v":0,"d":"0.00"},{"v":0,"d":"0.00"},{"v":0,"d":"0.00"},null,"prüfen",{"$f":"IFERROR(OFFSET(MD!$U$5,MATCH(Grundlagen_Abrechnung_KAE!$E1129,MD_GENDER,0),0),\"\")","v":""},{"v":0,"d":"0.00"},null,{"v":0,"d":"0.00"},{"$f":"IF(F1129=\"Arbeitgeberähnliche Stellung\",OFFSET(MD!$Q$5,MATCH(Grundlagen_Abrechnung_KAE!$AK$7,MD_JAHR,0),0)*$H1129,IF(J1129>0,AC1129,I1129))","v":{"v":0,"d":"0.00"}},null,{"$f":"OFFSET(MD!$P$5,MATCH($AK$7,MD_JAHR,0),0)*12","v":{"$error":"#VALUE!"}},{"v":0,"d":"0.00"}]
[{"$nulls":14},{"$f":"IF($B1130=\"\",\"\",IF(F1130=\"Arbeitgeberähnliche Stellung\",OFFSET(MD!$Q$5,MATCH(Grundlagen_Abrechnung_KAE!$AK$7,MD_JAHR,0),0)*$H1130,IF(((AD1130/12*M1130*12)+N1130)>AF1130,AF1130/12,((AD1130/12*M1130*12)+N1130)/12)))","v":""},null,null,{"v":0,"d":"0.00"},null,{"v":0,"d":"0.00%"},{"v":0,"d":"0.00"},{"v":0,"d":"0.00"},{"v":0,"d":"0.00"},null,"prüfen",{"$f":"IFERROR(OFFSET(MD!$U$5,MATCH(Grundlagen_Abrechnung_KAE!$E1130,MD_GENDER,0),0),\"\")","v":""},{"v":0,"d":"0.00"},null,{"v":0,"d":"0.00"},{"$f":"IF(F1130=\"Arbeitgeberähnliche Stellung\",OFFSET(MD!$Q$5,MATCH(Grundlagen_Abrechnung_KAE!$AK$7,MD_JAHR,0),0)*$H1130,IF(J1130>0,AC1130,I1130))","v":{"v":0,"d":"0.00"}},null,{"$f":"OFFSET(MD!$P$5,MATCH($AK$7,MD_JAHR,0),0)*12","v":{"$error":"#VALUE!"}},{"v":0,"d":"0.00"}]
[{"$nulls":14},{"$f":"IF($B1131=\"\",\"\",IF(F1131=\"Arbeitgeberähnliche Stellung\",OFFSET(MD!$Q$5,MATCH(Grundlagen_Abrechnung_KAE!$AK$7,MD_JAHR,0),0)*$H1131,IF(((AD1131/12*M1131*12)+N1131)>AF1131,AF1131/12,((AD1131/12*M1131*12)+N1131)/12)))","v":""},null,null,{"v":0,"d":"0.00"},null,{"v":0,"d":"0.00%"},{"v":0,"d":"0.00"},{"v":0,"d":"0.00"},{"v":0,"d":"0.00"},null,"prüfen",{"$f":"IFERROR(OFFSET(MD!$U$5,MATCH(Grundlagen_Abrechnung_KAE!$E1131,MD_GENDER,0),0),\"\")","v":""},{"v":0,"d":"0.00"},null,{"v":0,"d":"0.00"},{"$f":"IF(F1131=\"Arbeitgeberähnliche Stellung\",OFFSET(MD!$Q$5,MATCH(Grundlagen_Abrechnung_KAE!$AK$7,MD_JAHR,0),0)*$H1131,IF(J1131>0,AC1131,I1131))","v":{"v":0,"d":"0.00"}},null,{"$f":"OFFSET(MD!$P$5,MATCH($AK$7,MD_JAHR,0),0)*12","v":{"$error":"#VALUE!"}},{"v":0,"d":"0.00"}]
[{"$nulls":14},{"$f":"IF($B1132=\"\",\"\",IF(F1132=\"Arbeitgeberähnliche Stellung\",OFFSET(MD!$Q$5,MATCH(Grundlagen_Abrechnung_KAE!$AK$7,MD_JAHR,0),0)*$H1132,IF(((AD1132/12*M1132*12)+N1132)>AF1132,AF1132/12,((AD1132/12*M1132*12)+N1132)/12)))","v":""},null,null,{"v":0,"d":"0.00"},null,{"v":0,"d":"0.00%"},{"v":0,"d":"0.00"},{"v":0,"d":"0.00"},{"v":0,"d":"0.00"},null,"prüfen",{"$f":"IFERROR(OFFSET(MD!$U$5,MATCH(Grundlagen_Abrechnung_KAE!$E1132,MD_GENDER,0),0),\"\")","v":""},{"v":0,"d":"0.00"},null,{"v":0,"d":"0.00"},{"$f":"IF(F1132=\"Arbeitgeberähnliche Stellung\",OFFSET(MD!$Q$5,MATCH(Grundlagen_Abrechnung_KAE!$AK$7,MD_JAHR,0),0)*$H1132,IF(J1132>0,AC1132,I1132))","v":{"v":0,"d":"0.00"}},null,{"$f":"OFFSET(MD!$P$5,MATCH($AK$7,MD_JAHR,0),0)*12","v":{"$error":"#VALUE!"}},{"v":0,"d":"0.00"}]
[{"$nulls":14},{"$f":"IF($B1133=\"\",\"\",IF(F1133=\"Arbeitgeberähnliche Stellung\",OFFSET(MD!$Q$5,MATCH(Grundlagen_Abrechnung_KAE!$AK$7,MD_JAHR,0),0)*$H1133,IF(((AD1133/12*M1133*12)+N1133)>AF1133,AF1133/12,((AD1133/12*M1133*12)+N1133)/12)))","v":""},null,null,{"v":0,"d":"0.00"},null,{"v":0,"d":"0.00%"},{"v":0,"d":"0.00"},{"v":0,"d":"0.00"},{"v":0,"d":"0.00"},null,"prüfen",{"$f":"IFERROR(OFFSET(MD!$U$5,MATCH(Grundlagen_Abrechnung_KAE!$E1133,MD_GENDER,0),0),\"\")","v":""},{"v":0,"d":"0.00"},null,{"v":0,"d":"0.00"},{"$f":"IF(F1133=\"Arbeitgeberähnliche Stellung\",OFFSET(MD!$Q$5,MATCH(Grundlagen_Abrechnung_KAE!$AK$7,MD_JAHR,0),0)*$H1133,IF(J1133>0,AC1133,I1133))","v":{"v":0,"d":"0.00"}},null,{"$f":"OFFSET(MD!$P$5,MATCH($AK$7,MD_JAHR,0),0)*12","v":{"$error":"#VALUE!"}},{"v":0,"d":"0.00"}]
[{"$nulls":14},{"$f":"IF($B1134=\"\",\"\",IF(F1134=\"Arbeitgeberähnliche Stellung\",OFFSET(MD!$Q$5,MATCH(Grundlagen_Abrechnung_KAE!$AK$7,MD_JAHR,0),0)*$H1134,IF(((AD1134/12*M1134*12)+N1134)>AF1134,AF1134/12,((AD1134/12*M1134*12)+N1134)/12)))","v":""},null,null,{"v":0,"d":"0.00"},null,{"v":0,"d":"0.00%"},{"v":0,"d":"0.00"},{"v":0,"d":"0.00"},{"v":0,"d":"0.00"},null,"prüfen",{"$f":"IFERROR(OFFSET(MD!$U$5,MATCH(Grundlagen_Abrechnung_KAE!$E1134,MD_GENDER,0),0),\"\")","v":""},{"v":0,"d":"0.00"},null,{"v":0,"d":"0.00"},{"$f":"IF(F1134=\"Arbeitgeberähnliche Stellung\",OFFSET(MD!$Q$5,MATCH(Grundlagen_Abrechnung_KAE!$AK$7,MD_JAHR,0),0)*$H1134,IF(J1134>0,AC1134,I1134))","v":{"v":0,"d":"0.00"}},null,{"$f":"OFFSET(MD!$P$5,MATCH($AK$7,MD_JAHR,0),0)*12","v":{"$error":"#VALUE!"}},{"v":0,"d":"0.00"}]
[{"$nulls":14},{"$f":"IF($B1135=\"\",\"\",IF(F1135=\"Arbeitgeberähnliche Stellung\",OFFSET(MD!$Q$5,MATCH(Grundlagen_Abrechnung_KAE!$AK$7,MD_JAHR,0),0)*$H1135,IF(((AD1135/12*M1135*12)+N1135)>AF1135,AF1135/12,((AD1135/12*M1135*12)+N1135)/12)))","v":""},null,null,{"v":0,"d":"0.00"},null,{"v":0,"d":"0.00%"},{"v":0,"d":"0.00"},{"v":0,"d":"0.00"},{"v":0,"d":"0.00"},null,"prüfen",{"$f":"IFERROR(OFFSET(MD!$U$5,MATCH(Grundlagen_Abrechnung_KAE!$E1135,MD_GENDER,0),0),\"\")","v":""},{"v":0,"d":"0.00"},null,{"v":0,"d":"0.00"},{"$f":"IF(F1135=\"Arbeitgeberähnliche Stellung\",OFFSET(MD!$Q$5,MATCH(Grundlagen_Abrechnung_KAE!$AK$7,MD_JAHR,0),0)*$H1135,IF(J1135>0,AC1135,I1135))","v":{"v":0,"d":"0.00"}},null,{"$f":"OFFSET(MD!$P$5,MATCH($AK$7,MD_JAHR,0),0)*12","v":{"$error":"#VALUE!"}},{"v":0,"d":"0.00"}]
[{"$nulls":14},{"$f":"IF($B1136=\"\",\"\",IF(F1136=\"Arbeitgeberähnliche Stellung\",OFFSET(MD!$Q$5,MATCH(Grundlagen_Abrechnung_KAE!$AK$7,MD_JAHR,0),0)*$H1136,IF(((AD1136/12*M1136*12)+N1136)>AF1136,AF1136/12,((AD1136/12*M1136*12)+N1136)/12)))","v":""},null,null,{"v":0,"d":"0.00"},null,{"v":0,"d":"0.00%"},{"v":0,"d":"0.00"},{"v":0,"d":"0.00"},{"v":0,"d":"0.00"},null,"prüfen",{"$f":"IFERROR(OFFSET(MD!$U$5,MATCH(Grundlagen_Abrechnung_KAE!$E1136,MD_GENDER,0),0),\"\")","v":""},{"v":0,"d":"0.00"},null,{"v":0,"d":"0.00"},{"$f":"IF(F1136=\"Arbeitgeberähnliche Stellung\",OFFSET(MD!$Q$5,MATCH(Grundlagen_Abrechnung_KAE!$AK$7,MD_JAHR,0),0)*$H1136,IF(J1136>0,AC1136,I1136))","v":{"v":0,"d":"0.00"}},null,{"$f":"OFFSET(MD!$P$5,MATCH($AK$7,MD_JAHR,0),0)*12","v":{"$error":"#VALUE!"}},{"v":0,"d":"0.00"}]
[{"$nulls":14},{"$f":"IF($B1137=\"\",\"\",IF(F1137=\"Arbeitgeberähnliche Stellung\",OFFSET(MD!$Q$5,MATCH(Grundlagen_Abrechnung_KAE!$AK$7,MD_JAHR,0),0)*$H1137,IF(((AD1137/12*M1137*12)+N1137)>AF1137,AF1137/12,((AD1137/12*M1137*12)+N1137)/12)))","v":""},null,null,{"v":0,"d":"0.00"},null,{"v":0,"d":"0.00%"},{"v":0,"d":"0.00"},{"v":0,"d":"0.00"},{"v":0,"d":"0.00"},null,"prüfen",{"$f":"IFERROR(OFFSET(MD!$U$5,MATCH(Grundlagen_Abrechnung_KAE!$E1137,MD_GENDER,0),0),\"\")","v":""},{"v":0,"d":"0.00"},null,{"v":0,"d":"0.00"},{"$f":"IF(F1137=\"Arbeitgeberähnliche Stellung\",OFFSET(MD!$Q$5,MATCH(Grundlagen_Abrechnung_KAE!$AK$7,MD_JAHR,0),0)*$H1137,IF(J1137>0,AC1137,I1137))","v":{"v":0,"d":"0.00"}},null,{"$f":"OFFSET(MD!$P$5,MATCH($AK$7,MD_JAHR,0),0)*12","v":{"$error":"#VALUE!"}},{"v":0,"d":"0.00"}]
[{"$nulls":14},{"$f":"IF($B1138=\"\",\"\",IF(F1138=\"Arbeitgeberähnliche Stellung\",OFFSET(MD!$Q$5,MATCH(Grundlagen_Abrechnung_KAE!$AK$7,MD_JAHR,0),0)*$H1138,IF(((AD1138/12*M1138*12)+N1138)>AF1138,AF1138/12,((AD1138/12*M1138*12)+N1138)/12)))","v":""},null,null,{"v":0,"d":"0.00"},null,{"v":0,"d":"0.00%"},{"v":0,"d":"0.00"},{"v":0,"d":"0.00"},{"v":0,"d":"0.00"},null,"prüfen",{"$f":"IFERROR(OFFSET(MD!$U$5,MATCH(Grundlagen_Abrechnung_KAE!$E1138,MD_GENDER,0),0),\"\")","v":""},{"v":0,"d":"0.00"},null,{"v":0,"d":"0.00"},{"$f":"IF(F1138=\"Arbeitgeberähnliche Stellung\",OFFSET(MD!$Q$5,MATCH(Grundlagen_Abrechnung_KAE!$AK$7,MD_JAHR,0),0)*$H1138,IF(J1138>0,AC1138,I1138))","v":{"v":0,"d":"0.00"}},null,{"$f":"OFFSET(MD!$P$5,MATCH($AK$7,MD_JAHR,0),0)*12","v":{"$error":"#VALUE!"}},{"v":0,"d":"0.00"}]
[{"$nulls":14},{"$f":"IF($B1139=\"\",\"\",IF(F1139=\"Arbeitgeberähnliche Stellung\",OFFSET(MD!$Q$5,MATCH(Grundlagen_Abrechnung_KAE!$AK$7,MD_JAHR,0),0)*$H1139,IF(((AD1139/12*M1139*12)+N1139)>AF1139,AF1139/12,((AD1139/12*M1139*12)+N1139)/12)))","v":""},null,null,{"v":0,"d":"0.00"},null,{"v":0,"d":"0.00%"},{"v":0,"d":"0.00"},{"v":0,"d":"0.00"},{"v":0,"d":"0.00"},null,"prüfen",{"$f":"IFERROR(OFFSET(MD!$U$5,MATCH(Grundlagen_Abrechnung_KAE!$E1139,MD_GENDER,0),0),\"\")","v":""},{"v":0,"d":"0.00"},null,{"v":0,"d":"0.00"},{"$f":"IF(F1139=\"Arbeitgeberähnliche Stellung\",OFFSET(MD!$Q$5,MATCH(Grundlagen_Abrechnung_KAE!$AK$7,MD_JAHR,0),0)*$H1139,IF(J1139>0,AC1139,I1139))","v":{"v":0,"d":"0.00"}},null,{"$f":"OFFSET(MD!$P$5,MATCH($AK$7,MD_JAHR,0),0)*12","v":{"$error":"#VALUE!"}},{"v":0,"d":"0.00"}]
[{"$nulls":14},{"$f":"IF($B1140=\"\",\"\",IF(F1140=\"Arbeitgeberähnliche Stellung\",OFFSET(MD!$Q$5,MATCH(Grundlagen_Abrechnung_KAE!$AK$7,MD_JAHR,0),0)*$H1140,IF(((AD1140/12*M1140*12)+N1140)>AF1140,AF1140/12,((AD1140/12*M1140*12)+N1140)/12)))","v":""},null,null,{"v":0,"d":"0.00"},null,{"v":0,"d":"0.00%"},{"v":0,"d":"0.00"},{"v":0,"d":"0.00"},{"v":0,"d":"0.00"},null,"prüfen",{"$f":"IFERROR(OFFSET(MD!$U$5,MATCH(Grundlagen_Abrechnung_KAE!$E1140,MD_GENDER,0),0),\"\")","v":""},{"v":0,"d":"0.00"},null,{"v":0,"d":"0.00"},{"$f":"IF(F1140=\"Arbeitgeberähnliche Stellung\",OFFSET(MD!$Q$5,MATCH(Grundlagen_Abrechnung_KAE!$AK$7,MD_JAHR,0),0)*$H1140,IF(J1140>0,AC1140,I1140))","v":{"v":0,"d":"0.00"}},null,{"$f":"OFFSET(MD!$P$5,MATCH($AK$7,MD_JAHR,0),0)*12","v":{"$error":"#VALUE!"}},{"v":0,"d":"0.00"}]
[{"$nulls":14},{"$f":"IF($B1141=\"\",\"\",IF(F1141=\"Arbeitgeberähnliche Stellung\",OFFSET(MD!$Q$5,MATCH(Grundlagen_Abrechnung_KAE!$AK$7,MD_JAHR,0),0)*$H1141,IF(((AD1141/12*M1141*12)+N1141)>AF1141,AF1141/12,((AD1141/12*M1141*12)+N1141)/12)))","v":""},null,null,{"v":0,"d":"0.00"},null,{"v":0,"d":"0.00%"},{"v":0,"d":"0.00"},{"v":0,"d":"0.00"},{"v":0,"d":"0.00"},null,"prüfen",{"$f":"IFERROR(OFFSET(MD!$U$5,MATCH(Grundlagen_Abrechnung_KAE!$E1141,MD_GENDER,0),0),\"\")","v":""},{"v":0,"d":"0.00"},null,{"v":0,"d":"0.00"},{"$f":"IF(F1141=\"Arbeitgeberähnliche Stellung\",OFFSET(MD!$Q$5,MATCH(Grundlagen_Abrechnung_KAE!$AK$7,MD_JAHR,0),0)*$H1141,IF(J1141>0,AC1141,I1141))","v":{"v":0,"d":"0.00"}},null,{"$f":"OFFSET(MD!$P$5,MATCH($AK$7,MD_JAHR,0),0)*12","v":{"$error":"#VALUE!"}},{"v":0,"d":"0.00"}]
[{"$nulls":14},{"$f":"IF($B1142=\"\",\"\",IF(F1142=\"Arbeitgeberähnliche Stellung\",OFFSET(MD!$Q$5,MATCH(Grundlagen_Abrechnung_KAE!$AK$7,MD_JAHR,0),0)*$H1142,IF(((AD1142/12*M1142*12)+N1142)>AF1142,AF1142/12,((AD1142/12*M1142*12)+N1142)/12)))","v":""},null,null,{"v":0,"d":"0.00"},null,{"v":0,"d":"0.00%"},{"v":0,"d":"0.00"},{"v":0,"d":"0.00"},{"v":0,"d":"0.00"},null,"prüfen",{"$f":"IFERROR(OFFSET(MD!$U$5,MATCH(Grundlagen_Abrechnung_KAE!$E1142,MD_GENDER,0),0),\"\")","v":""},{"v":0,"d":"0.00"},null,{"v":0,"d":"0.00"},{"$f":"IF(F1142=\"Arbeitgeberähnliche Stellung\",OFFSET(MD!$Q$5,MATCH(Grundlagen_Abrechnung_KAE!$AK$7,MD_JAHR,0),0)*$H1142,IF(J1142>0,AC1142,I1142))","v":{"v":0,"d":"0.00"}},null,{"$f":"OFFSET(MD!$P$5,MATCH($AK$7,MD_JAHR,0),0)*12","v":{"$error":"#VALUE!"}},{"v":0,"d":"0.00"}]
[{"$nulls":14},{"$f":"IF($B1143=\"\",\"\",IF(F1143=\"Arbeitgeberähnliche Stellung\",OFFSET(MD!$Q$5,MATCH(Grundlagen_Abrechnung_KAE!$AK$7,MD_JAHR,0),0)*$H1143,IF(((AD1143/12*M1143*12)+N1143)>AF1143,AF1143/12,((AD1143/12*M1143*12)+N1143)/12)))","v":""},null,null,{"v":0,"d":"0.00"},null,{"v":0,"d":"0.00%"},{"v":0,"d":"0.00"},{"v":0,"d":"0.00"},{"v":0,"d":"0.00"},null,"prüfen",{"$f":"IFERROR(OFFSET(MD!$U$5,MATCH(Grundlagen_Abrechnung_KAE!$E1143,MD_GENDER,0),0),\"\")","v":""},{"v":0,"d":"0.00"},null,{"v":0,"d":"0.00"},{"$f":"IF(F1143=\"Arbeitgeberähnliche Stellung\",OFFSET(MD!$Q$5,MATCH(Grundlagen_Abrechnung_KAE!$AK$7,MD_JAHR,0),0)*$H1143,IF(J1143>0,AC1143,I1143))","v":{"v":0,"d":"0.00"}},null,{"$f":"OFFSET(MD!$P$5,MATCH($AK$7,MD_JAHR,0),0)*12","v":{"$error":"#VALUE!"}},{"v":0,"d":"0.00"}]
[{"$nulls":14},{"$f":"IF($B1144=\"\",\"\",IF(F1144=\"Arbeitgeberähnliche Stellung\",OFFSET(MD!$Q$5,MATCH(Grundlagen_Abrechnung_KAE!$AK$7,MD_JAHR,0),0)*$H1144,IF(((AD1144/12*M1144*12)+N1144)>AF1144,AF1144/12,((AD1144/12*M1144*12)+N1144)/12)))","v":""},null,null,{"v":0,"d":"0.00"},null,{"v":0,"d":"0.00%"},{"v":0,"d":"0.00"},{"v":0,"d":"0.00"},{"v":0,"d":"0.00"},null,"prüfen",{"$f":"IFERROR(OFFSET(MD!$U$5,MATCH(Grundlagen_Abrechnung_KAE!$E1144,MD_GENDER,0),0),\"\")","v":""},{"v":0,"d":"0.00"},null,{"v":0,"d":"0.00"},{"$f":"IF(F1144=\"Arbeitgeberähnliche Stellung\",OFFSET(MD!$Q$5,MATCH(Grundlagen_Abrechnung_KAE!$AK$7,MD_JAHR,0),0)*$H1144,IF(J1144>0,AC1144,I1144))","v":{"v":0,"d":"0.00"}},null,{"$f":"OFFSET(MD!$P$5,MATCH($AK$7,MD_JAHR,0),0)*12","v":{"$error":"#VALUE!"}},{"v":0,"d":"0.00"}]
[{"$nulls":14},{"$f":"IF($B1145=\"\",\"\",IF(F1145=\"Arbeitgeberähnliche Stellung\",OFFSET(MD!$Q$5,MATCH(Grundlagen_Abrechnung_KAE!$AK$7,MD_JAHR,0),0)*$H1145,IF(((AD1145/12*M1145*12)+N1145)>AF1145,AF1145/12,((AD1145/12*M1145*12)+N1145)/12)))","v":""},null,null,{"v":0,"d":"0.00"},null,{"v":0,"d":"0.00%"},{"v":0,"d":"0.00"},{"v":0,"d":"0.00"},{"v":0,"d":"0.00"},null,"prüfen",{"$f":"IFERROR(OFFSET(MD!$U$5,MATCH(Grundlagen_Abrechnung_KAE!$E1145,MD_GENDER,0),0),\"\")","v":""},{"v":0,"d":"0.00"},null,{"v":0,"d":"0.00"},{"$f":"IF(F1145=\"Arbeitgeberähnliche Stellung\",OFFSET(MD!$Q$5,MATCH(Grundlagen_Abrechnung_KAE!$AK$7,MD_JAHR,0),0)*$H1145,IF(J1145>0,AC1145,I1145))","v":{"v":0,"d":"0.00"}},null,{"$f":"OFFSET(MD!$P$5,MATCH($AK$7,MD_JAHR,0),0)*12","v":{"$error":"#VALUE!"}},{"v":0,"d":"0.00"}]
[{"$nulls":14},{"$f":"IF($B1146=\"\",\"\",IF(F1146=\"Arbeitgeberähnliche Stellung\",OFFSET(MD!$Q$5,MATCH(Grundlagen_Abrechnung_KAE!$AK$7,MD_JAHR,0),0)*$H1146,IF(((AD1146/12*M1146*12)+N1146)>AF1146,AF1146/12,((AD1146/12*M1146*12)+N1146)/12)))","v":""},null,null,{"v":0,"d":"0.00"},null,{"v":0,"d":"0.00%"},{"v":0,"d":"0.00"},{"v":0,"d":"0.00"},{"v":0,"d":"0.00"},null,"prüfen",{"$f":"IFERROR(OFFSET(MD!$U$5,MATCH(Grundlagen_Abrechnung_KAE!$E1146,MD_GENDER,0),0),\"\")","v":""},{"v":0,"d":"0.00"},null,{"v":0,"d":"0.00"},{"$f":"IF(F1146=\"Arbeitgeberähnliche Stellung\",OFFSET(MD!$Q$5,MATCH(Grundlagen_Abrechnung_KAE!$AK$7,MD_JAHR,0),0)*$H1146,IF(J1146>0,AC1146,I1146))","v":{"v":0,"d":"0.00"}},null,{"$f":"OFFSET(MD!$P$5,MATCH($AK$7,MD_JAHR,0),0)*12","v":{"$error":"#VALUE!"}},{"v":0,"d":"0.00"}]
[{"$nulls":14},{"$f":"IF($B1147=\"\",\"\",IF(F1147=\"Arbeitgeberähnliche Stellung\",OFFSET(MD!$Q$5,MATCH(Grundlagen_Abrechnung_KAE!$AK$7,MD_JAHR,0),0)*$H1147,IF(((AD1147/12*M1147*12)+N1147)>AF1147,AF1147/12,((AD1147/12*M1147*12)+N1147)/12)))","v":""},null,null,{"v":0,"d":"0.00"},null,{"v":0,"d":"0.00%"},{"v":0,"d":"0.00"},{"v":0,"d":"0.00"},{"v":0,"d":"0.00"},null,"prüfen",{"$f":"IFERROR(OFFSET(MD!$U$5,MATCH(Grundlagen_Abrechnung_KAE!$E1147,MD_GENDER,0),0),\"\")","v":""},{"v":0,"d":"0.00"},null,{"v":0,"d":"0.00"},{"$f":"IF(F1147=\"Arbeitgeberähnliche Stellung\",OFFSET(MD!$Q$5,MATCH(Grundlagen_Abrechnung_KAE!$AK$7,MD_JAHR,0),0)*$H1147,IF(J1147>0,AC1147,I1147))","v":{"v":0,"d":"0.00"}},null,{"$f":"OFFSET(MD!$P$5,MATCH($AK$7,MD_JAHR,0),0)*12","v":{"$error":"#VALUE!"}},{"v":0,"d":"0.00"}]
[{"$nulls":14},{"$f":"IF($B1148=\"\",\"\",IF(F1148=\"Arbeitgeberähnliche Stellung\",OFFSET(MD!$Q$5,MATCH(Grundlagen_Abrechnung_KAE!$AK$7,MD_JAHR,0),0)*$H1148,IF(((AD1148/12*M1148*12)+N1148)>AF1148,AF1148/12,((AD1148/12*M1148*12)+N1148)/12)))","v":""},null,null,{"v":0,"d":"0.00"},null,{"v":0,"d":"0.00%"},{"v":0,"d":"0.00"},{"v":0,"d":"0.00"},{"v":0,"d":"0.00"},null,"prüfen",{"$f":"IFERROR(OFFSET(MD!$U$5,MATCH(Grundlagen_Abrechnung_KAE!$E1148,MD_GENDER,0),0),\"\")","v":""},{"v":0,"d":"0.00"},null,{"v":0,"d":"0.00"},{"$f":"IF(F1148=\"Arbeitgeberähnliche Stellung\",OFFSET(MD!$Q$5,MATCH(Grundlagen_Abrechnung_KAE!$AK$7,MD_JAHR,0),0)*$H1148,IF(J1148>0,AC1148,I1148))","v":{"v":0,"d":"0.00"}},null,{"$f":"OFFSET(MD!$P$5,MATCH($AK$7,MD_JAHR,0),0)*12","v":{"$error":"#VALUE!"}},{"v":0,"d":"0.00"}]
[{"$nulls":14},{"$f":"IF($B1149=\"\",\"\",IF(F1149=\"Arbeitgeberähnliche Stellung\",OFFSET(MD!$Q$5,MATCH(Grundlagen_Abrechnung_KAE!$AK$7,MD_JAHR,0),0)*$H1149,IF(((AD1149/12*M1149*12)+N1149)>AF1149,AF1149/12,((AD1149/12*M1149*12)+N1149)/12)))","v":""},null,null,{"v":0,"d":"0.00"},null,{"v":0,"d":"0.00%"},{"v":0,"d":"0.00"},{"v":0,"d":"0.00"},{"v":0,"d":"0.00"},null,"prüfen",{"$f":"IFERROR(OFFSET(MD!$U$5,MATCH(Grundlagen_Abrechnung_KAE!$E1149,MD_GENDER,0),0),\"\")","v":""},{"v":0,"d":"0.00"},null,{"v":0,"d":"0.00"},{"$f":"IF(F1149=\"Arbeitgeberähnliche Stellung\",OFFSET(MD!$Q$5,MATCH(Grundlagen_Abrechnung_KAE!$AK$7,MD_JAHR,0),0)*$H1149,IF(J1149>0,AC1149,I1149))","v":{"v":0,"d":"0.00"}},null,{"$f":"OFFSET(MD!$P$5,MATCH($AK$7,MD_JAHR,0),0)*12","v":{"$error":"#VALUE!"}},{"v":0,"d":"0.00"}]
[{"$nulls":14},{"$f":"IF($B1150=\"\",\"\",IF(F1150=\"Arbeitgeberähnliche Stellung\",OFFSET(MD!$Q$5,MATCH(Grundlagen_Abrechnung_KAE!$AK$7,MD_JAHR,0),0)*$H1150,IF(((AD1150/12*M1150*12)+N1150)>AF1150,AF1150/12,((AD1150/12*M1150*12)+N1150)/12)))","v":""},null,null,{"v":0,"d":"0.00"},null,{"v":0,"d":"0.00%"},{"v":0,"d":"0.00"},{"v":0,"d":"0.00"},{"v":0,"d":"0.00"},null,"prüfen",{"$f":"IFERROR(OFFSET(MD!$U$5,MATCH(Grundlagen_Abrechnung_KAE!$E1150,MD_GENDER,0),0),\"\")","v":""},{"v":0,"d":"0.00"},null,{"v":0,"d":"0.00"},{"$f":"IF(F1150=\"Arbeitgeberähnliche Stellung\",OFFSET(MD!$Q$5,MATCH(Grundlagen_Abrechnung_KAE!$AK$7,MD_JAHR,0),0)*$H1150,IF(J1150>0,AC1150,I1150))","v":{"v":0,"d":"0.00"}},null,{"$f":"OFFSET(MD!$P$5,MATCH($AK$7,MD_JAHR,0),0)*12","v":{"$error":"#VALUE!"}},{"v":0,"d":"0.00"}]
[{"$nulls":14},{"$f":"IF($B1151=\"\",\"\",IF(F1151=\"Arbeitgeberähnliche Stellung\",OFFSET(MD!$Q$5,MATCH(Grundlagen_Abrechnung_KAE!$AK$7,MD_JAHR,0),0)*$H1151,IF(((AD1151/12*M1151*12)+N1151)>AF1151,AF1151/12,((AD1151/12*M1151*12)+N1151)/12)))","v":""},null,null,{"v":0,"d":"0.00"},null,{"v":0,"d":"0.00%"},{"v":0,"d":"0.00"},{"v":0,"d":"0.00"},{"v":0,"d":"0.00"},null,"prüfen",{"$f":"IFERROR(OFFSET(MD!$U$5,MATCH(Grundlagen_Abrechnung_KAE!$E1151,MD_GENDER,0),0),\"\")","v":""},{"v":0,"d":"0.00"},null,{"v":0,"d":"0.00"},{"$f":"IF(F1151=\"Arbeitgeberähnliche Stellung\",OFFSET(MD!$Q$5,MATCH(Grundlagen_Abrechnung_KAE!$AK$7,MD_JAHR,0),0)*$H1151,IF(J1151>0,AC1151,I1151))","v":{"v":0,"d":"0.00"}},null,{"$f":"OFFSET(MD!$P$5,MATCH($AK$7,MD_JAHR,0),0)*12","v":{"$error":"#VALUE!"}},{"v":0,"d":"0.00"}]
[{"$nulls":14},{"$f":"IF($B1152=\"\",\"\",IF(F1152=\"Arbeitgeberähnliche Stellung\",OFFSET(MD!$Q$5,MATCH(Grundlagen_Abrechnung_KAE!$AK$7,MD_JAHR,0),0)*$H1152,IF(((AD1152/12*M1152*12)+N1152)>AF1152,AF1152/12,((AD1152/12*M1152*12)+N1152)/12)))","v":""},null,null,{"v":0,"d":"0.00"},null,{"v":0,"d":"0.00%"},{"v":0,"d":"0.00"},{"v":0,"d":"0.00"},{"v":0,"d":"0.00"},null,"prüfen",{"$f":"IFERROR(OFFSET(MD!$U$5,MATCH(Grundlagen_Abrechnung_KAE!$E1152,MD_GENDER,0),0),\"\")","v":""},{"v":0,"d":"0.00"},null,{"v":0,"d":"0.00"},{"$f":"IF(F1152=\"Arbeitgeberähnliche Stellung\",OFFSET(MD!$Q$5,MATCH(Grundlagen_Abrechnung_KAE!$AK$7,MD_JAHR,0),0)*$H1152,IF(J1152>0,AC1152,I1152))","v":{"v":0,"d":"0.00"}},null,{"$f":"OFFSET(MD!$P$5,MATCH($AK$7,MD_JAHR,0),0)*12","v":{"$error":"#VALUE!"}},{"v":0,"d":"0.00"}]
[{"$nulls":14},{"$f":"IF($B1153=\"\",\"\",IF(F1153=\"Arbeitgeberähnliche Stellung\",OFFSET(MD!$Q$5,MATCH(Grundlagen_Abrechnung_KAE!$AK$7,MD_JAHR,0),0)*$H1153,IF(((AD1153/12*M1153*12)+N1153)>AF1153,AF1153/12,((AD1153/12*M1153*12)+N1153)/12)))","v":""},null,null,{"v":0,"d":"0.00"},null,{"v":0,"d":"0.00%"},{"v":0,"d":"0.00"},{"v":0,"d":"0.00"},{"v":0,"d":"0.00"},null,"prüfen",{"$f":"IFERROR(OFFSET(MD!$U$5,MATCH(Grundlagen_Abrechnung_KAE!$E1153,MD_GENDER,0),0),\"\")","v":""},{"v":0,"d":"0.00"},null,{"v":0,"d":"0.00"},{"$f":"IF(F1153=\"Arbeitgeberähnliche Stellung\",OFFSET(MD!$Q$5,MATCH(Grundlagen_Abrechnung_KAE!$AK$7,MD_JAHR,0),0)*$H1153,IF(J1153>0,AC1153,I1153))","v":{"v":0,"d":"0.00"}},null,{"$f":"OFFSET(MD!$P$5,MATCH($AK$7,MD_JAHR,0),0)*12","v":{"$error":"#VALUE!"}},{"v":0,"d":"0.00"}]
[{"$nulls":14},{"$f":"IF($B1154=\"\",\"\",IF(F1154=\"Arbeitgeberähnliche Stellung\",OFFSET(MD!$Q$5,MATCH(Grundlagen_Abrechnung_KAE!$AK$7,MD_JAHR,0),0)*$H1154,IF(((AD1154/12*M1154*12)+N1154)>AF1154,AF1154/12,((AD1154/12*M1154*12)+N1154)/12)))","v":""},null,null,{"v":0,"d":"0.00"},null,{"v":0,"d":"0.00%"},{"v":0,"d":"0.00"},{"v":0,"d":"0.00"},{"v":0,"d":"0.00"},null,"prüfen",{"$f":"IFERROR(OFFSET(MD!$U$5,MATCH(Grundlagen_Abrechnung_KAE!$E1154,MD_GENDER,0),0),\"\")","v":""},{"v":0,"d":"0.00"},null,{"v":0,"d":"0.00"},{"$f":"IF(F1154=\"Arbeitgeberähnliche Stellung\",OFFSET(MD!$Q$5,MATCH(Grundlagen_Abrechnung_KAE!$AK$7,MD_JAHR,0),0)*$H1154,IF(J1154>0,AC1154,I1154))","v":{"v":0,"d":"0.00"}},null,{"$f":"OFFSET(MD!$P$5,MATCH($AK$7,MD_JAHR,0),0)*12","v":{"$error":"#VALUE!"}},{"v":0,"d":"0.00"}]
[{"$nulls":14},{"$f":"IF($B1155=\"\",\"\",IF(F1155=\"Arbeitgeberähnliche Stellung\",OFFSET(MD!$Q$5,MATCH(Grundlagen_Abrechnung_KAE!$AK$7,MD_JAHR,0),0)*$H1155,IF(((AD1155/12*M1155*12)+N1155)>AF1155,AF1155/12,((AD1155/12*M1155*12)+N1155)/12)))","v":""},null,null,{"v":0,"d":"0.00"},null,{"v":0,"d":"0.00%"},{"v":0,"d":"0.00"},{"v":0,"d":"0.00"},{"v":0,"d":"0.00"},null,"prüfen",{"$f":"IFERROR(OFFSET(MD!$U$5,MATCH(Grundlagen_Abrechnung_KAE!$E1155,MD_GENDER,0),0),\"\")","v":""},{"v":0,"d":"0.00"},null,{"v":0,"d":"0.00"},{"$f":"IF(F1155=\"Arbeitgeberähnliche Stellung\",OFFSET(MD!$Q$5,MATCH(Grundlagen_Abrechnung_KAE!$AK$7,MD_JAHR,0),0)*$H1155,IF(J1155>0,AC1155,I1155))","v":{"v":0,"d":"0.00"}},null,{"$f":"OFFSET(MD!$P$5,MATCH($AK$7,MD_JAHR,0),0)*12","v":{"$error":"#VALUE!"}},{"v":0,"d":"0.00"}]
[{"$nulls":14},{"$f":"IF($B1156=\"\",\"\",IF(F1156=\"Arbeitgeberähnliche Stellung\",OFFSET(MD!$Q$5,MATCH(Grundlagen_Abrechnung_KAE!$AK$7,MD_JAHR,0),0)*$H1156,IF(((AD1156/12*M1156*12)+N1156)>AF1156,AF1156/12,((AD1156/12*M1156*12)+N1156)/12)))","v":""},null,null,{"v":0,"d":"0.00"},null,{"v":0,"d":"0.00%"},{"v":0,"d":"0.00"},{"v":0,"d":"0.00"},{"v":0,"d":"0.00"},null,"prüfen",{"$f":"IFERROR(OFFSET(MD!$U$5,MATCH(Grundlagen_Abrechnung_KAE!$E1156,MD_GENDER,0),0),\"\")","v":""},{"v":0,"d":"0.00"},null,{"v":0,"d":"0.00"},{"$f":"IF(F1156=\"Arbeitgeberähnliche Stellung\",OFFSET(MD!$Q$5,MATCH(Grundlagen_Abrechnung_KAE!$AK$7,MD_JAHR,0),0)*$H1156,IF(J1156>0,AC1156,I1156))","v":{"v":0,"d":"0.00"}},null,{"$f":"OFFSET(MD!$P$5,MATCH($AK$7,MD_JAHR,0),0)*12","v":{"$error":"#VALUE!"}},{"v":0,"d":"0.00"}]
[{"$nulls":14},{"$f":"IF($B1157=\"\",\"\",IF(F1157=\"Arbeitgeberähnliche Stellung\",OFFSET(MD!$Q$5,MATCH(Grundlagen_Abrechnung_KAE!$AK$7,MD_JAHR,0),0)*$H1157,IF(((AD1157/12*M1157*12)+N1157)>AF1157,AF1157/12,((AD1157/12*M1157*12)+N1157)/12)))","v":""},null,null,{"v":0,"d":"0.00"},null,{"v":0,"d":"0.00%"},{"v":0,"d":"0.00"},{"v":0,"d":"0.00"},{"v":0,"d":"0.00"},null,"prüfen",{"$f":"IFERROR(OFFSET(MD!$U$5,MATCH(Grundlagen_Abrechnung_KAE!$E1157,MD_GENDER,0),0),\"\")","v":""},{"v":0,"d":"0.00"},null,{"v":0,"d":"0.00"},{"$f":"IF(F1157=\"Arbeitgeberähnliche Stellung\",OFFSET(MD!$Q$5,MATCH(Grundlagen_Abrechnung_KAE!$AK$7,MD_JAHR,0),0)*$H1157,IF(J1157>0,AC1157,I1157))","v":{"v":0,"d":"0.00"}},null,{"$f":"OFFSET(MD!$P$5,MATCH($AK$7,MD_JAHR,0),0)*12","v":{"$error":"#VALUE!"}},{"v":0,"d":"0.00"}]
[{"$nulls":14},{"$f":"IF($B1158=\"\",\"\",IF(F1158=\"Arbeitgeberähnliche Stellung\",OFFSET(MD!$Q$5,MATCH(Grundlagen_Abrechnung_KAE!$AK$7,MD_JAHR,0),0)*$H1158,IF(((AD1158/12*M1158*12)+N1158)>AF1158,AF1158/12,((AD1158/12*M1158*12)+N1158)/12)))","v":""},null,null,{"v":0,"d":"0.00"},null,{"v":0,"d":"0.00%"},{"v":0,"d":"0.00"},{"v":0,"d":"0.00"},{"v":0,"d":"0.00"},null,"prüfen",{"$f":"IFERROR(OFFSET(MD!$U$5,MATCH(Grundlagen_Abrechnung_KAE!$E1158,MD_GENDER,0),0),\"\")","v":""},{"v":0,"d":"0.00"},null,{"v":0,"d":"0.00"},{"$f":"IF(F1158=\"Arbeitgeberähnliche Stellung\",OFFSET(MD!$Q$5,MATCH(Grundlagen_Abrechnung_KAE!$AK$7,MD_JAHR,0),0)*$H1158,IF(J1158>0,AC1158,I1158))","v":{"v":0,"d":"0.00"}},null,{"$f":"OFFSET(MD!$P$5,MATCH($AK$7,MD_JAHR,0),0)*12","v":{"$error":"#VALUE!"}},{"v":0,"d":"0.00"}]
[{"$nulls":14},{"$f":"IF($B1159=\"\",\"\",IF(F1159=\"Arbeitgeberähnliche Stellung\",OFFSET(MD!$Q$5,MATCH(Grundlagen_Abrechnung_KAE!$AK$7,MD_JAHR,0),0)*$H1159,IF(((AD1159/12*M1159*12)+N1159)>AF1159,AF1159/12,((AD1159/12*M1159*12)+N1159)/12)))","v":""},null,null,{"v":0,"d":"0.00"},null,{"v":0,"d":"0.00%"},{"v":0,"d":"0.00"},{"v":0,"d":"0.00"},{"v":0,"d":"0.00"},null,"prüfen",{"$f":"IFERROR(OFFSET(MD!$U$5,MATCH(Grundlagen_Abrechnung_KAE!$E1159,MD_GENDER,0),0),\"\")","v":""},{"v":0,"d":"0.00"},null,{"v":0,"d":"0.00"},{"$f":"IF(F1159=\"Arbeitgeberähnliche Stellung\",OFFSET(MD!$Q$5,MATCH(Grundlagen_Abrechnung_KAE!$AK$7,MD_JAHR,0),0)*$H1159,IF(J1159>0,AC1159,I1159))","v":{"v":0,"d":"0.00"}},null,{"$f":"OFFSET(MD!$P$5,MATCH($AK$7,MD_JAHR,0),0)*12","v":{"$error":"#VALUE!"}},{"v":0,"d":"0.00"}]
[{"$nulls":14},{"$f":"IF($B1160=\"\",\"\",IF(F1160=\"Arbeitgeberähnliche Stellung\",OFFSET(MD!$Q$5,MATCH(Grundlagen_Abrechnung_KAE!$AK$7,MD_JAHR,0),0)*$H1160,IF(((AD1160/12*M1160*12)+N1160)>AF1160,AF1160/12,((AD1160/12*M1160*12)+N1160)/12)))","v":""},null,null,{"v":0,"d":"0.00"},null,{"v":0,"d":"0.00%"},{"v":0,"d":"0.00"},{"v":0,"d":"0.00"},{"v":0,"d":"0.00"},null,"prüfen",{"$f":"IFERROR(OFFSET(MD!$U$5,MATCH(Grundlagen_Abrechnung_KAE!$E1160,MD_GENDER,0),0),\"\")","v":""},{"v":0,"d":"0.00"},null,{"v":0,"d":"0.00"},{"$f":"IF(F1160=\"Arbeitgeberähnliche Stellung\",OFFSET(MD!$Q$5,MATCH(Grundlagen_Abrechnung_KAE!$AK$7,MD_JAHR,0),0)*$H1160,IF(J1160>0,AC1160,I1160))","v":{"v":0,"d":"0.00"}},null,{"$f":"OFFSET(MD!$P$5,MATCH($AK$7,MD_JAHR,0),0)*12","v":{"$error":"#VALUE!"}},{"v":0,"d":"0.00"}]
[{"$nulls":14},{"$f":"IF($B1161=\"\",\"\",IF(F1161=\"Arbeitgeberähnliche Stellung\",OFFSET(MD!$Q$5,MATCH(Grundlagen_Abrechnung_KAE!$AK$7,MD_JAHR,0),0)*$H1161,IF(((AD1161/12*M1161*12)+N1161)>AF1161,AF1161/12,((AD1161/12*M1161*12)+N1161)/12)))","v":""},null,null,{"v":0,"d":"0.00"},null,{"v":0,"d":"0.00%"},{"v":0,"d":"0.00"},{"v":0,"d":"0.00"},{"v":0,"d":"0.00"},null,"prüfen",{"$f":"IFERROR(OFFSET(MD!$U$5,MATCH(Grundlagen_Abrechnung_KAE!$E1161,MD_GENDER,0),0),\"\")","v":""},{"v":0,"d":"0.00"},null,{"v":0,"d":"0.00"},{"$f":"IF(F1161=\"Arbeitgeberähnliche Stellung\",OFFSET(MD!$Q$5,MATCH(Grundlagen_Abrechnung_KAE!$AK$7,MD_JAHR,0),0)*$H1161,IF(J1161>0,AC1161,I1161))","v":{"v":0,"d":"0.00"}},null,{"$f":"OFFSET(MD!$P$5,MATCH($AK$7,MD_JAHR,0),0)*12","v":{"$error":"#VALUE!"}},{"v":0,"d":"0.00"}]
[{"$nulls":14},{"$f":"IF($B1162=\"\",\"\",IF(F1162=\"Arbeitgeberähnliche Stellung\",OFFSET(MD!$Q$5,MATCH(Grundlagen_Abrechnung_KAE!$AK$7,MD_JAHR,0),0)*$H1162,IF(((AD1162/12*M1162*12)+N1162)>AF1162,AF1162/12,((AD1162/12*M1162*12)+N1162)/12)))","v":""},null,null,{"v":0,"d":"0.00"},null,{"v":0,"d":"0.00%"},{"v":0,"d":"0.00"},{"v":0,"d":"0.00"},{"v":0,"d":"0.00"},null,"prüfen",{"$f":"IFERROR(OFFSET(MD!$U$5,MATCH(Grundlagen_Abrechnung_KAE!$E1162,MD_GENDER,0),0),\"\")","v":""},{"v":0,"d":"0.00"},null,{"v":0,"d":"0.00"},{"$f":"IF(F1162=\"Arbeitgeberähnliche Stellung\",OFFSET(MD!$Q$5,MATCH(Grundlagen_Abrechnung_KAE!$AK$7,MD_JAHR,0),0)*$H1162,IF(J1162>0,AC1162,I1162))","v":{"v":0,"d":"0.00"}},null,{"$f":"OFFSET(MD!$P$5,MATCH($AK$7,MD_JAHR,0),0)*12","v":{"$error":"#VALUE!"}},{"v":0,"d":"0.00"}]
[{"$nulls":14},{"$f":"IF($B1163=\"\",\"\",IF(F1163=\"Arbeitgeberähnliche Stellung\",OFFSET(MD!$Q$5,MATCH(Grundlagen_Abrechnung_KAE!$AK$7,MD_JAHR,0),0)*$H1163,IF(((AD1163/12*M1163*12)+N1163)>AF1163,AF1163/12,((AD1163/12*M1163*12)+N1163)/12)))","v":""},null,null,{"v":0,"d":"0.00"},null,{"v":0,"d":"0.00%"},{"v":0,"d":"0.00"},{"v":0,"d":"0.00"},{"v":0,"d":"0.00"},null,"prüfen",{"$f":"IFERROR(OFFSET(MD!$U$5,MATCH(Grundlagen_Abrechnung_KAE!$E1163,MD_GENDER,0),0),\"\")","v":""},{"v":0,"d":"0.00"},null,{"v":0,"d":"0.00"},{"$f":"IF(F1163=\"Arbeitgeberähnliche Stellung\",OFFSET(MD!$Q$5,MATCH(Grundlagen_Abrechnung_KAE!$AK$7,MD_JAHR,0),0)*$H1163,IF(J1163>0,AC1163,I1163))","v":{"v":0,"d":"0.00"}},null,{"$f":"OFFSET(MD!$P$5,MATCH($AK$7,MD_JAHR,0),0)*12","v":{"$error":"#VALUE!"}},{"v":0,"d":"0.00"}]
[{"$nulls":14},{"$f":"IF($B1164=\"\",\"\",IF(F1164=\"Arbeitgeberähnliche Stellung\",OFFSET(MD!$Q$5,MATCH(Grundlagen_Abrechnung_KAE!$AK$7,MD_JAHR,0),0)*$H1164,IF(((AD1164/12*M1164*12)+N1164)>AF1164,AF1164/12,((AD1164/12*M1164*12)+N1164)/12)))","v":""},null,null,{"v":0,"d":"0.00"},null,{"v":0,"d":"0.00%"},{"v":0,"d":"0.00"},{"v":0,"d":"0.00"},{"v":0,"d":"0.00"},null,"prüfen",{"$f":"IFERROR(OFFSET(MD!$U$5,MATCH(Grundlagen_Abrechnung_KAE!$E1164,MD_GENDER,0),0),\"\")","v":""},{"v":0,"d":"0.00"},null,{"v":0,"d":"0.00"},{"$f":"IF(F1164=\"Arbeitgeberähnliche Stellung\",OFFSET(MD!$Q$5,MATCH(Grundlagen_Abrechnung_KAE!$AK$7,MD_JAHR,0),0)*$H1164,IF(J1164>0,AC1164,I1164))","v":{"v":0,"d":"0.00"}},null,{"$f":"OFFSET(MD!$P$5,MATCH($AK$7,MD_JAHR,0),0)*12","v":{"$error":"#VALUE!"}},{"v":0,"d":"0.00"}]
[{"$nulls":14},{"$f":"IF($B1165=\"\",\"\",IF(F1165=\"Arbeitgeberähnliche Stellung\",OFFSET(MD!$Q$5,MATCH(Grundlagen_Abrechnung_KAE!$AK$7,MD_JAHR,0),0)*$H1165,IF(((AD1165/12*M1165*12)+N1165)>AF1165,AF1165/12,((AD1165/12*M1165*12)+N1165)/12)))","v":""},null,null,{"v":0,"d":"0.00"},null,{"v":0,"d":"0.00%"},{"v":0,"d":"0.00"},{"v":0,"d":"0.00"},{"v":0,"d":"0.00"},null,"prüfen",{"$f":"IFERROR(OFFSET(MD!$U$5,MATCH(Grundlagen_Abrechnung_KAE!$E1165,MD_GENDER,0),0),\"\")","v":""},{"v":0,"d":"0.00"},null,{"v":0,"d":"0.00"},{"$f":"IF(F1165=\"Arbeitgeberähnliche Stellung\",OFFSET(MD!$Q$5,MATCH(Grundlagen_Abrechnung_KAE!$AK$7,MD_JAHR,0),0)*$H1165,IF(J1165>0,AC1165,I1165))","v":{"v":0,"d":"0.00"}},null,{"$f":"OFFSET(MD!$P$5,MATCH($AK$7,MD_JAHR,0),0)*12","v":{"$error":"#VALUE!"}},{"v":0,"d":"0.00"}]
[{"$nulls":14},{"$f":"IF($B1166=\"\",\"\",IF(F1166=\"Arbeitgeberähnliche Stellung\",OFFSET(MD!$Q$5,MATCH(Grundlagen_Abrechnung_KAE!$AK$7,MD_JAHR,0),0)*$H1166,IF(((AD1166/12*M1166*12)+N1166)>AF1166,AF1166/12,((AD1166/12*M1166*12)+N1166)/12)))","v":""},null,null,{"v":0,"d":"0.00"},null,{"v":0,"d":"0.00%"},{"v":0,"d":"0.00"},{"v":0,"d":"0.00"},{"v":0,"d":"0.00"},null,"prüfen",{"$f":"IFERROR(OFFSET(MD!$U$5,MATCH(Grundlagen_Abrechnung_KAE!$E1166,MD_GENDER,0),0),\"\")","v":""},{"v":0,"d":"0.00"},null,{"v":0,"d":"0.00"},{"$f":"IF(F1166=\"Arbeitgeberähnliche Stellung\",OFFSET(MD!$Q$5,MATCH(Grundlagen_Abrechnung_KAE!$AK$7,MD_JAHR,0),0)*$H1166,IF(J1166>0,AC1166,I1166))","v":{"v":0,"d":"0.00"}},null,{"$f":"OFFSET(MD!$P$5,MATCH($AK$7,MD_JAHR,0),0)*12","v":{"$error":"#VALUE!"}},{"v":0,"d":"0.00"}]
[{"$nulls":14},{"$f":"IF($B1167=\"\",\"\",IF(F1167=\"Arbeitgeberähnliche Stellung\",OFFSET(MD!$Q$5,MATCH(Grundlagen_Abrechnung_KAE!$AK$7,MD_JAHR,0),0)*$H1167,IF(((AD1167/12*M1167*12)+N1167)>AF1167,AF1167/12,((AD1167/12*M1167*12)+N1167)/12)))","v":""},null,null,{"v":0,"d":"0.00"},null,{"v":0,"d":"0.00%"},{"v":0,"d":"0.00"},{"v":0,"d":"0.00"},{"v":0,"d":"0.00"},null,"prüfen",{"$f":"IFERROR(OFFSET(MD!$U$5,MATCH(Grundlagen_Abrechnung_KAE!$E1167,MD_GENDER,0),0),\"\")","v":""},{"v":0,"d":"0.00"},null,{"v":0,"d":"0.00"},{"$f":"IF(F1167=\"Arbeitgeberähnliche Stellung\",OFFSET(MD!$Q$5,MATCH(Grundlagen_Abrechnung_KAE!$AK$7,MD_JAHR,0),0)*$H1167,IF(J1167>0,AC1167,I1167))","v":{"v":0,"d":"0.00"}},null,{"$f":"OFFSET(MD!$P$5,MATCH($AK$7,MD_JAHR,0),0)*12","v":{"$error":"#VALUE!"}},{"v":0,"d":"0.00"}]
[{"$nulls":14},{"$f":"IF($B1168=\"\",\"\",IF(F1168=\"Arbeitgeberähnliche Stellung\",OFFSET(MD!$Q$5,MATCH(Grundlagen_Abrechnung_KAE!$AK$7,MD_JAHR,0),0)*$H1168,IF(((AD1168/12*M1168*12)+N1168)>AF1168,AF1168/12,((AD1168/12*M1168*12)+N1168)/12)))","v":""},null,null,{"v":0,"d":"0.00"},null,{"v":0,"d":"0.00%"},{"v":0,"d":"0.00"},{"v":0,"d":"0.00"},{"v":0,"d":"0.00"},null,"prüfen",{"$f":"IFERROR(OFFSET(MD!$U$5,MATCH(Grundlagen_Abrechnung_KAE!$E1168,MD_GENDER,0),0),\"\")","v":""},{"v":0,"d":"0.00"},null,{"v":0,"d":"0.00"},{"$f":"IF(F1168=\"Arbeitgeberähnliche Stellung\",OFFSET(MD!$Q$5,MATCH(Grundlagen_Abrechnung_KAE!$AK$7,MD_JAHR,0),0)*$H1168,IF(J1168>0,AC1168,I1168))","v":{"v":0,"d":"0.00"}},null,{"$f":"OFFSET(MD!$P$5,MATCH($AK$7,MD_JAHR,0),0)*12","v":{"$error":"#VALUE!"}},{"v":0,"d":"0.00"}]
[{"$nulls":14},{"$f":"IF($B1169=\"\",\"\",IF(F1169=\"Arbeitgeberähnliche Stellung\",OFFSET(MD!$Q$5,MATCH(Grundlagen_Abrechnung_KAE!$AK$7,MD_JAHR,0),0)*$H1169,IF(((AD1169/12*M1169*12)+N1169)>AF1169,AF1169/12,((AD1169/12*M1169*12)+N1169)/12)))","v":""},null,null,{"v":0,"d":"0.00"},null,{"v":0,"d":"0.00%"},{"v":0,"d":"0.00"},{"v":0,"d":"0.00"},{"v":0,"d":"0.00"},null,"prüfen",{"$f":"IFERROR(OFFSET(MD!$U$5,MATCH(Grundlagen_Abrechnung_KAE!$E1169,MD_GENDER,0),0),\"\")","v":""},{"v":0,"d":"0.00"},null,{"v":0,"d":"0.00"},{"$f":"IF(F1169=\"Arbeitgeberähnliche Stellung\",OFFSET(MD!$Q$5,MATCH(Grundlagen_Abrechnung_KAE!$AK$7,MD_JAHR,0),0)*$H1169,IF(J1169>0,AC1169,I1169))","v":{"v":0,"d":"0.00"}},null,{"$f":"OFFSET(MD!$P$5,MATCH($AK$7,MD_JAHR,0),0)*12","v":{"$error":"#VALUE!"}},{"v":0,"d":"0.00"}]
[{"$nulls":14},{"$f":"IF($B1170=\"\",\"\",IF(F1170=\"Arbeitgeberähnliche Stellung\",OFFSET(MD!$Q$5,MATCH(Grundlagen_Abrechnung_KAE!$AK$7,MD_JAHR,0),0)*$H1170,IF(((AD1170/12*M1170*12)+N1170)>AF1170,AF1170/12,((AD1170/12*M1170*12)+N1170)/12)))","v":""},null,null,{"v":0,"d":"0.00"},null,{"v":0,"d":"0.00%"},{"v":0,"d":"0.00"},{"v":0,"d":"0.00"},{"v":0,"d":"0.00"},null,"prüfen",{"$f":"IFERROR(OFFSET(MD!$U$5,MATCH(Grundlagen_Abrechnung_KAE!$E1170,MD_GENDER,0),0),\"\")","v":""},{"v":0,"d":"0.00"},null,{"v":0,"d":"0.00"},{"$f":"IF(F1170=\"Arbeitgeberähnliche Stellung\",OFFSET(MD!$Q$5,MATCH(Grundlagen_Abrechnung_KAE!$AK$7,MD_JAHR,0),0)*$H1170,IF(J1170>0,AC1170,I1170))","v":{"v":0,"d":"0.00"}},null,{"$f":"OFFSET(MD!$P$5,MATCH($AK$7,MD_JAHR,0),0)*12","v":{"$error":"#VALUE!"}},{"v":0,"d":"0.00"}]
[{"$nulls":14},{"$f":"IF($B1171=\"\",\"\",IF(F1171=\"Arbeitgeberähnliche Stellung\",OFFSET(MD!$Q$5,MATCH(Grundlagen_Abrechnung_KAE!$AK$7,MD_JAHR,0),0)*$H1171,IF(((AD1171/12*M1171*12)+N1171)>AF1171,AF1171/12,((AD1171/12*M1171*12)+N1171)/12)))","v":""},null,null,{"$f":"ROUND(IF(Q1171=\"\",0,IF(P1171=0,0,IF(Q1171>P1171,0,P1171-Q1171))),2)","v":{"v":0,"d":"0.00"}},null,{"$f":"IFERROR(R1171/P1171,0)","v":{"v":0,"d":"0.00%"}},{"$f":"IFERROR(IF(O1171-W1171=0,O1171,(O1171)*(1-T1171)),0)","v":{"v":0,"d":"0.00"}},{"v":0,"d":"0.00"},{"$f":"IFERROR(O1171*T1171,0)*0.8","v":{"v":0,"d":"0.00"}},null,{"$f":"IF(YEAR($G1171)>$Y$16,\"prüfen\",\"\")","v":"prüfen"},{"$f":"IFERROR(OFFSET(MD!$U$5,MATCH(Grundlagen_Abrechnung_KAE!$E1171,MD_GENDER,0),0),\"\")","v":""},{"$f":"IF(B1171=\"\",0,IF(YEAR(G1171)>$AA$16,0,1))","v":{"v":0,"d":"0.00"}},null,{"$f":"IF(J1171*K1171/6>J1171*L1171/12,J1171*K1171/6,J1171*L1171/12)","v":{"v":0,"d":"0.00"}},{"$f":"IF(F1171=\"Arbeitgeberähnliche Stellung\",OFFSET(MD!$Q$5,MATCH(Grundlagen_Abrechnung_KAE!$AK$7,MD_JAHR,0),0)*$H1171,IF(J1171>0,AC1171,I1171))","v":{"v":0,"d":"0.00"}},null,{"$f":"OFFSET(MD!$P$5,MATCH($AK$7,MD_JAHR,0),0)*12","v":{"$error":"#VALUE!"}},{"$f":"I1171*M1171+N1171","v":{"v":0,"d":"0.00"}}]
[{"$nulls":14},{"$f":"IF($B1172=\"\",\"\",IF(F1172=\"Arbeitgeberähnliche Stellung\",OFFSET(MD!$Q$5,MATCH(Grundlagen_Abrechnung_KAE!$AK$7,MD_JAHR,0),0)*$H1172,IF(((AD1172/12*M1172*12)+N1172)>AF1172,AF1172/12,((AD1172/12*M1172*12)+N1172)/12)))","v":""},null,null,{"v":0,"d":"0.00"},null,{"v":0,"d":"0.00%"},{"v":0,"d":"0.00"},{"$f":"IFERROR(O1172*T1172,0)","v":{"v":0,"d":"0.00"}},{"v":0,"d":"0.00"},null,"prüfen",{"$f":"IFERROR(OFFSET(MD!$U$5,MATCH(Grundlagen_Abrechnung_KAE!$E1172,MD_GENDER,0),0),\"\")","v":""},{"v":0,"d":"0.00"},null,{"v":0,"d":"0.00"},{"$f":"IF(F1172=\"Arbeitgeberähnliche Stellung\",OFFSET(MD!$Q$5,MATCH(Grundlagen_Abrechnung_KAE!$AK$7,MD_JAHR,0),0)*$H1172,IF(J1172>0,AC1172,I1172))","v":{"v":0,"d":"0.00"}},null,{"$f":"OFFSET(MD!$P$5,MATCH($AK$7,MD_JAHR,0),0)*12","v":{"$error":"#VALUE!"}},{"v":0,"d":"0.00"}]
[{"$nulls":14},{"$f":"IF($B1173=\"\",\"\",IF(F1173=\"Arbeitgeberähnliche Stellung\",OFFSET(MD!$Q$5,MATCH(Grundlagen_Abrechnung_KAE!$AK$7,MD_JAHR,0),0)*$H1173,IF(((AD1173/12*M1173*12)+N1173)>AF1173,AF1173/12,((AD1173/12*M1173*12)+N1173)/12)))","v":""},null,null,{"v":0,"d":"0.00"},null,{"v":0,"d":"0.00%"},{"v":0,"d":"0.00"},{"v":0,"d":"0.00"},{"v":0,"d":"0.00"},null,"prüfen",{"$f":"IFERROR(OFFSET(MD!$U$5,MATCH(Grundlagen_Abrechnung_KAE!$E1173,MD_GENDER,0),0),\"\")","v":""},{"v":0,"d":"0.00"},null,{"v":0,"d":"0.00"},{"$f":"IF(F1173=\"Arbeitgeberähnliche Stellung\",OFFSET(MD!$Q$5,MATCH(Grundlagen_Abrechnung_KAE!$AK$7,MD_JAHR,0),0)*$H1173,IF(J1173>0,AC1173,I1173))","v":{"v":0,"d":"0.00"}},null,{"$f":"OFFSET(MD!$P$5,MATCH($AK$7,MD_JAHR,0),0)*12","v":{"$error":"#VALUE!"}},{"v":0,"d":"0.00"}]
[{"$nulls":14},{"$f":"IF($B1174=\"\",\"\",IF(F1174=\"Arbeitgeberähnliche Stellung\",OFFSET(MD!$Q$5,MATCH(Grundlagen_Abrechnung_KAE!$AK$7,MD_JAHR,0),0)*$H1174,IF(((AD1174/12*M1174*12)+N1174)>AF1174,AF1174/12,((AD1174/12*M1174*12)+N1174)/12)))","v":""},null,null,{"v":0,"d":"0.00"},null,{"v":0,"d":"0.00%"},{"v":0,"d":"0.00"},{"v":0,"d":"0.00"},{"v":0,"d":"0.00"},null,"prüfen",{"$f":"IFERROR(OFFSET(MD!$U$5,MATCH(Grundlagen_Abrechnung_KAE!$E1174,MD_GENDER,0),0),\"\")","v":""},{"v":0,"d":"0.00"},null,{"v":0,"d":"0.00"},{"$f":"IF(F1174=\"Arbeitgeberähnliche Stellung\",OFFSET(MD!$Q$5,MATCH(Grundlagen_Abrechnung_KAE!$AK$7,MD_JAHR,0),0)*$H1174,IF(J1174>0,AC1174,I1174))","v":{"v":0,"d":"0.00"}},null,{"$f":"OFFSET(MD!$P$5,MATCH($AK$7,MD_JAHR,0),0)*12","v":{"$error":"#VALUE!"}},{"v":0,"d":"0.00"}]
[{"$nulls":14},{"$f":"IF($B1175=\"\",\"\",IF(F1175=\"Arbeitgeberähnliche Stellung\",OFFSET(MD!$Q$5,MATCH(Grundlagen_Abrechnung_KAE!$AK$7,MD_JAHR,0),0)*$H1175,IF(((AD1175/12*M1175*12)+N1175)>AF1175,AF1175/12,((AD1175/12*M1175*12)+N1175)/12)))","v":""},null,null,{"v":0,"d":"0.00"},null,{"v":0,"d":"0.00%"},{"v":0,"d":"0.00"},{"v":0,"d":"0.00"},{"v":0,"d":"0.00"},null,"prüfen",{"$f":"IFERROR(OFFSET(MD!$U$5,MATCH(Grundlagen_Abrechnung_KAE!$E1175,MD_GENDER,0),0),\"\")","v":""},{"v":0,"d":"0.00"},null,{"v":0,"d":"0.00"},{"$f":"IF(F1175=\"Arbeitgeberähnliche Stellung\",OFFSET(MD!$Q$5,MATCH(Grundlagen_Abrechnung_KAE!$AK$7,MD_JAHR,0),0)*$H1175,IF(J1175>0,AC1175,I1175))","v":{"v":0,"d":"0.00"}},null,{"$f":"OFFSET(MD!$P$5,MATCH($AK$7,MD_JAHR,0),0)*12","v":{"$error":"#VALUE!"}},{"v":0,"d":"0.00"}]
[{"$nulls":14},{"$f":"IF($B1176=\"\",\"\",IF(F1176=\"Arbeitgeberähnliche Stellung\",OFFSET(MD!$Q$5,MATCH(Grundlagen_Abrechnung_KAE!$AK$7,MD_JAHR,0),0)*$H1176,IF(((AD1176/12*M1176*12)+N1176)>AF1176,AF1176/12,((AD1176/12*M1176*12)+N1176)/12)))","v":""},null,null,{"v":0,"d":"0.00"},null,{"v":0,"d":"0.00%"},{"v":0,"d":"0.00"},{"v":0,"d":"0.00"},{"v":0,"d":"0.00"},null,"prüfen",{"$f":"IFERROR(OFFSET(MD!$U$5,MATCH(Grundlagen_Abrechnung_KAE!$E1176,MD_GENDER,0),0),\"\")","v":""},{"v":0,"d":"0.00"},null,{"v":0,"d":"0.00"},{"$f":"IF(F1176=\"Arbeitgeberähnliche Stellung\",OFFSET(MD!$Q$5,MATCH(Grundlagen_Abrechnung_KAE!$AK$7,MD_JAHR,0),0)*$H1176,IF(J1176>0,AC1176,I1176))","v":{"v":0,"d":"0.00"}},null,{"$f":"OFFSET(MD!$P$5,MATCH($AK$7,MD_JAHR,0),0)*12","v":{"$error":"#VALUE!"}},{"v":0,"d":"0.00"}]
[{"$nulls":14},{"$f":"IF($B1177=\"\",\"\",IF(F1177=\"Arbeitgeberähnliche Stellung\",OFFSET(MD!$Q$5,MATCH(Grundlagen_Abrechnung_KAE!$AK$7,MD_JAHR,0),0)*$H1177,IF(((AD1177/12*M1177*12)+N1177)>AF1177,AF1177/12,((AD1177/12*M1177*12)+N1177)/12)))","v":""},null,null,{"v":0,"d":"0.00"},null,{"v":0,"d":"0.00%"},{"v":0,"d":"0.00"},{"v":0,"d":"0.00"},{"v":0,"d":"0.00"},null,"prüfen",{"$f":"IFERROR(OFFSET(MD!$U$5,MATCH(Grundlagen_Abrechnung_KAE!$E1177,MD_GENDER,0),0),\"\")","v":""},{"v":0,"d":"0.00"},null,{"v":0,"d":"0.00"},{"$f":"IF(F1177=\"Arbeitgeberähnliche Stellung\",OFFSET(MD!$Q$5,MATCH(Grundlagen_Abrechnung_KAE!$AK$7,MD_JAHR,0),0)*$H1177,IF(J1177>0,AC1177,I1177))","v":{"v":0,"d":"0.00"}},null,{"$f":"OFFSET(MD!$P$5,MATCH($AK$7,MD_JAHR,0),0)*12","v":{"$error":"#VALUE!"}},{"v":0,"d":"0.00"}]
[{"$nulls":14},{"$f":"IF($B1178=\"\",\"\",IF(F1178=\"Arbeitgeberähnliche Stellung\",OFFSET(MD!$Q$5,MATCH(Grundlagen_Abrechnung_KAE!$AK$7,MD_JAHR,0),0)*$H1178,IF(((AD1178/12*M1178*12)+N1178)>AF1178,AF1178/12,((AD1178/12*M1178*12)+N1178)/12)))","v":""},null,null,{"v":0,"d":"0.00"},null,{"v":0,"d":"0.00%"},{"v":0,"d":"0.00"},{"v":0,"d":"0.00"},{"v":0,"d":"0.00"},null,"prüfen",{"$f":"IFERROR(OFFSET(MD!$U$5,MATCH(Grundlagen_Abrechnung_KAE!$E1178,MD_GENDER,0),0),\"\")","v":""},{"v":0,"d":"0.00"},null,{"v":0,"d":"0.00"},{"$f":"IF(F1178=\"Arbeitgeberähnliche Stellung\",OFFSET(MD!$Q$5,MATCH(Grundlagen_Abrechnung_KAE!$AK$7,MD_JAHR,0),0)*$H1178,IF(J1178>0,AC1178,I1178))","v":{"v":0,"d":"0.00"}},null,{"$f":"OFFSET(MD!$P$5,MATCH($AK$7,MD_JAHR,0),0)*12","v":{"$error":"#VALUE!"}},{"v":0,"d":"0.00"}]
[{"$nulls":14},{"$f":"IF($B1179=\"\",\"\",IF(F1179=\"Arbeitgeberähnliche Stellung\",OFFSET(MD!$Q$5,MATCH(Grundlagen_Abrechnung_KAE!$AK$7,MD_JAHR,0),0)*$H1179,IF(((AD1179/12*M1179*12)+N1179)>AF1179,AF1179/12,((AD1179/12*M1179*12)+N1179)/12)))","v":""},null,null,{"v":0,"d":"0.00"},null,{"v":0,"d":"0.00%"},{"v":0,"d":"0.00"},{"v":0,"d":"0.00"},{"v":0,"d":"0.00"},null,"prüfen",{"$f":"IFERROR(OFFSET(MD!$U$5,MATCH(Grundlagen_Abrechnung_KAE!$E1179,MD_GENDER,0),0),\"\")","v":""},{"v":0,"d":"0.00"},null,{"v":0,"d":"0.00"},{"$f":"IF(F1179=\"Arbeitgeberähnliche Stellung\",OFFSET(MD!$Q$5,MATCH(Grundlagen_Abrechnung_KAE!$AK$7,MD_JAHR,0),0)*$H1179,IF(J1179>0,AC1179,I1179))","v":{"v":0,"d":"0.00"}},null,{"$f":"OFFSET(MD!$P$5,MATCH($AK$7,MD_JAHR,0),0)*12","v":{"$error":"#VALUE!"}},{"v":0,"d":"0.00"}]
[{"$nulls":14},{"$f":"IF($B1180=\"\",\"\",IF(F1180=\"Arbeitgeberähnliche Stellung\",OFFSET(MD!$Q$5,MATCH(Grundlagen_Abrechnung_KAE!$AK$7,MD_JAHR,0),0)*$H1180,IF(((AD1180/12*M1180*12)+N1180)>AF1180,AF1180/12,((AD1180/12*M1180*12)+N1180)/12)))","v":""},null,null,{"v":0,"d":"0.00"},null,{"v":0,"d":"0.00%"},{"v":0,"d":"0.00"},{"v":0,"d":"0.00"},{"v":0,"d":"0.00"},null,"prüfen",{"$f":"IFERROR(OFFSET(MD!$U$5,MATCH(Grundlagen_Abrechnung_KAE!$E1180,MD_GENDER,0),0),\"\")","v":""},{"v":0,"d":"0.00"},null,{"v":0,"d":"0.00"},{"$f":"IF(F1180=\"Arbeitgeberähnliche Stellung\",OFFSET(MD!$Q$5,MATCH(Grundlagen_Abrechnung_KAE!$AK$7,MD_JAHR,0),0)*$H1180,IF(J1180>0,AC1180,I1180))","v":{"v":0,"d":"0.00"}},null,{"$f":"OFFSET(MD!$P$5,MATCH($AK$7,MD_JAHR,0),0)*12","v":{"$error":"#VALUE!"}},{"v":0,"d":"0.00"}]
[{"$nulls":14},{"$f":"IF($B1181=\"\",\"\",IF(F1181=\"Arbeitgeberähnliche Stellung\",OFFSET(MD!$Q$5,MATCH(Grundlagen_Abrechnung_KAE!$AK$7,MD_JAHR,0),0)*$H1181,IF(((AD1181/12*M1181*12)+N1181)>AF1181,AF1181/12,((AD1181/12*M1181*12)+N1181)/12)))","v":""},null,null,{"v":0,"d":"0.00"},null,{"v":0,"d":"0.00%"},{"v":0,"d":"0.00"},{"v":0,"d":"0.00"},{"v":0,"d":"0.00"},null,"prüfen",{"$f":"IFERROR(OFFSET(MD!$U$5,MATCH(Grundlagen_Abrechnung_KAE!$E1181,MD_GENDER,0),0),\"\")","v":""},{"v":0,"d":"0.00"},null,{"v":0,"d":"0.00"},{"$f":"IF(F1181=\"Arbeitgeberähnliche Stellung\",OFFSET(MD!$Q$5,MATCH(Grundlagen_Abrechnung_KAE!$AK$7,MD_JAHR,0),0)*$H1181,IF(J1181>0,AC1181,I1181))","v":{"v":0,"d":"0.00"}},null,{"$f":"OFFSET(MD!$P$5,MATCH($AK$7,MD_JAHR,0),0)*12","v":{"$error":"#VALUE!"}},{"v":0,"d":"0.00"}]
[{"$nulls":14},{"$f":"IF($B1182=\"\",\"\",IF(F1182=\"Arbeitgeberähnliche Stellung\",OFFSET(MD!$Q$5,MATCH(Grundlagen_Abrechnung_KAE!$AK$7,MD_JAHR,0),0)*$H1182,IF(((AD1182/12*M1182*12)+N1182)>AF1182,AF1182/12,((AD1182/12*M1182*12)+N1182)/12)))","v":""},null,null,{"v":0,"d":"0.00"},null,{"v":0,"d":"0.00%"},{"v":0,"d":"0.00"},{"v":0,"d":"0.00"},{"v":0,"d":"0.00"},null,"prüfen",{"$f":"IFERROR(OFFSET(MD!$U$5,MATCH(Grundlagen_Abrechnung_KAE!$E1182,MD_GENDER,0),0),\"\")","v":""},{"v":0,"d":"0.00"},null,{"v":0,"d":"0.00"},{"$f":"IF(F1182=\"Arbeitgeberähnliche Stellung\",OFFSET(MD!$Q$5,MATCH(Grundlagen_Abrechnung_KAE!$AK$7,MD_JAHR,0),0)*$H1182,IF(J1182>0,AC1182,I1182))","v":{"v":0,"d":"0.00"}},null,{"$f":"OFFSET(MD!$P$5,MATCH($AK$7,MD_JAHR,0),0)*12","v":{"$error":"#VALUE!"}},{"v":0,"d":"0.00"}]
[{"$nulls":14},{"$f":"IF($B1183=\"\",\"\",IF(F1183=\"Arbeitgeberähnliche Stellung\",OFFSET(MD!$Q$5,MATCH(Grundlagen_Abrechnung_KAE!$AK$7,MD_JAHR,0),0)*$H1183,IF(((AD1183/12*M1183*12)+N1183)>AF1183,AF1183/12,((AD1183/12*M1183*12)+N1183)/12)))","v":""},null,null,{"v":0,"d":"0.00"},null,{"v":0,"d":"0.00%"},{"v":0,"d":"0.00"},{"v":0,"d":"0.00"},{"v":0,"d":"0.00"},null,"prüfen",{"$f":"IFERROR(OFFSET(MD!$U$5,MATCH(Grundlagen_Abrechnung_KAE!$E1183,MD_GENDER,0),0),\"\")","v":""},{"v":0,"d":"0.00"},null,{"v":0,"d":"0.00"},{"$f":"IF(F1183=\"Arbeitgeberähnliche Stellung\",OFFSET(MD!$Q$5,MATCH(Grundlagen_Abrechnung_KAE!$AK$7,MD_JAHR,0),0)*$H1183,IF(J1183>0,AC1183,I1183))","v":{"v":0,"d":"0.00"}},null,{"$f":"OFFSET(MD!$P$5,MATCH($AK$7,MD_JAHR,0),0)*12","v":{"$error":"#VALUE!"}},{"v":0,"d":"0.00"}]
[{"$nulls":14},{"$f":"IF($B1184=\"\",\"\",IF(F1184=\"Arbeitgeberähnliche Stellung\",OFFSET(MD!$Q$5,MATCH(Grundlagen_Abrechnung_KAE!$AK$7,MD_JAHR,0),0)*$H1184,IF(((AD1184/12*M1184*12)+N1184)>AF1184,AF1184/12,((AD1184/12*M1184*12)+N1184)/12)))","v":""},null,null,{"v":0,"d":"0.00"},null,{"v":0,"d":"0.00%"},{"v":0,"d":"0.00"},{"v":0,"d":"0.00"},{"v":0,"d":"0.00"},null,"prüfen",{"$f":"IFERROR(OFFSET(MD!$U$5,MATCH(Grundlagen_Abrechnung_KAE!$E1184,MD_GENDER,0),0),\"\")","v":""},{"v":0,"d":"0.00"},null,{"v":0,"d":"0.00"},{"$f":"IF(F1184=\"Arbeitgeberähnliche Stellung\",OFFSET(MD!$Q$5,MATCH(Grundlagen_Abrechnung_KAE!$AK$7,MD_JAHR,0),0)*$H1184,IF(J1184>0,AC1184,I1184))","v":{"v":0,"d":"0.00"}},null,{"$f":"OFFSET(MD!$P$5,MATCH($AK$7,MD_JAHR,0),0)*12","v":{"$error":"#VALUE!"}},{"v":0,"d":"0.00"}]
[{"$nulls":14},{"$f":"IF($B1185=\"\",\"\",IF(F1185=\"Arbeitgeberähnliche Stellung\",OFFSET(MD!$Q$5,MATCH(Grundlagen_Abrechnung_KAE!$AK$7,MD_JAHR,0),0)*$H1185,IF(((AD1185/12*M1185*12)+N1185)>AF1185,AF1185/12,((AD1185/12*M1185*12)+N1185)/12)))","v":""},null,null,{"v":0,"d":"0.00"},null,{"v":0,"d":"0.00%"},{"v":0,"d":"0.00"},{"v":0,"d":"0.00"},{"v":0,"d":"0.00"},null,"prüfen",{"$f":"IFERROR(OFFSET(MD!$U$5,MATCH(Grundlagen_Abrechnung_KAE!$E1185,MD_GENDER,0),0),\"\")","v":""},{"v":0,"d":"0.00"},null,{"v":0,"d":"0.00"},{"$f":"IF(F1185=\"Arbeitgeberähnliche Stellung\",OFFSET(MD!$Q$5,MATCH(Grundlagen_Abrechnung_KAE!$AK$7,MD_JAHR,0),0)*$H1185,IF(J1185>0,AC1185,I1185))","v":{"v":0,"d":"0.00"}},null,{"$f":"OFFSET(MD!$P$5,MATCH($AK$7,MD_JAHR,0),0)*12","v":{"$error":"#VALUE!"}},{"v":0,"d":"0.00"}]
[{"$nulls":14},{"$f":"IF($B1186=\"\",\"\",IF(F1186=\"Arbeitgeberähnliche Stellung\",OFFSET(MD!$Q$5,MATCH(Grundlagen_Abrechnung_KAE!$AK$7,MD_JAHR,0),0)*$H1186,IF(((AD1186/12*M1186*12)+N1186)>AF1186,AF1186/12,((AD1186/12*M1186*12)+N1186)/12)))","v":""},null,null,{"v":0,"d":"0.00"},null,{"v":0,"d":"0.00%"},{"v":0,"d":"0.00"},{"v":0,"d":"0.00"},{"v":0,"d":"0.00"},null,"prüfen",{"$f":"IFERROR(OFFSET(MD!$U$5,MATCH(Grundlagen_Abrechnung_KAE!$E1186,MD_GENDER,0),0),\"\")","v":""},{"v":0,"d":"0.00"},null,{"v":0,"d":"0.00"},{"$f":"IF(F1186=\"Arbeitgeberähnliche Stellung\",OFFSET(MD!$Q$5,MATCH(Grundlagen_Abrechnung_KAE!$AK$7,MD_JAHR,0),0)*$H1186,IF(J1186>0,AC1186,I1186))","v":{"v":0,"d":"0.00"}},null,{"$f":"OFFSET(MD!$P$5,MATCH($AK$7,MD_JAHR,0),0)*12","v":{"$error":"#VALUE!"}},{"v":0,"d":"0.00"}]
[{"$nulls":14},{"$f":"IF($B1187=\"\",\"\",IF(F1187=\"Arbeitgeberähnliche Stellung\",OFFSET(MD!$Q$5,MATCH(Grundlagen_Abrechnung_KAE!$AK$7,MD_JAHR,0),0)*$H1187,IF(((AD1187/12*M1187*12)+N1187)>AF1187,AF1187/12,((AD1187/12*M1187*12)+N1187)/12)))","v":""},null,null,{"v":0,"d":"0.00"},null,{"v":0,"d":"0.00%"},{"v":0,"d":"0.00"},{"v":0,"d":"0.00"},{"v":0,"d":"0.00"},null,"prüfen",{"$f":"IFERROR(OFFSET(MD!$U$5,MATCH(Grundlagen_Abrechnung_KAE!$E1187,MD_GENDER,0),0),\"\")","v":""},{"v":0,"d":"0.00"},null,{"v":0,"d":"0.00"},{"$f":"IF(F1187=\"Arbeitgeberähnliche Stellung\",OFFSET(MD!$Q$5,MATCH(Grundlagen_Abrechnung_KAE!$AK$7,MD_JAHR,0),0)*$H1187,IF(J1187>0,AC1187,I1187))","v":{"v":0,"d":"0.00"}},null,{"$f":"OFFSET(MD!$P$5,MATCH($AK$7,MD_JAHR,0),0)*12","v":{"$error":"#VALUE!"}},{"v":0,"d":"0.00"}]
[{"$nulls":14},{"$f":"IF($B1188=\"\",\"\",IF(F1188=\"Arbeitgeberähnliche Stellung\",OFFSET(MD!$Q$5,MATCH(Grundlagen_Abrechnung_KAE!$AK$7,MD_JAHR,0),0)*$H1188,IF(((AD1188/12*M1188*12)+N1188)>AF1188,AF1188/12,((AD1188/12*M1188*12)+N1188)/12)))","v":""},null,null,{"v":0,"d":"0.00"},null,{"v":0,"d":"0.00%"},{"v":0,"d":"0.00"},{"v":0,"d":"0.00"},{"v":0,"d":"0.00"},null,"prüfen",{"$f":"IFERROR(OFFSET(MD!$U$5,MATCH(Grundlagen_Abrechnung_KAE!$E1188,MD_GENDER,0),0),\"\")","v":""},{"v":0,"d":"0.00"},null,{"v":0,"d":"0.00"},{"$f":"IF(F1188=\"Arbeitgeberähnliche Stellung\",OFFSET(MD!$Q$5,MATCH(Grundlagen_Abrechnung_KAE!$AK$7,MD_JAHR,0),0)*$H1188,IF(J1188>0,AC1188,I1188))","v":{"v":0,"d":"0.00"}},null,{"$f":"OFFSET(MD!$P$5,MATCH($AK$7,MD_JAHR,0),0)*12","v":{"$error":"#VALUE!"}},{"v":0,"d":"0.00"}]
[{"$nulls":14},{"$f":"IF($B1189=\"\",\"\",IF(F1189=\"Arbeitgeberähnliche Stellung\",OFFSET(MD!$Q$5,MATCH(Grundlagen_Abrechnung_KAE!$AK$7,MD_JAHR,0),0)*$H1189,IF(((AD1189/12*M1189*12)+N1189)>AF1189,AF1189/12,((AD1189/12*M1189*12)+N1189)/12)))","v":""},null,null,{"v":0,"d":"0.00"},null,{"v":0,"d":"0.00%"},{"v":0,"d":"0.00"},{"v":0,"d":"0.00"},{"v":0,"d":"0.00"},null,"prüfen",{"$f":"IFERROR(OFFSET(MD!$U$5,MATCH(Grundlagen_Abrechnung_KAE!$E1189,MD_GENDER,0),0),\"\")","v":""},{"v":0,"d":"0.00"},null,{"v":0,"d":"0.00"},{"$f":"IF(F1189=\"Arbeitgeberähnliche Stellung\",OFFSET(MD!$Q$5,MATCH(Grundlagen_Abrechnung_KAE!$AK$7,MD_JAHR,0),0)*$H1189,IF(J1189>0,AC1189,I1189))","v":{"v":0,"d":"0.00"}},null,{"$f":"OFFSET(MD!$P$5,MATCH($AK$7,MD_JAHR,0),0)*12","v":{"$error":"#VALUE!"}},{"v":0,"d":"0.00"}]
[{"$nulls":14},{"$f":"IF($B1190=\"\",\"\",IF(F1190=\"Arbeitgeberähnliche Stellung\",OFFSET(MD!$Q$5,MATCH(Grundlagen_Abrechnung_KAE!$AK$7,MD_JAHR,0),0)*$H1190,IF(((AD1190/12*M1190*12)+N1190)>AF1190,AF1190/12,((AD1190/12*M1190*12)+N1190)/12)))","v":""},null,null,{"v":0,"d":"0.00"},null,{"v":0,"d":"0.00%"},{"v":0,"d":"0.00"},{"v":0,"d":"0.00"},{"v":0,"d":"0.00"},null,"prüfen",{"$f":"IFERROR(OFFSET(MD!$U$5,MATCH(Grundlagen_Abrechnung_KAE!$E1190,MD_GENDER,0),0),\"\")","v":""},{"v":0,"d":"0.00"},null,{"v":0,"d":"0.00"},{"$f":"IF(F1190=\"Arbeitgeberähnliche Stellung\",OFFSET(MD!$Q$5,MATCH(Grundlagen_Abrechnung_KAE!$AK$7,MD_JAHR,0),0)*$H1190,IF(J1190>0,AC1190,I1190))","v":{"v":0,"d":"0.00"}},null,{"$f":"OFFSET(MD!$P$5,MATCH($AK$7,MD_JAHR,0),0)*12","v":{"$error":"#VALUE!"}},{"v":0,"d":"0.00"}]
[{"$nulls":14},{"$f":"IF($B1191=\"\",\"\",IF(F1191=\"Arbeitgeberähnliche Stellung\",OFFSET(MD!$Q$5,MATCH(Grundlagen_Abrechnung_KAE!$AK$7,MD_JAHR,0),0)*$H1191,IF(((AD1191/12*M1191*12)+N1191)>AF1191,AF1191/12,((AD1191/12*M1191*12)+N1191)/12)))","v":""},null,null,{"v":0,"d":"0.00"},null,{"v":0,"d":"0.00%"},{"v":0,"d":"0.00"},{"v":0,"d":"0.00"},{"v":0,"d":"0.00"},null,"prüfen",{"$f":"IFERROR(OFFSET(MD!$U$5,MATCH(Grundlagen_Abrechnung_KAE!$E1191,MD_GENDER,0),0),\"\")","v":""},{"v":0,"d":"0.00"},null,{"v":0,"d":"0.00"},{"$f":"IF(F1191=\"Arbeitgeberähnliche Stellung\",OFFSET(MD!$Q$5,MATCH(Grundlagen_Abrechnung_KAE!$AK$7,MD_JAHR,0),0)*$H1191,IF(J1191>0,AC1191,I1191))","v":{"v":0,"d":"0.00"}},null,{"$f":"OFFSET(MD!$P$5,MATCH($AK$7,MD_JAHR,0),0)*12","v":{"$error":"#VALUE!"}},{"v":0,"d":"0.00"}]
[{"$nulls":14},{"$f":"IF($B1192=\"\",\"\",IF(F1192=\"Arbeitgeberähnliche Stellung\",OFFSET(MD!$Q$5,MATCH(Grundlagen_Abrechnung_KAE!$AK$7,MD_JAHR,0),0)*$H1192,IF(((AD1192/12*M1192*12)+N1192)>AF1192,AF1192/12,((AD1192/12*M1192*12)+N1192)/12)))","v":""},null,null,{"v":0,"d":"0.00"},null,{"v":0,"d":"0.00%"},{"v":0,"d":"0.00"},{"v":0,"d":"0.00"},{"v":0,"d":"0.00"},null,"prüfen",{"$f":"IFERROR(OFFSET(MD!$U$5,MATCH(Grundlagen_Abrechnung_KAE!$E1192,MD_GENDER,0),0),\"\")","v":""},{"v":0,"d":"0.00"},null,{"v":0,"d":"0.00"},{"$f":"IF(F1192=\"Arbeitgeberähnliche Stellung\",OFFSET(MD!$Q$5,MATCH(Grundlagen_Abrechnung_KAE!$AK$7,MD_JAHR,0),0)*$H1192,IF(J1192>0,AC1192,I1192))","v":{"v":0,"d":"0.00"}},null,{"$f":"OFFSET(MD!$P$5,MATCH($AK$7,MD_JAHR,0),0)*12","v":{"$error":"#VALUE!"}},{"v":0,"d":"0.00"}]
[{"$nulls":14},{"$f":"IF($B1193=\"\",\"\",IF(F1193=\"Arbeitgeberähnliche Stellung\",OFFSET(MD!$Q$5,MATCH(Grundlagen_Abrechnung_KAE!$AK$7,MD_JAHR,0),0)*$H1193,IF(((AD1193/12*M1193*12)+N1193)>AF1193,AF1193/12,((AD1193/12*M1193*12)+N1193)/12)))","v":""},null,null,{"v":0,"d":"0.00"},null,{"v":0,"d":"0.00%"},{"v":0,"d":"0.00"},{"v":0,"d":"0.00"},{"v":0,"d":"0.00"},null,"prüfen",{"$f":"IFERROR(OFFSET(MD!$U$5,MATCH(Grundlagen_Abrechnung_KAE!$E1193,MD_GENDER,0),0),\"\")","v":""},{"v":0,"d":"0.00"},null,{"v":0,"d":"0.00"},{"$f":"IF(F1193=\"Arbeitgeberähnliche Stellung\",OFFSET(MD!$Q$5,MATCH(Grundlagen_Abrechnung_KAE!$AK$7,MD_JAHR,0),0)*$H1193,IF(J1193>0,AC1193,I1193))","v":{"v":0,"d":"0.00"}},null,{"$f":"OFFSET(MD!$P$5,MATCH($AK$7,MD_JAHR,0),0)*12","v":{"$error":"#VALUE!"}},{"v":0,"d":"0.00"}]
[{"$nulls":14},{"$f":"IF($B1194=\"\",\"\",IF(F1194=\"Arbeitgeberähnliche Stellung\",OFFSET(MD!$Q$5,MATCH(Grundlagen_Abrechnung_KAE!$AK$7,MD_JAHR,0),0)*$H1194,IF(((AD1194/12*M1194*12)+N1194)>AF1194,AF1194/12,((AD1194/12*M1194*12)+N1194)/12)))","v":""},null,null,{"v":0,"d":"0.00"},null,{"v":0,"d":"0.00%"},{"v":0,"d":"0.00"},{"v":0,"d":"0.00"},{"v":0,"d":"0.00"},null,"prüfen",{"$f":"IFERROR(OFFSET(MD!$U$5,MATCH(Grundlagen_Abrechnung_KAE!$E1194,MD_GENDER,0),0),\"\")","v":""},{"v":0,"d":"0.00"},null,{"v":0,"d":"0.00"},{"$f":"IF(F1194=\"Arbeitgeberähnliche Stellung\",OFFSET(MD!$Q$5,MATCH(Grundlagen_Abrechnung_KAE!$AK$7,MD_JAHR,0),0)*$H1194,IF(J1194>0,AC1194,I1194))","v":{"v":0,"d":"0.00"}},null,{"$f":"OFFSET(MD!$P$5,MATCH($AK$7,MD_JAHR,0),0)*12","v":{"$error":"#VALUE!"}},{"v":0,"d":"0.00"}]
[{"$nulls":14},{"$f":"IF($B1195=\"\",\"\",IF(F1195=\"Arbeitgeberähnliche Stellung\",OFFSET(MD!$Q$5,MATCH(Grundlagen_Abrechnung_KAE!$AK$7,MD_JAHR,0),0)*$H1195,IF(((AD1195/12*M1195*12)+N1195)>AF1195,AF1195/12,((AD1195/12*M1195*12)+N1195)/12)))","v":""},null,null,{"v":0,"d":"0.00"},null,{"v":0,"d":"0.00%"},{"v":0,"d":"0.00"},{"v":0,"d":"0.00"},{"v":0,"d":"0.00"},null,"prüfen",{"$f":"IFERROR(OFFSET(MD!$U$5,MATCH(Grundlagen_Abrechnung_KAE!$E1195,MD_GENDER,0),0),\"\")","v":""},{"v":0,"d":"0.00"},null,{"v":0,"d":"0.00"},{"$f":"IF(F1195=\"Arbeitgeberähnliche Stellung\",OFFSET(MD!$Q$5,MATCH(Grundlagen_Abrechnung_KAE!$AK$7,MD_JAHR,0),0)*$H1195,IF(J1195>0,AC1195,I1195))","v":{"v":0,"d":"0.00"}},null,{"$f":"OFFSET(MD!$P$5,MATCH($AK$7,MD_JAHR,0),0)*12","v":{"$error":"#VALUE!"}},{"v":0,"d":"0.00"}]
[{"$nulls":14},{"$f":"IF($B1196=\"\",\"\",IF(F1196=\"Arbeitgeberähnliche Stellung\",OFFSET(MD!$Q$5,MATCH(Grundlagen_Abrechnung_KAE!$AK$7,MD_JAHR,0),0)*$H1196,IF(((AD1196/12*M1196*12)+N1196)>AF1196,AF1196/12,((AD1196/12*M1196*12)+N1196)/12)))","v":""},null,null,{"v":0,"d":"0.00"},null,{"v":0,"d":"0.00%"},{"v":0,"d":"0.00"},{"v":0,"d":"0.00"},{"v":0,"d":"0.00"},null,"prüfen",{"$f":"IFERROR(OFFSET(MD!$U$5,MATCH(Grundlagen_Abrechnung_KAE!$E1196,MD_GENDER,0),0),\"\")","v":""},{"v":0,"d":"0.00"},null,{"v":0,"d":"0.00"},{"$f":"IF(F1196=\"Arbeitgeberähnliche Stellung\",OFFSET(MD!$Q$5,MATCH(Grundlagen_Abrechnung_KAE!$AK$7,MD_JAHR,0),0)*$H1196,IF(J1196>0,AC1196,I1196))","v":{"v":0,"d":"0.00"}},null,{"$f":"OFFSET(MD!$P$5,MATCH($AK$7,MD_JAHR,0),0)*12","v":{"$error":"#VALUE!"}},{"v":0,"d":"0.00"}]
[{"$nulls":14},{"$f":"IF($B1197=\"\",\"\",IF(F1197=\"Arbeitgeberähnliche Stellung\",OFFSET(MD!$Q$5,MATCH(Grundlagen_Abrechnung_KAE!$AK$7,MD_JAHR,0),0)*$H1197,IF(((AD1197/12*M1197*12)+N1197)>AF1197,AF1197/12,((AD1197/12*M1197*12)+N1197)/12)))","v":""},null,null,{"v":0,"d":"0.00"},null,{"v":0,"d":"0.00%"},{"v":0,"d":"0.00"},{"v":0,"d":"0.00"},{"v":0,"d":"0.00"},null,"prüfen",{"$f":"IFERROR(OFFSET(MD!$U$5,MATCH(Grundlagen_Abrechnung_KAE!$E1197,MD_GENDER,0),0),\"\")","v":""},{"v":0,"d":"0.00"},null,{"v":0,"d":"0.00"},{"$f":"IF(F1197=\"Arbeitgeberähnliche Stellung\",OFFSET(MD!$Q$5,MATCH(Grundlagen_Abrechnung_KAE!$AK$7,MD_JAHR,0),0)*$H1197,IF(J1197>0,AC1197,I1197))","v":{"v":0,"d":"0.00"}},null,{"$f":"OFFSET(MD!$P$5,MATCH($AK$7,MD_JAHR,0),0)*12","v":{"$error":"#VALUE!"}},{"v":0,"d":"0.00"}]
[{"$nulls":14},{"$f":"IF($B1198=\"\",\"\",IF(F1198=\"Arbeitgeberähnliche Stellung\",OFFSET(MD!$Q$5,MATCH(Grundlagen_Abrechnung_KAE!$AK$7,MD_JAHR,0),0)*$H1198,IF(((AD1198/12*M1198*12)+N1198)>AF1198,AF1198/12,((AD1198/12*M1198*12)+N1198)/12)))","v":""},null,null,{"v":0,"d":"0.00"},null,{"v":0,"d":"0.00%"},{"v":0,"d":"0.00"},{"v":0,"d":"0.00"},{"v":0,"d":"0.00"},null,"prüfen",{"$f":"IFERROR(OFFSET(MD!$U$5,MATCH(Grundlagen_Abrechnung_KAE!$E1198,MD_GENDER,0),0),\"\")","v":""},{"v":0,"d":"0.00"},null,{"v":0,"d":"0.00"},{"$f":"IF(F1198=\"Arbeitgeberähnliche Stellung\",OFFSET(MD!$Q$5,MATCH(Grundlagen_Abrechnung_KAE!$AK$7,MD_JAHR,0),0)*$H1198,IF(J1198>0,AC1198,I1198))","v":{"v":0,"d":"0.00"}},null,{"$f":"OFFSET(MD!$P$5,MATCH($AK$7,MD_JAHR,0),0)*12","v":{"$error":"#VALUE!"}},{"v":0,"d":"0.00"}]
[{"$nulls":14},{"$f":"IF($B1199=\"\",\"\",IF(F1199=\"Arbeitgeberähnliche Stellung\",OFFSET(MD!$Q$5,MATCH(Grundlagen_Abrechnung_KAE!$AK$7,MD_JAHR,0),0)*$H1199,IF(((AD1199/12*M1199*12)+N1199)>AF1199,AF1199/12,((AD1199/12*M1199*12)+N1199)/12)))","v":""},null,null,{"v":0,"d":"0.00"},null,{"v":0,"d":"0.00%"},{"v":0,"d":"0.00"},{"v":0,"d":"0.00"},{"v":0,"d":"0.00"},null,"prüfen",{"$f":"IFERROR(OFFSET(MD!$U$5,MATCH(Grundlagen_Abrechnung_KAE!$E1199,MD_GENDER,0),0),\"\")","v":""},{"v":0,"d":"0.00"},null,{"v":0,"d":"0.00"},{"$f":"IF(F1199=\"Arbeitgeberähnliche Stellung\",OFFSET(MD!$Q$5,MATCH(Grundlagen_Abrechnung_KAE!$AK$7,MD_JAHR,0),0)*$H1199,IF(J1199>0,AC1199,I1199))","v":{"v":0,"d":"0.00"}},null,{"$f":"OFFSET(MD!$P$5,MATCH($AK$7,MD_JAHR,0),0)*12","v":{"$error":"#VALUE!"}},{"v":0,"d":"0.00"}]
[{"$nulls":14},{"$f":"IF($B1200=\"\",\"\",IF(F1200=\"Arbeitgeberähnliche Stellung\",OFFSET(MD!$Q$5,MATCH(Grundlagen_Abrechnung_KAE!$AK$7,MD_JAHR,0),0)*$H1200,IF(((AD1200/12*M1200*12)+N1200)>AF1200,AF1200/12,((AD1200/12*M1200*12)+N1200)/12)))","v":""},null,null,{"v":0,"d":"0.00"},null,{"v":0,"d":"0.00%"},{"v":0,"d":"0.00"},{"v":0,"d":"0.00"},{"v":0,"d":"0.00"},null,"prüfen",{"$f":"IFERROR(OFFSET(MD!$U$5,MATCH(Grundlagen_Abrechnung_KAE!$E1200,MD_GENDER,0),0),\"\")","v":""},{"v":0,"d":"0.00"},null,{"v":0,"d":"0.00"},{"$f":"IF(F1200=\"Arbeitgeberähnliche Stellung\",OFFSET(MD!$Q$5,MATCH(Grundlagen_Abrechnung_KAE!$AK$7,MD_JAHR,0),0)*$H1200,IF(J1200>0,AC1200,I1200))","v":{"v":0,"d":"0.00"}},null,{"$f":"OFFSET(MD!$P$5,MATCH($AK$7,MD_JAHR,0),0)*12","v":{"$error":"#VALUE!"}},{"v":0,"d":"0.00"}]
[{"$nulls":14},{"$f":"IF($B1201=\"\",\"\",IF(F1201=\"Arbeitgeberähnliche Stellung\",OFFSET(MD!$Q$5,MATCH(Grundlagen_Abrechnung_KAE!$AK$7,MD_JAHR,0),0)*$H1201,IF(((AD1201/12*M1201*12)+N1201)>AF1201,AF1201/12,((AD1201/12*M1201*12)+N1201)/12)))","v":""},null,null,{"v":0,"d":"0.00"},null,{"v":0,"d":"0.00%"},{"v":0,"d":"0.00"},{"v":0,"d":"0.00"},{"v":0,"d":"0.00"},null,"prüfen",{"$f":"IFERROR(OFFSET(MD!$U$5,MATCH(Grundlagen_Abrechnung_KAE!$E1201,MD_GENDER,0),0),\"\")","v":""},{"v":0,"d":"0.00"},null,{"v":0,"d":"0.00"},{"$f":"IF(F1201=\"Arbeitgeberähnliche Stellung\",OFFSET(MD!$Q$5,MATCH(Grundlagen_Abrechnung_KAE!$AK$7,MD_JAHR,0),0)*$H1201,IF(J1201>0,AC1201,I1201))","v":{"v":0,"d":"0.00"}},null,{"$f":"OFFSET(MD!$P$5,MATCH($AK$7,MD_JAHR,0),0)*12","v":{"$error":"#VALUE!"}},{"v":0,"d":"0.00"}]
[{"$nulls":14},{"$f":"IF($B1202=\"\",\"\",IF(F1202=\"Arbeitgeberähnliche Stellung\",OFFSET(MD!$Q$5,MATCH(Grundlagen_Abrechnung_KAE!$AK$7,MD_JAHR,0),0)*$H1202,IF(((AD1202/12*M1202*12)+N1202)>AF1202,AF1202/12,((AD1202/12*M1202*12)+N1202)/12)))","v":""},null,null,{"v":0,"d":"0.00"},null,{"v":0,"d":"0.00%"},{"v":0,"d":"0.00"},{"v":0,"d":"0.00"},{"v":0,"d":"0.00"},null,"prüfen",{"$f":"IFERROR(OFFSET(MD!$U$5,MATCH(Grundlagen_Abrechnung_KAE!$E1202,MD_GENDER,0),0),\"\")","v":""},{"v":0,"d":"0.00"},null,{"v":0,"d":"0.00"},{"$f":"IF(F1202=\"Arbeitgeberähnliche Stellung\",OFFSET(MD!$Q$5,MATCH(Grundlagen_Abrechnung_KAE!$AK$7,MD_JAHR,0),0)*$H1202,IF(J1202>0,AC1202,I1202))","v":{"v":0,"d":"0.00"}},null,{"$f":"OFFSET(MD!$P$5,MATCH($AK$7,MD_JAHR,0),0)*12","v":{"$error":"#VALUE!"}},{"v":0,"d":"0.00"}]
[{"$nulls":14},{"$f":"IF($B1203=\"\",\"\",IF(F1203=\"Arbeitgeberähnliche Stellung\",OFFSET(MD!$Q$5,MATCH(Grundlagen_Abrechnung_KAE!$AK$7,MD_JAHR,0),0)*$H1203,IF(((AD1203/12*M1203*12)+N1203)>AF1203,AF1203/12,((AD1203/12*M1203*12)+N1203)/12)))","v":""},null,null,{"v":0,"d":"0.00"},null,{"v":0,"d":"0.00%"},{"v":0,"d":"0.00"},{"v":0,"d":"0.00"},{"v":0,"d":"0.00"},null,"prüfen",{"$f":"IFERROR(OFFSET(MD!$U$5,MATCH(Grundlagen_Abrechnung_KAE!$E1203,MD_GENDER,0),0),\"\")","v":""},{"v":0,"d":"0.00"},null,{"v":0,"d":"0.00"},{"$f":"IF(F1203=\"Arbeitgeberähnliche Stellung\",OFFSET(MD!$Q$5,MATCH(Grundlagen_Abrechnung_KAE!$AK$7,MD_JAHR,0),0)*$H1203,IF(J1203>0,AC1203,I1203))","v":{"v":0,"d":"0.00"}},null,{"$f":"OFFSET(MD!$P$5,MATCH($AK$7,MD_JAHR,0),0)*12","v":{"$error":"#VALUE!"}},{"v":0,"d":"0.00"}]
[{"$nulls":14},{"$f":"IF($B1204=\"\",\"\",IF(F1204=\"Arbeitgeberähnliche Stellung\",OFFSET(MD!$Q$5,MATCH(Grundlagen_Abrechnung_KAE!$AK$7,MD_JAHR,0),0)*$H1204,IF(((AD1204/12*M1204*12)+N1204)>AF1204,AF1204/12,((AD1204/12*M1204*12)+N1204)/12)))","v":""},null,null,{"v":0,"d":"0.00"},null,{"v":0,"d":"0.00%"},{"v":0,"d":"0.00"},{"v":0,"d":"0.00"},{"v":0,"d":"0.00"},null,"prüfen",{"$f":"IFERROR(OFFSET(MD!$U$5,MATCH(Grundlagen_Abrechnung_KAE!$E1204,MD_GENDER,0),0),\"\")","v":""},{"v":0,"d":"0.00"},null,{"v":0,"d":"0.00"},{"$f":"IF(F1204=\"Arbeitgeberähnliche Stellung\",OFFSET(MD!$Q$5,MATCH(Grundlagen_Abrechnung_KAE!$AK$7,MD_JAHR,0),0)*$H1204,IF(J1204>0,AC1204,I1204))","v":{"v":0,"d":"0.00"}},null,{"$f":"OFFSET(MD!$P$5,MATCH($AK$7,MD_JAHR,0),0)*12","v":{"$error":"#VALUE!"}},{"v":0,"d":"0.00"}]
[{"$nulls":14},{"$f":"IF($B1205=\"\",\"\",IF(F1205=\"Arbeitgeberähnliche Stellung\",OFFSET(MD!$Q$5,MATCH(Grundlagen_Abrechnung_KAE!$AK$7,MD_JAHR,0),0)*$H1205,IF(((AD1205/12*M1205*12)+N1205)>AF1205,AF1205/12,((AD1205/12*M1205*12)+N1205)/12)))","v":""},null,null,{"v":0,"d":"0.00"},null,{"v":0,"d":"0.00%"},{"v":0,"d":"0.00"},{"v":0,"d":"0.00"},{"v":0,"d":"0.00"},null,"prüfen",{"$f":"IFERROR(OFFSET(MD!$U$5,MATCH(Grundlagen_Abrechnung_KAE!$E1205,MD_GENDER,0),0),\"\")","v":""},{"v":0,"d":"0.00"},null,{"v":0,"d":"0.00"},{"$f":"IF(F1205=\"Arbeitgeberähnliche Stellung\",OFFSET(MD!$Q$5,MATCH(Grundlagen_Abrechnung_KAE!$AK$7,MD_JAHR,0),0)*$H1205,IF(J1205>0,AC1205,I1205))","v":{"v":0,"d":"0.00"}},null,{"$f":"OFFSET(MD!$P$5,MATCH($AK$7,MD_JAHR,0),0)*12","v":{"$error":"#VALUE!"}},{"v":0,"d":"0.00"}]
[{"$nulls":14},{"$f":"IF($B1206=\"\",\"\",IF(F1206=\"Arbeitgeberähnliche Stellung\",OFFSET(MD!$Q$5,MATCH(Grundlagen_Abrechnung_KAE!$AK$7,MD_JAHR,0),0)*$H1206,IF(((AD1206/12*M1206*12)+N1206)>AF1206,AF1206/12,((AD1206/12*M1206*12)+N1206)/12)))","v":""},null,null,{"v":0,"d":"0.00"},null,{"v":0,"d":"0.00%"},{"v":0,"d":"0.00"},{"v":0,"d":"0.00"},{"v":0,"d":"0.00"},null,"prüfen",{"$f":"IFERROR(OFFSET(MD!$U$5,MATCH(Grundlagen_Abrechnung_KAE!$E1206,MD_GENDER,0),0),\"\")","v":""},{"v":0,"d":"0.00"},null,{"v":0,"d":"0.00"},{"$f":"IF(F1206=\"Arbeitgeberähnliche Stellung\",OFFSET(MD!$Q$5,MATCH(Grundlagen_Abrechnung_KAE!$AK$7,MD_JAHR,0),0)*$H1206,IF(J1206>0,AC1206,I1206))","v":{"v":0,"d":"0.00"}},null,{"$f":"OFFSET(MD!$P$5,MATCH($AK$7,MD_JAHR,0),0)*12","v":{"$error":"#VALUE!"}},{"v":0,"d":"0.00"}]
[{"$nulls":14},{"$f":"IF($B1207=\"\",\"\",IF(F1207=\"Arbeitgeberähnliche Stellung\",OFFSET(MD!$Q$5,MATCH(Grundlagen_Abrechnung_KAE!$AK$7,MD_JAHR,0),0)*$H1207,IF(((AD1207/12*M1207*12)+N1207)>AF1207,AF1207/12,((AD1207/12*M1207*12)+N1207)/12)))","v":""},null,null,{"v":0,"d":"0.00"},null,{"v":0,"d":"0.00%"},{"v":0,"d":"0.00"},{"v":0,"d":"0.00"},{"v":0,"d":"0.00"},null,"prüfen",{"$f":"IFERROR(OFFSET(MD!$U$5,MATCH(Grundlagen_Abrechnung_KAE!$E1207,MD_GENDER,0),0),\"\")","v":""},{"v":0,"d":"0.00"},null,{"v":0,"d":"0.00"},{"$f":"IF(F1207=\"Arbeitgeberähnliche Stellung\",OFFSET(MD!$Q$5,MATCH(Grundlagen_Abrechnung_KAE!$AK$7,MD_JAHR,0),0)*$H1207,IF(J1207>0,AC1207,I1207))","v":{"v":0,"d":"0.00"}},null,{"$f":"OFFSET(MD!$P$5,MATCH($AK$7,MD_JAHR,0),0)*12","v":{"$error":"#VALUE!"}},{"v":0,"d":"0.00"}]
[{"$nulls":14},{"$f":"IF($B1208=\"\",\"\",IF(F1208=\"Arbeitgeberähnliche Stellung\",OFFSET(MD!$Q$5,MATCH(Grundlagen_Abrechnung_KAE!$AK$7,MD_JAHR,0),0)*$H1208,IF(((AD1208/12*M1208*12)+N1208)>AF1208,AF1208/12,((AD1208/12*M1208*12)+N1208)/12)))","v":""},null,null,{"v":0,"d":"0.00"},null,{"v":0,"d":"0.00%"},{"v":0,"d":"0.00"},{"v":0,"d":"0.00"},{"v":0,"d":"0.00"},null,"prüfen",{"$f":"IFERROR(OFFSET(MD!$U$5,MATCH(Grundlagen_Abrechnung_KAE!$E1208,MD_GENDER,0),0),\"\")","v":""},{"v":0,"d":"0.00"},null,{"v":0,"d":"0.00"},{"$f":"IF(F1208=\"Arbeitgeberähnliche Stellung\",OFFSET(MD!$Q$5,MATCH(Grundlagen_Abrechnung_KAE!$AK$7,MD_JAHR,0),0)*$H1208,IF(J1208>0,AC1208,I1208))","v":{"v":0,"d":"0.00"}},null,{"$f":"OFFSET(MD!$P$5,MATCH($AK$7,MD_JAHR,0),0)*12","v":{"$error":"#VALUE!"}},{"v":0,"d":"0.00"}]
[{"$nulls":14},{"$f":"IF($B1209=\"\",\"\",IF(F1209=\"Arbeitgeberähnliche Stellung\",OFFSET(MD!$Q$5,MATCH(Grundlagen_Abrechnung_KAE!$AK$7,MD_JAHR,0),0)*$H1209,IF(((AD1209/12*M1209*12)+N1209)>AF1209,AF1209/12,((AD1209/12*M1209*12)+N1209)/12)))","v":""},null,null,{"v":0,"d":"0.00"},null,{"v":0,"d":"0.00%"},{"v":0,"d":"0.00"},{"v":0,"d":"0.00"},{"v":0,"d":"0.00"},null,"prüfen",{"$f":"IFERROR(OFFSET(MD!$U$5,MATCH(Grundlagen_Abrechnung_KAE!$E1209,MD_GENDER,0),0),\"\")","v":""},{"v":0,"d":"0.00"},null,{"v":0,"d":"0.00"},{"$f":"IF(F1209=\"Arbeitgeberähnliche Stellung\",OFFSET(MD!$Q$5,MATCH(Grundlagen_Abrechnung_KAE!$AK$7,MD_JAHR,0),0)*$H1209,IF(J1209>0,AC1209,I1209))","v":{"v":0,"d":"0.00"}},null,{"$f":"OFFSET(MD!$P$5,MATCH($AK$7,MD_JAHR,0),0)*12","v":{"$error":"#VALUE!"}},{"v":0,"d":"0.00"}]
[{"$nulls":14},{"$f":"IF($B1210=\"\",\"\",IF(F1210=\"Arbeitgeberähnliche Stellung\",OFFSET(MD!$Q$5,MATCH(Grundlagen_Abrechnung_KAE!$AK$7,MD_JAHR,0),0)*$H1210,IF(((AD1210/12*M1210*12)+N1210)>AF1210,AF1210/12,((AD1210/12*M1210*12)+N1210)/12)))","v":""},null,null,{"v":0,"d":"0.00"},null,{"v":0,"d":"0.00%"},{"v":0,"d":"0.00"},{"v":0,"d":"0.00"},{"v":0,"d":"0.00"},null,"prüfen",{"$f":"IFERROR(OFFSET(MD!$U$5,MATCH(Grundlagen_Abrechnung_KAE!$E1210,MD_GENDER,0),0),\"\")","v":""},{"v":0,"d":"0.00"},null,{"v":0,"d":"0.00"},{"$f":"IF(F1210=\"Arbeitgeberähnliche Stellung\",OFFSET(MD!$Q$5,MATCH(Grundlagen_Abrechnung_KAE!$AK$7,MD_JAHR,0),0)*$H1210,IF(J1210>0,AC1210,I1210))","v":{"v":0,"d":"0.00"}},null,{"$f":"OFFSET(MD!$P$5,MATCH($AK$7,MD_JAHR,0),0)*12","v":{"$error":"#VALUE!"}},{"v":0,"d":"0.00"}]
[{"$nulls":14},{"$f":"IF($B1211=\"\",\"\",IF(F1211=\"Arbeitgeberähnliche Stellung\",OFFSET(MD!$Q$5,MATCH(Grundlagen_Abrechnung_KAE!$AK$7,MD_JAHR,0),0)*$H1211,IF(((AD1211/12*M1211*12)+N1211)>AF1211,AF1211/12,((AD1211/12*M1211*12)+N1211)/12)))","v":""},null,null,{"v":0,"d":"0.00"},null,{"v":0,"d":"0.00%"},{"v":0,"d":"0.00"},{"v":0,"d":"0.00"},{"v":0,"d":"0.00"},null,"prüfen",{"$f":"IFERROR(OFFSET(MD!$U$5,MATCH(Grundlagen_Abrechnung_KAE!$E1211,MD_GENDER,0),0),\"\")","v":""},{"v":0,"d":"0.00"},null,{"v":0,"d":"0.00"},{"$f":"IF(F1211=\"Arbeitgeberähnliche Stellung\",OFFSET(MD!$Q$5,MATCH(Grundlagen_Abrechnung_KAE!$AK$7,MD_JAHR,0),0)*$H1211,IF(J1211>0,AC1211,I1211))","v":{"v":0,"d":"0.00"}},null,{"$f":"OFFSET(MD!$P$5,MATCH($AK$7,MD_JAHR,0),0)*12","v":{"$error":"#VALUE!"}},{"v":0,"d":"0.00"}]
[{"$nulls":14},{"$f":"IF($B1212=\"\",\"\",IF(F1212=\"Arbeitgeberähnliche Stellung\",OFFSET(MD!$Q$5,MATCH(Grundlagen_Abrechnung_KAE!$AK$7,MD_JAHR,0),0)*$H1212,IF(((AD1212/12*M1212*12)+N1212)>AF1212,AF1212/12,((AD1212/12*M1212*12)+N1212)/12)))","v":""},null,null,{"v":0,"d":"0.00"},null,{"v":0,"d":"0.00%"},{"v":0,"d":"0.00"},{"v":0,"d":"0.00"},{"v":0,"d":"0.00"},null,"prüfen",{"$f":"IFERROR(OFFSET(MD!$U$5,MATCH(Grundlagen_Abrechnung_KAE!$E1212,MD_GENDER,0),0),\"\")","v":""},{"v":0,"d":"0.00"},null,{"v":0,"d":"0.00"},{"$f":"IF(F1212=\"Arbeitgeberähnliche Stellung\",OFFSET(MD!$Q$5,MATCH(Grundlagen_Abrechnung_KAE!$AK$7,MD_JAHR,0),0)*$H1212,IF(J1212>0,AC1212,I1212))","v":{"v":0,"d":"0.00"}},null,{"$f":"OFFSET(MD!$P$5,MATCH($AK$7,MD_JAHR,0),0)*12","v":{"$error":"#VALUE!"}},{"v":0,"d":"0.00"}]
[{"$nulls":14},{"$f":"IF($B1213=\"\",\"\",IF(F1213=\"Arbeitgeberähnliche Stellung\",OFFSET(MD!$Q$5,MATCH(Grundlagen_Abrechnung_KAE!$AK$7,MD_JAHR,0),0)*$H1213,IF(((AD1213/12*M1213*12)+N1213)>AF1213,AF1213/12,((AD1213/12*M1213*12)+N1213)/12)))","v":""},null,null,{"v":0,"d":"0.00"},null,{"v":0,"d":"0.00%"},{"v":0,"d":"0.00"},{"v":0,"d":"0.00"},{"v":0,"d":"0.00"},null,"prüfen",{"$f":"IFERROR(OFFSET(MD!$U$5,MATCH(Grundlagen_Abrechnung_KAE!$E1213,MD_GENDER,0),0),\"\")","v":""},{"v":0,"d":"0.00"},null,{"v":0,"d":"0.00"},{"$f":"IF(F1213=\"Arbeitgeberähnliche Stellung\",OFFSET(MD!$Q$5,MATCH(Grundlagen_Abrechnung_KAE!$AK$7,MD_JAHR,0),0)*$H1213,IF(J1213>0,AC1213,I1213))","v":{"v":0,"d":"0.00"}},null,{"$f":"OFFSET(MD!$P$5,MATCH($AK$7,MD_JAHR,0),0)*12","v":{"$error":"#VALUE!"}},{"v":0,"d":"0.00"}]
[{"$nulls":14},{"$f":"IF($B1214=\"\",\"\",IF(F1214=\"Arbeitgeberähnliche Stellung\",OFFSET(MD!$Q$5,MATCH(Grundlagen_Abrechnung_KAE!$AK$7,MD_JAHR,0),0)*$H1214,IF(((AD1214/12*M1214*12)+N1214)>AF1214,AF1214/12,((AD1214/12*M1214*12)+N1214)/12)))","v":""},null,null,{"v":0,"d":"0.00"},null,{"v":0,"d":"0.00%"},{"v":0,"d":"0.00"},{"v":0,"d":"0.00"},{"v":0,"d":"0.00"},null,"prüfen",{"$f":"IFERROR(OFFSET(MD!$U$5,MATCH(Grundlagen_Abrechnung_KAE!$E1214,MD_GENDER,0),0),\"\")","v":""},{"v":0,"d":"0.00"},null,{"v":0,"d":"0.00"},{"$f":"IF(F1214=\"Arbeitgeberähnliche Stellung\",OFFSET(MD!$Q$5,MATCH(Grundlagen_Abrechnung_KAE!$AK$7,MD_JAHR,0),0)*$H1214,IF(J1214>0,AC1214,I1214))","v":{"v":0,"d":"0.00"}},null,{"$f":"OFFSET(MD!$P$5,MATCH($AK$7,MD_JAHR,0),0)*12","v":{"$error":"#VALUE!"}},{"v":0,"d":"0.00"}]
[{"$nulls":14},{"$f":"IF($B1215=\"\",\"\",IF(F1215=\"Arbeitgeberähnliche Stellung\",OFFSET(MD!$Q$5,MATCH(Grundlagen_Abrechnung_KAE!$AK$7,MD_JAHR,0),0)*$H1215,IF(((AD1215/12*M1215*12)+N1215)>AF1215,AF1215/12,((AD1215/12*M1215*12)+N1215)/12)))","v":""},null,null,{"v":0,"d":"0.00"},null,{"v":0,"d":"0.00%"},{"v":0,"d":"0.00"},{"v":0,"d":"0.00"},{"v":0,"d":"0.00"},null,"prüfen",{"$f":"IFERROR(OFFSET(MD!$U$5,MATCH(Grundlagen_Abrechnung_KAE!$E1215,MD_GENDER,0),0),\"\")","v":""},{"v":0,"d":"0.00"},null,{"v":0,"d":"0.00"},{"$f":"IF(F1215=\"Arbeitgeberähnliche Stellung\",OFFSET(MD!$Q$5,MATCH(Grundlagen_Abrechnung_KAE!$AK$7,MD_JAHR,0),0)*$H1215,IF(J1215>0,AC1215,I1215))","v":{"v":0,"d":"0.00"}},null,{"$f":"OFFSET(MD!$P$5,MATCH($AK$7,MD_JAHR,0),0)*12","v":{"$error":"#VALUE!"}},{"v":0,"d":"0.00"}]
[{"$nulls":14},{"$f":"IF($B1216=\"\",\"\",IF(F1216=\"Arbeitgeberähnliche Stellung\",OFFSET(MD!$Q$5,MATCH(Grundlagen_Abrechnung_KAE!$AK$7,MD_JAHR,0),0)*$H1216,IF(((AD1216/12*M1216*12)+N1216)>AF1216,AF1216/12,((AD1216/12*M1216*12)+N1216)/12)))","v":""},null,null,{"v":0,"d":"0.00"},null,{"v":0,"d":"0.00%"},{"v":0,"d":"0.00"},{"v":0,"d":"0.00"},{"v":0,"d":"0.00"},null,"prüfen",{"$f":"IFERROR(OFFSET(MD!$U$5,MATCH(Grundlagen_Abrechnung_KAE!$E1216,MD_GENDER,0),0),\"\")","v":""},{"v":0,"d":"0.00"},null,{"v":0,"d":"0.00"},{"$f":"IF(F1216=\"Arbeitgeberähnliche Stellung\",OFFSET(MD!$Q$5,MATCH(Grundlagen_Abrechnung_KAE!$AK$7,MD_JAHR,0),0)*$H1216,IF(J1216>0,AC1216,I1216))","v":{"v":0,"d":"0.00"}},null,{"$f":"OFFSET(MD!$P$5,MATCH($AK$7,MD_JAHR,0),0)*12","v":{"$error":"#VALUE!"}},{"v":0,"d":"0.00"}]
[{"$nulls":14},{"$f":"IF($B1217=\"\",\"\",IF(F1217=\"Arbeitgeberähnliche Stellung\",OFFSET(MD!$Q$5,MATCH(Grundlagen_Abrechnung_KAE!$AK$7,MD_JAHR,0),0)*$H1217,IF(((AD1217/12*M1217*12)+N1217)>AF1217,AF1217/12,((AD1217/12*M1217*12)+N1217)/12)))","v":""},null,null,{"v":0,"d":"0.00"},null,{"v":0,"d":"0.00%"},{"v":0,"d":"0.00"},{"v":0,"d":"0.00"},{"v":0,"d":"0.00"},null,"prüfen",{"$f":"IFERROR(OFFSET(MD!$U$5,MATCH(Grundlagen_Abrechnung_KAE!$E1217,MD_GENDER,0),0),\"\")","v":""},{"v":0,"d":"0.00"},null,{"v":0,"d":"0.00"},{"$f":"IF(F1217=\"Arbeitgeberähnliche Stellung\",OFFSET(MD!$Q$5,MATCH(Grundlagen_Abrechnung_KAE!$AK$7,MD_JAHR,0),0)*$H1217,IF(J1217>0,AC1217,I1217))","v":{"v":0,"d":"0.00"}},null,{"$f":"OFFSET(MD!$P$5,MATCH($AK$7,MD_JAHR,0),0)*12","v":{"$error":"#VALUE!"}},{"v":0,"d":"0.00"}]
[{"$nulls":14},{"$f":"IF($B1218=\"\",\"\",IF(F1218=\"Arbeitgeberähnliche Stellung\",OFFSET(MD!$Q$5,MATCH(Grundlagen_Abrechnung_KAE!$AK$7,MD_JAHR,0),0)*$H1218,IF(((AD1218/12*M1218*12)+N1218)>AF1218,AF1218/12,((AD1218/12*M1218*12)+N1218)/12)))","v":""},null,null,{"v":0,"d":"0.00"},null,{"v":0,"d":"0.00%"},{"v":0,"d":"0.00"},{"v":0,"d":"0.00"},{"v":0,"d":"0.00"},null,"prüfen",{"$f":"IFERROR(OFFSET(MD!$U$5,MATCH(Grundlagen_Abrechnung_KAE!$E1218,MD_GENDER,0),0),\"\")","v":""},{"v":0,"d":"0.00"},null,{"v":0,"d":"0.00"},{"$f":"IF(F1218=\"Arbeitgeberähnliche Stellung\",OFFSET(MD!$Q$5,MATCH(Grundlagen_Abrechnung_KAE!$AK$7,MD_JAHR,0),0)*$H1218,IF(J1218>0,AC1218,I1218))","v":{"v":0,"d":"0.00"}},null,{"$f":"OFFSET(MD!$P$5,MATCH($AK$7,MD_JAHR,0),0)*12","v":{"$error":"#VALUE!"}},{"v":0,"d":"0.00"}]
[{"$nulls":14},{"$f":"IF($B1219=\"\",\"\",IF(F1219=\"Arbeitgeberähnliche Stellung\",OFFSET(MD!$Q$5,MATCH(Grundlagen_Abrechnung_KAE!$AK$7,MD_JAHR,0),0)*$H1219,IF(((AD1219/12*M1219*12)+N1219)>AF1219,AF1219/12,((AD1219/12*M1219*12)+N1219)/12)))","v":""},null,null,{"v":0,"d":"0.00"},null,{"v":0,"d":"0.00%"},{"v":0,"d":"0.00"},{"v":0,"d":"0.00"},{"v":0,"d":"0.00"},null,"prüfen",{"$f":"IFERROR(OFFSET(MD!$U$5,MATCH(Grundlagen_Abrechnung_KAE!$E1219,MD_GENDER,0),0),\"\")","v":""},{"v":0,"d":"0.00"},null,{"v":0,"d":"0.00"},{"$f":"IF(F1219=\"Arbeitgeberähnliche Stellung\",OFFSET(MD!$Q$5,MATCH(Grundlagen_Abrechnung_KAE!$AK$7,MD_JAHR,0),0)*$H1219,IF(J1219>0,AC1219,I1219))","v":{"v":0,"d":"0.00"}},null,{"$f":"OFFSET(MD!$P$5,MATCH($AK$7,MD_JAHR,0),0)*12","v":{"$error":"#VALUE!"}},{"v":0,"d":"0.00"}]
[{"$nulls":14},{"$f":"IF($B1220=\"\",\"\",IF(F1220=\"Arbeitgeberähnliche Stellung\",OFFSET(MD!$Q$5,MATCH(Grundlagen_Abrechnung_KAE!$AK$7,MD_JAHR,0),0)*$H1220,IF(((AD1220/12*M1220*12)+N1220)>AF1220,AF1220/12,((AD1220/12*M1220*12)+N1220)/12)))","v":""},null,null,{"v":0,"d":"0.00"},null,{"v":0,"d":"0.00%"},{"v":0,"d":"0.00"},{"v":0,"d":"0.00"},{"v":0,"d":"0.00"},null,"prüfen",{"$f":"IFERROR(OFFSET(MD!$U$5,MATCH(Grundlagen_Abrechnung_KAE!$E1220,MD_GENDER,0),0),\"\")","v":""},{"v":0,"d":"0.00"},null,{"v":0,"d":"0.00"},{"$f":"IF(F1220=\"Arbeitgeberähnliche Stellung\",OFFSET(MD!$Q$5,MATCH(Grundlagen_Abrechnung_KAE!$AK$7,MD_JAHR,0),0)*$H1220,IF(J1220>0,AC1220,I1220))","v":{"v":0,"d":"0.00"}},null,{"$f":"OFFSET(MD!$P$5,MATCH($AK$7,MD_JAHR,0),0)*12","v":{"$error":"#VALUE!"}},{"v":0,"d":"0.00"}]
[{"$nulls":14},{"$f":"IF($B1221=\"\",\"\",IF(F1221=\"Arbeitgeberähnliche Stellung\",OFFSET(MD!$Q$5,MATCH(Grundlagen_Abrechnung_KAE!$AK$7,MD_JAHR,0),0)*$H1221,IF(((AD1221/12*M1221*12)+N1221)>AF1221,AF1221/12,((AD1221/12*M1221*12)+N1221)/12)))","v":""},null,null,{"v":0,"d":"0.00"},null,{"v":0,"d":"0.00%"},{"v":0,"d":"0.00"},{"v":0,"d":"0.00"},{"v":0,"d":"0.00"},null,"prüfen",{"$f":"IFERROR(OFFSET(MD!$U$5,MATCH(Grundlagen_Abrechnung_KAE!$E1221,MD_GENDER,0),0),\"\")","v":""},{"v":0,"d":"0.00"},null,{"v":0,"d":"0.00"},{"$f":"IF(F1221=\"Arbeitgeberähnliche Stellung\",OFFSET(MD!$Q$5,MATCH(Grundlagen_Abrechnung_KAE!$AK$7,MD_JAHR,0),0)*$H1221,IF(J1221>0,AC1221,I1221))","v":{"v":0,"d":"0.00"}},null,{"$f":"OFFSET(MD!$P$5,MATCH($AK$7,MD_JAHR,0),0)*12","v":{"$error":"#VALUE!"}},{"v":0,"d":"0.00"}]
[{"$nulls":14},{"$f":"IF($B1222=\"\",\"\",IF(F1222=\"Arbeitgeberähnliche Stellung\",OFFSET(MD!$Q$5,MATCH(Grundlagen_Abrechnung_KAE!$AK$7,MD_JAHR,0),0)*$H1222,IF(((AD1222/12*M1222*12)+N1222)>AF1222,AF1222/12,((AD1222/12*M1222*12)+N1222)/12)))","v":""},null,null,{"v":0,"d":"0.00"},null,{"v":0,"d":"0.00%"},{"v":0,"d":"0.00"},{"v":0,"d":"0.00"},{"v":0,"d":"0.00"},null,"prüfen",{"$f":"IFERROR(OFFSET(MD!$U$5,MATCH(Grundlagen_Abrechnung_KAE!$E1222,MD_GENDER,0),0),\"\")","v":""},{"v":0,"d":"0.00"},null,{"v":0,"d":"0.00"},{"$f":"IF(F1222=\"Arbeitgeberähnliche Stellung\",OFFSET(MD!$Q$5,MATCH(Grundlagen_Abrechnung_KAE!$AK$7,MD_JAHR,0),0)*$H1222,IF(J1222>0,AC1222,I1222))","v":{"v":0,"d":"0.00"}},null,{"$f":"OFFSET(MD!$P$5,MATCH($AK$7,MD_JAHR,0),0)*12","v":{"$error":"#VALUE!"}},{"v":0,"d":"0.00"}]
[{"$nulls":14},{"$f":"IF($B1223=\"\",\"\",IF(F1223=\"Arbeitgeberähnliche Stellung\",OFFSET(MD!$Q$5,MATCH(Grundlagen_Abrechnung_KAE!$AK$7,MD_JAHR,0),0)*$H1223,IF(((AD1223/12*M1223*12)+N1223)>AF1223,AF1223/12,((AD1223/12*M1223*12)+N1223)/12)))","v":""},null,null,{"v":0,"d":"0.00"},null,{"v":0,"d":"0.00%"},{"v":0,"d":"0.00"},{"v":0,"d":"0.00"},{"v":0,"d":"0.00"},null,"prüfen",{"$f":"IFERROR(OFFSET(MD!$U$5,MATCH(Grundlagen_Abrechnung_KAE!$E1223,MD_GENDER,0),0),\"\")","v":""},{"v":0,"d":"0.00"},null,{"v":0,"d":"0.00"},{"$f":"IF(F1223=\"Arbeitgeberähnliche Stellung\",OFFSET(MD!$Q$5,MATCH(Grundlagen_Abrechnung_KAE!$AK$7,MD_JAHR,0),0)*$H1223,IF(J1223>0,AC1223,I1223))","v":{"v":0,"d":"0.00"}},null,{"$f":"OFFSET(MD!$P$5,MATCH($AK$7,MD_JAHR,0),0)*12","v":{"$error":"#VALUE!"}},{"v":0,"d":"0.00"}]
[{"$nulls":14},{"$f":"IF($B1224=\"\",\"\",IF(F1224=\"Arbeitgeberähnliche Stellung\",OFFSET(MD!$Q$5,MATCH(Grundlagen_Abrechnung_KAE!$AK$7,MD_JAHR,0),0)*$H1224,IF(((AD1224/12*M1224*12)+N1224)>AF1224,AF1224/12,((AD1224/12*M1224*12)+N1224)/12)))","v":""},null,null,{"v":0,"d":"0.00"},null,{"v":0,"d":"0.00%"},{"v":0,"d":"0.00"},{"v":0,"d":"0.00"},{"v":0,"d":"0.00"},null,"prüfen",{"$f":"IFERROR(OFFSET(MD!$U$5,MATCH(Grundlagen_Abrechnung_KAE!$E1224,MD_GENDER,0),0),\"\")","v":""},{"v":0,"d":"0.00"},null,{"v":0,"d":"0.00"},{"$f":"IF(F1224=\"Arbeitgeberähnliche Stellung\",OFFSET(MD!$Q$5,MATCH(Grundlagen_Abrechnung_KAE!$AK$7,MD_JAHR,0),0)*$H1224,IF(J1224>0,AC1224,I1224))","v":{"v":0,"d":"0.00"}},null,{"$f":"OFFSET(MD!$P$5,MATCH($AK$7,MD_JAHR,0),0)*12","v":{"$error":"#VALUE!"}},{"v":0,"d":"0.00"}]
[{"$nulls":14},{"$f":"IF($B1225=\"\",\"\",IF(F1225=\"Arbeitgeberähnliche Stellung\",OFFSET(MD!$Q$5,MATCH(Grundlagen_Abrechnung_KAE!$AK$7,MD_JAHR,0),0)*$H1225,IF(((AD1225/12*M1225*12)+N1225)>AF1225,AF1225/12,((AD1225/12*M1225*12)+N1225)/12)))","v":""},null,null,{"v":0,"d":"0.00"},null,{"v":0,"d":"0.00%"},{"v":0,"d":"0.00"},{"v":0,"d":"0.00"},{"v":0,"d":"0.00"},null,"prüfen",{"$f":"IFERROR(OFFSET(MD!$U$5,MATCH(Grundlagen_Abrechnung_KAE!$E1225,MD_GENDER,0),0),\"\")","v":""},{"v":0,"d":"0.00"},null,{"v":0,"d":"0.00"},{"$f":"IF(F1225=\"Arbeitgeberähnliche Stellung\",OFFSET(MD!$Q$5,MATCH(Grundlagen_Abrechnung_KAE!$AK$7,MD_JAHR,0),0)*$H1225,IF(J1225>0,AC1225,I1225))","v":{"v":0,"d":"0.00"}},null,{"$f":"OFFSET(MD!$P$5,MATCH($AK$7,MD_JAHR,0),0)*12","v":{"$error":"#VALUE!"}},{"v":0,"d":"0.00"}]
[{"$nulls":14},{"$f":"IF($B1226=\"\",\"\",IF(F1226=\"Arbeitgeberähnliche Stellung\",OFFSET(MD!$Q$5,MATCH(Grundlagen_Abrechnung_KAE!$AK$7,MD_JAHR,0),0)*$H1226,IF(((AD1226/12*M1226*12)+N1226)>AF1226,AF1226/12,((AD1226/12*M1226*12)+N1226)/12)))","v":""},null,null,{"v":0,"d":"0.00"},null,{"v":0,"d":"0.00%"},{"v":0,"d":"0.00"},{"v":0,"d":"0.00"},{"v":0,"d":"0.00"},null,"prüfen",{"$f":"IFERROR(OFFSET(MD!$U$5,MATCH(Grundlagen_Abrechnung_KAE!$E1226,MD_GENDER,0),0),\"\")","v":""},{"v":0,"d":"0.00"},null,{"v":0,"d":"0.00"},{"$f":"IF(F1226=\"Arbeitgeberähnliche Stellung\",OFFSET(MD!$Q$5,MATCH(Grundlagen_Abrechnung_KAE!$AK$7,MD_JAHR,0),0)*$H1226,IF(J1226>0,AC1226,I1226))","v":{"v":0,"d":"0.00"}},null,{"$f":"OFFSET(MD!$P$5,MATCH($AK$7,MD_JAHR,0),0)*12","v":{"$error":"#VALUE!"}},{"v":0,"d":"0.00"}]
[{"$nulls":14},{"$f":"IF($B1227=\"\",\"\",IF(F1227=\"Arbeitgeberähnliche Stellung\",OFFSET(MD!$Q$5,MATCH(Grundlagen_Abrechnung_KAE!$AK$7,MD_JAHR,0),0)*$H1227,IF(((AD1227/12*M1227*12)+N1227)>AF1227,AF1227/12,((AD1227/12*M1227*12)+N1227)/12)))","v":""},null,null,{"v":0,"d":"0.00"},null,{"v":0,"d":"0.00%"},{"v":0,"d":"0.00"},{"v":0,"d":"0.00"},{"v":0,"d":"0.00"},null,"prüfen",{"$f":"IFERROR(OFFSET(MD!$U$5,MATCH(Grundlagen_Abrechnung_KAE!$E1227,MD_GENDER,0),0),\"\")","v":""},{"v":0,"d":"0.00"},null,{"v":0,"d":"0.00"},{"$f":"IF(F1227=\"Arbeitgeberähnliche Stellung\",OFFSET(MD!$Q$5,MATCH(Grundlagen_Abrechnung_KAE!$AK$7,MD_JAHR,0),0)*$H1227,IF(J1227>0,AC1227,I1227))","v":{"v":0,"d":"0.00"}},null,{"$f":"OFFSET(MD!$P$5,MATCH($AK$7,MD_JAHR,0),0)*12","v":{"$error":"#VALUE!"}},{"v":0,"d":"0.00"}]
[{"$nulls":14},{"$f":"IF($B1228=\"\",\"\",IF(F1228=\"Arbeitgeberähnliche Stellung\",OFFSET(MD!$Q$5,MATCH(Grundlagen_Abrechnung_KAE!$AK$7,MD_JAHR,0),0)*$H1228,IF(((AD1228/12*M1228*12)+N1228)>AF1228,AF1228/12,((AD1228/12*M1228*12)+N1228)/12)))","v":""},null,null,{"v":0,"d":"0.00"},null,{"v":0,"d":"0.00%"},{"v":0,"d":"0.00"},{"v":0,"d":"0.00"},{"v":0,"d":"0.00"},null,"prüfen",{"$f":"IFERROR(OFFSET(MD!$U$5,MATCH(Grundlagen_Abrechnung_KAE!$E1228,MD_GENDER,0),0),\"\")","v":""},{"v":0,"d":"0.00"},null,{"v":0,"d":"0.00"},{"$f":"IF(F1228=\"Arbeitgeberähnliche Stellung\",OFFSET(MD!$Q$5,MATCH(Grundlagen_Abrechnung_KAE!$AK$7,MD_JAHR,0),0)*$H1228,IF(J1228>0,AC1228,I1228))","v":{"v":0,"d":"0.00"}},null,{"$f":"OFFSET(MD!$P$5,MATCH($AK$7,MD_JAHR,0),0)*12","v":{"$error":"#VALUE!"}},{"v":0,"d":"0.00"}]
[{"$nulls":14},{"$f":"IF($B1229=\"\",\"\",IF(F1229=\"Arbeitgeberähnliche Stellung\",OFFSET(MD!$Q$5,MATCH(Grundlagen_Abrechnung_KAE!$AK$7,MD_JAHR,0),0)*$H1229,IF(((AD1229/12*M1229*12)+N1229)>AF1229,AF1229/12,((AD1229/12*M1229*12)+N1229)/12)))","v":""},null,null,{"v":0,"d":"0.00"},null,{"v":0,"d":"0.00%"},{"v":0,"d":"0.00"},{"v":0,"d":"0.00"},{"v":0,"d":"0.00"},null,"prüfen",{"$f":"IFERROR(OFFSET(MD!$U$5,MATCH(Grundlagen_Abrechnung_KAE!$E1229,MD_GENDER,0),0),\"\")","v":""},{"v":0,"d":"0.00"},null,{"v":0,"d":"0.00"},{"$f":"IF(F1229=\"Arbeitgeberähnliche Stellung\",OFFSET(MD!$Q$5,MATCH(Grundlagen_Abrechnung_KAE!$AK$7,MD_JAHR,0),0)*$H1229,IF(J1229>0,AC1229,I1229))","v":{"v":0,"d":"0.00"}},null,{"$f":"OFFSET(MD!$P$5,MATCH($AK$7,MD_JAHR,0),0)*12","v":{"$error":"#VALUE!"}},{"v":0,"d":"0.00"}]
[{"$nulls":14},{"$f":"IF($B1230=\"\",\"\",IF(F1230=\"Arbeitgeberähnliche Stellung\",OFFSET(MD!$Q$5,MATCH(Grundlagen_Abrechnung_KAE!$AK$7,MD_JAHR,0),0)*$H1230,IF(((AD1230/12*M1230*12)+N1230)>AF1230,AF1230/12,((AD1230/12*M1230*12)+N1230)/12)))","v":""},null,null,{"v":0,"d":"0.00"},null,{"v":0,"d":"0.00%"},{"v":0,"d":"0.00"},{"v":0,"d":"0.00"},{"v":0,"d":"0.00"},null,"prüfen",{"$f":"IFERROR(OFFSET(MD!$U$5,MATCH(Grundlagen_Abrechnung_KAE!$E1230,MD_GENDER,0),0),\"\")","v":""},{"v":0,"d":"0.00"},null,{"v":0,"d":"0.00"},{"$f":"IF(F1230=\"Arbeitgeberähnliche Stellung\",OFFSET(MD!$Q$5,MATCH(Grundlagen_Abrechnung_KAE!$AK$7,MD_JAHR,0),0)*$H1230,IF(J1230>0,AC1230,I1230))","v":{"v":0,"d":"0.00"}},null,{"$f":"OFFSET(MD!$P$5,MATCH($AK$7,MD_JAHR,0),0)*12","v":{"$error":"#VALUE!"}},{"v":0,"d":"0.00"}]
[{"$nulls":14},{"$f":"IF($B1231=\"\",\"\",IF(F1231=\"Arbeitgeberähnliche Stellung\",OFFSET(MD!$Q$5,MATCH(Grundlagen_Abrechnung_KAE!$AK$7,MD_JAHR,0),0)*$H1231,IF(((AD1231/12*M1231*12)+N1231)>AF1231,AF1231/12,((AD1231/12*M1231*12)+N1231)/12)))","v":""},null,null,{"v":0,"d":"0.00"},null,{"v":0,"d":"0.00%"},{"v":0,"d":"0.00"},{"v":0,"d":"0.00"},{"v":0,"d":"0.00"},null,"prüfen",{"$f":"IFERROR(OFFSET(MD!$U$5,MATCH(Grundlagen_Abrechnung_KAE!$E1231,MD_GENDER,0),0),\"\")","v":""},{"v":0,"d":"0.00"},null,{"v":0,"d":"0.00"},{"$f":"IF(F1231=\"Arbeitgeberähnliche Stellung\",OFFSET(MD!$Q$5,MATCH(Grundlagen_Abrechnung_KAE!$AK$7,MD_JAHR,0),0)*$H1231,IF(J1231>0,AC1231,I1231))","v":{"v":0,"d":"0.00"}},null,{"$f":"OFFSET(MD!$P$5,MATCH($AK$7,MD_JAHR,0),0)*12","v":{"$error":"#VALUE!"}},{"v":0,"d":"0.00"}]
[{"$nulls":14},{"$f":"IF($B1232=\"\",\"\",IF(F1232=\"Arbeitgeberähnliche Stellung\",OFFSET(MD!$Q$5,MATCH(Grundlagen_Abrechnung_KAE!$AK$7,MD_JAHR,0),0)*$H1232,IF(((AD1232/12*M1232*12)+N1232)>AF1232,AF1232/12,((AD1232/12*M1232*12)+N1232)/12)))","v":""},null,null,{"v":0,"d":"0.00"},null,{"v":0,"d":"0.00%"},{"v":0,"d":"0.00"},{"v":0,"d":"0.00"},{"v":0,"d":"0.00"},null,"prüfen",{"$f":"IFERROR(OFFSET(MD!$U$5,MATCH(Grundlagen_Abrechnung_KAE!$E1232,MD_GENDER,0),0),\"\")","v":""},{"v":0,"d":"0.00"},null,{"v":0,"d":"0.00"},{"$f":"IF(F1232=\"Arbeitgeberähnliche Stellung\",OFFSET(MD!$Q$5,MATCH(Grundlagen_Abrechnung_KAE!$AK$7,MD_JAHR,0),0)*$H1232,IF(J1232>0,AC1232,I1232))","v":{"v":0,"d":"0.00"}},null,{"$f":"OFFSET(MD!$P$5,MATCH($AK$7,MD_JAHR,0),0)*12","v":{"$error":"#VALUE!"}},{"v":0,"d":"0.00"}]
[{"$nulls":14},{"$f":"IF($B1233=\"\",\"\",IF(F1233=\"Arbeitgeberähnliche Stellung\",OFFSET(MD!$Q$5,MATCH(Grundlagen_Abrechnung_KAE!$AK$7,MD_JAHR,0),0)*$H1233,IF(((AD1233/12*M1233*12)+N1233)>AF1233,AF1233/12,((AD1233/12*M1233*12)+N1233)/12)))","v":""},null,null,{"v":0,"d":"0.00"},null,{"v":0,"d":"0.00%"},{"v":0,"d":"0.00"},{"v":0,"d":"0.00"},{"v":0,"d":"0.00"},null,"prüfen",{"$f":"IFERROR(OFFSET(MD!$U$5,MATCH(Grundlagen_Abrechnung_KAE!$E1233,MD_GENDER,0),0),\"\")","v":""},{"v":0,"d":"0.00"},null,{"v":0,"d":"0.00"},{"$f":"IF(F1233=\"Arbeitgeberähnliche Stellung\",OFFSET(MD!$Q$5,MATCH(Grundlagen_Abrechnung_KAE!$AK$7,MD_JAHR,0),0)*$H1233,IF(J1233>0,AC1233,I1233))","v":{"v":0,"d":"0.00"}},null,{"$f":"OFFSET(MD!$P$5,MATCH($AK$7,MD_JAHR,0),0)*12","v":{"$error":"#VALUE!"}},{"v":0,"d":"0.00"}]
[{"$nulls":14},{"$f":"IF($B1234=\"\",\"\",IF(F1234=\"Arbeitgeberähnliche Stellung\",OFFSET(MD!$Q$5,MATCH(Grundlagen_Abrechnung_KAE!$AK$7,MD_JAHR,0),0)*$H1234,IF(((AD1234/12*M1234*12)+N1234)>AF1234,AF1234/12,((AD1234/12*M1234*12)+N1234)/12)))","v":""},null,null,{"v":0,"d":"0.00"},null,{"v":0,"d":"0.00%"},{"v":0,"d":"0.00"},{"v":0,"d":"0.00"},{"v":0,"d":"0.00"},null,"prüfen",{"$f":"IFERROR(OFFSET(MD!$U$5,MATCH(Grundlagen_Abrechnung_KAE!$E1234,MD_GENDER,0),0),\"\")","v":""},{"v":0,"d":"0.00"},null,{"v":0,"d":"0.00"},{"$f":"IF(F1234=\"Arbeitgeberähnliche Stellung\",OFFSET(MD!$Q$5,MATCH(Grundlagen_Abrechnung_KAE!$AK$7,MD_JAHR,0),0)*$H1234,IF(J1234>0,AC1234,I1234))","v":{"v":0,"d":"0.00"}},null,{"$f":"OFFSET(MD!$P$5,MATCH($AK$7,MD_JAHR,0),0)*12","v":{"$error":"#VALUE!"}},{"v":0,"d":"0.00"}]
[{"$nulls":14},{"$f":"IF($B1235=\"\",\"\",IF(F1235=\"Arbeitgeberähnliche Stellung\",OFFSET(MD!$Q$5,MATCH(Grundlagen_Abrechnung_KAE!$AK$7,MD_JAHR,0),0)*$H1235,IF(((AD1235/12*M1235*12)+N1235)>AF1235,AF1235/12,((AD1235/12*M1235*12)+N1235)/12)))","v":""},null,null,{"$f":"ROUND(IF(Q1235=\"\",0,IF(P1235=0,0,IF(Q1235>P1235,0,P1235-Q1235))),2)","v":{"v":0,"d":"0.00"}},null,{"$f":"IFERROR(R1235/P1235,0)","v":{"v":0,"d":"0.00%"}},{"$f":"IFERROR(IF(O1235-W1235=0,O1235,(O1235)*(1-T1235)),0)","v":{"v":0,"d":"0.00"}},{"v":0,"d":"0.00"},{"$f":"IFERROR(O1235*T1235,0)*0.8","v":{"v":0,"d":"0.00"}},null,{"$f":"IF(YEAR($G1235)>$Y$16,\"prüfen\",\"\")","v":"prüfen"},{"$f":"IFERROR(OFFSET(MD!$U$5,MATCH(Grundlagen_Abrechnung_KAE!$E1235,MD_GENDER,0),0),\"\")","v":""},{"$f":"IF(B1235=\"\",0,IF(YEAR(G1235)>$AA$16,0,1))","v":{"v":0,"d":"0.00"}},null,{"$f":"IF(J1235*K1235/6>J1235*L1235/12,J1235*K1235/6,J1235*L1235/12)","v":{"v":0,"d":"0.00"}},{"$f":"IF(F1235=\"Arbeitgeberähnliche Stellung\",OFFSET(MD!$Q$5,MATCH(Grundlagen_Abrechnung_KAE!$AK$7,MD_JAHR,0),0)*$H1235,IF(J1235>0,AC1235,I1235))","v":{"v":0,"d":"0.00"}},null,{"$f":"OFFSET(MD!$P$5,MATCH($AK$7,MD_JAHR,0),0)*12","v":{"$error":"#VALUE!"}},{"$f":"I1235*M1235+N1235","v":{"v":0,"d":"0.00"}}]
[{"$nulls":14},{"$f":"IF($B1236=\"\",\"\",IF(F1236=\"Arbeitgeberähnliche Stellung\",OFFSET(MD!$Q$5,MATCH(Grundlagen_Abrechnung_KAE!$AK$7,MD_JAHR,0),0)*$H1236,IF(((AD1236/12*M1236*12)+N1236)>AF1236,AF1236/12,((AD1236/12*M1236*12)+N1236)/12)))","v":""},null,null,{"v":0,"d":"0.00"},null,{"v":0,"d":"0.00%"},{"v":0,"d":"0.00"},{"$f":"IFERROR(O1236*T1236,0)","v":{"v":0,"d":"0.00"}},{"v":0,"d":"0.00"},null,"prüfen",{"$f":"IFERROR(OFFSET(MD!$U$5,MATCH(Grundlagen_Abrechnung_KAE!$E1236,MD_GENDER,0),0),\"\")","v":""},{"v":0,"d":"0.00"},null,{"v":0,"d":"0.00"},{"$f":"IF(F1236=\"Arbeitgeberähnliche Stellung\",OFFSET(MD!$Q$5,MATCH(Grundlagen_Abrechnung_KAE!$AK$7,MD_JAHR,0),0)*$H1236,IF(J1236>0,AC1236,I1236))","v":{"v":0,"d":"0.00"}},null,{"$f":"OFFSET(MD!$P$5,MATCH($AK$7,MD_JAHR,0),0)*12","v":{"$error":"#VALUE!"}},{"v":0,"d":"0.00"}]
[{"$nulls":14},{"$f":"IF($B1237=\"\",\"\",IF(F1237=\"Arbeitgeberähnliche Stellung\",OFFSET(MD!$Q$5,MATCH(Grundlagen_Abrechnung_KAE!$AK$7,MD_JAHR,0),0)*$H1237,IF(((AD1237/12*M1237*12)+N1237)>AF1237,AF1237/12,((AD1237/12*M1237*12)+N1237)/12)))","v":""},null,null,{"v":0,"d":"0.00"},null,{"v":0,"d":"0.00%"},{"v":0,"d":"0.00"},{"v":0,"d":"0.00"},{"v":0,"d":"0.00"},null,"prüfen",{"$f":"IFERROR(OFFSET(MD!$U$5,MATCH(Grundlagen_Abrechnung_KAE!$E1237,MD_GENDER,0),0),\"\")","v":""},{"v":0,"d":"0.00"},null,{"v":0,"d":"0.00"},{"$f":"IF(F1237=\"Arbeitgeberähnliche Stellung\",OFFSET(MD!$Q$5,MATCH(Grundlagen_Abrechnung_KAE!$AK$7,MD_JAHR,0),0)*$H1237,IF(J1237>0,AC1237,I1237))","v":{"v":0,"d":"0.00"}},null,{"$f":"OFFSET(MD!$P$5,MATCH($AK$7,MD_JAHR,0),0)*12","v":{"$error":"#VALUE!"}},{"v":0,"d":"0.00"}]
[{"$nulls":14},{"$f":"IF($B1238=\"\",\"\",IF(F1238=\"Arbeitgeberähnliche Stellung\",OFFSET(MD!$Q$5,MATCH(Grundlagen_Abrechnung_KAE!$AK$7,MD_JAHR,0),0)*$H1238,IF(((AD1238/12*M1238*12)+N1238)>AF1238,AF1238/12,((AD1238/12*M1238*12)+N1238)/12)))","v":""},null,null,{"v":0,"d":"0.00"},null,{"v":0,"d":"0.00%"},{"v":0,"d":"0.00"},{"v":0,"d":"0.00"},{"v":0,"d":"0.00"},null,"prüfen",{"$f":"IFERROR(OFFSET(MD!$U$5,MATCH(Grundlagen_Abrechnung_KAE!$E1238,MD_GENDER,0),0),\"\")","v":""},{"v":0,"d":"0.00"},null,{"v":0,"d":"0.00"},{"$f":"IF(F1238=\"Arbeitgeberähnliche Stellung\",OFFSET(MD!$Q$5,MATCH(Grundlagen_Abrechnung_KAE!$AK$7,MD_JAHR,0),0)*$H1238,IF(J1238>0,AC1238,I1238))","v":{"v":0,"d":"0.00"}},null,{"$f":"OFFSET(MD!$P$5,MATCH($AK$7,MD_JAHR,0),0)*12","v":{"$error":"#VALUE!"}},{"v":0,"d":"0.00"}]
[{"$nulls":14},{"$f":"IF($B1239=\"\",\"\",IF(F1239=\"Arbeitgeberähnliche Stellung\",OFFSET(MD!$Q$5,MATCH(Grundlagen_Abrechnung_KAE!$AK$7,MD_JAHR,0),0)*$H1239,IF(((AD1239/12*M1239*12)+N1239)>AF1239,AF1239/12,((AD1239/12*M1239*12)+N1239)/12)))","v":""},null,null,{"v":0,"d":"0.00"},null,{"v":0,"d":"0.00%"},{"v":0,"d":"0.00"},{"v":0,"d":"0.00"},{"v":0,"d":"0.00"},null,"prüfen",{"$f":"IFERROR(OFFSET(MD!$U$5,MATCH(Grundlagen_Abrechnung_KAE!$E1239,MD_GENDER,0),0),\"\")","v":""},{"v":0,"d":"0.00"},null,{"v":0,"d":"0.00"},{"$f":"IF(F1239=\"Arbeitgeberähnliche Stellung\",OFFSET(MD!$Q$5,MATCH(Grundlagen_Abrechnung_KAE!$AK$7,MD_JAHR,0),0)*$H1239,IF(J1239>0,AC1239,I1239))","v":{"v":0,"d":"0.00"}},null,{"$f":"OFFSET(MD!$P$5,MATCH($AK$7,MD_JAHR,0),0)*12","v":{"$error":"#VALUE!"}},{"v":0,"d":"0.00"}]
[{"$nulls":14},{"$f":"IF($B1240=\"\",\"\",IF(F1240=\"Arbeitgeberähnliche Stellung\",OFFSET(MD!$Q$5,MATCH(Grundlagen_Abrechnung_KAE!$AK$7,MD_JAHR,0),0)*$H1240,IF(((AD1240/12*M1240*12)+N1240)>AF1240,AF1240/12,((AD1240/12*M1240*12)+N1240)/12)))","v":""},null,null,{"v":0,"d":"0.00"},null,{"v":0,"d":"0.00%"},{"v":0,"d":"0.00"},{"v":0,"d":"0.00"},{"v":0,"d":"0.00"},null,"prüfen",{"$f":"IFERROR(OFFSET(MD!$U$5,MATCH(Grundlagen_Abrechnung_KAE!$E1240,MD_GENDER,0),0),\"\")","v":""},{"v":0,"d":"0.00"},null,{"v":0,"d":"0.00"},{"$f":"IF(F1240=\"Arbeitgeberähnliche Stellung\",OFFSET(MD!$Q$5,MATCH(Grundlagen_Abrechnung_KAE!$AK$7,MD_JAHR,0),0)*$H1240,IF(J1240>0,AC1240,I1240))","v":{"v":0,"d":"0.00"}},null,{"$f":"OFFSET(MD!$P$5,MATCH($AK$7,MD_JAHR,0),0)*12","v":{"$error":"#VALUE!"}},{"v":0,"d":"0.00"}]
[{"$nulls":14},{"$f":"IF($B1241=\"\",\"\",IF(F1241=\"Arbeitgeberähnliche Stellung\",OFFSET(MD!$Q$5,MATCH(Grundlagen_Abrechnung_KAE!$AK$7,MD_JAHR,0),0)*$H1241,IF(((AD1241/12*M1241*12)+N1241)>AF1241,AF1241/12,((AD1241/12*M1241*12)+N1241)/12)))","v":""},null,null,{"v":0,"d":"0.00"},null,{"v":0,"d":"0.00%"},{"v":0,"d":"0.00"},{"v":0,"d":"0.00"},{"v":0,"d":"0.00"},null,"prüfen",{"$f":"IFERROR(OFFSET(MD!$U$5,MATCH(Grundlagen_Abrechnung_KAE!$E1241,MD_GENDER,0),0),\"\")","v":""},{"v":0,"d":"0.00"},null,{"v":0,"d":"0.00"},{"$f":"IF(F1241=\"Arbeitgeberähnliche Stellung\",OFFSET(MD!$Q$5,MATCH(Grundlagen_Abrechnung_KAE!$AK$7,MD_JAHR,0),0)*$H1241,IF(J1241>0,AC1241,I1241))","v":{"v":0,"d":"0.00"}},null,{"$f":"OFFSET(MD!$P$5,MATCH($AK$7,MD_JAHR,0),0)*12","v":{"$error":"#VALUE!"}},{"v":0,"d":"0.00"}]
[{"$nulls":14},{"$f":"IF($B1242=\"\",\"\",IF(F1242=\"Arbeitgeberähnliche Stellung\",OFFSET(MD!$Q$5,MATCH(Grundlagen_Abrechnung_KAE!$AK$7,MD_JAHR,0),0)*$H1242,IF(((AD1242/12*M1242*12)+N1242)>AF1242,AF1242/12,((AD1242/12*M1242*12)+N1242)/12)))","v":""},null,null,{"v":0,"d":"0.00"},null,{"v":0,"d":"0.00%"},{"v":0,"d":"0.00"},{"v":0,"d":"0.00"},{"v":0,"d":"0.00"},null,"prüfen",{"$f":"IFERROR(OFFSET(MD!$U$5,MATCH(Grundlagen_Abrechnung_KAE!$E1242,MD_GENDER,0),0),\"\")","v":""},{"v":0,"d":"0.00"},null,{"v":0,"d":"0.00"},{"$f":"IF(F1242=\"Arbeitgeberähnliche Stellung\",OFFSET(MD!$Q$5,MATCH(Grundlagen_Abrechnung_KAE!$AK$7,MD_JAHR,0),0)*$H1242,IF(J1242>0,AC1242,I1242))","v":{"v":0,"d":"0.00"}},null,{"$f":"OFFSET(MD!$P$5,MATCH($AK$7,MD_JAHR,0),0)*12","v":{"$error":"#VALUE!"}},{"v":0,"d":"0.00"}]
[{"$nulls":14},{"$f":"IF($B1243=\"\",\"\",IF(F1243=\"Arbeitgeberähnliche Stellung\",OFFSET(MD!$Q$5,MATCH(Grundlagen_Abrechnung_KAE!$AK$7,MD_JAHR,0),0)*$H1243,IF(((AD1243/12*M1243*12)+N1243)>AF1243,AF1243/12,((AD1243/12*M1243*12)+N1243)/12)))","v":""},null,null,{"v":0,"d":"0.00"},null,{"v":0,"d":"0.00%"},{"v":0,"d":"0.00"},{"v":0,"d":"0.00"},{"v":0,"d":"0.00"},null,"prüfen",{"$f":"IFERROR(OFFSET(MD!$U$5,MATCH(Grundlagen_Abrechnung_KAE!$E1243,MD_GENDER,0),0),\"\")","v":""},{"v":0,"d":"0.00"},null,{"v":0,"d":"0.00"},{"$f":"IF(F1243=\"Arbeitgeberähnliche Stellung\",OFFSET(MD!$Q$5,MATCH(Grundlagen_Abrechnung_KAE!$AK$7,MD_JAHR,0),0)*$H1243,IF(J1243>0,AC1243,I1243))","v":{"v":0,"d":"0.00"}},null,{"$f":"OFFSET(MD!$P$5,MATCH($AK$7,MD_JAHR,0),0)*12","v":{"$error":"#VALUE!"}},{"v":0,"d":"0.00"}]
[{"$nulls":14},{"$f":"IF($B1244=\"\",\"\",IF(F1244=\"Arbeitgeberähnliche Stellung\",OFFSET(MD!$Q$5,MATCH(Grundlagen_Abrechnung_KAE!$AK$7,MD_JAHR,0),0)*$H1244,IF(((AD1244/12*M1244*12)+N1244)>AF1244,AF1244/12,((AD1244/12*M1244*12)+N1244)/12)))","v":""},null,null,{"v":0,"d":"0.00"},null,{"v":0,"d":"0.00%"},{"v":0,"d":"0.00"},{"v":0,"d":"0.00"},{"v":0,"d":"0.00"},null,"prüfen",{"$f":"IFERROR(OFFSET(MD!$U$5,MATCH(Grundlagen_Abrechnung_KAE!$E1244,MD_GENDER,0),0),\"\")","v":""},{"v":0,"d":"0.00"},null,{"v":0,"d":"0.00"},{"$f":"IF(F1244=\"Arbeitgeberähnliche Stellung\",OFFSET(MD!$Q$5,MATCH(Grundlagen_Abrechnung_KAE!$AK$7,MD_JAHR,0),0)*$H1244,IF(J1244>0,AC1244,I1244))","v":{"v":0,"d":"0.00"}},null,{"$f":"OFFSET(MD!$P$5,MATCH($AK$7,MD_JAHR,0),0)*12","v":{"$error":"#VALUE!"}},{"v":0,"d":"0.00"}]
[{"$nulls":14},{"$f":"IF($B1245=\"\",\"\",IF(F1245=\"Arbeitgeberähnliche Stellung\",OFFSET(MD!$Q$5,MATCH(Grundlagen_Abrechnung_KAE!$AK$7,MD_JAHR,0),0)*$H1245,IF(((AD1245/12*M1245*12)+N1245)>AF1245,AF1245/12,((AD1245/12*M1245*12)+N1245)/12)))","v":""},null,null,{"v":0,"d":"0.00"},null,{"v":0,"d":"0.00%"},{"v":0,"d":"0.00"},{"v":0,"d":"0.00"},{"v":0,"d":"0.00"},null,"prüfen",{"$f":"IFERROR(OFFSET(MD!$U$5,MATCH(Grundlagen_Abrechnung_KAE!$E1245,MD_GENDER,0),0),\"\")","v":""},{"v":0,"d":"0.00"},null,{"v":0,"d":"0.00"},{"$f":"IF(F1245=\"Arbeitgeberähnliche Stellung\",OFFSET(MD!$Q$5,MATCH(Grundlagen_Abrechnung_KAE!$AK$7,MD_JAHR,0),0)*$H1245,IF(J1245>0,AC1245,I1245))","v":{"v":0,"d":"0.00"}},null,{"$f":"OFFSET(MD!$P$5,MATCH($AK$7,MD_JAHR,0),0)*12","v":{"$error":"#VALUE!"}},{"v":0,"d":"0.00"}]
[{"$nulls":14},{"$f":"IF($B1246=\"\",\"\",IF(F1246=\"Arbeitgeberähnliche Stellung\",OFFSET(MD!$Q$5,MATCH(Grundlagen_Abrechnung_KAE!$AK$7,MD_JAHR,0),0)*$H1246,IF(((AD1246/12*M1246*12)+N1246)>AF1246,AF1246/12,((AD1246/12*M1246*12)+N1246)/12)))","v":""},null,null,{"v":0,"d":"0.00"},null,{"v":0,"d":"0.00%"},{"v":0,"d":"0.00"},{"v":0,"d":"0.00"},{"v":0,"d":"0.00"},null,"prüfen",{"$f":"IFERROR(OFFSET(MD!$U$5,MATCH(Grundlagen_Abrechnung_KAE!$E1246,MD_GENDER,0),0),\"\")","v":""},{"v":0,"d":"0.00"},null,{"v":0,"d":"0.00"},{"$f":"IF(F1246=\"Arbeitgeberähnliche Stellung\",OFFSET(MD!$Q$5,MATCH(Grundlagen_Abrechnung_KAE!$AK$7,MD_JAHR,0),0)*$H1246,IF(J1246>0,AC1246,I1246))","v":{"v":0,"d":"0.00"}},null,{"$f":"OFFSET(MD!$P$5,MATCH($AK$7,MD_JAHR,0),0)*12","v":{"$error":"#VALUE!"}},{"v":0,"d":"0.00"}]
[{"$nulls":14},{"$f":"IF($B1247=\"\",\"\",IF(F1247=\"Arbeitgeberähnliche Stellung\",OFFSET(MD!$Q$5,MATCH(Grundlagen_Abrechnung_KAE!$AK$7,MD_JAHR,0),0)*$H1247,IF(((AD1247/12*M1247*12)+N1247)>AF1247,AF1247/12,((AD1247/12*M1247*12)+N1247)/12)))","v":""},null,null,{"v":0,"d":"0.00"},null,{"v":0,"d":"0.00%"},{"v":0,"d":"0.00"},{"v":0,"d":"0.00"},{"v":0,"d":"0.00"},null,"prüfen",{"$f":"IFERROR(OFFSET(MD!$U$5,MATCH(Grundlagen_Abrechnung_KAE!$E1247,MD_GENDER,0),0),\"\")","v":""},{"v":0,"d":"0.00"},null,{"v":0,"d":"0.00"},{"$f":"IF(F1247=\"Arbeitgeberähnliche Stellung\",OFFSET(MD!$Q$5,MATCH(Grundlagen_Abrechnung_KAE!$AK$7,MD_JAHR,0),0)*$H1247,IF(J1247>0,AC1247,I1247))","v":{"v":0,"d":"0.00"}},null,{"$f":"OFFSET(MD!$P$5,MATCH($AK$7,MD_JAHR,0),0)*12","v":{"$error":"#VALUE!"}},{"v":0,"d":"0.00"}]
[{"$nulls":14},{"$f":"IF($B1248=\"\",\"\",IF(F1248=\"Arbeitgeberähnliche Stellung\",OFFSET(MD!$Q$5,MATCH(Grundlagen_Abrechnung_KAE!$AK$7,MD_JAHR,0),0)*$H1248,IF(((AD1248/12*M1248*12)+N1248)>AF1248,AF1248/12,((AD1248/12*M1248*12)+N1248)/12)))","v":""},null,null,{"v":0,"d":"0.00"},null,{"v":0,"d":"0.00%"},{"v":0,"d":"0.00"},{"v":0,"d":"0.00"},{"v":0,"d":"0.00"},null,"prüfen",{"$f":"IFERROR(OFFSET(MD!$U$5,MATCH(Grundlagen_Abrechnung_KAE!$E1248,MD_GENDER,0),0),\"\")","v":""},{"v":0,"d":"0.00"},null,{"v":0,"d":"0.00"},{"$f":"IF(F1248=\"Arbeitgeberähnliche Stellung\",OFFSET(MD!$Q$5,MATCH(Grundlagen_Abrechnung_KAE!$AK$7,MD_JAHR,0),0)*$H1248,IF(J1248>0,AC1248,I1248))","v":{"v":0,"d":"0.00"}},null,{"$f":"OFFSET(MD!$P$5,MATCH($AK$7,MD_JAHR,0),0)*12","v":{"$error":"#VALUE!"}},{"v":0,"d":"0.00"}]
[{"$nulls":14},{"$f":"IF($B1249=\"\",\"\",IF(F1249=\"Arbeitgeberähnliche Stellung\",OFFSET(MD!$Q$5,MATCH(Grundlagen_Abrechnung_KAE!$AK$7,MD_JAHR,0),0)*$H1249,IF(((AD1249/12*M1249*12)+N1249)>AF1249,AF1249/12,((AD1249/12*M1249*12)+N1249)/12)))","v":""},null,null,{"v":0,"d":"0.00"},null,{"v":0,"d":"0.00%"},{"v":0,"d":"0.00"},{"v":0,"d":"0.00"},{"v":0,"d":"0.00"},null,"prüfen",{"$f":"IFERROR(OFFSET(MD!$U$5,MATCH(Grundlagen_Abrechnung_KAE!$E1249,MD_GENDER,0),0),\"\")","v":""},{"v":0,"d":"0.00"},null,{"v":0,"d":"0.00"},{"$f":"IF(F1249=\"Arbeitgeberähnliche Stellung\",OFFSET(MD!$Q$5,MATCH(Grundlagen_Abrechnung_KAE!$AK$7,MD_JAHR,0),0)*$H1249,IF(J1249>0,AC1249,I1249))","v":{"v":0,"d":"0.00"}},null,{"$f":"OFFSET(MD!$P$5,MATCH($AK$7,MD_JAHR,0),0)*12","v":{"$error":"#VALUE!"}},{"v":0,"d":"0.00"}]
[{"$nulls":14},{"$f":"IF($B1250=\"\",\"\",IF(F1250=\"Arbeitgeberähnliche Stellung\",OFFSET(MD!$Q$5,MATCH(Grundlagen_Abrechnung_KAE!$AK$7,MD_JAHR,0),0)*$H1250,IF(((AD1250/12*M1250*12)+N1250)>AF1250,AF1250/12,((AD1250/12*M1250*12)+N1250)/12)))","v":""},null,null,{"v":0,"d":"0.00"},null,{"v":0,"d":"0.00%"},{"v":0,"d":"0.00"},{"v":0,"d":"0.00"},{"v":0,"d":"0.00"},null,"prüfen",{"$f":"IFERROR(OFFSET(MD!$U$5,MATCH(Grundlagen_Abrechnung_KAE!$E1250,MD_GENDER,0),0),\"\")","v":""},{"v":0,"d":"0.00"},null,{"v":0,"d":"0.00"},{"$f":"IF(F1250=\"Arbeitgeberähnliche Stellung\",OFFSET(MD!$Q$5,MATCH(Grundlagen_Abrechnung_KAE!$AK$7,MD_JAHR,0),0)*$H1250,IF(J1250>0,AC1250,I1250))","v":{"v":0,"d":"0.00"}},null,{"$f":"OFFSET(MD!$P$5,MATCH($AK$7,MD_JAHR,0),0)*12","v":{"$error":"#VALUE!"}},{"v":0,"d":"0.00"}]
[{"$nulls":14},{"$f":"IF($B1251=\"\",\"\",IF(F1251=\"Arbeitgeberähnliche Stellung\",OFFSET(MD!$Q$5,MATCH(Grundlagen_Abrechnung_KAE!$AK$7,MD_JAHR,0),0)*$H1251,IF(((AD1251/12*M1251*12)+N1251)>AF1251,AF1251/12,((AD1251/12*M1251*12)+N1251)/12)))","v":""},null,null,{"v":0,"d":"0.00"},null,{"v":0,"d":"0.00%"},{"v":0,"d":"0.00"},{"v":0,"d":"0.00"},{"v":0,"d":"0.00"},null,"prüfen",{"$f":"IFERROR(OFFSET(MD!$U$5,MATCH(Grundlagen_Abrechnung_KAE!$E1251,MD_GENDER,0),0),\"\")","v":""},{"v":0,"d":"0.00"},null,{"v":0,"d":"0.00"},{"$f":"IF(F1251=\"Arbeitgeberähnliche Stellung\",OFFSET(MD!$Q$5,MATCH(Grundlagen_Abrechnung_KAE!$AK$7,MD_JAHR,0),0)*$H1251,IF(J1251>0,AC1251,I1251))","v":{"v":0,"d":"0.00"}},null,{"$f":"OFFSET(MD!$P$5,MATCH($AK$7,MD_JAHR,0),0)*12","v":{"$error":"#VALUE!"}},{"v":0,"d":"0.00"}]
[{"$nulls":14},{"$f":"IF($B1252=\"\",\"\",IF(F1252=\"Arbeitgeberähnliche Stellung\",OFFSET(MD!$Q$5,MATCH(Grundlagen_Abrechnung_KAE!$AK$7,MD_JAHR,0),0)*$H1252,IF(((AD1252/12*M1252*12)+N1252)>AF1252,AF1252/12,((AD1252/12*M1252*12)+N1252)/12)))","v":""},null,null,{"v":0,"d":"0.00"},null,{"v":0,"d":"0.00%"},{"v":0,"d":"0.00"},{"v":0,"d":"0.00"},{"v":0,"d":"0.00"},null,"prüfen",{"$f":"IFERROR(OFFSET(MD!$U$5,MATCH(Grundlagen_Abrechnung_KAE!$E1252,MD_GENDER,0),0),\"\")","v":""},{"v":0,"d":"0.00"},null,{"v":0,"d":"0.00"},{"$f":"IF(F1252=\"Arbeitgeberähnliche Stellung\",OFFSET(MD!$Q$5,MATCH(Grundlagen_Abrechnung_KAE!$AK$7,MD_JAHR,0),0)*$H1252,IF(J1252>0,AC1252,I1252))","v":{"v":0,"d":"0.00"}},null,{"$f":"OFFSET(MD!$P$5,MATCH($AK$7,MD_JAHR,0),0)*12","v":{"$error":"#VALUE!"}},{"v":0,"d":"0.00"}]
[{"$nulls":14},{"$f":"IF($B1253=\"\",\"\",IF(F1253=\"Arbeitgeberähnliche Stellung\",OFFSET(MD!$Q$5,MATCH(Grundlagen_Abrechnung_KAE!$AK$7,MD_JAHR,0),0)*$H1253,IF(((AD1253/12*M1253*12)+N1253)>AF1253,AF1253/12,((AD1253/12*M1253*12)+N1253)/12)))","v":""},null,null,{"v":0,"d":"0.00"},null,{"v":0,"d":"0.00%"},{"v":0,"d":"0.00"},{"v":0,"d":"0.00"},{"v":0,"d":"0.00"},null,"prüfen",{"$f":"IFERROR(OFFSET(MD!$U$5,MATCH(Grundlagen_Abrechnung_KAE!$E1253,MD_GENDER,0),0),\"\")","v":""},{"v":0,"d":"0.00"},null,{"v":0,"d":"0.00"},{"$f":"IF(F1253=\"Arbeitgeberähnliche Stellung\",OFFSET(MD!$Q$5,MATCH(Grundlagen_Abrechnung_KAE!$AK$7,MD_JAHR,0),0)*$H1253,IF(J1253>0,AC1253,I1253))","v":{"v":0,"d":"0.00"}},null,{"$f":"OFFSET(MD!$P$5,MATCH($AK$7,MD_JAHR,0),0)*12","v":{"$error":"#VALUE!"}},{"v":0,"d":"0.00"}]
[{"$nulls":14},{"$f":"IF($B1254=\"\",\"\",IF(F1254=\"Arbeitgeberähnliche Stellung\",OFFSET(MD!$Q$5,MATCH(Grundlagen_Abrechnung_KAE!$AK$7,MD_JAHR,0),0)*$H1254,IF(((AD1254/12*M1254*12)+N1254)>AF1254,AF1254/12,((AD1254/12*M1254*12)+N1254)/12)))","v":""},null,null,{"v":0,"d":"0.00"},null,{"v":0,"d":"0.00%"},{"v":0,"d":"0.00"},{"v":0,"d":"0.00"},{"v":0,"d":"0.00"},null,"prüfen",{"$f":"IFERROR(OFFSET(MD!$U$5,MATCH(Grundlagen_Abrechnung_KAE!$E1254,MD_GENDER,0),0),\"\")","v":""},{"v":0,"d":"0.00"},null,{"v":0,"d":"0.00"},{"$f":"IF(F1254=\"Arbeitgeberähnliche Stellung\",OFFSET(MD!$Q$5,MATCH(Grundlagen_Abrechnung_KAE!$AK$7,MD_JAHR,0),0)*$H1254,IF(J1254>0,AC1254,I1254))","v":{"v":0,"d":"0.00"}},null,{"$f":"OFFSET(MD!$P$5,MATCH($AK$7,MD_JAHR,0),0)*12","v":{"$error":"#VALUE!"}},{"v":0,"d":"0.00"}]
[{"$nulls":14},{"$f":"IF($B1255=\"\",\"\",IF(F1255=\"Arbeitgeberähnliche Stellung\",OFFSET(MD!$Q$5,MATCH(Grundlagen_Abrechnung_KAE!$AK$7,MD_JAHR,0),0)*$H1255,IF(((AD1255/12*M1255*12)+N1255)>AF1255,AF1255/12,((AD1255/12*M1255*12)+N1255)/12)))","v":""},null,null,{"v":0,"d":"0.00"},null,{"v":0,"d":"0.00%"},{"v":0,"d":"0.00"},{"v":0,"d":"0.00"},{"v":0,"d":"0.00"},null,"prüfen",{"$f":"IFERROR(OFFSET(MD!$U$5,MATCH(Grundlagen_Abrechnung_KAE!$E1255,MD_GENDER,0),0),\"\")","v":""},{"v":0,"d":"0.00"},null,{"v":0,"d":"0.00"},{"$f":"IF(F1255=\"Arbeitgeberähnliche Stellung\",OFFSET(MD!$Q$5,MATCH(Grundlagen_Abrechnung_KAE!$AK$7,MD_JAHR,0),0)*$H1255,IF(J1255>0,AC1255,I1255))","v":{"v":0,"d":"0.00"}},null,{"$f":"OFFSET(MD!$P$5,MATCH($AK$7,MD_JAHR,0),0)*12","v":{"$error":"#VALUE!"}},{"v":0,"d":"0.00"}]
[{"$nulls":14},{"$f":"IF($B1256=\"\",\"\",IF(F1256=\"Arbeitgeberähnliche Stellung\",OFFSET(MD!$Q$5,MATCH(Grundlagen_Abrechnung_KAE!$AK$7,MD_JAHR,0),0)*$H1256,IF(((AD1256/12*M1256*12)+N1256)>AF1256,AF1256/12,((AD1256/12*M1256*12)+N1256)/12)))","v":""},null,null,{"v":0,"d":"0.00"},null,{"v":0,"d":"0.00%"},{"v":0,"d":"0.00"},{"v":0,"d":"0.00"},{"v":0,"d":"0.00"},null,"prüfen",{"$f":"IFERROR(OFFSET(MD!$U$5,MATCH(Grundlagen_Abrechnung_KAE!$E1256,MD_GENDER,0),0),\"\")","v":""},{"v":0,"d":"0.00"},null,{"v":0,"d":"0.00"},{"$f":"IF(F1256=\"Arbeitgeberähnliche Stellung\",OFFSET(MD!$Q$5,MATCH(Grundlagen_Abrechnung_KAE!$AK$7,MD_JAHR,0),0)*$H1256,IF(J1256>0,AC1256,I1256))","v":{"v":0,"d":"0.00"}},null,{"$f":"OFFSET(MD!$P$5,MATCH($AK$7,MD_JAHR,0),0)*12","v":{"$error":"#VALUE!"}},{"v":0,"d":"0.00"}]
[{"$nulls":14},{"$f":"IF($B1257=\"\",\"\",IF(F1257=\"Arbeitgeberähnliche Stellung\",OFFSET(MD!$Q$5,MATCH(Grundlagen_Abrechnung_KAE!$AK$7,MD_JAHR,0),0)*$H1257,IF(((AD1257/12*M1257*12)+N1257)>AF1257,AF1257/12,((AD1257/12*M1257*12)+N1257)/12)))","v":""},null,null,{"v":0,"d":"0.00"},null,{"v":0,"d":"0.00%"},{"v":0,"d":"0.00"},{"v":0,"d":"0.00"},{"v":0,"d":"0.00"},null,"prüfen",{"$f":"IFERROR(OFFSET(MD!$U$5,MATCH(Grundlagen_Abrechnung_KAE!$E1257,MD_GENDER,0),0),\"\")","v":""},{"v":0,"d":"0.00"},null,{"v":0,"d":"0.00"},{"$f":"IF(F1257=\"Arbeitgeberähnliche Stellung\",OFFSET(MD!$Q$5,MATCH(Grundlagen_Abrechnung_KAE!$AK$7,MD_JAHR,0),0)*$H1257,IF(J1257>0,AC1257,I1257))","v":{"v":0,"d":"0.00"}},null,{"$f":"OFFSET(MD!$P$5,MATCH($AK$7,MD_JAHR,0),0)*12","v":{"$error":"#VALUE!"}},{"v":0,"d":"0.00"}]
[{"$nulls":14},{"$f":"IF($B1258=\"\",\"\",IF(F1258=\"Arbeitgeberähnliche Stellung\",OFFSET(MD!$Q$5,MATCH(Grundlagen_Abrechnung_KAE!$AK$7,MD_JAHR,0),0)*$H1258,IF(((AD1258/12*M1258*12)+N1258)>AF1258,AF1258/12,((AD1258/12*M1258*12)+N1258)/12)))","v":""},null,null,{"v":0,"d":"0.00"},null,{"v":0,"d":"0.00%"},{"v":0,"d":"0.00"},{"v":0,"d":"0.00"},{"v":0,"d":"0.00"},null,"prüfen",{"$f":"IFERROR(OFFSET(MD!$U$5,MATCH(Grundlagen_Abrechnung_KAE!$E1258,MD_GENDER,0),0),\"\")","v":""},{"v":0,"d":"0.00"},null,{"v":0,"d":"0.00"},{"$f":"IF(F1258=\"Arbeitgeberähnliche Stellung\",OFFSET(MD!$Q$5,MATCH(Grundlagen_Abrechnung_KAE!$AK$7,MD_JAHR,0),0)*$H1258,IF(J1258>0,AC1258,I1258))","v":{"v":0,"d":"0.00"}},null,{"$f":"OFFSET(MD!$P$5,MATCH($AK$7,MD_JAHR,0),0)*12","v":{"$error":"#VALUE!"}},{"v":0,"d":"0.00"}]
[{"$nulls":14},{"$f":"IF($B1259=\"\",\"\",IF(F1259=\"Arbeitgeberähnliche Stellung\",OFFSET(MD!$Q$5,MATCH(Grundlagen_Abrechnung_KAE!$AK$7,MD_JAHR,0),0)*$H1259,IF(((AD1259/12*M1259*12)+N1259)>AF1259,AF1259/12,((AD1259/12*M1259*12)+N1259)/12)))","v":""},null,null,{"v":0,"d":"0.00"},null,{"v":0,"d":"0.00%"},{"v":0,"d":"0.00"},{"v":0,"d":"0.00"},{"v":0,"d":"0.00"},null,"prüfen",{"$f":"IFERROR(OFFSET(MD!$U$5,MATCH(Grundlagen_Abrechnung_KAE!$E1259,MD_GENDER,0),0),\"\")","v":""},{"v":0,"d":"0.00"},null,{"v":0,"d":"0.00"},{"$f":"IF(F1259=\"Arbeitgeberähnliche Stellung\",OFFSET(MD!$Q$5,MATCH(Grundlagen_Abrechnung_KAE!$AK$7,MD_JAHR,0),0)*$H1259,IF(J1259>0,AC1259,I1259))","v":{"v":0,"d":"0.00"}},null,{"$f":"OFFSET(MD!$P$5,MATCH($AK$7,MD_JAHR,0),0)*12","v":{"$error":"#VALUE!"}},{"v":0,"d":"0.00"}]
[{"$nulls":14},{"$f":"IF($B1260=\"\",\"\",IF(F1260=\"Arbeitgeberähnliche Stellung\",OFFSET(MD!$Q$5,MATCH(Grundlagen_Abrechnung_KAE!$AK$7,MD_JAHR,0),0)*$H1260,IF(((AD1260/12*M1260*12)+N1260)>AF1260,AF1260/12,((AD1260/12*M1260*12)+N1260)/12)))","v":""},null,null,{"v":0,"d":"0.00"},null,{"v":0,"d":"0.00%"},{"v":0,"d":"0.00"},{"v":0,"d":"0.00"},{"v":0,"d":"0.00"},null,"prüfen",{"$f":"IFERROR(OFFSET(MD!$U$5,MATCH(Grundlagen_Abrechnung_KAE!$E1260,MD_GENDER,0),0),\"\")","v":""},{"v":0,"d":"0.00"},null,{"v":0,"d":"0.00"},{"$f":"IF(F1260=\"Arbeitgeberähnliche Stellung\",OFFSET(MD!$Q$5,MATCH(Grundlagen_Abrechnung_KAE!$AK$7,MD_JAHR,0),0)*$H1260,IF(J1260>0,AC1260,I1260))","v":{"v":0,"d":"0.00"}},null,{"$f":"OFFSET(MD!$P$5,MATCH($AK$7,MD_JAHR,0),0)*12","v":{"$error":"#VALUE!"}},{"v":0,"d":"0.00"}]
[{"$nulls":14},{"$f":"IF($B1261=\"\",\"\",IF(F1261=\"Arbeitgeberähnliche Stellung\",OFFSET(MD!$Q$5,MATCH(Grundlagen_Abrechnung_KAE!$AK$7,MD_JAHR,0),0)*$H1261,IF(((AD1261/12*M1261*12)+N1261)>AF1261,AF1261/12,((AD1261/12*M1261*12)+N1261)/12)))","v":""},null,null,{"v":0,"d":"0.00"},null,{"v":0,"d":"0.00%"},{"v":0,"d":"0.00"},{"v":0,"d":"0.00"},{"v":0,"d":"0.00"},null,"prüfen",{"$f":"IFERROR(OFFSET(MD!$U$5,MATCH(Grundlagen_Abrechnung_KAE!$E1261,MD_GENDER,0),0),\"\")","v":""},{"v":0,"d":"0.00"},null,{"v":0,"d":"0.00"},{"$f":"IF(F1261=\"Arbeitgeberähnliche Stellung\",OFFSET(MD!$Q$5,MATCH(Grundlagen_Abrechnung_KAE!$AK$7,MD_JAHR,0),0)*$H1261,IF(J1261>0,AC1261,I1261))","v":{"v":0,"d":"0.00"}},null,{"$f":"OFFSET(MD!$P$5,MATCH($AK$7,MD_JAHR,0),0)*12","v":{"$error":"#VALUE!"}},{"v":0,"d":"0.00"}]
[{"$nulls":14},{"$f":"IF($B1262=\"\",\"\",IF(F1262=\"Arbeitgeberähnliche Stellung\",OFFSET(MD!$Q$5,MATCH(Grundlagen_Abrechnung_KAE!$AK$7,MD_JAHR,0),0)*$H1262,IF(((AD1262/12*M1262*12)+N1262)>AF1262,AF1262/12,((AD1262/12*M1262*12)+N1262)/12)))","v":""},null,null,{"v":0,"d":"0.00"},null,{"v":0,"d":"0.00%"},{"v":0,"d":"0.00"},{"v":0,"d":"0.00"},{"v":0,"d":"0.00"},null,"prüfen",{"$f":"IFERROR(OFFSET(MD!$U$5,MATCH(Grundlagen_Abrechnung_KAE!$E1262,MD_GENDER,0),0),\"\")","v":""},{"v":0,"d":"0.00"},null,{"v":0,"d":"0.00"},{"$f":"IF(F1262=\"Arbeitgeberähnliche Stellung\",OFFSET(MD!$Q$5,MATCH(Grundlagen_Abrechnung_KAE!$AK$7,MD_JAHR,0),0)*$H1262,IF(J1262>0,AC1262,I1262))","v":{"v":0,"d":"0.00"}},null,{"$f":"OFFSET(MD!$P$5,MATCH($AK$7,MD_JAHR,0),0)*12","v":{"$error":"#VALUE!"}},{"v":0,"d":"0.00"}]
[{"$nulls":14},{"$f":"IF($B1263=\"\",\"\",IF(F1263=\"Arbeitgeberähnliche Stellung\",OFFSET(MD!$Q$5,MATCH(Grundlagen_Abrechnung_KAE!$AK$7,MD_JAHR,0),0)*$H1263,IF(((AD1263/12*M1263*12)+N1263)>AF1263,AF1263/12,((AD1263/12*M1263*12)+N1263)/12)))","v":""},null,null,{"v":0,"d":"0.00"},null,{"v":0,"d":"0.00%"},{"v":0,"d":"0.00"},{"v":0,"d":"0.00"},{"v":0,"d":"0.00"},null,"prüfen",{"$f":"IFERROR(OFFSET(MD!$U$5,MATCH(Grundlagen_Abrechnung_KAE!$E1263,MD_GENDER,0),0),\"\")","v":""},{"v":0,"d":"0.00"},null,{"v":0,"d":"0.00"},{"$f":"IF(F1263=\"Arbeitgeberähnliche Stellung\",OFFSET(MD!$Q$5,MATCH(Grundlagen_Abrechnung_KAE!$AK$7,MD_JAHR,0),0)*$H1263,IF(J1263>0,AC1263,I1263))","v":{"v":0,"d":"0.00"}},null,{"$f":"OFFSET(MD!$P$5,MATCH($AK$7,MD_JAHR,0),0)*12","v":{"$error":"#VALUE!"}},{"v":0,"d":"0.00"}]
[{"$nulls":14},{"$f":"IF($B1264=\"\",\"\",IF(F1264=\"Arbeitgeberähnliche Stellung\",OFFSET(MD!$Q$5,MATCH(Grundlagen_Abrechnung_KAE!$AK$7,MD_JAHR,0),0)*$H1264,IF(((AD1264/12*M1264*12)+N1264)>AF1264,AF1264/12,((AD1264/12*M1264*12)+N1264)/12)))","v":""},null,null,{"v":0,"d":"0.00"},null,{"v":0,"d":"0.00%"},{"v":0,"d":"0.00"},{"v":0,"d":"0.00"},{"v":0,"d":"0.00"},null,"prüfen",{"$f":"IFERROR(OFFSET(MD!$U$5,MATCH(Grundlagen_Abrechnung_KAE!$E1264,MD_GENDER,0),0),\"\")","v":""},{"v":0,"d":"0.00"},null,{"v":0,"d":"0.00"},{"$f":"IF(F1264=\"Arbeitgeberähnliche Stellung\",OFFSET(MD!$Q$5,MATCH(Grundlagen_Abrechnung_KAE!$AK$7,MD_JAHR,0),0)*$H1264,IF(J1264>0,AC1264,I1264))","v":{"v":0,"d":"0.00"}},null,{"$f":"OFFSET(MD!$P$5,MATCH($AK$7,MD_JAHR,0),0)*12","v":{"$error":"#VALUE!"}},{"v":0,"d":"0.00"}]
[{"$nulls":14},{"$f":"IF($B1265=\"\",\"\",IF(F1265=\"Arbeitgeberähnliche Stellung\",OFFSET(MD!$Q$5,MATCH(Grundlagen_Abrechnung_KAE!$AK$7,MD_JAHR,0),0)*$H1265,IF(((AD1265/12*M1265*12)+N1265)>AF1265,AF1265/12,((AD1265/12*M1265*12)+N1265)/12)))","v":""},null,null,{"v":0,"d":"0.00"},null,{"v":0,"d":"0.00%"},{"v":0,"d":"0.00"},{"v":0,"d":"0.00"},{"v":0,"d":"0.00"},null,"prüfen",{"$f":"IFERROR(OFFSET(MD!$U$5,MATCH(Grundlagen_Abrechnung_KAE!$E1265,MD_GENDER,0),0),\"\")","v":""},{"v":0,"d":"0.00"},null,{"v":0,"d":"0.00"},{"$f":"IF(F1265=\"Arbeitgeberähnliche Stellung\",OFFSET(MD!$Q$5,MATCH(Grundlagen_Abrechnung_KAE!$AK$7,MD_JAHR,0),0)*$H1265,IF(J1265>0,AC1265,I1265))","v":{"v":0,"d":"0.00"}},null,{"$f":"OFFSET(MD!$P$5,MATCH($AK$7,MD_JAHR,0),0)*12","v":{"$error":"#VALUE!"}},{"v":0,"d":"0.00"}]
[{"$nulls":14},{"$f":"IF($B1266=\"\",\"\",IF(F1266=\"Arbeitgeberähnliche Stellung\",OFFSET(MD!$Q$5,MATCH(Grundlagen_Abrechnung_KAE!$AK$7,MD_JAHR,0),0)*$H1266,IF(((AD1266/12*M1266*12)+N1266)>AF1266,AF1266/12,((AD1266/12*M1266*12)+N1266)/12)))","v":""},null,null,{"v":0,"d":"0.00"},null,{"v":0,"d":"0.00%"},{"v":0,"d":"0.00"},{"v":0,"d":"0.00"},{"v":0,"d":"0.00"},null,"prüfen",{"$f":"IFERROR(OFFSET(MD!$U$5,MATCH(Grundlagen_Abrechnung_KAE!$E1266,MD_GENDER,0),0),\"\")","v":""},{"v":0,"d":"0.00"},null,{"v":0,"d":"0.00"},{"$f":"IF(F1266=\"Arbeitgeberähnliche Stellung\",OFFSET(MD!$Q$5,MATCH(Grundlagen_Abrechnung_KAE!$AK$7,MD_JAHR,0),0)*$H1266,IF(J1266>0,AC1266,I1266))","v":{"v":0,"d":"0.00"}},null,{"$f":"OFFSET(MD!$P$5,MATCH($AK$7,MD_JAHR,0),0)*12","v":{"$error":"#VALUE!"}},{"v":0,"d":"0.00"}]
[{"$nulls":14},{"$f":"IF($B1267=\"\",\"\",IF(F1267=\"Arbeitgeberähnliche Stellung\",OFFSET(MD!$Q$5,MATCH(Grundlagen_Abrechnung_KAE!$AK$7,MD_JAHR,0),0)*$H1267,IF(((AD1267/12*M1267*12)+N1267)>AF1267,AF1267/12,((AD1267/12*M1267*12)+N1267)/12)))","v":""},null,null,{"v":0,"d":"0.00"},null,{"v":0,"d":"0.00%"},{"v":0,"d":"0.00"},{"v":0,"d":"0.00"},{"v":0,"d":"0.00"},null,"prüfen",{"$f":"IFERROR(OFFSET(MD!$U$5,MATCH(Grundlagen_Abrechnung_KAE!$E1267,MD_GENDER,0),0),\"\")","v":""},{"v":0,"d":"0.00"},null,{"v":0,"d":"0.00"},{"$f":"IF(F1267=\"Arbeitgeberähnliche Stellung\",OFFSET(MD!$Q$5,MATCH(Grundlagen_Abrechnung_KAE!$AK$7,MD_JAHR,0),0)*$H1267,IF(J1267>0,AC1267,I1267))","v":{"v":0,"d":"0.00"}},null,{"$f":"OFFSET(MD!$P$5,MATCH($AK$7,MD_JAHR,0),0)*12","v":{"$error":"#VALUE!"}},{"v":0,"d":"0.00"}]
[{"$nulls":14},{"$f":"IF($B1268=\"\",\"\",IF(F1268=\"Arbeitgeberähnliche Stellung\",OFFSET(MD!$Q$5,MATCH(Grundlagen_Abrechnung_KAE!$AK$7,MD_JAHR,0),0)*$H1268,IF(((AD1268/12*M1268*12)+N1268)>AF1268,AF1268/12,((AD1268/12*M1268*12)+N1268)/12)))","v":""},null,null,{"v":0,"d":"0.00"},null,{"v":0,"d":"0.00%"},{"v":0,"d":"0.00"},{"v":0,"d":"0.00"},{"v":0,"d":"0.00"},null,"prüfen",{"$f":"IFERROR(OFFSET(MD!$U$5,MATCH(Grundlagen_Abrechnung_KAE!$E1268,MD_GENDER,0),0),\"\")","v":""},{"v":0,"d":"0.00"},null,{"v":0,"d":"0.00"},{"$f":"IF(F1268=\"Arbeitgeberähnliche Stellung\",OFFSET(MD!$Q$5,MATCH(Grundlagen_Abrechnung_KAE!$AK$7,MD_JAHR,0),0)*$H1268,IF(J1268>0,AC1268,I1268))","v":{"v":0,"d":"0.00"}},null,{"$f":"OFFSET(MD!$P$5,MATCH($AK$7,MD_JAHR,0),0)*12","v":{"$error":"#VALUE!"}},{"v":0,"d":"0.00"}]
[{"$nulls":14},{"$f":"IF($B1269=\"\",\"\",IF(F1269=\"Arbeitgeberähnliche Stellung\",OFFSET(MD!$Q$5,MATCH(Grundlagen_Abrechnung_KAE!$AK$7,MD_JAHR,0),0)*$H1269,IF(((AD1269/12*M1269*12)+N1269)>AF1269,AF1269/12,((AD1269/12*M1269*12)+N1269)/12)))","v":""},null,null,{"v":0,"d":"0.00"},null,{"v":0,"d":"0.00%"},{"v":0,"d":"0.00"},{"v":0,"d":"0.00"},{"v":0,"d":"0.00"},null,"prüfen",{"$f":"IFERROR(OFFSET(MD!$U$5,MATCH(Grundlagen_Abrechnung_KAE!$E1269,MD_GENDER,0),0),\"\")","v":""},{"v":0,"d":"0.00"},null,{"v":0,"d":"0.00"},{"$f":"IF(F1269=\"Arbeitgeberähnliche Stellung\",OFFSET(MD!$Q$5,MATCH(Grundlagen_Abrechnung_KAE!$AK$7,MD_JAHR,0),0)*$H1269,IF(J1269>0,AC1269,I1269))","v":{"v":0,"d":"0.00"}},null,{"$f":"OFFSET(MD!$P$5,MATCH($AK$7,MD_JAHR,0),0)*12","v":{"$error":"#VALUE!"}},{"v":0,"d":"0.00"}]
[{"$nulls":14},{"$f":"IF($B1270=\"\",\"\",IF(F1270=\"Arbeitgeberähnliche Stellung\",OFFSET(MD!$Q$5,MATCH(Grundlagen_Abrechnung_KAE!$AK$7,MD_JAHR,0),0)*$H1270,IF(((AD1270/12*M1270*12)+N1270)>AF1270,AF1270/12,((AD1270/12*M1270*12)+N1270)/12)))","v":""},null,null,{"v":0,"d":"0.00"},null,{"v":0,"d":"0.00%"},{"v":0,"d":"0.00"},{"v":0,"d":"0.00"},{"v":0,"d":"0.00"},null,"prüfen",{"$f":"IFERROR(OFFSET(MD!$U$5,MATCH(Grundlagen_Abrechnung_KAE!$E1270,MD_GENDER,0),0),\"\")","v":""},{"v":0,"d":"0.00"},null,{"v":0,"d":"0.00"},{"$f":"IF(F1270=\"Arbeitgeberähnliche Stellung\",OFFSET(MD!$Q$5,MATCH(Grundlagen_Abrechnung_KAE!$AK$7,MD_JAHR,0),0)*$H1270,IF(J1270>0,AC1270,I1270))","v":{"v":0,"d":"0.00"}},null,{"$f":"OFFSET(MD!$P$5,MATCH($AK$7,MD_JAHR,0),0)*12","v":{"$error":"#VALUE!"}},{"v":0,"d":"0.00"}]
[{"$nulls":14},{"$f":"IF($B1271=\"\",\"\",IF(F1271=\"Arbeitgeberähnliche Stellung\",OFFSET(MD!$Q$5,MATCH(Grundlagen_Abrechnung_KAE!$AK$7,MD_JAHR,0),0)*$H1271,IF(((AD1271/12*M1271*12)+N1271)>AF1271,AF1271/12,((AD1271/12*M1271*12)+N1271)/12)))","v":""},null,null,{"v":0,"d":"0.00"},null,{"v":0,"d":"0.00%"},{"v":0,"d":"0.00"},{"v":0,"d":"0.00"},{"v":0,"d":"0.00"},null,"prüfen",{"$f":"IFERROR(OFFSET(MD!$U$5,MATCH(Grundlagen_Abrechnung_KAE!$E1271,MD_GENDER,0),0),\"\")","v":""},{"v":0,"d":"0.00"},null,{"v":0,"d":"0.00"},{"$f":"IF(F1271=\"Arbeitgeberähnliche Stellung\",OFFSET(MD!$Q$5,MATCH(Grundlagen_Abrechnung_KAE!$AK$7,MD_JAHR,0),0)*$H1271,IF(J1271>0,AC1271,I1271))","v":{"v":0,"d":"0.00"}},null,{"$f":"OFFSET(MD!$P$5,MATCH($AK$7,MD_JAHR,0),0)*12","v":{"$error":"#VALUE!"}},{"v":0,"d":"0.00"}]
[{"$nulls":14},{"$f":"IF($B1272=\"\",\"\",IF(F1272=\"Arbeitgeberähnliche Stellung\",OFFSET(MD!$Q$5,MATCH(Grundlagen_Abrechnung_KAE!$AK$7,MD_JAHR,0),0)*$H1272,IF(((AD1272/12*M1272*12)+N1272)>AF1272,AF1272/12,((AD1272/12*M1272*12)+N1272)/12)))","v":""},null,null,{"v":0,"d":"0.00"},null,{"v":0,"d":"0.00%"},{"v":0,"d":"0.00"},{"v":0,"d":"0.00"},{"v":0,"d":"0.00"},null,"prüfen",{"$f":"IFERROR(OFFSET(MD!$U$5,MATCH(Grundlagen_Abrechnung_KAE!$E1272,MD_GENDER,0),0),\"\")","v":""},{"v":0,"d":"0.00"},null,{"v":0,"d":"0.00"},{"$f":"IF(F1272=\"Arbeitgeberähnliche Stellung\",OFFSET(MD!$Q$5,MATCH(Grundlagen_Abrechnung_KAE!$AK$7,MD_JAHR,0),0)*$H1272,IF(J1272>0,AC1272,I1272))","v":{"v":0,"d":"0.00"}},null,{"$f":"OFFSET(MD!$P$5,MATCH($AK$7,MD_JAHR,0),0)*12","v":{"$error":"#VALUE!"}},{"v":0,"d":"0.00"}]
[{"$nulls":14},{"$f":"IF($B1273=\"\",\"\",IF(F1273=\"Arbeitgeberähnliche Stellung\",OFFSET(MD!$Q$5,MATCH(Grundlagen_Abrechnung_KAE!$AK$7,MD_JAHR,0),0)*$H1273,IF(((AD1273/12*M1273*12)+N1273)>AF1273,AF1273/12,((AD1273/12*M1273*12)+N1273)/12)))","v":""},null,null,{"v":0,"d":"0.00"},null,{"v":0,"d":"0.00%"},{"v":0,"d":"0.00"},{"v":0,"d":"0.00"},{"v":0,"d":"0.00"},null,"prüfen",{"$f":"IFERROR(OFFSET(MD!$U$5,MATCH(Grundlagen_Abrechnung_KAE!$E1273,MD_GENDER,0),0),\"\")","v":""},{"v":0,"d":"0.00"},null,{"v":0,"d":"0.00"},{"$f":"IF(F1273=\"Arbeitgeberähnliche Stellung\",OFFSET(MD!$Q$5,MATCH(Grundlagen_Abrechnung_KAE!$AK$7,MD_JAHR,0),0)*$H1273,IF(J1273>0,AC1273,I1273))","v":{"v":0,"d":"0.00"}},null,{"$f":"OFFSET(MD!$P$5,MATCH($AK$7,MD_JAHR,0),0)*12","v":{"$error":"#VALUE!"}},{"v":0,"d":"0.00"}]
[{"$nulls":14},{"$f":"IF($B1274=\"\",\"\",IF(F1274=\"Arbeitgeberähnliche Stellung\",OFFSET(MD!$Q$5,MATCH(Grundlagen_Abrechnung_KAE!$AK$7,MD_JAHR,0),0)*$H1274,IF(((AD1274/12*M1274*12)+N1274)>AF1274,AF1274/12,((AD1274/12*M1274*12)+N1274)/12)))","v":""},null,null,{"v":0,"d":"0.00"},null,{"v":0,"d":"0.00%"},{"v":0,"d":"0.00"},{"v":0,"d":"0.00"},{"v":0,"d":"0.00"},null,"prüfen",{"$f":"IFERROR(OFFSET(MD!$U$5,MATCH(Grundlagen_Abrechnung_KAE!$E1274,MD_GENDER,0),0),\"\")","v":""},{"v":0,"d":"0.00"},null,{"v":0,"d":"0.00"},{"$f":"IF(F1274=\"Arbeitgeberähnliche Stellung\",OFFSET(MD!$Q$5,MATCH(Grundlagen_Abrechnung_KAE!$AK$7,MD_JAHR,0),0)*$H1274,IF(J1274>0,AC1274,I1274))","v":{"v":0,"d":"0.00"}},null,{"$f":"OFFSET(MD!$P$5,MATCH($AK$7,MD_JAHR,0),0)*12","v":{"$error":"#VALUE!"}},{"v":0,"d":"0.00"}]
[{"$nulls":14},{"$f":"IF($B1275=\"\",\"\",IF(F1275=\"Arbeitgeberähnliche Stellung\",OFFSET(MD!$Q$5,MATCH(Grundlagen_Abrechnung_KAE!$AK$7,MD_JAHR,0),0)*$H1275,IF(((AD1275/12*M1275*12)+N1275)>AF1275,AF1275/12,((AD1275/12*M1275*12)+N1275)/12)))","v":""},null,null,{"v":0,"d":"0.00"},null,{"v":0,"d":"0.00%"},{"v":0,"d":"0.00"},{"v":0,"d":"0.00"},{"v":0,"d":"0.00"},null,"prüfen",{"$f":"IFERROR(OFFSET(MD!$U$5,MATCH(Grundlagen_Abrechnung_KAE!$E1275,MD_GENDER,0),0),\"\")","v":""},{"v":0,"d":"0.00"},null,{"v":0,"d":"0.00"},{"$f":"IF(F1275=\"Arbeitgeberähnliche Stellung\",OFFSET(MD!$Q$5,MATCH(Grundlagen_Abrechnung_KAE!$AK$7,MD_JAHR,0),0)*$H1275,IF(J1275>0,AC1275,I1275))","v":{"v":0,"d":"0.00"}},null,{"$f":"OFFSET(MD!$P$5,MATCH($AK$7,MD_JAHR,0),0)*12","v":{"$error":"#VALUE!"}},{"v":0,"d":"0.00"}]
[{"$nulls":14},{"$f":"IF($B1276=\"\",\"\",IF(F1276=\"Arbeitgeberähnliche Stellung\",OFFSET(MD!$Q$5,MATCH(Grundlagen_Abrechnung_KAE!$AK$7,MD_JAHR,0),0)*$H1276,IF(((AD1276/12*M1276*12)+N1276)>AF1276,AF1276/12,((AD1276/12*M1276*12)+N1276)/12)))","v":""},null,null,{"v":0,"d":"0.00"},null,{"v":0,"d":"0.00%"},{"v":0,"d":"0.00"},{"v":0,"d":"0.00"},{"v":0,"d":"0.00"},null,"prüfen",{"$f":"IFERROR(OFFSET(MD!$U$5,MATCH(Grundlagen_Abrechnung_KAE!$E1276,MD_GENDER,0),0),\"\")","v":""},{"v":0,"d":"0.00"},null,{"v":0,"d":"0.00"},{"$f":"IF(F1276=\"Arbeitgeberähnliche Stellung\",OFFSET(MD!$Q$5,MATCH(Grundlagen_Abrechnung_KAE!$AK$7,MD_JAHR,0),0)*$H1276,IF(J1276>0,AC1276,I1276))","v":{"v":0,"d":"0.00"}},null,{"$f":"OFFSET(MD!$P$5,MATCH($AK$7,MD_JAHR,0),0)*12","v":{"$error":"#VALUE!"}},{"v":0,"d":"0.00"}]
[{"$nulls":14},{"$f":"IF($B1277=\"\",\"\",IF(F1277=\"Arbeitgeberähnliche Stellung\",OFFSET(MD!$Q$5,MATCH(Grundlagen_Abrechnung_KAE!$AK$7,MD_JAHR,0),0)*$H1277,IF(((AD1277/12*M1277*12)+N1277)>AF1277,AF1277/12,((AD1277/12*M1277*12)+N1277)/12)))","v":""},null,null,{"v":0,"d":"0.00"},null,{"v":0,"d":"0.00%"},{"v":0,"d":"0.00"},{"v":0,"d":"0.00"},{"v":0,"d":"0.00"},null,"prüfen",{"$f":"IFERROR(OFFSET(MD!$U$5,MATCH(Grundlagen_Abrechnung_KAE!$E1277,MD_GENDER,0),0),\"\")","v":""},{"v":0,"d":"0.00"},null,{"v":0,"d":"0.00"},{"$f":"IF(F1277=\"Arbeitgeberähnliche Stellung\",OFFSET(MD!$Q$5,MATCH(Grundlagen_Abrechnung_KAE!$AK$7,MD_JAHR,0),0)*$H1277,IF(J1277>0,AC1277,I1277))","v":{"v":0,"d":"0.00"}},null,{"$f":"OFFSET(MD!$P$5,MATCH($AK$7,MD_JAHR,0),0)*12","v":{"$error":"#VALUE!"}},{"v":0,"d":"0.00"}]
[{"$nulls":14},{"$f":"IF($B1278=\"\",\"\",IF(F1278=\"Arbeitgeberähnliche Stellung\",OFFSET(MD!$Q$5,MATCH(Grundlagen_Abrechnung_KAE!$AK$7,MD_JAHR,0),0)*$H1278,IF(((AD1278/12*M1278*12)+N1278)>AF1278,AF1278/12,((AD1278/12*M1278*12)+N1278)/12)))","v":""},null,null,{"v":0,"d":"0.00"},null,{"v":0,"d":"0.00%"},{"v":0,"d":"0.00"},{"v":0,"d":"0.00"},{"v":0,"d":"0.00"},null,"prüfen",{"$f":"IFERROR(OFFSET(MD!$U$5,MATCH(Grundlagen_Abrechnung_KAE!$E1278,MD_GENDER,0),0),\"\")","v":""},{"v":0,"d":"0.00"},null,{"v":0,"d":"0.00"},{"$f":"IF(F1278=\"Arbeitgeberähnliche Stellung\",OFFSET(MD!$Q$5,MATCH(Grundlagen_Abrechnung_KAE!$AK$7,MD_JAHR,0),0)*$H1278,IF(J1278>0,AC1278,I1278))","v":{"v":0,"d":"0.00"}},null,{"$f":"OFFSET(MD!$P$5,MATCH($AK$7,MD_JAHR,0),0)*12","v":{"$error":"#VALUE!"}},{"v":0,"d":"0.00"}]
[{"$nulls":14},{"$f":"IF($B1279=\"\",\"\",IF(F1279=\"Arbeitgeberähnliche Stellung\",OFFSET(MD!$Q$5,MATCH(Grundlagen_Abrechnung_KAE!$AK$7,MD_JAHR,0),0)*$H1279,IF(((AD1279/12*M1279*12)+N1279)>AF1279,AF1279/12,((AD1279/12*M1279*12)+N1279)/12)))","v":""},null,null,{"v":0,"d":"0.00"},null,{"v":0,"d":"0.00%"},{"v":0,"d":"0.00"},{"v":0,"d":"0.00"},{"v":0,"d":"0.00"},null,"prüfen",{"$f":"IFERROR(OFFSET(MD!$U$5,MATCH(Grundlagen_Abrechnung_KAE!$E1279,MD_GENDER,0),0),\"\")","v":""},{"v":0,"d":"0.00"},null,{"v":0,"d":"0.00"},{"$f":"IF(F1279=\"Arbeitgeberähnliche Stellung\",OFFSET(MD!$Q$5,MATCH(Grundlagen_Abrechnung_KAE!$AK$7,MD_JAHR,0),0)*$H1279,IF(J1279>0,AC1279,I1279))","v":{"v":0,"d":"0.00"}},null,{"$f":"OFFSET(MD!$P$5,MATCH($AK$7,MD_JAHR,0),0)*12","v":{"$error":"#VALUE!"}},{"v":0,"d":"0.00"}]
[{"$nulls":14},{"$f":"IF($B1280=\"\",\"\",IF(F1280=\"Arbeitgeberähnliche Stellung\",OFFSET(MD!$Q$5,MATCH(Grundlagen_Abrechnung_KAE!$AK$7,MD_JAHR,0),0)*$H1280,IF(((AD1280/12*M1280*12)+N1280)>AF1280,AF1280/12,((AD1280/12*M1280*12)+N1280)/12)))","v":""},null,null,{"v":0,"d":"0.00"},null,{"v":0,"d":"0.00%"},{"v":0,"d":"0.00"},{"v":0,"d":"0.00"},{"v":0,"d":"0.00"},null,"prüfen",{"$f":"IFERROR(OFFSET(MD!$U$5,MATCH(Grundlagen_Abrechnung_KAE!$E1280,MD_GENDER,0),0),\"\")","v":""},{"v":0,"d":"0.00"},null,{"v":0,"d":"0.00"},{"$f":"IF(F1280=\"Arbeitgeberähnliche Stellung\",OFFSET(MD!$Q$5,MATCH(Grundlagen_Abrechnung_KAE!$AK$7,MD_JAHR,0),0)*$H1280,IF(J1280>0,AC1280,I1280))","v":{"v":0,"d":"0.00"}},null,{"$f":"OFFSET(MD!$P$5,MATCH($AK$7,MD_JAHR,0),0)*12","v":{"$error":"#VALUE!"}},{"v":0,"d":"0.00"}]
[{"$nulls":14},{"$f":"IF($B1281=\"\",\"\",IF(F1281=\"Arbeitgeberähnliche Stellung\",OFFSET(MD!$Q$5,MATCH(Grundlagen_Abrechnung_KAE!$AK$7,MD_JAHR,0),0)*$H1281,IF(((AD1281/12*M1281*12)+N1281)>AF1281,AF1281/12,((AD1281/12*M1281*12)+N1281)/12)))","v":""},null,null,{"v":0,"d":"0.00"},null,{"v":0,"d":"0.00%"},{"v":0,"d":"0.00"},{"v":0,"d":"0.00"},{"v":0,"d":"0.00"},null,"prüfen",{"$f":"IFERROR(OFFSET(MD!$U$5,MATCH(Grundlagen_Abrechnung_KAE!$E1281,MD_GENDER,0),0),\"\")","v":""},{"v":0,"d":"0.00"},null,{"v":0,"d":"0.00"},{"$f":"IF(F1281=\"Arbeitgeberähnliche Stellung\",OFFSET(MD!$Q$5,MATCH(Grundlagen_Abrechnung_KAE!$AK$7,MD_JAHR,0),0)*$H1281,IF(J1281>0,AC1281,I1281))","v":{"v":0,"d":"0.00"}},null,{"$f":"OFFSET(MD!$P$5,MATCH($AK$7,MD_JAHR,0),0)*12","v":{"$error":"#VALUE!"}},{"v":0,"d":"0.00"}]
[{"$nulls":14},{"$f":"IF($B1282=\"\",\"\",IF(F1282=\"Arbeitgeberähnliche Stellung\",OFFSET(MD!$Q$5,MATCH(Grundlagen_Abrechnung_KAE!$AK$7,MD_JAHR,0),0)*$H1282,IF(((AD1282/12*M1282*12)+N1282)>AF1282,AF1282/12,((AD1282/12*M1282*12)+N1282)/12)))","v":""},null,null,{"v":0,"d":"0.00"},null,{"v":0,"d":"0.00%"},{"v":0,"d":"0.00"},{"v":0,"d":"0.00"},{"v":0,"d":"0.00"},null,"prüfen",{"$f":"IFERROR(OFFSET(MD!$U$5,MATCH(Grundlagen_Abrechnung_KAE!$E1282,MD_GENDER,0),0),\"\")","v":""},{"v":0,"d":"0.00"},null,{"v":0,"d":"0.00"},{"$f":"IF(F1282=\"Arbeitgeberähnliche Stellung\",OFFSET(MD!$Q$5,MATCH(Grundlagen_Abrechnung_KAE!$AK$7,MD_JAHR,0),0)*$H1282,IF(J1282>0,AC1282,I1282))","v":{"v":0,"d":"0.00"}},null,{"$f":"OFFSET(MD!$P$5,MATCH($AK$7,MD_JAHR,0),0)*12","v":{"$error":"#VALUE!"}},{"v":0,"d":"0.00"}]
[{"$nulls":14},{"$f":"IF($B1283=\"\",\"\",IF(F1283=\"Arbeitgeberähnliche Stellung\",OFFSET(MD!$Q$5,MATCH(Grundlagen_Abrechnung_KAE!$AK$7,MD_JAHR,0),0)*$H1283,IF(((AD1283/12*M1283*12)+N1283)>AF1283,AF1283/12,((AD1283/12*M1283*12)+N1283)/12)))","v":""},null,null,{"v":0,"d":"0.00"},null,{"v":0,"d":"0.00%"},{"v":0,"d":"0.00"},{"v":0,"d":"0.00"},{"v":0,"d":"0.00"},null,"prüfen",{"$f":"IFERROR(OFFSET(MD!$U$5,MATCH(Grundlagen_Abrechnung_KAE!$E1283,MD_GENDER,0),0),\"\")","v":""},{"v":0,"d":"0.00"},null,{"v":0,"d":"0.00"},{"$f":"IF(F1283=\"Arbeitgeberähnliche Stellung\",OFFSET(MD!$Q$5,MATCH(Grundlagen_Abrechnung_KAE!$AK$7,MD_JAHR,0),0)*$H1283,IF(J1283>0,AC1283,I1283))","v":{"v":0,"d":"0.00"}},null,{"$f":"OFFSET(MD!$P$5,MATCH($AK$7,MD_JAHR,0),0)*12","v":{"$error":"#VALUE!"}},{"v":0,"d":"0.00"}]
[{"$nulls":14},{"$f":"IF($B1284=\"\",\"\",IF(F1284=\"Arbeitgeberähnliche Stellung\",OFFSET(MD!$Q$5,MATCH(Grundlagen_Abrechnung_KAE!$AK$7,MD_JAHR,0),0)*$H1284,IF(((AD1284/12*M1284*12)+N1284)>AF1284,AF1284/12,((AD1284/12*M1284*12)+N1284)/12)))","v":""},null,null,{"v":0,"d":"0.00"},null,{"v":0,"d":"0.00%"},{"v":0,"d":"0.00"},{"v":0,"d":"0.00"},{"v":0,"d":"0.00"},null,"prüfen",{"$f":"IFERROR(OFFSET(MD!$U$5,MATCH(Grundlagen_Abrechnung_KAE!$E1284,MD_GENDER,0),0),\"\")","v":""},{"v":0,"d":"0.00"},null,{"v":0,"d":"0.00"},{"$f":"IF(F1284=\"Arbeitgeberähnliche Stellung\",OFFSET(MD!$Q$5,MATCH(Grundlagen_Abrechnung_KAE!$AK$7,MD_JAHR,0),0)*$H1284,IF(J1284>0,AC1284,I1284))","v":{"v":0,"d":"0.00"}},null,{"$f":"OFFSET(MD!$P$5,MATCH($AK$7,MD_JAHR,0),0)*12","v":{"$error":"#VALUE!"}},{"v":0,"d":"0.00"}]
[{"$nulls":14},{"$f":"IF($B1285=\"\",\"\",IF(F1285=\"Arbeitgeberähnliche Stellung\",OFFSET(MD!$Q$5,MATCH(Grundlagen_Abrechnung_KAE!$AK$7,MD_JAHR,0),0)*$H1285,IF(((AD1285/12*M1285*12)+N1285)>AF1285,AF1285/12,((AD1285/12*M1285*12)+N1285)/12)))","v":""},null,null,{"v":0,"d":"0.00"},null,{"v":0,"d":"0.00%"},{"v":0,"d":"0.00"},{"v":0,"d":"0.00"},{"v":0,"d":"0.00"},null,"prüfen",{"$f":"IFERROR(OFFSET(MD!$U$5,MATCH(Grundlagen_Abrechnung_KAE!$E1285,MD_GENDER,0),0),\"\")","v":""},{"v":0,"d":"0.00"},null,{"v":0,"d":"0.00"},{"$f":"IF(F1285=\"Arbeitgeberähnliche Stellung\",OFFSET(MD!$Q$5,MATCH(Grundlagen_Abrechnung_KAE!$AK$7,MD_JAHR,0),0)*$H1285,IF(J1285>0,AC1285,I1285))","v":{"v":0,"d":"0.00"}},null,{"$f":"OFFSET(MD!$P$5,MATCH($AK$7,MD_JAHR,0),0)*12","v":{"$error":"#VALUE!"}},{"v":0,"d":"0.00"}]
[{"$nulls":14},{"$f":"IF($B1286=\"\",\"\",IF(F1286=\"Arbeitgeberähnliche Stellung\",OFFSET(MD!$Q$5,MATCH(Grundlagen_Abrechnung_KAE!$AK$7,MD_JAHR,0),0)*$H1286,IF(((AD1286/12*M1286*12)+N1286)>AF1286,AF1286/12,((AD1286/12*M1286*12)+N1286)/12)))","v":""},null,null,{"v":0,"d":"0.00"},null,{"v":0,"d":"0.00%"},{"v":0,"d":"0.00"},{"v":0,"d":"0.00"},{"v":0,"d":"0.00"},null,"prüfen",{"$f":"IFERROR(OFFSET(MD!$U$5,MATCH(Grundlagen_Abrechnung_KAE!$E1286,MD_GENDER,0),0),\"\")","v":""},{"v":0,"d":"0.00"},null,{"v":0,"d":"0.00"},{"$f":"IF(F1286=\"Arbeitgeberähnliche Stellung\",OFFSET(MD!$Q$5,MATCH(Grundlagen_Abrechnung_KAE!$AK$7,MD_JAHR,0),0)*$H1286,IF(J1286>0,AC1286,I1286))","v":{"v":0,"d":"0.00"}},null,{"$f":"OFFSET(MD!$P$5,MATCH($AK$7,MD_JAHR,0),0)*12","v":{"$error":"#VALUE!"}},{"v":0,"d":"0.00"}]
[{"$nulls":14},{"$f":"IF($B1287=\"\",\"\",IF(F1287=\"Arbeitgeberähnliche Stellung\",OFFSET(MD!$Q$5,MATCH(Grundlagen_Abrechnung_KAE!$AK$7,MD_JAHR,0),0)*$H1287,IF(((AD1287/12*M1287*12)+N1287)>AF1287,AF1287/12,((AD1287/12*M1287*12)+N1287)/12)))","v":""},null,null,{"v":0,"d":"0.00"},null,{"v":0,"d":"0.00%"},{"v":0,"d":"0.00"},{"v":0,"d":"0.00"},{"v":0,"d":"0.00"},null,"prüfen",{"$f":"IFERROR(OFFSET(MD!$U$5,MATCH(Grundlagen_Abrechnung_KAE!$E1287,MD_GENDER,0),0),\"\")","v":""},{"v":0,"d":"0.00"},null,{"v":0,"d":"0.00"},{"$f":"IF(F1287=\"Arbeitgeberähnliche Stellung\",OFFSET(MD!$Q$5,MATCH(Grundlagen_Abrechnung_KAE!$AK$7,MD_JAHR,0),0)*$H1287,IF(J1287>0,AC1287,I1287))","v":{"v":0,"d":"0.00"}},null,{"$f":"OFFSET(MD!$P$5,MATCH($AK$7,MD_JAHR,0),0)*12","v":{"$error":"#VALUE!"}},{"v":0,"d":"0.00"}]
[{"$nulls":14},{"$f":"IF($B1288=\"\",\"\",IF(F1288=\"Arbeitgeberähnliche Stellung\",OFFSET(MD!$Q$5,MATCH(Grundlagen_Abrechnung_KAE!$AK$7,MD_JAHR,0),0)*$H1288,IF(((AD1288/12*M1288*12)+N1288)>AF1288,AF1288/12,((AD1288/12*M1288*12)+N1288)/12)))","v":""},null,null,{"v":0,"d":"0.00"},null,{"v":0,"d":"0.00%"},{"v":0,"d":"0.00"},{"v":0,"d":"0.00"},{"v":0,"d":"0.00"},null,"prüfen",{"$f":"IFERROR(OFFSET(MD!$U$5,MATCH(Grundlagen_Abrechnung_KAE!$E1288,MD_GENDER,0),0),\"\")","v":""},{"v":0,"d":"0.00"},null,{"v":0,"d":"0.00"},{"$f":"IF(F1288=\"Arbeitgeberähnliche Stellung\",OFFSET(MD!$Q$5,MATCH(Grundlagen_Abrechnung_KAE!$AK$7,MD_JAHR,0),0)*$H1288,IF(J1288>0,AC1288,I1288))","v":{"v":0,"d":"0.00"}},null,{"$f":"OFFSET(MD!$P$5,MATCH($AK$7,MD_JAHR,0),0)*12","v":{"$error":"#VALUE!"}},{"v":0,"d":"0.00"}]
[{"$nulls":14},{"$f":"IF($B1289=\"\",\"\",IF(F1289=\"Arbeitgeberähnliche Stellung\",OFFSET(MD!$Q$5,MATCH(Grundlagen_Abrechnung_KAE!$AK$7,MD_JAHR,0),0)*$H1289,IF(((AD1289/12*M1289*12)+N1289)>AF1289,AF1289/12,((AD1289/12*M1289*12)+N1289)/12)))","v":""},null,null,{"v":0,"d":"0.00"},null,{"v":0,"d":"0.00%"},{"v":0,"d":"0.00"},{"v":0,"d":"0.00"},{"v":0,"d":"0.00"},null,"prüfen",{"$f":"IFERROR(OFFSET(MD!$U$5,MATCH(Grundlagen_Abrechnung_KAE!$E1289,MD_GENDER,0),0),\"\")","v":""},{"v":0,"d":"0.00"},null,{"v":0,"d":"0.00"},{"$f":"IF(F1289=\"Arbeitgeberähnliche Stellung\",OFFSET(MD!$Q$5,MATCH(Grundlagen_Abrechnung_KAE!$AK$7,MD_JAHR,0),0)*$H1289,IF(J1289>0,AC1289,I1289))","v":{"v":0,"d":"0.00"}},null,{"$f":"OFFSET(MD!$P$5,MATCH($AK$7,MD_JAHR,0),0)*12","v":{"$error":"#VALUE!"}},{"v":0,"d":"0.00"}]
[{"$nulls":14},{"$f":"IF($B1290=\"\",\"\",IF(F1290=\"Arbeitgeberähnliche Stellung\",OFFSET(MD!$Q$5,MATCH(Grundlagen_Abrechnung_KAE!$AK$7,MD_JAHR,0),0)*$H1290,IF(((AD1290/12*M1290*12)+N1290)>AF1290,AF1290/12,((AD1290/12*M1290*12)+N1290)/12)))","v":""},null,null,{"v":0,"d":"0.00"},null,{"v":0,"d":"0.00%"},{"v":0,"d":"0.00"},{"v":0,"d":"0.00"},{"v":0,"d":"0.00"},null,"prüfen",{"$f":"IFERROR(OFFSET(MD!$U$5,MATCH(Grundlagen_Abrechnung_KAE!$E1290,MD_GENDER,0),0),\"\")","v":""},{"v":0,"d":"0.00"},null,{"v":0,"d":"0.00"},{"$f":"IF(F1290=\"Arbeitgeberähnliche Stellung\",OFFSET(MD!$Q$5,MATCH(Grundlagen_Abrechnung_KAE!$AK$7,MD_JAHR,0),0)*$H1290,IF(J1290>0,AC1290,I1290))","v":{"v":0,"d":"0.00"}},null,{"$f":"OFFSET(MD!$P$5,MATCH($AK$7,MD_JAHR,0),0)*12","v":{"$error":"#VALUE!"}},{"v":0,"d":"0.00"}]
[{"$nulls":14},{"$f":"IF($B1291=\"\",\"\",IF(F1291=\"Arbeitgeberähnliche Stellung\",OFFSET(MD!$Q$5,MATCH(Grundlagen_Abrechnung_KAE!$AK$7,MD_JAHR,0),0)*$H1291,IF(((AD1291/12*M1291*12)+N1291)>AF1291,AF1291/12,((AD1291/12*M1291*12)+N1291)/12)))","v":""},null,null,{"v":0,"d":"0.00"},null,{"v":0,"d":"0.00%"},{"v":0,"d":"0.00"},{"v":0,"d":"0.00"},{"v":0,"d":"0.00"},null,"prüfen",{"$f":"IFERROR(OFFSET(MD!$U$5,MATCH(Grundlagen_Abrechnung_KAE!$E1291,MD_GENDER,0),0),\"\")","v":""},{"v":0,"d":"0.00"},null,{"v":0,"d":"0.00"},{"$f":"IF(F1291=\"Arbeitgeberähnliche Stellung\",OFFSET(MD!$Q$5,MATCH(Grundlagen_Abrechnung_KAE!$AK$7,MD_JAHR,0),0)*$H1291,IF(J1291>0,AC1291,I1291))","v":{"v":0,"d":"0.00"}},null,{"$f":"OFFSET(MD!$P$5,MATCH($AK$7,MD_JAHR,0),0)*12","v":{"$error":"#VALUE!"}},{"v":0,"d":"0.00"}]
[{"$nulls":14},{"$f":"IF($B1292=\"\",\"\",IF(F1292=\"Arbeitgeberähnliche Stellung\",OFFSET(MD!$Q$5,MATCH(Grundlagen_Abrechnung_KAE!$AK$7,MD_JAHR,0),0)*$H1292,IF(((AD1292/12*M1292*12)+N1292)>AF1292,AF1292/12,((AD1292/12*M1292*12)+N1292)/12)))","v":""},null,null,{"v":0,"d":"0.00"},null,{"v":0,"d":"0.00%"},{"v":0,"d":"0.00"},{"v":0,"d":"0.00"},{"v":0,"d":"0.00"},null,"prüfen",{"$f":"IFERROR(OFFSET(MD!$U$5,MATCH(Grundlagen_Abrechnung_KAE!$E1292,MD_GENDER,0),0),\"\")","v":""},{"v":0,"d":"0.00"},null,{"v":0,"d":"0.00"},{"$f":"IF(F1292=\"Arbeitgeberähnliche Stellung\",OFFSET(MD!$Q$5,MATCH(Grundlagen_Abrechnung_KAE!$AK$7,MD_JAHR,0),0)*$H1292,IF(J1292>0,AC1292,I1292))","v":{"v":0,"d":"0.00"}},null,{"$f":"OFFSET(MD!$P$5,MATCH($AK$7,MD_JAHR,0),0)*12","v":{"$error":"#VALUE!"}},{"v":0,"d":"0.00"}]
[{"$nulls":14},{"$f":"IF($B1293=\"\",\"\",IF(F1293=\"Arbeitgeberähnliche Stellung\",OFFSET(MD!$Q$5,MATCH(Grundlagen_Abrechnung_KAE!$AK$7,MD_JAHR,0),0)*$H1293,IF(((AD1293/12*M1293*12)+N1293)>AF1293,AF1293/12,((AD1293/12*M1293*12)+N1293)/12)))","v":""},null,null,{"v":0,"d":"0.00"},null,{"v":0,"d":"0.00%"},{"v":0,"d":"0.00"},{"v":0,"d":"0.00"},{"v":0,"d":"0.00"},null,"prüfen",{"$f":"IFERROR(OFFSET(MD!$U$5,MATCH(Grundlagen_Abrechnung_KAE!$E1293,MD_GENDER,0),0),\"\")","v":""},{"v":0,"d":"0.00"},null,{"v":0,"d":"0.00"},{"$f":"IF(F1293=\"Arbeitgeberähnliche Stellung\",OFFSET(MD!$Q$5,MATCH(Grundlagen_Abrechnung_KAE!$AK$7,MD_JAHR,0),0)*$H1293,IF(J1293>0,AC1293,I1293))","v":{"v":0,"d":"0.00"}},null,{"$f":"OFFSET(MD!$P$5,MATCH($AK$7,MD_JAHR,0),0)*12","v":{"$error":"#VALUE!"}},{"v":0,"d":"0.00"}]
[{"$nulls":14},{"$f":"IF($B1294=\"\",\"\",IF(F1294=\"Arbeitgeberähnliche Stellung\",OFFSET(MD!$Q$5,MATCH(Grundlagen_Abrechnung_KAE!$AK$7,MD_JAHR,0),0)*$H1294,IF(((AD1294/12*M1294*12)+N1294)>AF1294,AF1294/12,((AD1294/12*M1294*12)+N1294)/12)))","v":""},null,null,{"v":0,"d":"0.00"},null,{"v":0,"d":"0.00%"},{"v":0,"d":"0.00"},{"v":0,"d":"0.00"},{"v":0,"d":"0.00"},null,"prüfen",{"$f":"IFERROR(OFFSET(MD!$U$5,MATCH(Grundlagen_Abrechnung_KAE!$E1294,MD_GENDER,0),0),\"\")","v":""},{"v":0,"d":"0.00"},null,{"v":0,"d":"0.00"},{"$f":"IF(F1294=\"Arbeitgeberähnliche Stellung\",OFFSET(MD!$Q$5,MATCH(Grundlagen_Abrechnung_KAE!$AK$7,MD_JAHR,0),0)*$H1294,IF(J1294>0,AC1294,I1294))","v":{"v":0,"d":"0.00"}},null,{"$f":"OFFSET(MD!$P$5,MATCH($AK$7,MD_JAHR,0),0)*12","v":{"$error":"#VALUE!"}},{"v":0,"d":"0.00"}]
[{"$nulls":14},{"$f":"IF($B1295=\"\",\"\",IF(F1295=\"Arbeitgeberähnliche Stellung\",OFFSET(MD!$Q$5,MATCH(Grundlagen_Abrechnung_KAE!$AK$7,MD_JAHR,0),0)*$H1295,IF(((AD1295/12*M1295*12)+N1295)>AF1295,AF1295/12,((AD1295/12*M1295*12)+N1295)/12)))","v":""},null,null,{"v":0,"d":"0.00"},null,{"v":0,"d":"0.00%"},{"v":0,"d":"0.00"},{"v":0,"d":"0.00"},{"v":0,"d":"0.00"},null,"prüfen",{"$f":"IFERROR(OFFSET(MD!$U$5,MATCH(Grundlagen_Abrechnung_KAE!$E1295,MD_GENDER,0),0),\"\")","v":""},{"v":0,"d":"0.00"},null,{"v":0,"d":"0.00"},{"$f":"IF(F1295=\"Arbeitgeberähnliche Stellung\",OFFSET(MD!$Q$5,MATCH(Grundlagen_Abrechnung_KAE!$AK$7,MD_JAHR,0),0)*$H1295,IF(J1295>0,AC1295,I1295))","v":{"v":0,"d":"0.00"}},null,{"$f":"OFFSET(MD!$P$5,MATCH($AK$7,MD_JAHR,0),0)*12","v":{"$error":"#VALUE!"}},{"v":0,"d":"0.00"}]
[{"$nulls":14},{"$f":"IF($B1296=\"\",\"\",IF(F1296=\"Arbeitgeberähnliche Stellung\",OFFSET(MD!$Q$5,MATCH(Grundlagen_Abrechnung_KAE!$AK$7,MD_JAHR,0),0)*$H1296,IF(((AD1296/12*M1296*12)+N1296)>AF1296,AF1296/12,((AD1296/12*M1296*12)+N1296)/12)))","v":""},null,null,{"v":0,"d":"0.00"},null,{"v":0,"d":"0.00%"},{"v":0,"d":"0.00"},{"v":0,"d":"0.00"},{"v":0,"d":"0.00"},null,"prüfen",{"$f":"IFERROR(OFFSET(MD!$U$5,MATCH(Grundlagen_Abrechnung_KAE!$E1296,MD_GENDER,0),0),\"\")","v":""},{"v":0,"d":"0.00"},null,{"v":0,"d":"0.00"},{"$f":"IF(F1296=\"Arbeitgeberähnliche Stellung\",OFFSET(MD!$Q$5,MATCH(Grundlagen_Abrechnung_KAE!$AK$7,MD_JAHR,0),0)*$H1296,IF(J1296>0,AC1296,I1296))","v":{"v":0,"d":"0.00"}},null,{"$f":"OFFSET(MD!$P$5,MATCH($AK$7,MD_JAHR,0),0)*12","v":{"$error":"#VALUE!"}},{"v":0,"d":"0.00"}]
[{"$nulls":14},{"$f":"IF($B1297=\"\",\"\",IF(F1297=\"Arbeitgeberähnliche Stellung\",OFFSET(MD!$Q$5,MATCH(Grundlagen_Abrechnung_KAE!$AK$7,MD_JAHR,0),0)*$H1297,IF(((AD1297/12*M1297*12)+N1297)>AF1297,AF1297/12,((AD1297/12*M1297*12)+N1297)/12)))","v":""},null,null,{"v":0,"d":"0.00"},null,{"v":0,"d":"0.00%"},{"v":0,"d":"0.00"},{"v":0,"d":"0.00"},{"v":0,"d":"0.00"},null,"prüfen",{"$f":"IFERROR(OFFSET(MD!$U$5,MATCH(Grundlagen_Abrechnung_KAE!$E1297,MD_GENDER,0),0),\"\")","v":""},{"v":0,"d":"0.00"},null,{"v":0,"d":"0.00"},{"$f":"IF(F1297=\"Arbeitgeberähnliche Stellung\",OFFSET(MD!$Q$5,MATCH(Grundlagen_Abrechnung_KAE!$AK$7,MD_JAHR,0),0)*$H1297,IF(J1297>0,AC1297,I1297))","v":{"v":0,"d":"0.00"}},null,{"$f":"OFFSET(MD!$P$5,MATCH($AK$7,MD_JAHR,0),0)*12","v":{"$error":"#VALUE!"}},{"v":0,"d":"0.00"}]
[{"$nulls":14},{"$f":"IF($B1298=\"\",\"\",IF(F1298=\"Arbeitgeberähnliche Stellung\",OFFSET(MD!$Q$5,MATCH(Grundlagen_Abrechnung_KAE!$AK$7,MD_JAHR,0),0)*$H1298,IF(((AD1298/12*M1298*12)+N1298)>AF1298,AF1298/12,((AD1298/12*M1298*12)+N1298)/12)))","v":""},null,null,{"v":0,"d":"0.00"},null,{"v":0,"d":"0.00%"},{"v":0,"d":"0.00"},{"v":0,"d":"0.00"},{"v":0,"d":"0.00"},null,"prüfen",{"$f":"IFERROR(OFFSET(MD!$U$5,MATCH(Grundlagen_Abrechnung_KAE!$E1298,MD_GENDER,0),0),\"\")","v":""},{"v":0,"d":"0.00"},null,{"v":0,"d":"0.00"},{"$f":"IF(F1298=\"Arbeitgeberähnliche Stellung\",OFFSET(MD!$Q$5,MATCH(Grundlagen_Abrechnung_KAE!$AK$7,MD_JAHR,0),0)*$H1298,IF(J1298>0,AC1298,I1298))","v":{"v":0,"d":"0.00"}},null,{"$f":"OFFSET(MD!$P$5,MATCH($AK$7,MD_JAHR,0),0)*12","v":{"$error":"#VALUE!"}},{"v":0,"d":"0.00"}]
[{"$nulls":14},{"$f":"IF($B1299=\"\",\"\",IF(F1299=\"Arbeitgeberähnliche Stellung\",OFFSET(MD!$Q$5,MATCH(Grundlagen_Abrechnung_KAE!$AK$7,MD_JAHR,0),0)*$H1299,IF(((AD1299/12*M1299*12)+N1299)>AF1299,AF1299/12,((AD1299/12*M1299*12)+N1299)/12)))","v":""},null,null,{"$f":"ROUND(IF(Q1299=\"\",0,IF(P1299=0,0,IF(Q1299>P1299,0,P1299-Q1299))),2)","v":{"v":0,"d":"0.00"}},null,{"$f":"IFERROR(R1299/P1299,0)","v":{"v":0,"d":"0.00%"}},{"$f":"IFERROR(IF(O1299-W1299=0,O1299,(O1299)*(1-T1299)),0)","v":{"v":0,"d":"0.00"}},{"v":0,"d":"0.00"},{"$f":"IFERROR(O1299*T1299,0)*0.8","v":{"v":0,"d":"0.00"}},null,{"$f":"IF(YEAR($G1299)>$Y$16,\"prüfen\",\"\")","v":"prüfen"},{"$f":"IFERROR(OFFSET(MD!$U$5,MATCH(Grundlagen_Abrechnung_KAE!$E1299,MD_GENDER,0),0),\"\")","v":""},{"$f":"IF(B1299=\"\",0,IF(YEAR(G1299)>$AA$16,0,1))","v":{"v":0,"d":"0.00"}},null,{"$f":"IF(J1299*K1299/6>J1299*L1299/12,J1299*K1299/6,J1299*L1299/12)","v":{"v":0,"d":"0.00"}},{"$f":"IF(F1299=\"Arbeitgeberähnliche Stellung\",OFFSET(MD!$Q$5,MATCH(Grundlagen_Abrechnung_KAE!$AK$7,MD_JAHR,0),0)*$H1299,IF(J1299>0,AC1299,I1299))","v":{"v":0,"d":"0.00"}},null,{"$f":"OFFSET(MD!$P$5,MATCH($AK$7,MD_JAHR,0),0)*12","v":{"$error":"#VALUE!"}},{"$f":"I1299*M1299+N1299","v":{"v":0,"d":"0.00"}}]
[{"$nulls":14},{"$f":"IF($B1300=\"\",\"\",IF(F1300=\"Arbeitgeberähnliche Stellung\",OFFSET(MD!$Q$5,MATCH(Grundlagen_Abrechnung_KAE!$AK$7,MD_JAHR,0),0)*$H1300,IF(((AD1300/12*M1300*12)+N1300)>AF1300,AF1300/12,((AD1300/12*M1300*12)+N1300)/12)))","v":""},null,null,{"v":0,"d":"0.00"},null,{"v":0,"d":"0.00%"},{"v":0,"d":"0.00"},{"$f":"IFERROR(O1300*T1300,0)","v":{"v":0,"d":"0.00"}},{"v":0,"d":"0.00"},null,"prüfen",{"$f":"IFERROR(OFFSET(MD!$U$5,MATCH(Grundlagen_Abrechnung_KAE!$E1300,MD_GENDER,0),0),\"\")","v":""},{"v":0,"d":"0.00"},null,{"v":0,"d":"0.00"},{"$f":"IF(F1300=\"Arbeitgeberähnliche Stellung\",OFFSET(MD!$Q$5,MATCH(Grundlagen_Abrechnung_KAE!$AK$7,MD_JAHR,0),0)*$H1300,IF(J1300>0,AC1300,I1300))","v":{"v":0,"d":"0.00"}},null,{"$f":"OFFSET(MD!$P$5,MATCH($AK$7,MD_JAHR,0),0)*12","v":{"$error":"#VALUE!"}},{"v":0,"d":"0.00"}]
[{"$nulls":14},{"$f":"IF($B1301=\"\",\"\",IF(F1301=\"Arbeitgeberähnliche Stellung\",OFFSET(MD!$Q$5,MATCH(Grundlagen_Abrechnung_KAE!$AK$7,MD_JAHR,0),0)*$H1301,IF(((AD1301/12*M1301*12)+N1301)>AF1301,AF1301/12,((AD1301/12*M1301*12)+N1301)/12)))","v":""},null,null,{"v":0,"d":"0.00"},null,{"v":0,"d":"0.00%"},{"v":0,"d":"0.00"},{"v":0,"d":"0.00"},{"v":0,"d":"0.00"},null,"prüfen",{"$f":"IFERROR(OFFSET(MD!$U$5,MATCH(Grundlagen_Abrechnung_KAE!$E1301,MD_GENDER,0),0),\"\")","v":""},{"v":0,"d":"0.00"},null,{"v":0,"d":"0.00"},{"$f":"IF(F1301=\"Arbeitgeberähnliche Stellung\",OFFSET(MD!$Q$5,MATCH(Grundlagen_Abrechnung_KAE!$AK$7,MD_JAHR,0),0)*$H1301,IF(J1301>0,AC1301,I1301))","v":{"v":0,"d":"0.00"}},null,{"$f":"OFFSET(MD!$P$5,MATCH($AK$7,MD_JAHR,0),0)*12","v":{"$error":"#VALUE!"}},{"v":0,"d":"0.00"}]
[{"$nulls":14},{"$f":"IF($B1302=\"\",\"\",IF(F1302=\"Arbeitgeberähnliche Stellung\",OFFSET(MD!$Q$5,MATCH(Grundlagen_Abrechnung_KAE!$AK$7,MD_JAHR,0),0)*$H1302,IF(((AD1302/12*M1302*12)+N1302)>AF1302,AF1302/12,((AD1302/12*M1302*12)+N1302)/12)))","v":""},null,null,{"v":0,"d":"0.00"},null,{"v":0,"d":"0.00%"},{"v":0,"d":"0.00"},{"v":0,"d":"0.00"},{"v":0,"d":"0.00"},null,"prüfen",{"$f":"IFERROR(OFFSET(MD!$U$5,MATCH(Grundlagen_Abrechnung_KAE!$E1302,MD_GENDER,0),0),\"\")","v":""},{"v":0,"d":"0.00"},null,{"v":0,"d":"0.00"},{"$f":"IF(F1302=\"Arbeitgeberähnliche Stellung\",OFFSET(MD!$Q$5,MATCH(Grundlagen_Abrechnung_KAE!$AK$7,MD_JAHR,0),0)*$H1302,IF(J1302>0,AC1302,I1302))","v":{"v":0,"d":"0.00"}},null,{"$f":"OFFSET(MD!$P$5,MATCH($AK$7,MD_JAHR,0),0)*12","v":{"$error":"#VALUE!"}},{"v":0,"d":"0.00"}]
[{"$nulls":14},{"$f":"IF($B1303=\"\",\"\",IF(F1303=\"Arbeitgeberähnliche Stellung\",OFFSET(MD!$Q$5,MATCH(Grundlagen_Abrechnung_KAE!$AK$7,MD_JAHR,0),0)*$H1303,IF(((AD1303/12*M1303*12)+N1303)>AF1303,AF1303/12,((AD1303/12*M1303*12)+N1303)/12)))","v":""},null,null,{"v":0,"d":"0.00"},null,{"v":0,"d":"0.00%"},{"v":0,"d":"0.00"},{"v":0,"d":"0.00"},{"v":0,"d":"0.00"},null,"prüfen",{"$f":"IFERROR(OFFSET(MD!$U$5,MATCH(Grundlagen_Abrechnung_KAE!$E1303,MD_GENDER,0),0),\"\")","v":""},{"v":0,"d":"0.00"},null,{"v":0,"d":"0.00"},{"$f":"IF(F1303=\"Arbeitgeberähnliche Stellung\",OFFSET(MD!$Q$5,MATCH(Grundlagen_Abrechnung_KAE!$AK$7,MD_JAHR,0),0)*$H1303,IF(J1303>0,AC1303,I1303))","v":{"v":0,"d":"0.00"}},null,{"$f":"OFFSET(MD!$P$5,MATCH($AK$7,MD_JAHR,0),0)*12","v":{"$error":"#VALUE!"}},{"v":0,"d":"0.00"}]
[{"$nulls":14},{"$f":"IF($B1304=\"\",\"\",IF(F1304=\"Arbeitgeberähnliche Stellung\",OFFSET(MD!$Q$5,MATCH(Grundlagen_Abrechnung_KAE!$AK$7,MD_JAHR,0),0)*$H1304,IF(((AD1304/12*M1304*12)+N1304)>AF1304,AF1304/12,((AD1304/12*M1304*12)+N1304)/12)))","v":""},null,null,{"v":0,"d":"0.00"},null,{"v":0,"d":"0.00%"},{"v":0,"d":"0.00"},{"v":0,"d":"0.00"},{"v":0,"d":"0.00"},null,"prüfen",{"$f":"IFERROR(OFFSET(MD!$U$5,MATCH(Grundlagen_Abrechnung_KAE!$E1304,MD_GENDER,0),0),\"\")","v":""},{"v":0,"d":"0.00"},null,{"v":0,"d":"0.00"},{"$f":"IF(F1304=\"Arbeitgeberähnliche Stellung\",OFFSET(MD!$Q$5,MATCH(Grundlagen_Abrechnung_KAE!$AK$7,MD_JAHR,0),0)*$H1304,IF(J1304>0,AC1304,I1304))","v":{"v":0,"d":"0.00"}},null,{"$f":"OFFSET(MD!$P$5,MATCH($AK$7,MD_JAHR,0),0)*12","v":{"$error":"#VALUE!"}},{"v":0,"d":"0.00"}]
[{"$nulls":14},{"$f":"IF($B1305=\"\",\"\",IF(F1305=\"Arbeitgeberähnliche Stellung\",OFFSET(MD!$Q$5,MATCH(Grundlagen_Abrechnung_KAE!$AK$7,MD_JAHR,0),0)*$H1305,IF(((AD1305/12*M1305*12)+N1305)>AF1305,AF1305/12,((AD1305/12*M1305*12)+N1305)/12)))","v":""},null,null,{"v":0,"d":"0.00"},null,{"v":0,"d":"0.00%"},{"v":0,"d":"0.00"},{"v":0,"d":"0.00"},{"v":0,"d":"0.00"},null,"prüfen",{"$f":"IFERROR(OFFSET(MD!$U$5,MATCH(Grundlagen_Abrechnung_KAE!$E1305,MD_GENDER,0),0),\"\")","v":""},{"v":0,"d":"0.00"},null,{"v":0,"d":"0.00"},{"$f":"IF(F1305=\"Arbeitgeberähnliche Stellung\",OFFSET(MD!$Q$5,MATCH(Grundlagen_Abrechnung_KAE!$AK$7,MD_JAHR,0),0)*$H1305,IF(J1305>0,AC1305,I1305))","v":{"v":0,"d":"0.00"}},null,{"$f":"OFFSET(MD!$P$5,MATCH($AK$7,MD_JAHR,0),0)*12","v":{"$error":"#VALUE!"}},{"v":0,"d":"0.00"}]
[{"$nulls":14},{"$f":"IF($B1306=\"\",\"\",IF(F1306=\"Arbeitgeberähnliche Stellung\",OFFSET(MD!$Q$5,MATCH(Grundlagen_Abrechnung_KAE!$AK$7,MD_JAHR,0),0)*$H1306,IF(((AD1306/12*M1306*12)+N1306)>AF1306,AF1306/12,((AD1306/12*M1306*12)+N1306)/12)))","v":""},null,null,{"v":0,"d":"0.00"},null,{"v":0,"d":"0.00%"},{"v":0,"d":"0.00"},{"v":0,"d":"0.00"},{"v":0,"d":"0.00"},null,"prüfen",{"$f":"IFERROR(OFFSET(MD!$U$5,MATCH(Grundlagen_Abrechnung_KAE!$E1306,MD_GENDER,0),0),\"\")","v":""},{"v":0,"d":"0.00"},null,{"v":0,"d":"0.00"},{"$f":"IF(F1306=\"Arbeitgeberähnliche Stellung\",OFFSET(MD!$Q$5,MATCH(Grundlagen_Abrechnung_KAE!$AK$7,MD_JAHR,0),0)*$H1306,IF(J1306>0,AC1306,I1306))","v":{"v":0,"d":"0.00"}},null,{"$f":"OFFSET(MD!$P$5,MATCH($AK$7,MD_JAHR,0),0)*12","v":{"$error":"#VALUE!"}},{"v":0,"d":"0.00"}]
[{"$nulls":14},{"$f":"IF($B1307=\"\",\"\",IF(F1307=\"Arbeitgeberähnliche Stellung\",OFFSET(MD!$Q$5,MATCH(Grundlagen_Abrechnung_KAE!$AK$7,MD_JAHR,0),0)*$H1307,IF(((AD1307/12*M1307*12)+N1307)>AF1307,AF1307/12,((AD1307/12*M1307*12)+N1307)/12)))","v":""},null,null,{"v":0,"d":"0.00"},null,{"v":0,"d":"0.00%"},{"v":0,"d":"0.00"},{"v":0,"d":"0.00"},{"v":0,"d":"0.00"},null,"prüfen",{"$f":"IFERROR(OFFSET(MD!$U$5,MATCH(Grundlagen_Abrechnung_KAE!$E1307,MD_GENDER,0),0),\"\")","v":""},{"v":0,"d":"0.00"},null,{"v":0,"d":"0.00"},{"$f":"IF(F1307=\"Arbeitgeberähnliche Stellung\",OFFSET(MD!$Q$5,MATCH(Grundlagen_Abrechnung_KAE!$AK$7,MD_JAHR,0),0)*$H1307,IF(J1307>0,AC1307,I1307))","v":{"v":0,"d":"0.00"}},null,{"$f":"OFFSET(MD!$P$5,MATCH($AK$7,MD_JAHR,0),0)*12","v":{"$error":"#VALUE!"}},{"v":0,"d":"0.00"}]
[{"$nulls":14},{"$f":"IF($B1308=\"\",\"\",IF(F1308=\"Arbeitgeberähnliche Stellung\",OFFSET(MD!$Q$5,MATCH(Grundlagen_Abrechnung_KAE!$AK$7,MD_JAHR,0),0)*$H1308,IF(((AD1308/12*M1308*12)+N1308)>AF1308,AF1308/12,((AD1308/12*M1308*12)+N1308)/12)))","v":""},null,null,{"v":0,"d":"0.00"},null,{"v":0,"d":"0.00%"},{"v":0,"d":"0.00"},{"v":0,"d":"0.00"},{"v":0,"d":"0.00"},null,"prüfen",{"$f":"IFERROR(OFFSET(MD!$U$5,MATCH(Grundlagen_Abrechnung_KAE!$E1308,MD_GENDER,0),0),\"\")","v":""},{"v":0,"d":"0.00"},null,{"v":0,"d":"0.00"},{"$f":"IF(F1308=\"Arbeitgeberähnliche Stellung\",OFFSET(MD!$Q$5,MATCH(Grundlagen_Abrechnung_KAE!$AK$7,MD_JAHR,0),0)*$H1308,IF(J1308>0,AC1308,I1308))","v":{"v":0,"d":"0.00"}},null,{"$f":"OFFSET(MD!$P$5,MATCH($AK$7,MD_JAHR,0),0)*12","v":{"$error":"#VALUE!"}},{"v":0,"d":"0.00"}]
[{"$nulls":14},{"$f":"IF($B1309=\"\",\"\",IF(F1309=\"Arbeitgeberähnliche Stellung\",OFFSET(MD!$Q$5,MATCH(Grundlagen_Abrechnung_KAE!$AK$7,MD_JAHR,0),0)*$H1309,IF(((AD1309/12*M1309*12)+N1309)>AF1309,AF1309/12,((AD1309/12*M1309*12)+N1309)/12)))","v":""},null,null,{"v":0,"d":"0.00"},null,{"v":0,"d":"0.00%"},{"v":0,"d":"0.00"},{"v":0,"d":"0.00"},{"v":0,"d":"0.00"},null,"prüfen",{"$f":"IFERROR(OFFSET(MD!$U$5,MATCH(Grundlagen_Abrechnung_KAE!$E1309,MD_GENDER,0),0),\"\")","v":""},{"v":0,"d":"0.00"},null,{"v":0,"d":"0.00"},{"$f":"IF(F1309=\"Arbeitgeberähnliche Stellung\",OFFSET(MD!$Q$5,MATCH(Grundlagen_Abrechnung_KAE!$AK$7,MD_JAHR,0),0)*$H1309,IF(J1309>0,AC1309,I1309))","v":{"v":0,"d":"0.00"}},null,{"$f":"OFFSET(MD!$P$5,MATCH($AK$7,MD_JAHR,0),0)*12","v":{"$error":"#VALUE!"}},{"v":0,"d":"0.00"}]
[{"$nulls":14},{"$f":"IF($B1310=\"\",\"\",IF(F1310=\"Arbeitgeberähnliche Stellung\",OFFSET(MD!$Q$5,MATCH(Grundlagen_Abrechnung_KAE!$AK$7,MD_JAHR,0),0)*$H1310,IF(((AD1310/12*M1310*12)+N1310)>AF1310,AF1310/12,((AD1310/12*M1310*12)+N1310)/12)))","v":""},null,null,{"v":0,"d":"0.00"},null,{"v":0,"d":"0.00%"},{"v":0,"d":"0.00"},{"v":0,"d":"0.00"},{"v":0,"d":"0.00"},null,"prüfen",{"$f":"IFERROR(OFFSET(MD!$U$5,MATCH(Grundlagen_Abrechnung_KAE!$E1310,MD_GENDER,0),0),\"\")","v":""},{"v":0,"d":"0.00"},null,{"v":0,"d":"0.00"},{"$f":"IF(F1310=\"Arbeitgeberähnliche Stellung\",OFFSET(MD!$Q$5,MATCH(Grundlagen_Abrechnung_KAE!$AK$7,MD_JAHR,0),0)*$H1310,IF(J1310>0,AC1310,I1310))","v":{"v":0,"d":"0.00"}},null,{"$f":"OFFSET(MD!$P$5,MATCH($AK$7,MD_JAHR,0),0)*12","v":{"$error":"#VALUE!"}},{"v":0,"d":"0.00"}]
[{"$nulls":14},{"$f":"IF($B1311=\"\",\"\",IF(F1311=\"Arbeitgeberähnliche Stellung\",OFFSET(MD!$Q$5,MATCH(Grundlagen_Abrechnung_KAE!$AK$7,MD_JAHR,0),0)*$H1311,IF(((AD1311/12*M1311*12)+N1311)>AF1311,AF1311/12,((AD1311/12*M1311*12)+N1311)/12)))","v":""},null,null,{"v":0,"d":"0.00"},null,{"v":0,"d":"0.00%"},{"v":0,"d":"0.00"},{"v":0,"d":"0.00"},{"v":0,"d":"0.00"},null,"prüfen",{"$f":"IFERROR(OFFSET(MD!$U$5,MATCH(Grundlagen_Abrechnung_KAE!$E1311,MD_GENDER,0),0),\"\")","v":""},{"v":0,"d":"0.00"},null,{"v":0,"d":"0.00"},{"$f":"IF(F1311=\"Arbeitgeberähnliche Stellung\",OFFSET(MD!$Q$5,MATCH(Grundlagen_Abrechnung_KAE!$AK$7,MD_JAHR,0),0)*$H1311,IF(J1311>0,AC1311,I1311))","v":{"v":0,"d":"0.00"}},null,{"$f":"OFFSET(MD!$P$5,MATCH($AK$7,MD_JAHR,0),0)*12","v":{"$error":"#VALUE!"}},{"v":0,"d":"0.00"}]
[{"$nulls":14},{"$f":"IF($B1312=\"\",\"\",IF(F1312=\"Arbeitgeberähnliche Stellung\",OFFSET(MD!$Q$5,MATCH(Grundlagen_Abrechnung_KAE!$AK$7,MD_JAHR,0),0)*$H1312,IF(((AD1312/12*M1312*12)+N1312)>AF1312,AF1312/12,((AD1312/12*M1312*12)+N1312)/12)))","v":""},null,null,{"v":0,"d":"0.00"},null,{"v":0,"d":"0.00%"},{"v":0,"d":"0.00"},{"v":0,"d":"0.00"},{"v":0,"d":"0.00"},null,"prüfen",{"$f":"IFERROR(OFFSET(MD!$U$5,MATCH(Grundlagen_Abrechnung_KAE!$E1312,MD_GENDER,0),0),\"\")","v":""},{"v":0,"d":"0.00"},null,{"v":0,"d":"0.00"},{"$f":"IF(F1312=\"Arbeitgeberähnliche Stellung\",OFFSET(MD!$Q$5,MATCH(Grundlagen_Abrechnung_KAE!$AK$7,MD_JAHR,0),0)*$H1312,IF(J1312>0,AC1312,I1312))","v":{"v":0,"d":"0.00"}},null,{"$f":"OFFSET(MD!$P$5,MATCH($AK$7,MD_JAHR,0),0)*12","v":{"$error":"#VALUE!"}},{"v":0,"d":"0.00"}]
[{"$nulls":14},{"$f":"IF($B1313=\"\",\"\",IF(F1313=\"Arbeitgeberähnliche Stellung\",OFFSET(MD!$Q$5,MATCH(Grundlagen_Abrechnung_KAE!$AK$7,MD_JAHR,0),0)*$H1313,IF(((AD1313/12*M1313*12)+N1313)>AF1313,AF1313/12,((AD1313/12*M1313*12)+N1313)/12)))","v":""},null,null,{"v":0,"d":"0.00"},null,{"v":0,"d":"0.00%"},{"v":0,"d":"0.00"},{"v":0,"d":"0.00"},{"v":0,"d":"0.00"},null,"prüfen",{"$f":"IFERROR(OFFSET(MD!$U$5,MATCH(Grundlagen_Abrechnung_KAE!$E1313,MD_GENDER,0),0),\"\")","v":""},{"v":0,"d":"0.00"},null,{"v":0,"d":"0.00"},{"$f":"IF(F1313=\"Arbeitgeberähnliche Stellung\",OFFSET(MD!$Q$5,MATCH(Grundlagen_Abrechnung_KAE!$AK$7,MD_JAHR,0),0)*$H1313,IF(J1313>0,AC1313,I1313))","v":{"v":0,"d":"0.00"}},null,{"$f":"OFFSET(MD!$P$5,MATCH($AK$7,MD_JAHR,0),0)*12","v":{"$error":"#VALUE!"}},{"v":0,"d":"0.00"}]
[{"$nulls":14},{"$f":"IF($B1314=\"\",\"\",IF(F1314=\"Arbeitgeberähnliche Stellung\",OFFSET(MD!$Q$5,MATCH(Grundlagen_Abrechnung_KAE!$AK$7,MD_JAHR,0),0)*$H1314,IF(((AD1314/12*M1314*12)+N1314)>AF1314,AF1314/12,((AD1314/12*M1314*12)+N1314)/12)))","v":""},null,null,{"v":0,"d":"0.00"},null,{"v":0,"d":"0.00%"},{"v":0,"d":"0.00"},{"v":0,"d":"0.00"},{"v":0,"d":"0.00"},null,"prüfen",{"$f":"IFERROR(OFFSET(MD!$U$5,MATCH(Grundlagen_Abrechnung_KAE!$E1314,MD_GENDER,0),0),\"\")","v":""},{"v":0,"d":"0.00"},null,{"v":0,"d":"0.00"},{"$f":"IF(F1314=\"Arbeitgeberähnliche Stellung\",OFFSET(MD!$Q$5,MATCH(Grundlagen_Abrechnung_KAE!$AK$7,MD_JAHR,0),0)*$H1314,IF(J1314>0,AC1314,I1314))","v":{"v":0,"d":"0.00"}},null,{"$f":"OFFSET(MD!$P$5,MATCH($AK$7,MD_JAHR,0),0)*12","v":{"$error":"#VALUE!"}},{"v":0,"d":"0.00"}]
[{"$nulls":14},{"$f":"IF($B1315=\"\",\"\",IF(F1315=\"Arbeitgeberähnliche Stellung\",OFFSET(MD!$Q$5,MATCH(Grundlagen_Abrechnung_KAE!$AK$7,MD_JAHR,0),0)*$H1315,IF(((AD1315/12*M1315*12)+N1315)>AF1315,AF1315/12,((AD1315/12*M1315*12)+N1315)/12)))","v":""},null,null,{"v":0,"d":"0.00"},null,{"v":0,"d":"0.00%"},{"v":0,"d":"0.00"},{"v":0,"d":"0.00"},{"v":0,"d":"0.00"},null,"prüfen",{"$f":"IFERROR(OFFSET(MD!$U$5,MATCH(Grundlagen_Abrechnung_KAE!$E1315,MD_GENDER,0),0),\"\")","v":""},{"v":0,"d":"0.00"},null,{"v":0,"d":"0.00"},{"$f":"IF(F1315=\"Arbeitgeberähnliche Stellung\",OFFSET(MD!$Q$5,MATCH(Grundlagen_Abrechnung_KAE!$AK$7,MD_JAHR,0),0)*$H1315,IF(J1315>0,AC1315,I1315))","v":{"v":0,"d":"0.00"}},null,{"$f":"OFFSET(MD!$P$5,MATCH($AK$7,MD_JAHR,0),0)*12","v":{"$error":"#VALUE!"}},{"v":0,"d":"0.00"}]
[{"$nulls":14},{"$f":"IF($B1316=\"\",\"\",IF(F1316=\"Arbeitgeberähnliche Stellung\",OFFSET(MD!$Q$5,MATCH(Grundlagen_Abrechnung_KAE!$AK$7,MD_JAHR,0),0)*$H1316,IF(((AD1316/12*M1316*12)+N1316)>AF1316,AF1316/12,((AD1316/12*M1316*12)+N1316)/12)))","v":""},null,null,{"v":0,"d":"0.00"},null,{"v":0,"d":"0.00%"},{"v":0,"d":"0.00"},{"v":0,"d":"0.00"},{"v":0,"d":"0.00"},null,"prüfen",{"$f":"IFERROR(OFFSET(MD!$U$5,MATCH(Grundlagen_Abrechnung_KAE!$E1316,MD_GENDER,0),0),\"\")","v":""},{"v":0,"d":"0.00"},null,{"v":0,"d":"0.00"},{"$f":"IF(F1316=\"Arbeitgeberähnliche Stellung\",OFFSET(MD!$Q$5,MATCH(Grundlagen_Abrechnung_KAE!$AK$7,MD_JAHR,0),0)*$H1316,IF(J1316>0,AC1316,I1316))","v":{"v":0,"d":"0.00"}},null,{"$f":"OFFSET(MD!$P$5,MATCH($AK$7,MD_JAHR,0),0)*12","v":{"$error":"#VALUE!"}},{"v":0,"d":"0.00"}]
[{"$nulls":14},{"$f":"IF($B1317=\"\",\"\",IF(F1317=\"Arbeitgeberähnliche Stellung\",OFFSET(MD!$Q$5,MATCH(Grundlagen_Abrechnung_KAE!$AK$7,MD_JAHR,0),0)*$H1317,IF(((AD1317/12*M1317*12)+N1317)>AF1317,AF1317/12,((AD1317/12*M1317*12)+N1317)/12)))","v":""},null,null,{"v":0,"d":"0.00"},null,{"v":0,"d":"0.00%"},{"v":0,"d":"0.00"},{"v":0,"d":"0.00"},{"v":0,"d":"0.00"},null,"prüfen",{"$f":"IFERROR(OFFSET(MD!$U$5,MATCH(Grundlagen_Abrechnung_KAE!$E1317,MD_GENDER,0),0),\"\")","v":""},{"v":0,"d":"0.00"},null,{"v":0,"d":"0.00"},{"$f":"IF(F1317=\"Arbeitgeberähnliche Stellung\",OFFSET(MD!$Q$5,MATCH(Grundlagen_Abrechnung_KAE!$AK$7,MD_JAHR,0),0)*$H1317,IF(J1317>0,AC1317,I1317))","v":{"v":0,"d":"0.00"}},null,{"$f":"OFFSET(MD!$P$5,MATCH($AK$7,MD_JAHR,0),0)*12","v":{"$error":"#VALUE!"}},{"v":0,"d":"0.00"}]
[{"$nulls":14},{"$f":"IF($B1318=\"\",\"\",IF(F1318=\"Arbeitgeberähnliche Stellung\",OFFSET(MD!$Q$5,MATCH(Grundlagen_Abrechnung_KAE!$AK$7,MD_JAHR,0),0)*$H1318,IF(((AD1318/12*M1318*12)+N1318)>AF1318,AF1318/12,((AD1318/12*M1318*12)+N1318)/12)))","v":""},null,null,{"v":0,"d":"0.00"},null,{"v":0,"d":"0.00%"},{"v":0,"d":"0.00"},{"v":0,"d":"0.00"},{"v":0,"d":"0.00"},null,"prüfen",{"$f":"IFERROR(OFFSET(MD!$U$5,MATCH(Grundlagen_Abrechnung_KAE!$E1318,MD_GENDER,0),0),\"\")","v":""},{"v":0,"d":"0.00"},null,{"v":0,"d":"0.00"},{"$f":"IF(F1318=\"Arbeitgeberähnliche Stellung\",OFFSET(MD!$Q$5,MATCH(Grundlagen_Abrechnung_KAE!$AK$7,MD_JAHR,0),0)*$H1318,IF(J1318>0,AC1318,I1318))","v":{"v":0,"d":"0.00"}},null,{"$f":"OFFSET(MD!$P$5,MATCH($AK$7,MD_JAHR,0),0)*12","v":{"$error":"#VALUE!"}},{"v":0,"d":"0.00"}]
[{"$nulls":14},{"$f":"IF($B1319=\"\",\"\",IF(F1319=\"Arbeitgeberähnliche Stellung\",OFFSET(MD!$Q$5,MATCH(Grundlagen_Abrechnung_KAE!$AK$7,MD_JAHR,0),0)*$H1319,IF(((AD1319/12*M1319*12)+N1319)>AF1319,AF1319/12,((AD1319/12*M1319*12)+N1319)/12)))","v":""},null,null,{"v":0,"d":"0.00"},null,{"v":0,"d":"0.00%"},{"v":0,"d":"0.00"},{"v":0,"d":"0.00"},{"v":0,"d":"0.00"},null,"prüfen",{"$f":"IFERROR(OFFSET(MD!$U$5,MATCH(Grundlagen_Abrechnung_KAE!$E1319,MD_GENDER,0),0),\"\")","v":""},{"v":0,"d":"0.00"},null,{"v":0,"d":"0.00"},{"$f":"IF(F1319=\"Arbeitgeberähnliche Stellung\",OFFSET(MD!$Q$5,MATCH(Grundlagen_Abrechnung_KAE!$AK$7,MD_JAHR,0),0)*$H1319,IF(J1319>0,AC1319,I1319))","v":{"v":0,"d":"0.00"}},null,{"$f":"OFFSET(MD!$P$5,MATCH($AK$7,MD_JAHR,0),0)*12","v":{"$error":"#VALUE!"}},{"v":0,"d":"0.00"}]
[{"$nulls":14},{"$f":"IF($B1320=\"\",\"\",IF(F1320=\"Arbeitgeberähnliche Stellung\",OFFSET(MD!$Q$5,MATCH(Grundlagen_Abrechnung_KAE!$AK$7,MD_JAHR,0),0)*$H1320,IF(((AD1320/12*M1320*12)+N1320)>AF1320,AF1320/12,((AD1320/12*M1320*12)+N1320)/12)))","v":""},null,null,{"v":0,"d":"0.00"},null,{"v":0,"d":"0.00%"},{"v":0,"d":"0.00"},{"v":0,"d":"0.00"},{"v":0,"d":"0.00"},null,"prüfen",{"$f":"IFERROR(OFFSET(MD!$U$5,MATCH(Grundlagen_Abrechnung_KAE!$E1320,MD_GENDER,0),0),\"\")","v":""},{"v":0,"d":"0.00"},null,{"v":0,"d":"0.00"},{"$f":"IF(F1320=\"Arbeitgeberähnliche Stellung\",OFFSET(MD!$Q$5,MATCH(Grundlagen_Abrechnung_KAE!$AK$7,MD_JAHR,0),0)*$H1320,IF(J1320>0,AC1320,I1320))","v":{"v":0,"d":"0.00"}},null,{"$f":"OFFSET(MD!$P$5,MATCH($AK$7,MD_JAHR,0),0)*12","v":{"$error":"#VALUE!"}},{"v":0,"d":"0.00"}]
[{"$nulls":14},{"$f":"IF($B1321=\"\",\"\",IF(F1321=\"Arbeitgeberähnliche Stellung\",OFFSET(MD!$Q$5,MATCH(Grundlagen_Abrechnung_KAE!$AK$7,MD_JAHR,0),0)*$H1321,IF(((AD1321/12*M1321*12)+N1321)>AF1321,AF1321/12,((AD1321/12*M1321*12)+N1321)/12)))","v":""},null,null,{"v":0,"d":"0.00"},null,{"v":0,"d":"0.00%"},{"v":0,"d":"0.00"},{"v":0,"d":"0.00"},{"v":0,"d":"0.00"},null,"prüfen",{"$f":"IFERROR(OFFSET(MD!$U$5,MATCH(Grundlagen_Abrechnung_KAE!$E1321,MD_GENDER,0),0),\"\")","v":""},{"v":0,"d":"0.00"},null,{"v":0,"d":"0.00"},{"$f":"IF(F1321=\"Arbeitgeberähnliche Stellung\",OFFSET(MD!$Q$5,MATCH(Grundlagen_Abrechnung_KAE!$AK$7,MD_JAHR,0),0)*$H1321,IF(J1321>0,AC1321,I1321))","v":{"v":0,"d":"0.00"}},null,{"$f":"OFFSET(MD!$P$5,MATCH($AK$7,MD_JAHR,0),0)*12","v":{"$error":"#VALUE!"}},{"v":0,"d":"0.00"}]
[{"$nulls":14},{"$f":"IF($B1322=\"\",\"\",IF(F1322=\"Arbeitgeberähnliche Stellung\",OFFSET(MD!$Q$5,MATCH(Grundlagen_Abrechnung_KAE!$AK$7,MD_JAHR,0),0)*$H1322,IF(((AD1322/12*M1322*12)+N1322)>AF1322,AF1322/12,((AD1322/12*M1322*12)+N1322)/12)))","v":""},null,null,{"v":0,"d":"0.00"},null,{"v":0,"d":"0.00%"},{"v":0,"d":"0.00"},{"v":0,"d":"0.00"},{"v":0,"d":"0.00"},null,"prüfen",{"$f":"IFERROR(OFFSET(MD!$U$5,MATCH(Grundlagen_Abrechnung_KAE!$E1322,MD_GENDER,0),0),\"\")","v":""},{"v":0,"d":"0.00"},null,{"v":0,"d":"0.00"},{"$f":"IF(F1322=\"Arbeitgeberähnliche Stellung\",OFFSET(MD!$Q$5,MATCH(Grundlagen_Abrechnung_KAE!$AK$7,MD_JAHR,0),0)*$H1322,IF(J1322>0,AC1322,I1322))","v":{"v":0,"d":"0.00"}},null,{"$f":"OFFSET(MD!$P$5,MATCH($AK$7,MD_JAHR,0),0)*12","v":{"$error":"#VALUE!"}},{"v":0,"d":"0.00"}]
[{"$nulls":14},{"$f":"IF($B1323=\"\",\"\",IF(F1323=\"Arbeitgeberähnliche Stellung\",OFFSET(MD!$Q$5,MATCH(Grundlagen_Abrechnung_KAE!$AK$7,MD_JAHR,0),0)*$H1323,IF(((AD1323/12*M1323*12)+N1323)>AF1323,AF1323/12,((AD1323/12*M1323*12)+N1323)/12)))","v":""},null,null,{"v":0,"d":"0.00"},null,{"v":0,"d":"0.00%"},{"v":0,"d":"0.00"},{"v":0,"d":"0.00"},{"v":0,"d":"0.00"},null,"prüfen",{"$f":"IFERROR(OFFSET(MD!$U$5,MATCH(Grundlagen_Abrechnung_KAE!$E1323,MD_GENDER,0),0),\"\")","v":""},{"v":0,"d":"0.00"},null,{"v":0,"d":"0.00"},{"$f":"IF(F1323=\"Arbeitgeberähnliche Stellung\",OFFSET(MD!$Q$5,MATCH(Grundlagen_Abrechnung_KAE!$AK$7,MD_JAHR,0),0)*$H1323,IF(J1323>0,AC1323,I1323))","v":{"v":0,"d":"0.00"}},null,{"$f":"OFFSET(MD!$P$5,MATCH($AK$7,MD_JAHR,0),0)*12","v":{"$error":"#VALUE!"}},{"v":0,"d":"0.00"}]
[{"$nulls":14},{"$f":"IF($B1324=\"\",\"\",IF(F1324=\"Arbeitgeberähnliche Stellung\",OFFSET(MD!$Q$5,MATCH(Grundlagen_Abrechnung_KAE!$AK$7,MD_JAHR,0),0)*$H1324,IF(((AD1324/12*M1324*12)+N1324)>AF1324,AF1324/12,((AD1324/12*M1324*12)+N1324)/12)))","v":""},null,null,{"v":0,"d":"0.00"},null,{"v":0,"d":"0.00%"},{"v":0,"d":"0.00"},{"v":0,"d":"0.00"},{"v":0,"d":"0.00"},null,"prüfen",{"$f":"IFERROR(OFFSET(MD!$U$5,MATCH(Grundlagen_Abrechnung_KAE!$E1324,MD_GENDER,0),0),\"\")","v":""},{"v":0,"d":"0.00"},null,{"v":0,"d":"0.00"},{"$f":"IF(F1324=\"Arbeitgeberähnliche Stellung\",OFFSET(MD!$Q$5,MATCH(Grundlagen_Abrechnung_KAE!$AK$7,MD_JAHR,0),0)*$H1324,IF(J1324>0,AC1324,I1324))","v":{"v":0,"d":"0.00"}},null,{"$f":"OFFSET(MD!$P$5,MATCH($AK$7,MD_JAHR,0),0)*12","v":{"$error":"#VALUE!"}},{"v":0,"d":"0.00"}]
[{"$nulls":14},{"$f":"IF($B1325=\"\",\"\",IF(F1325=\"Arbeitgeberähnliche Stellung\",OFFSET(MD!$Q$5,MATCH(Grundlagen_Abrechnung_KAE!$AK$7,MD_JAHR,0),0)*$H1325,IF(((AD1325/12*M1325*12)+N1325)>AF1325,AF1325/12,((AD1325/12*M1325*12)+N1325)/12)))","v":""},null,null,{"v":0,"d":"0.00"},null,{"v":0,"d":"0.00%"},{"v":0,"d":"0.00"},{"v":0,"d":"0.00"},{"v":0,"d":"0.00"},null,"prüfen",{"$f":"IFERROR(OFFSET(MD!$U$5,MATCH(Grundlagen_Abrechnung_KAE!$E1325,MD_GENDER,0),0),\"\")","v":""},{"v":0,"d":"0.00"},null,{"v":0,"d":"0.00"},{"$f":"IF(F1325=\"Arbeitgeberähnliche Stellung\",OFFSET(MD!$Q$5,MATCH(Grundlagen_Abrechnung_KAE!$AK$7,MD_JAHR,0),0)*$H1325,IF(J1325>0,AC1325,I1325))","v":{"v":0,"d":"0.00"}},null,{"$f":"OFFSET(MD!$P$5,MATCH($AK$7,MD_JAHR,0),0)*12","v":{"$error":"#VALUE!"}},{"v":0,"d":"0.00"}]
[{"$nulls":14},{"$f":"IF($B1326=\"\",\"\",IF(F1326=\"Arbeitgeberähnliche Stellung\",OFFSET(MD!$Q$5,MATCH(Grundlagen_Abrechnung_KAE!$AK$7,MD_JAHR,0),0)*$H1326,IF(((AD1326/12*M1326*12)+N1326)>AF1326,AF1326/12,((AD1326/12*M1326*12)+N1326)/12)))","v":""},null,null,{"v":0,"d":"0.00"},null,{"v":0,"d":"0.00%"},{"v":0,"d":"0.00"},{"v":0,"d":"0.00"},{"v":0,"d":"0.00"},null,"prüfen",{"$f":"IFERROR(OFFSET(MD!$U$5,MATCH(Grundlagen_Abrechnung_KAE!$E1326,MD_GENDER,0),0),\"\")","v":""},{"v":0,"d":"0.00"},null,{"v":0,"d":"0.00"},{"$f":"IF(F1326=\"Arbeitgeberähnliche Stellung\",OFFSET(MD!$Q$5,MATCH(Grundlagen_Abrechnung_KAE!$AK$7,MD_JAHR,0),0)*$H1326,IF(J1326>0,AC1326,I1326))","v":{"v":0,"d":"0.00"}},null,{"$f":"OFFSET(MD!$P$5,MATCH($AK$7,MD_JAHR,0),0)*12","v":{"$error":"#VALUE!"}},{"v":0,"d":"0.00"}]
[{"$nulls":14},{"$f":"IF($B1327=\"\",\"\",IF(F1327=\"Arbeitgeberähnliche Stellung\",OFFSET(MD!$Q$5,MATCH(Grundlagen_Abrechnung_KAE!$AK$7,MD_JAHR,0),0)*$H1327,IF(((AD1327/12*M1327*12)+N1327)>AF1327,AF1327/12,((AD1327/12*M1327*12)+N1327)/12)))","v":""},null,null,{"v":0,"d":"0.00"},null,{"v":0,"d":"0.00%"},{"v":0,"d":"0.00"},{"v":0,"d":"0.00"},{"v":0,"d":"0.00"},null,"prüfen",{"$f":"IFERROR(OFFSET(MD!$U$5,MATCH(Grundlagen_Abrechnung_KAE!$E1327,MD_GENDER,0),0),\"\")","v":""},{"v":0,"d":"0.00"},null,{"v":0,"d":"0.00"},{"$f":"IF(F1327=\"Arbeitgeberähnliche Stellung\",OFFSET(MD!$Q$5,MATCH(Grundlagen_Abrechnung_KAE!$AK$7,MD_JAHR,0),0)*$H1327,IF(J1327>0,AC1327,I1327))","v":{"v":0,"d":"0.00"}},null,{"$f":"OFFSET(MD!$P$5,MATCH($AK$7,MD_JAHR,0),0)*12","v":{"$error":"#VALUE!"}},{"v":0,"d":"0.00"}]
[{"$nulls":14},{"$f":"IF($B1328=\"\",\"\",IF(F1328=\"Arbeitgeberähnliche Stellung\",OFFSET(MD!$Q$5,MATCH(Grundlagen_Abrechnung_KAE!$AK$7,MD_JAHR,0),0)*$H1328,IF(((AD1328/12*M1328*12)+N1328)>AF1328,AF1328/12,((AD1328/12*M1328*12)+N1328)/12)))","v":""},null,null,{"v":0,"d":"0.00"},null,{"v":0,"d":"0.00%"},{"v":0,"d":"0.00"},{"v":0,"d":"0.00"},{"v":0,"d":"0.00"},null,"prüfen",{"$f":"IFERROR(OFFSET(MD!$U$5,MATCH(Grundlagen_Abrechnung_KAE!$E1328,MD_GENDER,0),0),\"\")","v":""},{"v":0,"d":"0.00"},null,{"v":0,"d":"0.00"},{"$f":"IF(F1328=\"Arbeitgeberähnliche Stellung\",OFFSET(MD!$Q$5,MATCH(Grundlagen_Abrechnung_KAE!$AK$7,MD_JAHR,0),0)*$H1328,IF(J1328>0,AC1328,I1328))","v":{"v":0,"d":"0.00"}},null,{"$f":"OFFSET(MD!$P$5,MATCH($AK$7,MD_JAHR,0),0)*12","v":{"$error":"#VALUE!"}},{"v":0,"d":"0.00"}]
[{"$nulls":14},{"$f":"IF($B1329=\"\",\"\",IF(F1329=\"Arbeitgeberähnliche Stellung\",OFFSET(MD!$Q$5,MATCH(Grundlagen_Abrechnung_KAE!$AK$7,MD_JAHR,0),0)*$H1329,IF(((AD1329/12*M1329*12)+N1329)>AF1329,AF1329/12,((AD1329/12*M1329*12)+N1329)/12)))","v":""},null,null,{"v":0,"d":"0.00"},null,{"v":0,"d":"0.00%"},{"v":0,"d":"0.00"},{"v":0,"d":"0.00"},{"v":0,"d":"0.00"},null,"prüfen",{"$f":"IFERROR(OFFSET(MD!$U$5,MATCH(Grundlagen_Abrechnung_KAE!$E1329,MD_GENDER,0),0),\"\")","v":""},{"v":0,"d":"0.00"},null,{"v":0,"d":"0.00"},{"$f":"IF(F1329=\"Arbeitgeberähnliche Stellung\",OFFSET(MD!$Q$5,MATCH(Grundlagen_Abrechnung_KAE!$AK$7,MD_JAHR,0),0)*$H1329,IF(J1329>0,AC1329,I1329))","v":{"v":0,"d":"0.00"}},null,{"$f":"OFFSET(MD!$P$5,MATCH($AK$7,MD_JAHR,0),0)*12","v":{"$error":"#VALUE!"}},{"v":0,"d":"0.00"}]
[{"$nulls":14},{"$f":"IF($B1330=\"\",\"\",IF(F1330=\"Arbeitgeberähnliche Stellung\",OFFSET(MD!$Q$5,MATCH(Grundlagen_Abrechnung_KAE!$AK$7,MD_JAHR,0),0)*$H1330,IF(((AD1330/12*M1330*12)+N1330)>AF1330,AF1330/12,((AD1330/12*M1330*12)+N1330)/12)))","v":""},null,null,{"v":0,"d":"0.00"},null,{"v":0,"d":"0.00%"},{"v":0,"d":"0.00"},{"v":0,"d":"0.00"},{"v":0,"d":"0.00"},null,"prüfen",{"$f":"IFERROR(OFFSET(MD!$U$5,MATCH(Grundlagen_Abrechnung_KAE!$E1330,MD_GENDER,0),0),\"\")","v":""},{"v":0,"d":"0.00"},null,{"v":0,"d":"0.00"},{"$f":"IF(F1330=\"Arbeitgeberähnliche Stellung\",OFFSET(MD!$Q$5,MATCH(Grundlagen_Abrechnung_KAE!$AK$7,MD_JAHR,0),0)*$H1330,IF(J1330>0,AC1330,I1330))","v":{"v":0,"d":"0.00"}},null,{"$f":"OFFSET(MD!$P$5,MATCH($AK$7,MD_JAHR,0),0)*12","v":{"$error":"#VALUE!"}},{"v":0,"d":"0.00"}]
[{"$nulls":14},{"$f":"IF($B1331=\"\",\"\",IF(F1331=\"Arbeitgeberähnliche Stellung\",OFFSET(MD!$Q$5,MATCH(Grundlagen_Abrechnung_KAE!$AK$7,MD_JAHR,0),0)*$H1331,IF(((AD1331/12*M1331*12)+N1331)>AF1331,AF1331/12,((AD1331/12*M1331*12)+N1331)/12)))","v":""},null,null,{"v":0,"d":"0.00"},null,{"v":0,"d":"0.00%"},{"v":0,"d":"0.00"},{"v":0,"d":"0.00"},{"v":0,"d":"0.00"},null,"prüfen",{"$f":"IFERROR(OFFSET(MD!$U$5,MATCH(Grundlagen_Abrechnung_KAE!$E1331,MD_GENDER,0),0),\"\")","v":""},{"v":0,"d":"0.00"},null,{"v":0,"d":"0.00"},{"$f":"IF(F1331=\"Arbeitgeberähnliche Stellung\",OFFSET(MD!$Q$5,MATCH(Grundlagen_Abrechnung_KAE!$AK$7,MD_JAHR,0),0)*$H1331,IF(J1331>0,AC1331,I1331))","v":{"v":0,"d":"0.00"}},null,{"$f":"OFFSET(MD!$P$5,MATCH($AK$7,MD_JAHR,0),0)*12","v":{"$error":"#VALUE!"}},{"v":0,"d":"0.00"}]
[{"$nulls":14},{"$f":"IF($B1332=\"\",\"\",IF(F1332=\"Arbeitgeberähnliche Stellung\",OFFSET(MD!$Q$5,MATCH(Grundlagen_Abrechnung_KAE!$AK$7,MD_JAHR,0),0)*$H1332,IF(((AD1332/12*M1332*12)+N1332)>AF1332,AF1332/12,((AD1332/12*M1332*12)+N1332)/12)))","v":""},null,null,{"v":0,"d":"0.00"},null,{"v":0,"d":"0.00%"},{"v":0,"d":"0.00"},{"v":0,"d":"0.00"},{"v":0,"d":"0.00"},null,"prüfen",{"$f":"IFERROR(OFFSET(MD!$U$5,MATCH(Grundlagen_Abrechnung_KAE!$E1332,MD_GENDER,0),0),\"\")","v":""},{"v":0,"d":"0.00"},null,{"v":0,"d":"0.00"},{"$f":"IF(F1332=\"Arbeitgeberähnliche Stellung\",OFFSET(MD!$Q$5,MATCH(Grundlagen_Abrechnung_KAE!$AK$7,MD_JAHR,0),0)*$H1332,IF(J1332>0,AC1332,I1332))","v":{"v":0,"d":"0.00"}},null,{"$f":"OFFSET(MD!$P$5,MATCH($AK$7,MD_JAHR,0),0)*12","v":{"$error":"#VALUE!"}},{"v":0,"d":"0.00"}]
[{"$nulls":14},{"$f":"IF($B1333=\"\",\"\",IF(F1333=\"Arbeitgeberähnliche Stellung\",OFFSET(MD!$Q$5,MATCH(Grundlagen_Abrechnung_KAE!$AK$7,MD_JAHR,0),0)*$H1333,IF(((AD1333/12*M1333*12)+N1333)>AF1333,AF1333/12,((AD1333/12*M1333*12)+N1333)/12)))","v":""},null,null,{"v":0,"d":"0.00"},null,{"v":0,"d":"0.00%"},{"v":0,"d":"0.00"},{"v":0,"d":"0.00"},{"v":0,"d":"0.00"},null,"prüfen",{"$f":"IFERROR(OFFSET(MD!$U$5,MATCH(Grundlagen_Abrechnung_KAE!$E1333,MD_GENDER,0),0),\"\")","v":""},{"v":0,"d":"0.00"},null,{"v":0,"d":"0.00"},{"$f":"IF(F1333=\"Arbeitgeberähnliche Stellung\",OFFSET(MD!$Q$5,MATCH(Grundlagen_Abrechnung_KAE!$AK$7,MD_JAHR,0),0)*$H1333,IF(J1333>0,AC1333,I1333))","v":{"v":0,"d":"0.00"}},null,{"$f":"OFFSET(MD!$P$5,MATCH($AK$7,MD_JAHR,0),0)*12","v":{"$error":"#VALUE!"}},{"v":0,"d":"0.00"}]
[{"$nulls":14},{"$f":"IF($B1334=\"\",\"\",IF(F1334=\"Arbeitgeberähnliche Stellung\",OFFSET(MD!$Q$5,MATCH(Grundlagen_Abrechnung_KAE!$AK$7,MD_JAHR,0),0)*$H1334,IF(((AD1334/12*M1334*12)+N1334)>AF1334,AF1334/12,((AD1334/12*M1334*12)+N1334)/12)))","v":""},null,null,{"v":0,"d":"0.00"},null,{"v":0,"d":"0.00%"},{"v":0,"d":"0.00"},{"v":0,"d":"0.00"},{"v":0,"d":"0.00"},null,"prüfen",{"$f":"IFERROR(OFFSET(MD!$U$5,MATCH(Grundlagen_Abrechnung_KAE!$E1334,MD_GENDER,0),0),\"\")","v":""},{"v":0,"d":"0.00"},null,{"v":0,"d":"0.00"},{"$f":"IF(F1334=\"Arbeitgeberähnliche Stellung\",OFFSET(MD!$Q$5,MATCH(Grundlagen_Abrechnung_KAE!$AK$7,MD_JAHR,0),0)*$H1334,IF(J1334>0,AC1334,I1334))","v":{"v":0,"d":"0.00"}},null,{"$f":"OFFSET(MD!$P$5,MATCH($AK$7,MD_JAHR,0),0)*12","v":{"$error":"#VALUE!"}},{"v":0,"d":"0.00"}]
[{"$nulls":14},{"$f":"IF($B1335=\"\",\"\",IF(F1335=\"Arbeitgeberähnliche Stellung\",OFFSET(MD!$Q$5,MATCH(Grundlagen_Abrechnung_KAE!$AK$7,MD_JAHR,0),0)*$H1335,IF(((AD1335/12*M1335*12)+N1335)>AF1335,AF1335/12,((AD1335/12*M1335*12)+N1335)/12)))","v":""},null,null,{"v":0,"d":"0.00"},null,{"v":0,"d":"0.00%"},{"v":0,"d":"0.00"},{"v":0,"d":"0.00"},{"v":0,"d":"0.00"},null,"prüfen",{"$f":"IFERROR(OFFSET(MD!$U$5,MATCH(Grundlagen_Abrechnung_KAE!$E1335,MD_GENDER,0),0),\"\")","v":""},{"v":0,"d":"0.00"},null,{"v":0,"d":"0.00"},{"$f":"IF(F1335=\"Arbeitgeberähnliche Stellung\",OFFSET(MD!$Q$5,MATCH(Grundlagen_Abrechnung_KAE!$AK$7,MD_JAHR,0),0)*$H1335,IF(J1335>0,AC1335,I1335))","v":{"v":0,"d":"0.00"}},null,{"$f":"OFFSET(MD!$P$5,MATCH($AK$7,MD_JAHR,0),0)*12","v":{"$error":"#VALUE!"}},{"v":0,"d":"0.00"}]
[{"$nulls":14},{"$f":"IF($B1336=\"\",\"\",IF(F1336=\"Arbeitgeberähnliche Stellung\",OFFSET(MD!$Q$5,MATCH(Grundlagen_Abrechnung_KAE!$AK$7,MD_JAHR,0),0)*$H1336,IF(((AD1336/12*M1336*12)+N1336)>AF1336,AF1336/12,((AD1336/12*M1336*12)+N1336)/12)))","v":""},null,null,{"v":0,"d":"0.00"},null,{"v":0,"d":"0.00%"},{"v":0,"d":"0.00"},{"v":0,"d":"0.00"},{"v":0,"d":"0.00"},null,"prüfen",{"$f":"IFERROR(OFFSET(MD!$U$5,MATCH(Grundlagen_Abrechnung_KAE!$E1336,MD_GENDER,0),0),\"\")","v":""},{"v":0,"d":"0.00"},null,{"v":0,"d":"0.00"},{"$f":"IF(F1336=\"Arbeitgeberähnliche Stellung\",OFFSET(MD!$Q$5,MATCH(Grundlagen_Abrechnung_KAE!$AK$7,MD_JAHR,0),0)*$H1336,IF(J1336>0,AC1336,I1336))","v":{"v":0,"d":"0.00"}},null,{"$f":"OFFSET(MD!$P$5,MATCH($AK$7,MD_JAHR,0),0)*12","v":{"$error":"#VALUE!"}},{"v":0,"d":"0.00"}]
[{"$nulls":14},{"$f":"IF($B1337=\"\",\"\",IF(F1337=\"Arbeitgeberähnliche Stellung\",OFFSET(MD!$Q$5,MATCH(Grundlagen_Abrechnung_KAE!$AK$7,MD_JAHR,0),0)*$H1337,IF(((AD1337/12*M1337*12)+N1337)>AF1337,AF1337/12,((AD1337/12*M1337*12)+N1337)/12)))","v":""},null,null,{"v":0,"d":"0.00"},null,{"v":0,"d":"0.00%"},{"v":0,"d":"0.00"},{"v":0,"d":"0.00"},{"v":0,"d":"0.00"},null,"prüfen",{"$f":"IFERROR(OFFSET(MD!$U$5,MATCH(Grundlagen_Abrechnung_KAE!$E1337,MD_GENDER,0),0),\"\")","v":""},{"v":0,"d":"0.00"},null,{"v":0,"d":"0.00"},{"$f":"IF(F1337=\"Arbeitgeberähnliche Stellung\",OFFSET(MD!$Q$5,MATCH(Grundlagen_Abrechnung_KAE!$AK$7,MD_JAHR,0),0)*$H1337,IF(J1337>0,AC1337,I1337))","v":{"v":0,"d":"0.00"}},null,{"$f":"OFFSET(MD!$P$5,MATCH($AK$7,MD_JAHR,0),0)*12","v":{"$error":"#VALUE!"}},{"v":0,"d":"0.00"}]
[{"$nulls":14},{"$f":"IF($B1338=\"\",\"\",IF(F1338=\"Arbeitgeberähnliche Stellung\",OFFSET(MD!$Q$5,MATCH(Grundlagen_Abrechnung_KAE!$AK$7,MD_JAHR,0),0)*$H1338,IF(((AD1338/12*M1338*12)+N1338)>AF1338,AF1338/12,((AD1338/12*M1338*12)+N1338)/12)))","v":""},null,null,{"v":0,"d":"0.00"},null,{"v":0,"d":"0.00%"},{"v":0,"d":"0.00"},{"v":0,"d":"0.00"},{"v":0,"d":"0.00"},null,"prüfen",{"$f":"IFERROR(OFFSET(MD!$U$5,MATCH(Grundlagen_Abrechnung_KAE!$E1338,MD_GENDER,0),0),\"\")","v":""},{"v":0,"d":"0.00"},null,{"v":0,"d":"0.00"},{"$f":"IF(F1338=\"Arbeitgeberähnliche Stellung\",OFFSET(MD!$Q$5,MATCH(Grundlagen_Abrechnung_KAE!$AK$7,MD_JAHR,0),0)*$H1338,IF(J1338>0,AC1338,I1338))","v":{"v":0,"d":"0.00"}},null,{"$f":"OFFSET(MD!$P$5,MATCH($AK$7,MD_JAHR,0),0)*12","v":{"$error":"#VALUE!"}},{"v":0,"d":"0.00"}]
[{"$nulls":14},{"$f":"IF($B1339=\"\",\"\",IF(F1339=\"Arbeitgeberähnliche Stellung\",OFFSET(MD!$Q$5,MATCH(Grundlagen_Abrechnung_KAE!$AK$7,MD_JAHR,0),0)*$H1339,IF(((AD1339/12*M1339*12)+N1339)>AF1339,AF1339/12,((AD1339/12*M1339*12)+N1339)/12)))","v":""},null,null,{"v":0,"d":"0.00"},null,{"v":0,"d":"0.00%"},{"v":0,"d":"0.00"},{"v":0,"d":"0.00"},{"v":0,"d":"0.00"},null,"prüfen",{"$f":"IFERROR(OFFSET(MD!$U$5,MATCH(Grundlagen_Abrechnung_KAE!$E1339,MD_GENDER,0),0),\"\")","v":""},{"v":0,"d":"0.00"},null,{"v":0,"d":"0.00"},{"$f":"IF(F1339=\"Arbeitgeberähnliche Stellung\",OFFSET(MD!$Q$5,MATCH(Grundlagen_Abrechnung_KAE!$AK$7,MD_JAHR,0),0)*$H1339,IF(J1339>0,AC1339,I1339))","v":{"v":0,"d":"0.00"}},null,{"$f":"OFFSET(MD!$P$5,MATCH($AK$7,MD_JAHR,0),0)*12","v":{"$error":"#VALUE!"}},{"v":0,"d":"0.00"}]
[{"$nulls":14},{"$f":"IF($B1340=\"\",\"\",IF(F1340=\"Arbeitgeberähnliche Stellung\",OFFSET(MD!$Q$5,MATCH(Grundlagen_Abrechnung_KAE!$AK$7,MD_JAHR,0),0)*$H1340,IF(((AD1340/12*M1340*12)+N1340)>AF1340,AF1340/12,((AD1340/12*M1340*12)+N1340)/12)))","v":""},null,null,{"v":0,"d":"0.00"},null,{"v":0,"d":"0.00%"},{"v":0,"d":"0.00"},{"v":0,"d":"0.00"},{"v":0,"d":"0.00"},null,"prüfen",{"$f":"IFERROR(OFFSET(MD!$U$5,MATCH(Grundlagen_Abrechnung_KAE!$E1340,MD_GENDER,0),0),\"\")","v":""},{"v":0,"d":"0.00"},null,{"v":0,"d":"0.00"},{"$f":"IF(F1340=\"Arbeitgeberähnliche Stellung\",OFFSET(MD!$Q$5,MATCH(Grundlagen_Abrechnung_KAE!$AK$7,MD_JAHR,0),0)*$H1340,IF(J1340>0,AC1340,I1340))","v":{"v":0,"d":"0.00"}},null,{"$f":"OFFSET(MD!$P$5,MATCH($AK$7,MD_JAHR,0),0)*12","v":{"$error":"#VALUE!"}},{"v":0,"d":"0.00"}]
[{"$nulls":14},{"$f":"IF($B1341=\"\",\"\",IF(F1341=\"Arbeitgeberähnliche Stellung\",OFFSET(MD!$Q$5,MATCH(Grundlagen_Abrechnung_KAE!$AK$7,MD_JAHR,0),0)*$H1341,IF(((AD1341/12*M1341*12)+N1341)>AF1341,AF1341/12,((AD1341/12*M1341*12)+N1341)/12)))","v":""},null,null,{"v":0,"d":"0.00"},null,{"v":0,"d":"0.00%"},{"v":0,"d":"0.00"},{"v":0,"d":"0.00"},{"v":0,"d":"0.00"},null,"prüfen",{"$f":"IFERROR(OFFSET(MD!$U$5,MATCH(Grundlagen_Abrechnung_KAE!$E1341,MD_GENDER,0),0),\"\")","v":""},{"v":0,"d":"0.00"},null,{"v":0,"d":"0.00"},{"$f":"IF(F1341=\"Arbeitgeberähnliche Stellung\",OFFSET(MD!$Q$5,MATCH(Grundlagen_Abrechnung_KAE!$AK$7,MD_JAHR,0),0)*$H1341,IF(J1341>0,AC1341,I1341))","v":{"v":0,"d":"0.00"}},null,{"$f":"OFFSET(MD!$P$5,MATCH($AK$7,MD_JAHR,0),0)*12","v":{"$error":"#VALUE!"}},{"v":0,"d":"0.00"}]
[{"$nulls":14},{"$f":"IF($B1342=\"\",\"\",IF(F1342=\"Arbeitgeberähnliche Stellung\",OFFSET(MD!$Q$5,MATCH(Grundlagen_Abrechnung_KAE!$AK$7,MD_JAHR,0),0)*$H1342,IF(((AD1342/12*M1342*12)+N1342)>AF1342,AF1342/12,((AD1342/12*M1342*12)+N1342)/12)))","v":""},null,null,{"v":0,"d":"0.00"},null,{"v":0,"d":"0.00%"},{"v":0,"d":"0.00"},{"v":0,"d":"0.00"},{"v":0,"d":"0.00"},null,"prüfen",{"$f":"IFERROR(OFFSET(MD!$U$5,MATCH(Grundlagen_Abrechnung_KAE!$E1342,MD_GENDER,0),0),\"\")","v":""},{"v":0,"d":"0.00"},null,{"v":0,"d":"0.00"},{"$f":"IF(F1342=\"Arbeitgeberähnliche Stellung\",OFFSET(MD!$Q$5,MATCH(Grundlagen_Abrechnung_KAE!$AK$7,MD_JAHR,0),0)*$H1342,IF(J1342>0,AC1342,I1342))","v":{"v":0,"d":"0.00"}},null,{"$f":"OFFSET(MD!$P$5,MATCH($AK$7,MD_JAHR,0),0)*12","v":{"$error":"#VALUE!"}},{"v":0,"d":"0.00"}]
[{"$nulls":14},{"$f":"IF($B1343=\"\",\"\",IF(F1343=\"Arbeitgeberähnliche Stellung\",OFFSET(MD!$Q$5,MATCH(Grundlagen_Abrechnung_KAE!$AK$7,MD_JAHR,0),0)*$H1343,IF(((AD1343/12*M1343*12)+N1343)>AF1343,AF1343/12,((AD1343/12*M1343*12)+N1343)/12)))","v":""},null,null,{"v":0,"d":"0.00"},null,{"v":0,"d":"0.00%"},{"v":0,"d":"0.00"},{"v":0,"d":"0.00"},{"v":0,"d":"0.00"},null,"prüfen",{"$f":"IFERROR(OFFSET(MD!$U$5,MATCH(Grundlagen_Abrechnung_KAE!$E1343,MD_GENDER,0),0),\"\")","v":""},{"v":0,"d":"0.00"},null,{"v":0,"d":"0.00"},{"$f":"IF(F1343=\"Arbeitgeberähnliche Stellung\",OFFSET(MD!$Q$5,MATCH(Grundlagen_Abrechnung_KAE!$AK$7,MD_JAHR,0),0)*$H1343,IF(J1343>0,AC1343,I1343))","v":{"v":0,"d":"0.00"}},null,{"$f":"OFFSET(MD!$P$5,MATCH($AK$7,MD_JAHR,0),0)*12","v":{"$error":"#VALUE!"}},{"v":0,"d":"0.00"}]
[{"$nulls":14},{"$f":"IF($B1344=\"\",\"\",IF(F1344=\"Arbeitgeberähnliche Stellung\",OFFSET(MD!$Q$5,MATCH(Grundlagen_Abrechnung_KAE!$AK$7,MD_JAHR,0),0)*$H1344,IF(((AD1344/12*M1344*12)+N1344)>AF1344,AF1344/12,((AD1344/12*M1344*12)+N1344)/12)))","v":""},null,null,{"v":0,"d":"0.00"},null,{"v":0,"d":"0.00%"},{"v":0,"d":"0.00"},{"v":0,"d":"0.00"},{"v":0,"d":"0.00"},null,"prüfen",{"$f":"IFERROR(OFFSET(MD!$U$5,MATCH(Grundlagen_Abrechnung_KAE!$E1344,MD_GENDER,0),0),\"\")","v":""},{"v":0,"d":"0.00"},null,{"v":0,"d":"0.00"},{"$f":"IF(F1344=\"Arbeitgeberähnliche Stellung\",OFFSET(MD!$Q$5,MATCH(Grundlagen_Abrechnung_KAE!$AK$7,MD_JAHR,0),0)*$H1344,IF(J1344>0,AC1344,I1344))","v":{"v":0,"d":"0.00"}},null,{"$f":"OFFSET(MD!$P$5,MATCH($AK$7,MD_JAHR,0),0)*12","v":{"$error":"#VALUE!"}},{"v":0,"d":"0.00"}]
[{"$nulls":14},{"$f":"IF($B1345=\"\",\"\",IF(F1345=\"Arbeitgeberähnliche Stellung\",OFFSET(MD!$Q$5,MATCH(Grundlagen_Abrechnung_KAE!$AK$7,MD_JAHR,0),0)*$H1345,IF(((AD1345/12*M1345*12)+N1345)>AF1345,AF1345/12,((AD1345/12*M1345*12)+N1345)/12)))","v":""},null,null,{"v":0,"d":"0.00"},null,{"v":0,"d":"0.00%"},{"v":0,"d":"0.00"},{"v":0,"d":"0.00"},{"v":0,"d":"0.00"},null,"prüfen",{"$f":"IFERROR(OFFSET(MD!$U$5,MATCH(Grundlagen_Abrechnung_KAE!$E1345,MD_GENDER,0),0),\"\")","v":""},{"v":0,"d":"0.00"},null,{"v":0,"d":"0.00"},{"$f":"IF(F1345=\"Arbeitgeberähnliche Stellung\",OFFSET(MD!$Q$5,MATCH(Grundlagen_Abrechnung_KAE!$AK$7,MD_JAHR,0),0)*$H1345,IF(J1345>0,AC1345,I1345))","v":{"v":0,"d":"0.00"}},null,{"$f":"OFFSET(MD!$P$5,MATCH($AK$7,MD_JAHR,0),0)*12","v":{"$error":"#VALUE!"}},{"v":0,"d":"0.00"}]
[{"$nulls":14},{"$f":"IF($B1346=\"\",\"\",IF(F1346=\"Arbeitgeberähnliche Stellung\",OFFSET(MD!$Q$5,MATCH(Grundlagen_Abrechnung_KAE!$AK$7,MD_JAHR,0),0)*$H1346,IF(((AD1346/12*M1346*12)+N1346)>AF1346,AF1346/12,((AD1346/12*M1346*12)+N1346)/12)))","v":""},null,null,{"v":0,"d":"0.00"},null,{"v":0,"d":"0.00%"},{"v":0,"d":"0.00"},{"v":0,"d":"0.00"},{"v":0,"d":"0.00"},null,"prüfen",{"$f":"IFERROR(OFFSET(MD!$U$5,MATCH(Grundlagen_Abrechnung_KAE!$E1346,MD_GENDER,0),0),\"\")","v":""},{"v":0,"d":"0.00"},null,{"v":0,"d":"0.00"},{"$f":"IF(F1346=\"Arbeitgeberähnliche Stellung\",OFFSET(MD!$Q$5,MATCH(Grundlagen_Abrechnung_KAE!$AK$7,MD_JAHR,0),0)*$H1346,IF(J1346>0,AC1346,I1346))","v":{"v":0,"d":"0.00"}},null,{"$f":"OFFSET(MD!$P$5,MATCH($AK$7,MD_JAHR,0),0)*12","v":{"$error":"#VALUE!"}},{"v":0,"d":"0.00"}]
[{"$nulls":14},{"$f":"IF($B1347=\"\",\"\",IF(F1347=\"Arbeitgeberähnliche Stellung\",OFFSET(MD!$Q$5,MATCH(Grundlagen_Abrechnung_KAE!$AK$7,MD_JAHR,0),0)*$H1347,IF(((AD1347/12*M1347*12)+N1347)>AF1347,AF1347/12,((AD1347/12*M1347*12)+N1347)/12)))","v":""},null,null,{"v":0,"d":"0.00"},null,{"v":0,"d":"0.00%"},{"v":0,"d":"0.00"},{"v":0,"d":"0.00"},{"v":0,"d":"0.00"},null,"prüfen",{"$f":"IFERROR(OFFSET(MD!$U$5,MATCH(Grundlagen_Abrechnung_KAE!$E1347,MD_GENDER,0),0),\"\")","v":""},{"v":0,"d":"0.00"},null,{"v":0,"d":"0.00"},{"$f":"IF(F1347=\"Arbeitgeberähnliche Stellung\",OFFSET(MD!$Q$5,MATCH(Grundlagen_Abrechnung_KAE!$AK$7,MD_JAHR,0),0)*$H1347,IF(J1347>0,AC1347,I1347))","v":{"v":0,"d":"0.00"}},null,{"$f":"OFFSET(MD!$P$5,MATCH($AK$7,MD_JAHR,0),0)*12","v":{"$error":"#VALUE!"}},{"v":0,"d":"0.00"}]
[{"$nulls":14},{"$f":"IF($B1348=\"\",\"\",IF(F1348=\"Arbeitgeberähnliche Stellung\",OFFSET(MD!$Q$5,MATCH(Grundlagen_Abrechnung_KAE!$AK$7,MD_JAHR,0),0)*$H1348,IF(((AD1348/12*M1348*12)+N1348)>AF1348,AF1348/12,((AD1348/12*M1348*12)+N1348)/12)))","v":""},null,null,{"v":0,"d":"0.00"},null,{"v":0,"d":"0.00%"},{"v":0,"d":"0.00"},{"v":0,"d":"0.00"},{"v":0,"d":"0.00"},null,"prüfen",{"$f":"IFERROR(OFFSET(MD!$U$5,MATCH(Grundlagen_Abrechnung_KAE!$E1348,MD_GENDER,0),0),\"\")","v":""},{"v":0,"d":"0.00"},null,{"v":0,"d":"0.00"},{"$f":"IF(F1348=\"Arbeitgeberähnliche Stellung\",OFFSET(MD!$Q$5,MATCH(Grundlagen_Abrechnung_KAE!$AK$7,MD_JAHR,0),0)*$H1348,IF(J1348>0,AC1348,I1348))","v":{"v":0,"d":"0.00"}},null,{"$f":"OFFSET(MD!$P$5,MATCH($AK$7,MD_JAHR,0),0)*12","v":{"$error":"#VALUE!"}},{"v":0,"d":"0.00"}]
[{"$nulls":14},{"$f":"IF($B1349=\"\",\"\",IF(F1349=\"Arbeitgeberähnliche Stellung\",OFFSET(MD!$Q$5,MATCH(Grundlagen_Abrechnung_KAE!$AK$7,MD_JAHR,0),0)*$H1349,IF(((AD1349/12*M1349*12)+N1349)>AF1349,AF1349/12,((AD1349/12*M1349*12)+N1349)/12)))","v":""},null,null,{"v":0,"d":"0.00"},null,{"v":0,"d":"0.00%"},{"v":0,"d":"0.00"},{"v":0,"d":"0.00"},{"v":0,"d":"0.00"},null,"prüfen",{"$f":"IFERROR(OFFSET(MD!$U$5,MATCH(Grundlagen_Abrechnung_KAE!$E1349,MD_GENDER,0),0),\"\")","v":""},{"v":0,"d":"0.00"},null,{"v":0,"d":"0.00"},{"$f":"IF(F1349=\"Arbeitgeberähnliche Stellung\",OFFSET(MD!$Q$5,MATCH(Grundlagen_Abrechnung_KAE!$AK$7,MD_JAHR,0),0)*$H1349,IF(J1349>0,AC1349,I1349))","v":{"v":0,"d":"0.00"}},null,{"$f":"OFFSET(MD!$P$5,MATCH($AK$7,MD_JAHR,0),0)*12","v":{"$error":"#VALUE!"}},{"v":0,"d":"0.00"}]
[{"$nulls":14},{"$f":"IF($B1350=\"\",\"\",IF(F1350=\"Arbeitgeberähnliche Stellung\",OFFSET(MD!$Q$5,MATCH(Grundlagen_Abrechnung_KAE!$AK$7,MD_JAHR,0),0)*$H1350,IF(((AD1350/12*M1350*12)+N1350)>AF1350,AF1350/12,((AD1350/12*M1350*12)+N1350)/12)))","v":""},null,null,{"v":0,"d":"0.00"},null,{"v":0,"d":"0.00%"},{"v":0,"d":"0.00"},{"v":0,"d":"0.00"},{"v":0,"d":"0.00"},null,"prüfen",{"$f":"IFERROR(OFFSET(MD!$U$5,MATCH(Grundlagen_Abrechnung_KAE!$E1350,MD_GENDER,0),0),\"\")","v":""},{"v":0,"d":"0.00"},null,{"v":0,"d":"0.00"},{"$f":"IF(F1350=\"Arbeitgeberähnliche Stellung\",OFFSET(MD!$Q$5,MATCH(Grundlagen_Abrechnung_KAE!$AK$7,MD_JAHR,0),0)*$H1350,IF(J1350>0,AC1350,I1350))","v":{"v":0,"d":"0.00"}},null,{"$f":"OFFSET(MD!$P$5,MATCH($AK$7,MD_JAHR,0),0)*12","v":{"$error":"#VALUE!"}},{"v":0,"d":"0.00"}]
[{"$nulls":14},{"$f":"IF($B1351=\"\",\"\",IF(F1351=\"Arbeitgeberähnliche Stellung\",OFFSET(MD!$Q$5,MATCH(Grundlagen_Abrechnung_KAE!$AK$7,MD_JAHR,0),0)*$H1351,IF(((AD1351/12*M1351*12)+N1351)>AF1351,AF1351/12,((AD1351/12*M1351*12)+N1351)/12)))","v":""},null,null,{"v":0,"d":"0.00"},null,{"v":0,"d":"0.00%"},{"v":0,"d":"0.00"},{"v":0,"d":"0.00"},{"v":0,"d":"0.00"},null,"prüfen",{"$f":"IFERROR(OFFSET(MD!$U$5,MATCH(Grundlagen_Abrechnung_KAE!$E1351,MD_GENDER,0),0),\"\")","v":""},{"v":0,"d":"0.00"},null,{"v":0,"d":"0.00"},{"$f":"IF(F1351=\"Arbeitgeberähnliche Stellung\",OFFSET(MD!$Q$5,MATCH(Grundlagen_Abrechnung_KAE!$AK$7,MD_JAHR,0),0)*$H1351,IF(J1351>0,AC1351,I1351))","v":{"v":0,"d":"0.00"}},null,{"$f":"OFFSET(MD!$P$5,MATCH($AK$7,MD_JAHR,0),0)*12","v":{"$error":"#VALUE!"}},{"v":0,"d":"0.00"}]
[{"$nulls":14},{"$f":"IF($B1352=\"\",\"\",IF(F1352=\"Arbeitgeberähnliche Stellung\",OFFSET(MD!$Q$5,MATCH(Grundlagen_Abrechnung_KAE!$AK$7,MD_JAHR,0),0)*$H1352,IF(((AD1352/12*M1352*12)+N1352)>AF1352,AF1352/12,((AD1352/12*M1352*12)+N1352)/12)))","v":""},null,null,{"v":0,"d":"0.00"},null,{"v":0,"d":"0.00%"},{"v":0,"d":"0.00"},{"v":0,"d":"0.00"},{"v":0,"d":"0.00"},null,"prüfen",{"$f":"IFERROR(OFFSET(MD!$U$5,MATCH(Grundlagen_Abrechnung_KAE!$E1352,MD_GENDER,0),0),\"\")","v":""},{"v":0,"d":"0.00"},null,{"v":0,"d":"0.00"},{"$f":"IF(F1352=\"Arbeitgeberähnliche Stellung\",OFFSET(MD!$Q$5,MATCH(Grundlagen_Abrechnung_KAE!$AK$7,MD_JAHR,0),0)*$H1352,IF(J1352>0,AC1352,I1352))","v":{"v":0,"d":"0.00"}},null,{"$f":"OFFSET(MD!$P$5,MATCH($AK$7,MD_JAHR,0),0)*12","v":{"$error":"#VALUE!"}},{"v":0,"d":"0.00"}]
[{"$nulls":14},{"$f":"IF($B1353=\"\",\"\",IF(F1353=\"Arbeitgeberähnliche Stellung\",OFFSET(MD!$Q$5,MATCH(Grundlagen_Abrechnung_KAE!$AK$7,MD_JAHR,0),0)*$H1353,IF(((AD1353/12*M1353*12)+N1353)>AF1353,AF1353/12,((AD1353/12*M1353*12)+N1353)/12)))","v":""},null,null,{"v":0,"d":"0.00"},null,{"v":0,"d":"0.00%"},{"v":0,"d":"0.00"},{"v":0,"d":"0.00"},{"v":0,"d":"0.00"},null,"prüfen",{"$f":"IFERROR(OFFSET(MD!$U$5,MATCH(Grundlagen_Abrechnung_KAE!$E1353,MD_GENDER,0),0),\"\")","v":""},{"v":0,"d":"0.00"},null,{"v":0,"d":"0.00"},{"$f":"IF(F1353=\"Arbeitgeberähnliche Stellung\",OFFSET(MD!$Q$5,MATCH(Grundlagen_Abrechnung_KAE!$AK$7,MD_JAHR,0),0)*$H1353,IF(J1353>0,AC1353,I1353))","v":{"v":0,"d":"0.00"}},null,{"$f":"OFFSET(MD!$P$5,MATCH($AK$7,MD_JAHR,0),0)*12","v":{"$error":"#VALUE!"}},{"v":0,"d":"0.00"}]
[{"$nulls":14},{"$f":"IF($B1354=\"\",\"\",IF(F1354=\"Arbeitgeberähnliche Stellung\",OFFSET(MD!$Q$5,MATCH(Grundlagen_Abrechnung_KAE!$AK$7,MD_JAHR,0),0)*$H1354,IF(((AD1354/12*M1354*12)+N1354)>AF1354,AF1354/12,((AD1354/12*M1354*12)+N1354)/12)))","v":""},null,null,{"v":0,"d":"0.00"},null,{"v":0,"d":"0.00%"},{"v":0,"d":"0.00"},{"v":0,"d":"0.00"},{"v":0,"d":"0.00"},null,"prüfen",{"$f":"IFERROR(OFFSET(MD!$U$5,MATCH(Grundlagen_Abrechnung_KAE!$E1354,MD_GENDER,0),0),\"\")","v":""},{"v":0,"d":"0.00"},null,{"v":0,"d":"0.00"},{"$f":"IF(F1354=\"Arbeitgeberähnliche Stellung\",OFFSET(MD!$Q$5,MATCH(Grundlagen_Abrechnung_KAE!$AK$7,MD_JAHR,0),0)*$H1354,IF(J1354>0,AC1354,I1354))","v":{"v":0,"d":"0.00"}},null,{"$f":"OFFSET(MD!$P$5,MATCH($AK$7,MD_JAHR,0),0)*12","v":{"$error":"#VALUE!"}},{"v":0,"d":"0.00"}]
[{"$nulls":14},{"$f":"IF($B1355=\"\",\"\",IF(F1355=\"Arbeitgeberähnliche Stellung\",OFFSET(MD!$Q$5,MATCH(Grundlagen_Abrechnung_KAE!$AK$7,MD_JAHR,0),0)*$H1355,IF(((AD1355/12*M1355*12)+N1355)>AF1355,AF1355/12,((AD1355/12*M1355*12)+N1355)/12)))","v":""},null,null,{"v":0,"d":"0.00"},null,{"v":0,"d":"0.00%"},{"v":0,"d":"0.00"},{"v":0,"d":"0.00"},{"v":0,"d":"0.00"},null,"prüfen",{"$f":"IFERROR(OFFSET(MD!$U$5,MATCH(Grundlagen_Abrechnung_KAE!$E1355,MD_GENDER,0),0),\"\")","v":""},{"v":0,"d":"0.00"},null,{"v":0,"d":"0.00"},{"$f":"IF(F1355=\"Arbeitgeberähnliche Stellung\",OFFSET(MD!$Q$5,MATCH(Grundlagen_Abrechnung_KAE!$AK$7,MD_JAHR,0),0)*$H1355,IF(J1355>0,AC1355,I1355))","v":{"v":0,"d":"0.00"}},null,{"$f":"OFFSET(MD!$P$5,MATCH($AK$7,MD_JAHR,0),0)*12","v":{"$error":"#VALUE!"}},{"v":0,"d":"0.00"}]
[{"$nulls":14},{"$f":"IF($B1356=\"\",\"\",IF(F1356=\"Arbeitgeberähnliche Stellung\",OFFSET(MD!$Q$5,MATCH(Grundlagen_Abrechnung_KAE!$AK$7,MD_JAHR,0),0)*$H1356,IF(((AD1356/12*M1356*12)+N1356)>AF1356,AF1356/12,((AD1356/12*M1356*12)+N1356)/12)))","v":""},null,null,{"v":0,"d":"0.00"},null,{"v":0,"d":"0.00%"},{"v":0,"d":"0.00"},{"v":0,"d":"0.00"},{"v":0,"d":"0.00"},null,"prüfen",{"$f":"IFERROR(OFFSET(MD!$U$5,MATCH(Grundlagen_Abrechnung_KAE!$E1356,MD_GENDER,0),0),\"\")","v":""},{"v":0,"d":"0.00"},null,{"v":0,"d":"0.00"},{"$f":"IF(F1356=\"Arbeitgeberähnliche Stellung\",OFFSET(MD!$Q$5,MATCH(Grundlagen_Abrechnung_KAE!$AK$7,MD_JAHR,0),0)*$H1356,IF(J1356>0,AC1356,I1356))","v":{"v":0,"d":"0.00"}},null,{"$f":"OFFSET(MD!$P$5,MATCH($AK$7,MD_JAHR,0),0)*12","v":{"$error":"#VALUE!"}},{"v":0,"d":"0.00"}]
[{"$nulls":14},{"$f":"IF($B1357=\"\",\"\",IF(F1357=\"Arbeitgeberähnliche Stellung\",OFFSET(MD!$Q$5,MATCH(Grundlagen_Abrechnung_KAE!$AK$7,MD_JAHR,0),0)*$H1357,IF(((AD1357/12*M1357*12)+N1357)>AF1357,AF1357/12,((AD1357/12*M1357*12)+N1357)/12)))","v":""},null,null,{"v":0,"d":"0.00"},null,{"v":0,"d":"0.00%"},{"v":0,"d":"0.00"},{"v":0,"d":"0.00"},{"v":0,"d":"0.00"},null,"prüfen",{"$f":"IFERROR(OFFSET(MD!$U$5,MATCH(Grundlagen_Abrechnung_KAE!$E1357,MD_GENDER,0),0),\"\")","v":""},{"v":0,"d":"0.00"},null,{"v":0,"d":"0.00"},{"$f":"IF(F1357=\"Arbeitgeberähnliche Stellung\",OFFSET(MD!$Q$5,MATCH(Grundlagen_Abrechnung_KAE!$AK$7,MD_JAHR,0),0)*$H1357,IF(J1357>0,AC1357,I1357))","v":{"v":0,"d":"0.00"}},null,{"$f":"OFFSET(MD!$P$5,MATCH($AK$7,MD_JAHR,0),0)*12","v":{"$error":"#VALUE!"}},{"v":0,"d":"0.00"}]
[{"$nulls":14},{"$f":"IF($B1358=\"\",\"\",IF(F1358=\"Arbeitgeberähnliche Stellung\",OFFSET(MD!$Q$5,MATCH(Grundlagen_Abrechnung_KAE!$AK$7,MD_JAHR,0),0)*$H1358,IF(((AD1358/12*M1358*12)+N1358)>AF1358,AF1358/12,((AD1358/12*M1358*12)+N1358)/12)))","v":""},null,null,{"v":0,"d":"0.00"},null,{"v":0,"d":"0.00%"},{"v":0,"d":"0.00"},{"v":0,"d":"0.00"},{"v":0,"d":"0.00"},null,"prüfen",{"$f":"IFERROR(OFFSET(MD!$U$5,MATCH(Grundlagen_Abrechnung_KAE!$E1358,MD_GENDER,0),0),\"\")","v":""},{"v":0,"d":"0.00"},null,{"v":0,"d":"0.00"},{"$f":"IF(F1358=\"Arbeitgeberähnliche Stellung\",OFFSET(MD!$Q$5,MATCH(Grundlagen_Abrechnung_KAE!$AK$7,MD_JAHR,0),0)*$H1358,IF(J1358>0,AC1358,I1358))","v":{"v":0,"d":"0.00"}},null,{"$f":"OFFSET(MD!$P$5,MATCH($AK$7,MD_JAHR,0),0)*12","v":{"$error":"#VALUE!"}},{"v":0,"d":"0.00"}]
[{"$nulls":14},{"$f":"IF($B1359=\"\",\"\",IF(F1359=\"Arbeitgeberähnliche Stellung\",OFFSET(MD!$Q$5,MATCH(Grundlagen_Abrechnung_KAE!$AK$7,MD_JAHR,0),0)*$H1359,IF(((AD1359/12*M1359*12)+N1359)>AF1359,AF1359/12,((AD1359/12*M1359*12)+N1359)/12)))","v":""},null,null,{"v":0,"d":"0.00"},null,{"v":0,"d":"0.00%"},{"v":0,"d":"0.00"},{"v":0,"d":"0.00"},{"v":0,"d":"0.00"},null,"prüfen",{"$f":"IFERROR(OFFSET(MD!$U$5,MATCH(Grundlagen_Abrechnung_KAE!$E1359,MD_GENDER,0),0),\"\")","v":""},{"v":0,"d":"0.00"},null,{"v":0,"d":"0.00"},{"$f":"IF(F1359=\"Arbeitgeberähnliche Stellung\",OFFSET(MD!$Q$5,MATCH(Grundlagen_Abrechnung_KAE!$AK$7,MD_JAHR,0),0)*$H1359,IF(J1359>0,AC1359,I1359))","v":{"v":0,"d":"0.00"}},null,{"$f":"OFFSET(MD!$P$5,MATCH($AK$7,MD_JAHR,0),0)*12","v":{"$error":"#VALUE!"}},{"v":0,"d":"0.00"}]
[{"$nulls":14},{"$f":"IF($B1360=\"\",\"\",IF(F1360=\"Arbeitgeberähnliche Stellung\",OFFSET(MD!$Q$5,MATCH(Grundlagen_Abrechnung_KAE!$AK$7,MD_JAHR,0),0)*$H1360,IF(((AD1360/12*M1360*12)+N1360)>AF1360,AF1360/12,((AD1360/12*M1360*12)+N1360)/12)))","v":""},null,null,{"v":0,"d":"0.00"},null,{"v":0,"d":"0.00%"},{"v":0,"d":"0.00"},{"v":0,"d":"0.00"},{"v":0,"d":"0.00"},null,"prüfen",{"$f":"IFERROR(OFFSET(MD!$U$5,MATCH(Grundlagen_Abrechnung_KAE!$E1360,MD_GENDER,0),0),\"\")","v":""},{"v":0,"d":"0.00"},null,{"v":0,"d":"0.00"},{"$f":"IF(F1360=\"Arbeitgeberähnliche Stellung\",OFFSET(MD!$Q$5,MATCH(Grundlagen_Abrechnung_KAE!$AK$7,MD_JAHR,0),0)*$H1360,IF(J1360>0,AC1360,I1360))","v":{"v":0,"d":"0.00"}},null,{"$f":"OFFSET(MD!$P$5,MATCH($AK$7,MD_JAHR,0),0)*12","v":{"$error":"#VALUE!"}},{"v":0,"d":"0.00"}]
[{"$nulls":14},{"$f":"IF($B1361=\"\",\"\",IF(F1361=\"Arbeitgeberähnliche Stellung\",OFFSET(MD!$Q$5,MATCH(Grundlagen_Abrechnung_KAE!$AK$7,MD_JAHR,0),0)*$H1361,IF(((AD1361/12*M1361*12)+N1361)>AF1361,AF1361/12,((AD1361/12*M1361*12)+N1361)/12)))","v":""},null,null,{"v":0,"d":"0.00"},null,{"v":0,"d":"0.00%"},{"v":0,"d":"0.00"},{"v":0,"d":"0.00"},{"v":0,"d":"0.00"},null,"prüfen",{"$f":"IFERROR(OFFSET(MD!$U$5,MATCH(Grundlagen_Abrechnung_KAE!$E1361,MD_GENDER,0),0),\"\")","v":""},{"v":0,"d":"0.00"},null,{"v":0,"d":"0.00"},{"$f":"IF(F1361=\"Arbeitgeberähnliche Stellung\",OFFSET(MD!$Q$5,MATCH(Grundlagen_Abrechnung_KAE!$AK$7,MD_JAHR,0),0)*$H1361,IF(J1361>0,AC1361,I1361))","v":{"v":0,"d":"0.00"}},null,{"$f":"OFFSET(MD!$P$5,MATCH($AK$7,MD_JAHR,0),0)*12","v":{"$error":"#VALUE!"}},{"v":0,"d":"0.00"}]
[{"$nulls":14},{"$f":"IF($B1362=\"\",\"\",IF(F1362=\"Arbeitgeberähnliche Stellung\",OFFSET(MD!$Q$5,MATCH(Grundlagen_Abrechnung_KAE!$AK$7,MD_JAHR,0),0)*$H1362,IF(((AD1362/12*M1362*12)+N1362)>AF1362,AF1362/12,((AD1362/12*M1362*12)+N1362)/12)))","v":""},null,null,{"v":0,"d":"0.00"},null,{"v":0,"d":"0.00%"},{"v":0,"d":"0.00"},{"v":0,"d":"0.00"},{"v":0,"d":"0.00"},null,"prüfen",{"$f":"IFERROR(OFFSET(MD!$U$5,MATCH(Grundlagen_Abrechnung_KAE!$E1362,MD_GENDER,0),0),\"\")","v":""},{"v":0,"d":"0.00"},null,{"v":0,"d":"0.00"},{"$f":"IF(F1362=\"Arbeitgeberähnliche Stellung\",OFFSET(MD!$Q$5,MATCH(Grundlagen_Abrechnung_KAE!$AK$7,MD_JAHR,0),0)*$H1362,IF(J1362>0,AC1362,I1362))","v":{"v":0,"d":"0.00"}},null,{"$f":"OFFSET(MD!$P$5,MATCH($AK$7,MD_JAHR,0),0)*12","v":{"$error":"#VALUE!"}},{"v":0,"d":"0.00"}]
[{"$nulls":14},{"$f":"IF($B1363=\"\",\"\",IF(F1363=\"Arbeitgeberähnliche Stellung\",OFFSET(MD!$Q$5,MATCH(Grundlagen_Abrechnung_KAE!$AK$7,MD_JAHR,0),0)*$H1363,IF(((AD1363/12*M1363*12)+N1363)>AF1363,AF1363/12,((AD1363/12*M1363*12)+N1363)/12)))","v":""},null,null,{"$f":"ROUND(IF(Q1363=\"\",0,IF(P1363=0,0,IF(Q1363>P1363,0,P1363-Q1363))),2)","v":{"v":0,"d":"0.00"}},null,{"$f":"IFERROR(R1363/P1363,0)","v":{"v":0,"d":"0.00%"}},{"$f":"IFERROR(IF(O1363-W1363=0,O1363,(O1363)*(1-T1363)),0)","v":{"v":0,"d":"0.00"}},{"v":0,"d":"0.00"},{"$f":"IFERROR(O1363*T1363,0)*0.8","v":{"v":0,"d":"0.00"}},null,{"$f":"IF(YEAR($G1363)>$Y$16,\"prüfen\",\"\")","v":"prüfen"},{"$f":"IFERROR(OFFSET(MD!$U$5,MATCH(Grundlagen_Abrechnung_KAE!$E1363,MD_GENDER,0),0),\"\")","v":""},{"$f":"IF(B1363=\"\",0,IF(YEAR(G1363)>$AA$16,0,1))","v":{"v":0,"d":"0.00"}},null,{"$f":"IF(J1363*K1363/6>J1363*L1363/12,J1363*K1363/6,J1363*L1363/12)","v":{"v":0,"d":"0.00"}},{"$f":"IF(F1363=\"Arbeitgeberähnliche Stellung\",OFFSET(MD!$Q$5,MATCH(Grundlagen_Abrechnung_KAE!$AK$7,MD_JAHR,0),0)*$H1363,IF(J1363>0,AC1363,I1363))","v":{"v":0,"d":"0.00"}},null,{"$f":"OFFSET(MD!$P$5,MATCH($AK$7,MD_JAHR,0),0)*12","v":{"$error":"#VALUE!"}},{"$f":"I1363*M1363+N1363","v":{"v":0,"d":"0.00"}}]
[{"$nulls":14},{"$f":"IF($B1364=\"\",\"\",IF(F1364=\"Arbeitgeberähnliche Stellung\",OFFSET(MD!$Q$5,MATCH(Grundlagen_Abrechnung_KAE!$AK$7,MD_JAHR,0),0)*$H1364,IF(((AD1364/12*M1364*12)+N1364)>AF1364,AF1364/12,((AD1364/12*M1364*12)+N1364)/12)))","v":""},null,null,{"v":0,"d":"0.00"},null,{"v":0,"d":"0.00%"},{"v":0,"d":"0.00"},{"$f":"IFERROR(O1364*T1364,0)","v":{"v":0,"d":"0.00"}},{"v":0,"d":"0.00"},null,"prüfen",{"$f":"IFERROR(OFFSET(MD!$U$5,MATCH(Grundlagen_Abrechnung_KAE!$E1364,MD_GENDER,0),0),\"\")","v":""},{"v":0,"d":"0.00"},null,{"v":0,"d":"0.00"},{"$f":"IF(F1364=\"Arbeitgeberähnliche Stellung\",OFFSET(MD!$Q$5,MATCH(Grundlagen_Abrechnung_KAE!$AK$7,MD_JAHR,0),0)*$H1364,IF(J1364>0,AC1364,I1364))","v":{"v":0,"d":"0.00"}},null,{"$f":"OFFSET(MD!$P$5,MATCH($AK$7,MD_JAHR,0),0)*12","v":{"$error":"#VALUE!"}},{"v":0,"d":"0.00"}]
[{"$nulls":14},{"$f":"IF($B1365=\"\",\"\",IF(F1365=\"Arbeitgeberähnliche Stellung\",OFFSET(MD!$Q$5,MATCH(Grundlagen_Abrechnung_KAE!$AK$7,MD_JAHR,0),0)*$H1365,IF(((AD1365/12*M1365*12)+N1365)>AF1365,AF1365/12,((AD1365/12*M1365*12)+N1365)/12)))","v":""},null,null,{"v":0,"d":"0.00"},null,{"v":0,"d":"0.00%"},{"v":0,"d":"0.00"},{"v":0,"d":"0.00"},{"v":0,"d":"0.00"},null,"prüfen",{"$f":"IFERROR(OFFSET(MD!$U$5,MATCH(Grundlagen_Abrechnung_KAE!$E1365,MD_GENDER,0),0),\"\")","v":""},{"v":0,"d":"0.00"},null,{"v":0,"d":"0.00"},{"$f":"IF(F1365=\"Arbeitgeberähnliche Stellung\",OFFSET(MD!$Q$5,MATCH(Grundlagen_Abrechnung_KAE!$AK$7,MD_JAHR,0),0)*$H1365,IF(J1365>0,AC1365,I1365))","v":{"v":0,"d":"0.00"}},null,{"$f":"OFFSET(MD!$P$5,MATCH($AK$7,MD_JAHR,0),0)*12","v":{"$error":"#VALUE!"}},{"v":0,"d":"0.00"}]
[{"$nulls":14},{"$f":"IF($B1366=\"\",\"\",IF(F1366=\"Arbeitgeberähnliche Stellung\",OFFSET(MD!$Q$5,MATCH(Grundlagen_Abrechnung_KAE!$AK$7,MD_JAHR,0),0)*$H1366,IF(((AD1366/12*M1366*12)+N1366)>AF1366,AF1366/12,((AD1366/12*M1366*12)+N1366)/12)))","v":""},null,null,{"v":0,"d":"0.00"},null,{"v":0,"d":"0.00%"},{"v":0,"d":"0.00"},{"v":0,"d":"0.00"},{"v":0,"d":"0.00"},null,"prüfen",{"$f":"IFERROR(OFFSET(MD!$U$5,MATCH(Grundlagen_Abrechnung_KAE!$E1366,MD_GENDER,0),0),\"\")","v":""},{"v":0,"d":"0.00"},null,{"v":0,"d":"0.00"},{"$f":"IF(F1366=\"Arbeitgeberähnliche Stellung\",OFFSET(MD!$Q$5,MATCH(Grundlagen_Abrechnung_KAE!$AK$7,MD_JAHR,0),0)*$H1366,IF(J1366>0,AC1366,I1366))","v":{"v":0,"d":"0.00"}},null,{"$f":"OFFSET(MD!$P$5,MATCH($AK$7,MD_JAHR,0),0)*12","v":{"$error":"#VALUE!"}},{"v":0,"d":"0.00"}]
[{"$nulls":14},{"$f":"IF($B1367=\"\",\"\",IF(F1367=\"Arbeitgeberähnliche Stellung\",OFFSET(MD!$Q$5,MATCH(Grundlagen_Abrechnung_KAE!$AK$7,MD_JAHR,0),0)*$H1367,IF(((AD1367/12*M1367*12)+N1367)>AF1367,AF1367/12,((AD1367/12*M1367*12)+N1367)/12)))","v":""},null,null,{"v":0,"d":"0.00"},null,{"v":0,"d":"0.00%"},{"v":0,"d":"0.00"},{"v":0,"d":"0.00"},{"v":0,"d":"0.00"},null,"prüfen",{"$f":"IFERROR(OFFSET(MD!$U$5,MATCH(Grundlagen_Abrechnung_KAE!$E1367,MD_GENDER,0),0),\"\")","v":""},{"v":0,"d":"0.00"},null,{"v":0,"d":"0.00"},{"$f":"IF(F1367=\"Arbeitgeberähnliche Stellung\",OFFSET(MD!$Q$5,MATCH(Grundlagen_Abrechnung_KAE!$AK$7,MD_JAHR,0),0)*$H1367,IF(J1367>0,AC1367,I1367))","v":{"v":0,"d":"0.00"}},null,{"$f":"OFFSET(MD!$P$5,MATCH($AK$7,MD_JAHR,0),0)*12","v":{"$error":"#VALUE!"}},{"v":0,"d":"0.00"}]
[{"$nulls":14},{"$f":"IF($B1368=\"\",\"\",IF(F1368=\"Arbeitgeberähnliche Stellung\",OFFSET(MD!$Q$5,MATCH(Grundlagen_Abrechnung_KAE!$AK$7,MD_JAHR,0),0)*$H1368,IF(((AD1368/12*M1368*12)+N1368)>AF1368,AF1368/12,((AD1368/12*M1368*12)+N1368)/12)))","v":""},null,null,{"v":0,"d":"0.00"},null,{"v":0,"d":"0.00%"},{"v":0,"d":"0.00"},{"v":0,"d":"0.00"},{"v":0,"d":"0.00"},null,"prüfen",{"$f":"IFERROR(OFFSET(MD!$U$5,MATCH(Grundlagen_Abrechnung_KAE!$E1368,MD_GENDER,0),0),\"\")","v":""},{"v":0,"d":"0.00"},null,{"v":0,"d":"0.00"},{"$f":"IF(F1368=\"Arbeitgeberähnliche Stellung\",OFFSET(MD!$Q$5,MATCH(Grundlagen_Abrechnung_KAE!$AK$7,MD_JAHR,0),0)*$H1368,IF(J1368>0,AC1368,I1368))","v":{"v":0,"d":"0.00"}},null,{"$f":"OFFSET(MD!$P$5,MATCH($AK$7,MD_JAHR,0),0)*12","v":{"$error":"#VALUE!"}},{"v":0,"d":"0.00"}]
[{"$nulls":14},{"$f":"IF($B1369=\"\",\"\",IF(F1369=\"Arbeitgeberähnliche Stellung\",OFFSET(MD!$Q$5,MATCH(Grundlagen_Abrechnung_KAE!$AK$7,MD_JAHR,0),0)*$H1369,IF(((AD1369/12*M1369*12)+N1369)>AF1369,AF1369/12,((AD1369/12*M1369*12)+N1369)/12)))","v":""},null,null,{"v":0,"d":"0.00"},null,{"v":0,"d":"0.00%"},{"v":0,"d":"0.00"},{"v":0,"d":"0.00"},{"v":0,"d":"0.00"},null,"prüfen",{"$f":"IFERROR(OFFSET(MD!$U$5,MATCH(Grundlagen_Abrechnung_KAE!$E1369,MD_GENDER,0),0),\"\")","v":""},{"v":0,"d":"0.00"},null,{"v":0,"d":"0.00"},{"$f":"IF(F1369=\"Arbeitgeberähnliche Stellung\",OFFSET(MD!$Q$5,MATCH(Grundlagen_Abrechnung_KAE!$AK$7,MD_JAHR,0),0)*$H1369,IF(J1369>0,AC1369,I1369))","v":{"v":0,"d":"0.00"}},null,{"$f":"OFFSET(MD!$P$5,MATCH($AK$7,MD_JAHR,0),0)*12","v":{"$error":"#VALUE!"}},{"v":0,"d":"0.00"}]
[{"$nulls":14},{"$f":"IF($B1370=\"\",\"\",IF(F1370=\"Arbeitgeberähnliche Stellung\",OFFSET(MD!$Q$5,MATCH(Grundlagen_Abrechnung_KAE!$AK$7,MD_JAHR,0),0)*$H1370,IF(((AD1370/12*M1370*12)+N1370)>AF1370,AF1370/12,((AD1370/12*M1370*12)+N1370)/12)))","v":""},null,null,{"v":0,"d":"0.00"},null,{"v":0,"d":"0.00%"},{"v":0,"d":"0.00"},{"v":0,"d":"0.00"},{"v":0,"d":"0.00"},null,"prüfen",{"$f":"IFERROR(OFFSET(MD!$U$5,MATCH(Grundlagen_Abrechnung_KAE!$E1370,MD_GENDER,0),0),\"\")","v":""},{"v":0,"d":"0.00"},null,{"v":0,"d":"0.00"},{"$f":"IF(F1370=\"Arbeitgeberähnliche Stellung\",OFFSET(MD!$Q$5,MATCH(Grundlagen_Abrechnung_KAE!$AK$7,MD_JAHR,0),0)*$H1370,IF(J1370>0,AC1370,I1370))","v":{"v":0,"d":"0.00"}},null,{"$f":"OFFSET(MD!$P$5,MATCH($AK$7,MD_JAHR,0),0)*12","v":{"$error":"#VALUE!"}},{"v":0,"d":"0.00"}]
[{"$nulls":14},{"$f":"IF($B1371=\"\",\"\",IF(F1371=\"Arbeitgeberähnliche Stellung\",OFFSET(MD!$Q$5,MATCH(Grundlagen_Abrechnung_KAE!$AK$7,MD_JAHR,0),0)*$H1371,IF(((AD1371/12*M1371*12)+N1371)>AF1371,AF1371/12,((AD1371/12*M1371*12)+N1371)/12)))","v":""},null,null,{"v":0,"d":"0.00"},null,{"v":0,"d":"0.00%"},{"v":0,"d":"0.00"},{"v":0,"d":"0.00"},{"v":0,"d":"0.00"},null,"prüfen",{"$f":"IFERROR(OFFSET(MD!$U$5,MATCH(Grundlagen_Abrechnung_KAE!$E1371,MD_GENDER,0),0),\"\")","v":""},{"v":0,"d":"0.00"},null,{"v":0,"d":"0.00"},{"$f":"IF(F1371=\"Arbeitgeberähnliche Stellung\",OFFSET(MD!$Q$5,MATCH(Grundlagen_Abrechnung_KAE!$AK$7,MD_JAHR,0),0)*$H1371,IF(J1371>0,AC1371,I1371))","v":{"v":0,"d":"0.00"}},null,{"$f":"OFFSET(MD!$P$5,MATCH($AK$7,MD_JAHR,0),0)*12","v":{"$error":"#VALUE!"}},{"v":0,"d":"0.00"}]
[{"$nulls":14},{"$f":"IF($B1372=\"\",\"\",IF(F1372=\"Arbeitgeberähnliche Stellung\",OFFSET(MD!$Q$5,MATCH(Grundlagen_Abrechnung_KAE!$AK$7,MD_JAHR,0),0)*$H1372,IF(((AD1372/12*M1372*12)+N1372)>AF1372,AF1372/12,((AD1372/12*M1372*12)+N1372)/12)))","v":""},null,null,{"v":0,"d":"0.00"},null,{"v":0,"d":"0.00%"},{"v":0,"d":"0.00"},{"v":0,"d":"0.00"},{"v":0,"d":"0.00"},null,"prüfen",{"$f":"IFERROR(OFFSET(MD!$U$5,MATCH(Grundlagen_Abrechnung_KAE!$E1372,MD_GENDER,0),0),\"\")","v":""},{"v":0,"d":"0.00"},null,{"v":0,"d":"0.00"},{"$f":"IF(F1372=\"Arbeitgeberähnliche Stellung\",OFFSET(MD!$Q$5,MATCH(Grundlagen_Abrechnung_KAE!$AK$7,MD_JAHR,0),0)*$H1372,IF(J1372>0,AC1372,I1372))","v":{"v":0,"d":"0.00"}},null,{"$f":"OFFSET(MD!$P$5,MATCH($AK$7,MD_JAHR,0),0)*12","v":{"$error":"#VALUE!"}},{"v":0,"d":"0.00"}]
[{"$nulls":14},{"$f":"IF($B1373=\"\",\"\",IF(F1373=\"Arbeitgeberähnliche Stellung\",OFFSET(MD!$Q$5,MATCH(Grundlagen_Abrechnung_KAE!$AK$7,MD_JAHR,0),0)*$H1373,IF(((AD1373/12*M1373*12)+N1373)>AF1373,AF1373/12,((AD1373/12*M1373*12)+N1373)/12)))","v":""},null,null,{"v":0,"d":"0.00"},null,{"v":0,"d":"0.00%"},{"v":0,"d":"0.00"},{"v":0,"d":"0.00"},{"v":0,"d":"0.00"},null,"prüfen",{"$f":"IFERROR(OFFSET(MD!$U$5,MATCH(Grundlagen_Abrechnung_KAE!$E1373,MD_GENDER,0),0),\"\")","v":""},{"v":0,"d":"0.00"},null,{"v":0,"d":"0.00"},{"$f":"IF(F1373=\"Arbeitgeberähnliche Stellung\",OFFSET(MD!$Q$5,MATCH(Grundlagen_Abrechnung_KAE!$AK$7,MD_JAHR,0),0)*$H1373,IF(J1373>0,AC1373,I1373))","v":{"v":0,"d":"0.00"}},null,{"$f":"OFFSET(MD!$P$5,MATCH($AK$7,MD_JAHR,0),0)*12","v":{"$error":"#VALUE!"}},{"v":0,"d":"0.00"}]
[{"$nulls":14},{"$f":"IF($B1374=\"\",\"\",IF(F1374=\"Arbeitgeberähnliche Stellung\",OFFSET(MD!$Q$5,MATCH(Grundlagen_Abrechnung_KAE!$AK$7,MD_JAHR,0),0)*$H1374,IF(((AD1374/12*M1374*12)+N1374)>AF1374,AF1374/12,((AD1374/12*M1374*12)+N1374)/12)))","v":""},null,null,{"v":0,"d":"0.00"},null,{"v":0,"d":"0.00%"},{"v":0,"d":"0.00"},{"v":0,"d":"0.00"},{"v":0,"d":"0.00"},null,"prüfen",{"$f":"IFERROR(OFFSET(MD!$U$5,MATCH(Grundlagen_Abrechnung_KAE!$E1374,MD_GENDER,0),0),\"\")","v":""},{"v":0,"d":"0.00"},null,{"v":0,"d":"0.00"},{"$f":"IF(F1374=\"Arbeitgeberähnliche Stellung\",OFFSET(MD!$Q$5,MATCH(Grundlagen_Abrechnung_KAE!$AK$7,MD_JAHR,0),0)*$H1374,IF(J1374>0,AC1374,I1374))","v":{"v":0,"d":"0.00"}},null,{"$f":"OFFSET(MD!$P$5,MATCH($AK$7,MD_JAHR,0),0)*12","v":{"$error":"#VALUE!"}},{"v":0,"d":"0.00"}]
[{"$nulls":14},{"$f":"IF($B1375=\"\",\"\",IF(F1375=\"Arbeitgeberähnliche Stellung\",OFFSET(MD!$Q$5,MATCH(Grundlagen_Abrechnung_KAE!$AK$7,MD_JAHR,0),0)*$H1375,IF(((AD1375/12*M1375*12)+N1375)>AF1375,AF1375/12,((AD1375/12*M1375*12)+N1375)/12)))","v":""},null,null,{"v":0,"d":"0.00"},null,{"v":0,"d":"0.00%"},{"v":0,"d":"0.00"},{"v":0,"d":"0.00"},{"v":0,"d":"0.00"},null,"prüfen",{"$f":"IFERROR(OFFSET(MD!$U$5,MATCH(Grundlagen_Abrechnung_KAE!$E1375,MD_GENDER,0),0),\"\")","v":""},{"v":0,"d":"0.00"},null,{"v":0,"d":"0.00"},{"$f":"IF(F1375=\"Arbeitgeberähnliche Stellung\",OFFSET(MD!$Q$5,MATCH(Grundlagen_Abrechnung_KAE!$AK$7,MD_JAHR,0),0)*$H1375,IF(J1375>0,AC1375,I1375))","v":{"v":0,"d":"0.00"}},null,{"$f":"OFFSET(MD!$P$5,MATCH($AK$7,MD_JAHR,0),0)*12","v":{"$error":"#VALUE!"}},{"v":0,"d":"0.00"}]
[{"$nulls":14},{"$f":"IF($B1376=\"\",\"\",IF(F1376=\"Arbeitgeberähnliche Stellung\",OFFSET(MD!$Q$5,MATCH(Grundlagen_Abrechnung_KAE!$AK$7,MD_JAHR,0),0)*$H1376,IF(((AD1376/12*M1376*12)+N1376)>AF1376,AF1376/12,((AD1376/12*M1376*12)+N1376)/12)))","v":""},null,null,{"v":0,"d":"0.00"},null,{"v":0,"d":"0.00%"},{"v":0,"d":"0.00"},{"v":0,"d":"0.00"},{"v":0,"d":"0.00"},null,"prüfen",{"$f":"IFERROR(OFFSET(MD!$U$5,MATCH(Grundlagen_Abrechnung_KAE!$E1376,MD_GENDER,0),0),\"\")","v":""},{"v":0,"d":"0.00"},null,{"v":0,"d":"0.00"},{"$f":"IF(F1376=\"Arbeitgeberähnliche Stellung\",OFFSET(MD!$Q$5,MATCH(Grundlagen_Abrechnung_KAE!$AK$7,MD_JAHR,0),0)*$H1376,IF(J1376>0,AC1376,I1376))","v":{"v":0,"d":"0.00"}},null,{"$f":"OFFSET(MD!$P$5,MATCH($AK$7,MD_JAHR,0),0)*12","v":{"$error":"#VALUE!"}},{"v":0,"d":"0.00"}]
[{"$nulls":14},{"$f":"IF($B1377=\"\",\"\",IF(F1377=\"Arbeitgeberähnliche Stellung\",OFFSET(MD!$Q$5,MATCH(Grundlagen_Abrechnung_KAE!$AK$7,MD_JAHR,0),0)*$H1377,IF(((AD1377/12*M1377*12)+N1377)>AF1377,AF1377/12,((AD1377/12*M1377*12)+N1377)/12)))","v":""},null,null,{"v":0,"d":"0.00"},null,{"v":0,"d":"0.00%"},{"v":0,"d":"0.00"},{"v":0,"d":"0.00"},{"v":0,"d":"0.00"},null,"prüfen",{"$f":"IFERROR(OFFSET(MD!$U$5,MATCH(Grundlagen_Abrechnung_KAE!$E1377,MD_GENDER,0),0),\"\")","v":""},{"v":0,"d":"0.00"},null,{"v":0,"d":"0.00"},{"$f":"IF(F1377=\"Arbeitgeberähnliche Stellung\",OFFSET(MD!$Q$5,MATCH(Grundlagen_Abrechnung_KAE!$AK$7,MD_JAHR,0),0)*$H1377,IF(J1377>0,AC1377,I1377))","v":{"v":0,"d":"0.00"}},null,{"$f":"OFFSET(MD!$P$5,MATCH($AK$7,MD_JAHR,0),0)*12","v":{"$error":"#VALUE!"}},{"v":0,"d":"0.00"}]
[{"$nulls":14},{"$f":"IF($B1378=\"\",\"\",IF(F1378=\"Arbeitgeberähnliche Stellung\",OFFSET(MD!$Q$5,MATCH(Grundlagen_Abrechnung_KAE!$AK$7,MD_JAHR,0),0)*$H1378,IF(((AD1378/12*M1378*12)+N1378)>AF1378,AF1378/12,((AD1378/12*M1378*12)+N1378)/12)))","v":""},null,null,{"v":0,"d":"0.00"},null,{"v":0,"d":"0.00%"},{"v":0,"d":"0.00"},{"v":0,"d":"0.00"},{"v":0,"d":"0.00"},null,"prüfen",{"$f":"IFERROR(OFFSET(MD!$U$5,MATCH(Grundlagen_Abrechnung_KAE!$E1378,MD_GENDER,0),0),\"\")","v":""},{"v":0,"d":"0.00"},null,{"v":0,"d":"0.00"},{"$f":"IF(F1378=\"Arbeitgeberähnliche Stellung\",OFFSET(MD!$Q$5,MATCH(Grundlagen_Abrechnung_KAE!$AK$7,MD_JAHR,0),0)*$H1378,IF(J1378>0,AC1378,I1378))","v":{"v":0,"d":"0.00"}},null,{"$f":"OFFSET(MD!$P$5,MATCH($AK$7,MD_JAHR,0),0)*12","v":{"$error":"#VALUE!"}},{"v":0,"d":"0.00"}]
[{"$nulls":14},{"$f":"IF($B1379=\"\",\"\",IF(F1379=\"Arbeitgeberähnliche Stellung\",OFFSET(MD!$Q$5,MATCH(Grundlagen_Abrechnung_KAE!$AK$7,MD_JAHR,0),0)*$H1379,IF(((AD1379/12*M1379*12)+N1379)>AF1379,AF1379/12,((AD1379/12*M1379*12)+N1379)/12)))","v":""},null,null,{"v":0,"d":"0.00"},null,{"v":0,"d":"0.00%"},{"v":0,"d":"0.00"},{"v":0,"d":"0.00"},{"v":0,"d":"0.00"},null,"prüfen",{"$f":"IFERROR(OFFSET(MD!$U$5,MATCH(Grundlagen_Abrechnung_KAE!$E1379,MD_GENDER,0),0),\"\")","v":""},{"v":0,"d":"0.00"},null,{"v":0,"d":"0.00"},{"$f":"IF(F1379=\"Arbeitgeberähnliche Stellung\",OFFSET(MD!$Q$5,MATCH(Grundlagen_Abrechnung_KAE!$AK$7,MD_JAHR,0),0)*$H1379,IF(J1379>0,AC1379,I1379))","v":{"v":0,"d":"0.00"}},null,{"$f":"OFFSET(MD!$P$5,MATCH($AK$7,MD_JAHR,0),0)*12","v":{"$error":"#VALUE!"}},{"v":0,"d":"0.00"}]
[{"$nulls":14},{"$f":"IF($B1380=\"\",\"\",IF(F1380=\"Arbeitgeberähnliche Stellung\",OFFSET(MD!$Q$5,MATCH(Grundlagen_Abrechnung_KAE!$AK$7,MD_JAHR,0),0)*$H1380,IF(((AD1380/12*M1380*12)+N1380)>AF1380,AF1380/12,((AD1380/12*M1380*12)+N1380)/12)))","v":""},null,null,{"v":0,"d":"0.00"},null,{"v":0,"d":"0.00%"},{"v":0,"d":"0.00"},{"v":0,"d":"0.00"},{"v":0,"d":"0.00"},null,"prüfen",{"$f":"IFERROR(OFFSET(MD!$U$5,MATCH(Grundlagen_Abrechnung_KAE!$E1380,MD_GENDER,0),0),\"\")","v":""},{"v":0,"d":"0.00"},null,{"v":0,"d":"0.00"},{"$f":"IF(F1380=\"Arbeitgeberähnliche Stellung\",OFFSET(MD!$Q$5,MATCH(Grundlagen_Abrechnung_KAE!$AK$7,MD_JAHR,0),0)*$H1380,IF(J1380>0,AC1380,I1380))","v":{"v":0,"d":"0.00"}},null,{"$f":"OFFSET(MD!$P$5,MATCH($AK$7,MD_JAHR,0),0)*12","v":{"$error":"#VALUE!"}},{"v":0,"d":"0.00"}]
[{"$nulls":14},{"$f":"IF($B1381=\"\",\"\",IF(F1381=\"Arbeitgeberähnliche Stellung\",OFFSET(MD!$Q$5,MATCH(Grundlagen_Abrechnung_KAE!$AK$7,MD_JAHR,0),0)*$H1381,IF(((AD1381/12*M1381*12)+N1381)>AF1381,AF1381/12,((AD1381/12*M1381*12)+N1381)/12)))","v":""},null,null,{"v":0,"d":"0.00"},null,{"v":0,"d":"0.00%"},{"v":0,"d":"0.00"},{"v":0,"d":"0.00"},{"v":0,"d":"0.00"},null,"prüfen",{"$f":"IFERROR(OFFSET(MD!$U$5,MATCH(Grundlagen_Abrechnung_KAE!$E1381,MD_GENDER,0),0),\"\")","v":""},{"v":0,"d":"0.00"},null,{"v":0,"d":"0.00"},{"$f":"IF(F1381=\"Arbeitgeberähnliche Stellung\",OFFSET(MD!$Q$5,MATCH(Grundlagen_Abrechnung_KAE!$AK$7,MD_JAHR,0),0)*$H1381,IF(J1381>0,AC1381,I1381))","v":{"v":0,"d":"0.00"}},null,{"$f":"OFFSET(MD!$P$5,MATCH($AK$7,MD_JAHR,0),0)*12","v":{"$error":"#VALUE!"}},{"v":0,"d":"0.00"}]
[{"$nulls":14},{"$f":"IF($B1382=\"\",\"\",IF(F1382=\"Arbeitgeberähnliche Stellung\",OFFSET(MD!$Q$5,MATCH(Grundlagen_Abrechnung_KAE!$AK$7,MD_JAHR,0),0)*$H1382,IF(((AD1382/12*M1382*12)+N1382)>AF1382,AF1382/12,((AD1382/12*M1382*12)+N1382)/12)))","v":""},null,null,{"v":0,"d":"0.00"},null,{"v":0,"d":"0.00%"},{"v":0,"d":"0.00"},{"v":0,"d":"0.00"},{"v":0,"d":"0.00"},null,"prüfen",{"$f":"IFERROR(OFFSET(MD!$U$5,MATCH(Grundlagen_Abrechnung_KAE!$E1382,MD_GENDER,0),0),\"\")","v":""},{"v":0,"d":"0.00"},null,{"v":0,"d":"0.00"},{"$f":"IF(F1382=\"Arbeitgeberähnliche Stellung\",OFFSET(MD!$Q$5,MATCH(Grundlagen_Abrechnung_KAE!$AK$7,MD_JAHR,0),0)*$H1382,IF(J1382>0,AC1382,I1382))","v":{"v":0,"d":"0.00"}},null,{"$f":"OFFSET(MD!$P$5,MATCH($AK$7,MD_JAHR,0),0)*12","v":{"$error":"#VALUE!"}},{"v":0,"d":"0.00"}]
[{"$nulls":14},{"$f":"IF($B1383=\"\",\"\",IF(F1383=\"Arbeitgeberähnliche Stellung\",OFFSET(MD!$Q$5,MATCH(Grundlagen_Abrechnung_KAE!$AK$7,MD_JAHR,0),0)*$H1383,IF(((AD1383/12*M1383*12)+N1383)>AF1383,AF1383/12,((AD1383/12*M1383*12)+N1383)/12)))","v":""},null,null,{"v":0,"d":"0.00"},null,{"v":0,"d":"0.00%"},{"v":0,"d":"0.00"},{"v":0,"d":"0.00"},{"v":0,"d":"0.00"},null,"prüfen",{"$f":"IFERROR(OFFSET(MD!$U$5,MATCH(Grundlagen_Abrechnung_KAE!$E1383,MD_GENDER,0),0),\"\")","v":""},{"v":0,"d":"0.00"},null,{"v":0,"d":"0.00"},{"$f":"IF(F1383=\"Arbeitgeberähnliche Stellung\",OFFSET(MD!$Q$5,MATCH(Grundlagen_Abrechnung_KAE!$AK$7,MD_JAHR,0),0)*$H1383,IF(J1383>0,AC1383,I1383))","v":{"v":0,"d":"0.00"}},null,{"$f":"OFFSET(MD!$P$5,MATCH($AK$7,MD_JAHR,0),0)*12","v":{"$error":"#VALUE!"}},{"v":0,"d":"0.00"}]
[{"$nulls":14},{"$f":"IF($B1384=\"\",\"\",IF(F1384=\"Arbeitgeberähnliche Stellung\",OFFSET(MD!$Q$5,MATCH(Grundlagen_Abrechnung_KAE!$AK$7,MD_JAHR,0),0)*$H1384,IF(((AD1384/12*M1384*12)+N1384)>AF1384,AF1384/12,((AD1384/12*M1384*12)+N1384)/12)))","v":""},null,null,{"v":0,"d":"0.00"},null,{"v":0,"d":"0.00%"},{"v":0,"d":"0.00"},{"v":0,"d":"0.00"},{"v":0,"d":"0.00"},null,"prüfen",{"$f":"IFERROR(OFFSET(MD!$U$5,MATCH(Grundlagen_Abrechnung_KAE!$E1384,MD_GENDER,0),0),\"\")","v":""},{"v":0,"d":"0.00"},null,{"v":0,"d":"0.00"},{"$f":"IF(F1384=\"Arbeitgeberähnliche Stellung\",OFFSET(MD!$Q$5,MATCH(Grundlagen_Abrechnung_KAE!$AK$7,MD_JAHR,0),0)*$H1384,IF(J1384>0,AC1384,I1384))","v":{"v":0,"d":"0.00"}},null,{"$f":"OFFSET(MD!$P$5,MATCH($AK$7,MD_JAHR,0),0)*12","v":{"$error":"#VALUE!"}},{"v":0,"d":"0.00"}]
[{"$nulls":14},{"$f":"IF($B1385=\"\",\"\",IF(F1385=\"Arbeitgeberähnliche Stellung\",OFFSET(MD!$Q$5,MATCH(Grundlagen_Abrechnung_KAE!$AK$7,MD_JAHR,0),0)*$H1385,IF(((AD1385/12*M1385*12)+N1385)>AF1385,AF1385/12,((AD1385/12*M1385*12)+N1385)/12)))","v":""},null,null,{"v":0,"d":"0.00"},null,{"v":0,"d":"0.00%"},{"v":0,"d":"0.00"},{"v":0,"d":"0.00"},{"v":0,"d":"0.00"},null,"prüfen",{"$f":"IFERROR(OFFSET(MD!$U$5,MATCH(Grundlagen_Abrechnung_KAE!$E1385,MD_GENDER,0),0),\"\")","v":""},{"v":0,"d":"0.00"},null,{"v":0,"d":"0.00"},{"$f":"IF(F1385=\"Arbeitgeberähnliche Stellung\",OFFSET(MD!$Q$5,MATCH(Grundlagen_Abrechnung_KAE!$AK$7,MD_JAHR,0),0)*$H1385,IF(J1385>0,AC1385,I1385))","v":{"v":0,"d":"0.00"}},null,{"$f":"OFFSET(MD!$P$5,MATCH($AK$7,MD_JAHR,0),0)*12","v":{"$error":"#VALUE!"}},{"v":0,"d":"0.00"}]
[{"$nulls":14},{"$f":"IF($B1386=\"\",\"\",IF(F1386=\"Arbeitgeberähnliche Stellung\",OFFSET(MD!$Q$5,MATCH(Grundlagen_Abrechnung_KAE!$AK$7,MD_JAHR,0),0)*$H1386,IF(((AD1386/12*M1386*12)+N1386)>AF1386,AF1386/12,((AD1386/12*M1386*12)+N1386)/12)))","v":""},null,null,{"v":0,"d":"0.00"},null,{"v":0,"d":"0.00%"},{"v":0,"d":"0.00"},{"v":0,"d":"0.00"},{"v":0,"d":"0.00"},null,"prüfen",{"$f":"IFERROR(OFFSET(MD!$U$5,MATCH(Grundlagen_Abrechnung_KAE!$E1386,MD_GENDER,0),0),\"\")","v":""},{"v":0,"d":"0.00"},null,{"v":0,"d":"0.00"},{"$f":"IF(F1386=\"Arbeitgeberähnliche Stellung\",OFFSET(MD!$Q$5,MATCH(Grundlagen_Abrechnung_KAE!$AK$7,MD_JAHR,0),0)*$H1386,IF(J1386>0,AC1386,I1386))","v":{"v":0,"d":"0.00"}},null,{"$f":"OFFSET(MD!$P$5,MATCH($AK$7,MD_JAHR,0),0)*12","v":{"$error":"#VALUE!"}},{"v":0,"d":"0.00"}]
[{"$nulls":14},{"$f":"IF($B1387=\"\",\"\",IF(F1387=\"Arbeitgeberähnliche Stellung\",OFFSET(MD!$Q$5,MATCH(Grundlagen_Abrechnung_KAE!$AK$7,MD_JAHR,0),0)*$H1387,IF(((AD1387/12*M1387*12)+N1387)>AF1387,AF1387/12,((AD1387/12*M1387*12)+N1387)/12)))","v":""},null,null,{"v":0,"d":"0.00"},null,{"v":0,"d":"0.00%"},{"v":0,"d":"0.00"},{"v":0,"d":"0.00"},{"v":0,"d":"0.00"},null,"prüfen",{"$f":"IFERROR(OFFSET(MD!$U$5,MATCH(Grundlagen_Abrechnung_KAE!$E1387,MD_GENDER,0),0),\"\")","v":""},{"v":0,"d":"0.00"},null,{"v":0,"d":"0.00"},{"$f":"IF(F1387=\"Arbeitgeberähnliche Stellung\",OFFSET(MD!$Q$5,MATCH(Grundlagen_Abrechnung_KAE!$AK$7,MD_JAHR,0),0)*$H1387,IF(J1387>0,AC1387,I1387))","v":{"v":0,"d":"0.00"}},null,{"$f":"OFFSET(MD!$P$5,MATCH($AK$7,MD_JAHR,0),0)*12","v":{"$error":"#VALUE!"}},{"v":0,"d":"0.00"}]
[{"$nulls":14},{"$f":"IF($B1388=\"\",\"\",IF(F1388=\"Arbeitgeberähnliche Stellung\",OFFSET(MD!$Q$5,MATCH(Grundlagen_Abrechnung_KAE!$AK$7,MD_JAHR,0),0)*$H1388,IF(((AD1388/12*M1388*12)+N1388)>AF1388,AF1388/12,((AD1388/12*M1388*12)+N1388)/12)))","v":""},null,null,{"v":0,"d":"0.00"},null,{"v":0,"d":"0.00%"},{"v":0,"d":"0.00"},{"v":0,"d":"0.00"},{"v":0,"d":"0.00"},null,"prüfen",{"$f":"IFERROR(OFFSET(MD!$U$5,MATCH(Grundlagen_Abrechnung_KAE!$E1388,MD_GENDER,0),0),\"\")","v":""},{"v":0,"d":"0.00"},null,{"v":0,"d":"0.00"},{"$f":"IF(F1388=\"Arbeitgeberähnliche Stellung\",OFFSET(MD!$Q$5,MATCH(Grundlagen_Abrechnung_KAE!$AK$7,MD_JAHR,0),0)*$H1388,IF(J1388>0,AC1388,I1388))","v":{"v":0,"d":"0.00"}},null,{"$f":"OFFSET(MD!$P$5,MATCH($AK$7,MD_JAHR,0),0)*12","v":{"$error":"#VALUE!"}},{"v":0,"d":"0.00"}]
[{"$nulls":14},{"$f":"IF($B1389=\"\",\"\",IF(F1389=\"Arbeitgeberähnliche Stellung\",OFFSET(MD!$Q$5,MATCH(Grundlagen_Abrechnung_KAE!$AK$7,MD_JAHR,0),0)*$H1389,IF(((AD1389/12*M1389*12)+N1389)>AF1389,AF1389/12,((AD1389/12*M1389*12)+N1389)/12)))","v":""},null,null,{"v":0,"d":"0.00"},null,{"v":0,"d":"0.00%"},{"v":0,"d":"0.00"},{"v":0,"d":"0.00"},{"v":0,"d":"0.00"},null,"prüfen",{"$f":"IFERROR(OFFSET(MD!$U$5,MATCH(Grundlagen_Abrechnung_KAE!$E1389,MD_GENDER,0),0),\"\")","v":""},{"v":0,"d":"0.00"},null,{"v":0,"d":"0.00"},{"$f":"IF(F1389=\"Arbeitgeberähnliche Stellung\",OFFSET(MD!$Q$5,MATCH(Grundlagen_Abrechnung_KAE!$AK$7,MD_JAHR,0),0)*$H1389,IF(J1389>0,AC1389,I1389))","v":{"v":0,"d":"0.00"}},null,{"$f":"OFFSET(MD!$P$5,MATCH($AK$7,MD_JAHR,0),0)*12","v":{"$error":"#VALUE!"}},{"v":0,"d":"0.00"}]
[{"$nulls":14},{"$f":"IF($B1390=\"\",\"\",IF(F1390=\"Arbeitgeberähnliche Stellung\",OFFSET(MD!$Q$5,MATCH(Grundlagen_Abrechnung_KAE!$AK$7,MD_JAHR,0),0)*$H1390,IF(((AD1390/12*M1390*12)+N1390)>AF1390,AF1390/12,((AD1390/12*M1390*12)+N1390)/12)))","v":""},null,null,{"v":0,"d":"0.00"},null,{"v":0,"d":"0.00%"},{"v":0,"d":"0.00"},{"v":0,"d":"0.00"},{"v":0,"d":"0.00"},null,"prüfen",{"$f":"IFERROR(OFFSET(MD!$U$5,MATCH(Grundlagen_Abrechnung_KAE!$E1390,MD_GENDER,0),0),\"\")","v":""},{"v":0,"d":"0.00"},null,{"v":0,"d":"0.00"},{"$f":"IF(F1390=\"Arbeitgeberähnliche Stellung\",OFFSET(MD!$Q$5,MATCH(Grundlagen_Abrechnung_KAE!$AK$7,MD_JAHR,0),0)*$H1390,IF(J1390>0,AC1390,I1390))","v":{"v":0,"d":"0.00"}},null,{"$f":"OFFSET(MD!$P$5,MATCH($AK$7,MD_JAHR,0),0)*12","v":{"$error":"#VALUE!"}},{"v":0,"d":"0.00"}]
[{"$nulls":14},{"$f":"IF($B1391=\"\",\"\",IF(F1391=\"Arbeitgeberähnliche Stellung\",OFFSET(MD!$Q$5,MATCH(Grundlagen_Abrechnung_KAE!$AK$7,MD_JAHR,0),0)*$H1391,IF(((AD1391/12*M1391*12)+N1391)>AF1391,AF1391/12,((AD1391/12*M1391*12)+N1391)/12)))","v":""},null,null,{"v":0,"d":"0.00"},null,{"v":0,"d":"0.00%"},{"v":0,"d":"0.00"},{"v":0,"d":"0.00"},{"v":0,"d":"0.00"},null,"prüfen",{"$f":"IFERROR(OFFSET(MD!$U$5,MATCH(Grundlagen_Abrechnung_KAE!$E1391,MD_GENDER,0),0),\"\")","v":""},{"v":0,"d":"0.00"},null,{"v":0,"d":"0.00"},{"$f":"IF(F1391=\"Arbeitgeberähnliche Stellung\",OFFSET(MD!$Q$5,MATCH(Grundlagen_Abrechnung_KAE!$AK$7,MD_JAHR,0),0)*$H1391,IF(J1391>0,AC1391,I1391))","v":{"v":0,"d":"0.00"}},null,{"$f":"OFFSET(MD!$P$5,MATCH($AK$7,MD_JAHR,0),0)*12","v":{"$error":"#VALUE!"}},{"v":0,"d":"0.00"}]
[{"$nulls":14},{"$f":"IF($B1392=\"\",\"\",IF(F1392=\"Arbeitgeberähnliche Stellung\",OFFSET(MD!$Q$5,MATCH(Grundlagen_Abrechnung_KAE!$AK$7,MD_JAHR,0),0)*$H1392,IF(((AD1392/12*M1392*12)+N1392)>AF1392,AF1392/12,((AD1392/12*M1392*12)+N1392)/12)))","v":""},null,null,{"v":0,"d":"0.00"},null,{"v":0,"d":"0.00%"},{"v":0,"d":"0.00"},{"v":0,"d":"0.00"},{"v":0,"d":"0.00"},null,"prüfen",{"$f":"IFERROR(OFFSET(MD!$U$5,MATCH(Grundlagen_Abrechnung_KAE!$E1392,MD_GENDER,0),0),\"\")","v":""},{"v":0,"d":"0.00"},null,{"v":0,"d":"0.00"},{"$f":"IF(F1392=\"Arbeitgeberähnliche Stellung\",OFFSET(MD!$Q$5,MATCH(Grundlagen_Abrechnung_KAE!$AK$7,MD_JAHR,0),0)*$H1392,IF(J1392>0,AC1392,I1392))","v":{"v":0,"d":"0.00"}},null,{"$f":"OFFSET(MD!$P$5,MATCH($AK$7,MD_JAHR,0),0)*12","v":{"$error":"#VALUE!"}},{"v":0,"d":"0.00"}]
[{"$nulls":14},{"$f":"IF($B1393=\"\",\"\",IF(F1393=\"Arbeitgeberähnliche Stellung\",OFFSET(MD!$Q$5,MATCH(Grundlagen_Abrechnung_KAE!$AK$7,MD_JAHR,0),0)*$H1393,IF(((AD1393/12*M1393*12)+N1393)>AF1393,AF1393/12,((AD1393/12*M1393*12)+N1393)/12)))","v":""},null,null,{"v":0,"d":"0.00"},null,{"v":0,"d":"0.00%"},{"v":0,"d":"0.00"},{"v":0,"d":"0.00"},{"v":0,"d":"0.00"},null,"prüfen",{"$f":"IFERROR(OFFSET(MD!$U$5,MATCH(Grundlagen_Abrechnung_KAE!$E1393,MD_GENDER,0),0),\"\")","v":""},{"v":0,"d":"0.00"},null,{"v":0,"d":"0.00"},{"$f":"IF(F1393=\"Arbeitgeberähnliche Stellung\",OFFSET(MD!$Q$5,MATCH(Grundlagen_Abrechnung_KAE!$AK$7,MD_JAHR,0),0)*$H1393,IF(J1393>0,AC1393,I1393))","v":{"v":0,"d":"0.00"}},null,{"$f":"OFFSET(MD!$P$5,MATCH($AK$7,MD_JAHR,0),0)*12","v":{"$error":"#VALUE!"}},{"v":0,"d":"0.00"}]
[{"$nulls":14},{"$f":"IF($B1394=\"\",\"\",IF(F1394=\"Arbeitgeberähnliche Stellung\",OFFSET(MD!$Q$5,MATCH(Grundlagen_Abrechnung_KAE!$AK$7,MD_JAHR,0),0)*$H1394,IF(((AD1394/12*M1394*12)+N1394)>AF1394,AF1394/12,((AD1394/12*M1394*12)+N1394)/12)))","v":""},null,null,{"v":0,"d":"0.00"},null,{"v":0,"d":"0.00%"},{"v":0,"d":"0.00"},{"v":0,"d":"0.00"},{"v":0,"d":"0.00"},null,"prüfen",{"$f":"IFERROR(OFFSET(MD!$U$5,MATCH(Grundlagen_Abrechnung_KAE!$E1394,MD_GENDER,0),0),\"\")","v":""},{"v":0,"d":"0.00"},null,{"v":0,"d":"0.00"},{"$f":"IF(F1394=\"Arbeitgeberähnliche Stellung\",OFFSET(MD!$Q$5,MATCH(Grundlagen_Abrechnung_KAE!$AK$7,MD_JAHR,0),0)*$H1394,IF(J1394>0,AC1394,I1394))","v":{"v":0,"d":"0.00"}},null,{"$f":"OFFSET(MD!$P$5,MATCH($AK$7,MD_JAHR,0),0)*12","v":{"$error":"#VALUE!"}},{"v":0,"d":"0.00"}]
[{"$nulls":14},{"$f":"IF($B1395=\"\",\"\",IF(F1395=\"Arbeitgeberähnliche Stellung\",OFFSET(MD!$Q$5,MATCH(Grundlagen_Abrechnung_KAE!$AK$7,MD_JAHR,0),0)*$H1395,IF(((AD1395/12*M1395*12)+N1395)>AF1395,AF1395/12,((AD1395/12*M1395*12)+N1395)/12)))","v":""},null,null,{"v":0,"d":"0.00"},null,{"v":0,"d":"0.00%"},{"v":0,"d":"0.00"},{"v":0,"d":"0.00"},{"v":0,"d":"0.00"},null,"prüfen",{"$f":"IFERROR(OFFSET(MD!$U$5,MATCH(Grundlagen_Abrechnung_KAE!$E1395,MD_GENDER,0),0),\"\")","v":""},{"v":0,"d":"0.00"},null,{"v":0,"d":"0.00"},{"$f":"IF(F1395=\"Arbeitgeberähnliche Stellung\",OFFSET(MD!$Q$5,MATCH(Grundlagen_Abrechnung_KAE!$AK$7,MD_JAHR,0),0)*$H1395,IF(J1395>0,AC1395,I1395))","v":{"v":0,"d":"0.00"}},null,{"$f":"OFFSET(MD!$P$5,MATCH($AK$7,MD_JAHR,0),0)*12","v":{"$error":"#VALUE!"}},{"v":0,"d":"0.00"}]
[{"$nulls":14},{"$f":"IF($B1396=\"\",\"\",IF(F1396=\"Arbeitgeberähnliche Stellung\",OFFSET(MD!$Q$5,MATCH(Grundlagen_Abrechnung_KAE!$AK$7,MD_JAHR,0),0)*$H1396,IF(((AD1396/12*M1396*12)+N1396)>AF1396,AF1396/12,((AD1396/12*M1396*12)+N1396)/12)))","v":""},null,null,{"v":0,"d":"0.00"},null,{"v":0,"d":"0.00%"},{"v":0,"d":"0.00"},{"v":0,"d":"0.00"},{"v":0,"d":"0.00"},null,"prüfen",{"$f":"IFERROR(OFFSET(MD!$U$5,MATCH(Grundlagen_Abrechnung_KAE!$E1396,MD_GENDER,0),0),\"\")","v":""},{"v":0,"d":"0.00"},null,{"v":0,"d":"0.00"},{"$f":"IF(F1396=\"Arbeitgeberähnliche Stellung\",OFFSET(MD!$Q$5,MATCH(Grundlagen_Abrechnung_KAE!$AK$7,MD_JAHR,0),0)*$H1396,IF(J1396>0,AC1396,I1396))","v":{"v":0,"d":"0.00"}},null,{"$f":"OFFSET(MD!$P$5,MATCH($AK$7,MD_JAHR,0),0)*12","v":{"$error":"#VALUE!"}},{"v":0,"d":"0.00"}]
[{"$nulls":14},{"$f":"IF($B1397=\"\",\"\",IF(F1397=\"Arbeitgeberähnliche Stellung\",OFFSET(MD!$Q$5,MATCH(Grundlagen_Abrechnung_KAE!$AK$7,MD_JAHR,0),0)*$H1397,IF(((AD1397/12*M1397*12)+N1397)>AF1397,AF1397/12,((AD1397/12*M1397*12)+N1397)/12)))","v":""},null,null,{"v":0,"d":"0.00"},null,{"v":0,"d":"0.00%"},{"v":0,"d":"0.00"},{"v":0,"d":"0.00"},{"v":0,"d":"0.00"},null,"prüfen",{"$f":"IFERROR(OFFSET(MD!$U$5,MATCH(Grundlagen_Abrechnung_KAE!$E1397,MD_GENDER,0),0),\"\")","v":""},{"v":0,"d":"0.00"},null,{"v":0,"d":"0.00"},{"$f":"IF(F1397=\"Arbeitgeberähnliche Stellung\",OFFSET(MD!$Q$5,MATCH(Grundlagen_Abrechnung_KAE!$AK$7,MD_JAHR,0),0)*$H1397,IF(J1397>0,AC1397,I1397))","v":{"v":0,"d":"0.00"}},null,{"$f":"OFFSET(MD!$P$5,MATCH($AK$7,MD_JAHR,0),0)*12","v":{"$error":"#VALUE!"}},{"v":0,"d":"0.00"}]
[{"$nulls":14},{"$f":"IF($B1398=\"\",\"\",IF(F1398=\"Arbeitgeberähnliche Stellung\",OFFSET(MD!$Q$5,MATCH(Grundlagen_Abrechnung_KAE!$AK$7,MD_JAHR,0),0)*$H1398,IF(((AD1398/12*M1398*12)+N1398)>AF1398,AF1398/12,((AD1398/12*M1398*12)+N1398)/12)))","v":""},null,null,{"v":0,"d":"0.00"},null,{"v":0,"d":"0.00%"},{"v":0,"d":"0.00"},{"v":0,"d":"0.00"},{"v":0,"d":"0.00"},null,"prüfen",{"$f":"IFERROR(OFFSET(MD!$U$5,MATCH(Grundlagen_Abrechnung_KAE!$E1398,MD_GENDER,0),0),\"\")","v":""},{"v":0,"d":"0.00"},null,{"v":0,"d":"0.00"},{"$f":"IF(F1398=\"Arbeitgeberähnliche Stellung\",OFFSET(MD!$Q$5,MATCH(Grundlagen_Abrechnung_KAE!$AK$7,MD_JAHR,0),0)*$H1398,IF(J1398>0,AC1398,I1398))","v":{"v":0,"d":"0.00"}},null,{"$f":"OFFSET(MD!$P$5,MATCH($AK$7,MD_JAHR,0),0)*12","v":{"$error":"#VALUE!"}},{"v":0,"d":"0.00"}]
[{"$nulls":14},{"$f":"IF($B1399=\"\",\"\",IF(F1399=\"Arbeitgeberähnliche Stellung\",OFFSET(MD!$Q$5,MATCH(Grundlagen_Abrechnung_KAE!$AK$7,MD_JAHR,0),0)*$H1399,IF(((AD1399/12*M1399*12)+N1399)>AF1399,AF1399/12,((AD1399/12*M1399*12)+N1399)/12)))","v":""},null,null,{"v":0,"d":"0.00"},null,{"v":0,"d":"0.00%"},{"v":0,"d":"0.00"},{"v":0,"d":"0.00"},{"v":0,"d":"0.00"},null,"prüfen",{"$f":"IFERROR(OFFSET(MD!$U$5,MATCH(Grundlagen_Abrechnung_KAE!$E1399,MD_GENDER,0),0),\"\")","v":""},{"v":0,"d":"0.00"},null,{"v":0,"d":"0.00"},{"$f":"IF(F1399=\"Arbeitgeberähnliche Stellung\",OFFSET(MD!$Q$5,MATCH(Grundlagen_Abrechnung_KAE!$AK$7,MD_JAHR,0),0)*$H1399,IF(J1399>0,AC1399,I1399))","v":{"v":0,"d":"0.00"}},null,{"$f":"OFFSET(MD!$P$5,MATCH($AK$7,MD_JAHR,0),0)*12","v":{"$error":"#VALUE!"}},{"v":0,"d":"0.00"}]
[{"$nulls":14},{"$f":"IF($B1400=\"\",\"\",IF(F1400=\"Arbeitgeberähnliche Stellung\",OFFSET(MD!$Q$5,MATCH(Grundlagen_Abrechnung_KAE!$AK$7,MD_JAHR,0),0)*$H1400,IF(((AD1400/12*M1400*12)+N1400)>AF1400,AF1400/12,((AD1400/12*M1400*12)+N1400)/12)))","v":""},null,null,{"v":0,"d":"0.00"},null,{"v":0,"d":"0.00%"},{"v":0,"d":"0.00"},{"v":0,"d":"0.00"},{"v":0,"d":"0.00"},null,"prüfen",{"$f":"IFERROR(OFFSET(MD!$U$5,MATCH(Grundlagen_Abrechnung_KAE!$E1400,MD_GENDER,0),0),\"\")","v":""},{"v":0,"d":"0.00"},null,{"v":0,"d":"0.00"},{"$f":"IF(F1400=\"Arbeitgeberähnliche Stellung\",OFFSET(MD!$Q$5,MATCH(Grundlagen_Abrechnung_KAE!$AK$7,MD_JAHR,0),0)*$H1400,IF(J1400>0,AC1400,I1400))","v":{"v":0,"d":"0.00"}},null,{"$f":"OFFSET(MD!$P$5,MATCH($AK$7,MD_JAHR,0),0)*12","v":{"$error":"#VALUE!"}},{"v":0,"d":"0.00"}]
[{"$nulls":14},{"$f":"IF($B1401=\"\",\"\",IF(F1401=\"Arbeitgeberähnliche Stellung\",OFFSET(MD!$Q$5,MATCH(Grundlagen_Abrechnung_KAE!$AK$7,MD_JAHR,0),0)*$H1401,IF(((AD1401/12*M1401*12)+N1401)>AF1401,AF1401/12,((AD1401/12*M1401*12)+N1401)/12)))","v":""},null,null,{"v":0,"d":"0.00"},null,{"v":0,"d":"0.00%"},{"v":0,"d":"0.00"},{"v":0,"d":"0.00"},{"v":0,"d":"0.00"},null,"prüfen",{"$f":"IFERROR(OFFSET(MD!$U$5,MATCH(Grundlagen_Abrechnung_KAE!$E1401,MD_GENDER,0),0),\"\")","v":""},{"v":0,"d":"0.00"},null,{"v":0,"d":"0.00"},{"$f":"IF(F1401=\"Arbeitgeberähnliche Stellung\",OFFSET(MD!$Q$5,MATCH(Grundlagen_Abrechnung_KAE!$AK$7,MD_JAHR,0),0)*$H1401,IF(J1401>0,AC1401,I1401))","v":{"v":0,"d":"0.00"}},null,{"$f":"OFFSET(MD!$P$5,MATCH($AK$7,MD_JAHR,0),0)*12","v":{"$error":"#VALUE!"}},{"v":0,"d":"0.00"}]
[{"$nulls":14},{"$f":"IF($B1402=\"\",\"\",IF(F1402=\"Arbeitgeberähnliche Stellung\",OFFSET(MD!$Q$5,MATCH(Grundlagen_Abrechnung_KAE!$AK$7,MD_JAHR,0),0)*$H1402,IF(((AD1402/12*M1402*12)+N1402)>AF1402,AF1402/12,((AD1402/12*M1402*12)+N1402)/12)))","v":""},null,null,{"v":0,"d":"0.00"},null,{"v":0,"d":"0.00%"},{"v":0,"d":"0.00"},{"v":0,"d":"0.00"},{"v":0,"d":"0.00"},null,"prüfen",{"$f":"IFERROR(OFFSET(MD!$U$5,MATCH(Grundlagen_Abrechnung_KAE!$E1402,MD_GENDER,0),0),\"\")","v":""},{"v":0,"d":"0.00"},null,{"v":0,"d":"0.00"},{"$f":"IF(F1402=\"Arbeitgeberähnliche Stellung\",OFFSET(MD!$Q$5,MATCH(Grundlagen_Abrechnung_KAE!$AK$7,MD_JAHR,0),0)*$H1402,IF(J1402>0,AC1402,I1402))","v":{"v":0,"d":"0.00"}},null,{"$f":"OFFSET(MD!$P$5,MATCH($AK$7,MD_JAHR,0),0)*12","v":{"$error":"#VALUE!"}},{"v":0,"d":"0.00"}]
[{"$nulls":14},{"$f":"IF($B1403=\"\",\"\",IF(F1403=\"Arbeitgeberähnliche Stellung\",OFFSET(MD!$Q$5,MATCH(Grundlagen_Abrechnung_KAE!$AK$7,MD_JAHR,0),0)*$H1403,IF(((AD1403/12*M1403*12)+N1403)>AF1403,AF1403/12,((AD1403/12*M1403*12)+N1403)/12)))","v":""},null,null,{"v":0,"d":"0.00"},null,{"v":0,"d":"0.00%"},{"v":0,"d":"0.00"},{"v":0,"d":"0.00"},{"v":0,"d":"0.00"},null,"prüfen",{"$f":"IFERROR(OFFSET(MD!$U$5,MATCH(Grundlagen_Abrechnung_KAE!$E1403,MD_GENDER,0),0),\"\")","v":""},{"v":0,"d":"0.00"},null,{"v":0,"d":"0.00"},{"$f":"IF(F1403=\"Arbeitgeberähnliche Stellung\",OFFSET(MD!$Q$5,MATCH(Grundlagen_Abrechnung_KAE!$AK$7,MD_JAHR,0),0)*$H1403,IF(J1403>0,AC1403,I1403))","v":{"v":0,"d":"0.00"}},null,{"$f":"OFFSET(MD!$P$5,MATCH($AK$7,MD_JAHR,0),0)*12","v":{"$error":"#VALUE!"}},{"v":0,"d":"0.00"}]
[{"$nulls":14},{"$f":"IF($B1404=\"\",\"\",IF(F1404=\"Arbeitgeberähnliche Stellung\",OFFSET(MD!$Q$5,MATCH(Grundlagen_Abrechnung_KAE!$AK$7,MD_JAHR,0),0)*$H1404,IF(((AD1404/12*M1404*12)+N1404)>AF1404,AF1404/12,((AD1404/12*M1404*12)+N1404)/12)))","v":""},null,null,{"v":0,"d":"0.00"},null,{"v":0,"d":"0.00%"},{"v":0,"d":"0.00"},{"v":0,"d":"0.00"},{"v":0,"d":"0.00"},null,"prüfen",{"$f":"IFERROR(OFFSET(MD!$U$5,MATCH(Grundlagen_Abrechnung_KAE!$E1404,MD_GENDER,0),0),\"\")","v":""},{"v":0,"d":"0.00"},null,{"v":0,"d":"0.00"},{"$f":"IF(F1404=\"Arbeitgeberähnliche Stellung\",OFFSET(MD!$Q$5,MATCH(Grundlagen_Abrechnung_KAE!$AK$7,MD_JAHR,0),0)*$H1404,IF(J1404>0,AC1404,I1404))","v":{"v":0,"d":"0.00"}},null,{"$f":"OFFSET(MD!$P$5,MATCH($AK$7,MD_JAHR,0),0)*12","v":{"$error":"#VALUE!"}},{"v":0,"d":"0.00"}]
[{"$nulls":14},{"$f":"IF($B1405=\"\",\"\",IF(F1405=\"Arbeitgeberähnliche Stellung\",OFFSET(MD!$Q$5,MATCH(Grundlagen_Abrechnung_KAE!$AK$7,MD_JAHR,0),0)*$H1405,IF(((AD1405/12*M1405*12)+N1405)>AF1405,AF1405/12,((AD1405/12*M1405*12)+N1405)/12)))","v":""},null,null,{"v":0,"d":"0.00"},null,{"v":0,"d":"0.00%"},{"v":0,"d":"0.00"},{"v":0,"d":"0.00"},{"v":0,"d":"0.00"},null,"prüfen",{"$f":"IFERROR(OFFSET(MD!$U$5,MATCH(Grundlagen_Abrechnung_KAE!$E1405,MD_GENDER,0),0),\"\")","v":""},{"v":0,"d":"0.00"},null,{"v":0,"d":"0.00"},{"$f":"IF(F1405=\"Arbeitgeberähnliche Stellung\",OFFSET(MD!$Q$5,MATCH(Grundlagen_Abrechnung_KAE!$AK$7,MD_JAHR,0),0)*$H1405,IF(J1405>0,AC1405,I1405))","v":{"v":0,"d":"0.00"}},null,{"$f":"OFFSET(MD!$P$5,MATCH($AK$7,MD_JAHR,0),0)*12","v":{"$error":"#VALUE!"}},{"v":0,"d":"0.00"}]
[{"$nulls":14},{"$f":"IF($B1406=\"\",\"\",IF(F1406=\"Arbeitgeberähnliche Stellung\",OFFSET(MD!$Q$5,MATCH(Grundlagen_Abrechnung_KAE!$AK$7,MD_JAHR,0),0)*$H1406,IF(((AD1406/12*M1406*12)+N1406)>AF1406,AF1406/12,((AD1406/12*M1406*12)+N1406)/12)))","v":""},null,null,{"v":0,"d":"0.00"},null,{"v":0,"d":"0.00%"},{"v":0,"d":"0.00"},{"v":0,"d":"0.00"},{"v":0,"d":"0.00"},null,"prüfen",{"$f":"IFERROR(OFFSET(MD!$U$5,MATCH(Grundlagen_Abrechnung_KAE!$E1406,MD_GENDER,0),0),\"\")","v":""},{"v":0,"d":"0.00"},null,{"v":0,"d":"0.00"},{"$f":"IF(F1406=\"Arbeitgeberähnliche Stellung\",OFFSET(MD!$Q$5,MATCH(Grundlagen_Abrechnung_KAE!$AK$7,MD_JAHR,0),0)*$H1406,IF(J1406>0,AC1406,I1406))","v":{"v":0,"d":"0.00"}},null,{"$f":"OFFSET(MD!$P$5,MATCH($AK$7,MD_JAHR,0),0)*12","v":{"$error":"#VALUE!"}},{"v":0,"d":"0.00"}]
[{"$nulls":14},{"$f":"IF($B1407=\"\",\"\",IF(F1407=\"Arbeitgeberähnliche Stellung\",OFFSET(MD!$Q$5,MATCH(Grundlagen_Abrechnung_KAE!$AK$7,MD_JAHR,0),0)*$H1407,IF(((AD1407/12*M1407*12)+N1407)>AF1407,AF1407/12,((AD1407/12*M1407*12)+N1407)/12)))","v":""},null,null,{"v":0,"d":"0.00"},null,{"v":0,"d":"0.00%"},{"v":0,"d":"0.00"},{"v":0,"d":"0.00"},{"v":0,"d":"0.00"},null,"prüfen",{"$f":"IFERROR(OFFSET(MD!$U$5,MATCH(Grundlagen_Abrechnung_KAE!$E1407,MD_GENDER,0),0),\"\")","v":""},{"v":0,"d":"0.00"},null,{"v":0,"d":"0.00"},{"$f":"IF(F1407=\"Arbeitgeberähnliche Stellung\",OFFSET(MD!$Q$5,MATCH(Grundlagen_Abrechnung_KAE!$AK$7,MD_JAHR,0),0)*$H1407,IF(J1407>0,AC1407,I1407))","v":{"v":0,"d":"0.00"}},null,{"$f":"OFFSET(MD!$P$5,MATCH($AK$7,MD_JAHR,0),0)*12","v":{"$error":"#VALUE!"}},{"v":0,"d":"0.00"}]
[{"$nulls":14},{"$f":"IF($B1408=\"\",\"\",IF(F1408=\"Arbeitgeberähnliche Stellung\",OFFSET(MD!$Q$5,MATCH(Grundlagen_Abrechnung_KAE!$AK$7,MD_JAHR,0),0)*$H1408,IF(((AD1408/12*M1408*12)+N1408)>AF1408,AF1408/12,((AD1408/12*M1408*12)+N1408)/12)))","v":""},null,null,{"v":0,"d":"0.00"},null,{"v":0,"d":"0.00%"},{"v":0,"d":"0.00"},{"v":0,"d":"0.00"},{"v":0,"d":"0.00"},null,"prüfen",{"$f":"IFERROR(OFFSET(MD!$U$5,MATCH(Grundlagen_Abrechnung_KAE!$E1408,MD_GENDER,0),0),\"\")","v":""},{"v":0,"d":"0.00"},null,{"v":0,"d":"0.00"},{"$f":"IF(F1408=\"Arbeitgeberähnliche Stellung\",OFFSET(MD!$Q$5,MATCH(Grundlagen_Abrechnung_KAE!$AK$7,MD_JAHR,0),0)*$H1408,IF(J1408>0,AC1408,I1408))","v":{"v":0,"d":"0.00"}},null,{"$f":"OFFSET(MD!$P$5,MATCH($AK$7,MD_JAHR,0),0)*12","v":{"$error":"#VALUE!"}},{"v":0,"d":"0.00"}]
[{"$nulls":14},{"$f":"IF($B1409=\"\",\"\",IF(F1409=\"Arbeitgeberähnliche Stellung\",OFFSET(MD!$Q$5,MATCH(Grundlagen_Abrechnung_KAE!$AK$7,MD_JAHR,0),0)*$H1409,IF(((AD1409/12*M1409*12)+N1409)>AF1409,AF1409/12,((AD1409/12*M1409*12)+N1409)/12)))","v":""},null,null,{"v":0,"d":"0.00"},null,{"v":0,"d":"0.00%"},{"v":0,"d":"0.00"},{"v":0,"d":"0.00"},{"v":0,"d":"0.00"},null,"prüfen",{"$f":"IFERROR(OFFSET(MD!$U$5,MATCH(Grundlagen_Abrechnung_KAE!$E1409,MD_GENDER,0),0),\"\")","v":""},{"v":0,"d":"0.00"},null,{"v":0,"d":"0.00"},{"$f":"IF(F1409=\"Arbeitgeberähnliche Stellung\",OFFSET(MD!$Q$5,MATCH(Grundlagen_Abrechnung_KAE!$AK$7,MD_JAHR,0),0)*$H1409,IF(J1409>0,AC1409,I1409))","v":{"v":0,"d":"0.00"}},null,{"$f":"OFFSET(MD!$P$5,MATCH($AK$7,MD_JAHR,0),0)*12","v":{"$error":"#VALUE!"}},{"v":0,"d":"0.00"}]
[{"$nulls":14},{"$f":"IF($B1410=\"\",\"\",IF(F1410=\"Arbeitgeberähnliche Stellung\",OFFSET(MD!$Q$5,MATCH(Grundlagen_Abrechnung_KAE!$AK$7,MD_JAHR,0),0)*$H1410,IF(((AD1410/12*M1410*12)+N1410)>AF1410,AF1410/12,((AD1410/12*M1410*12)+N1410)/12)))","v":""},null,null,{"v":0,"d":"0.00"},null,{"v":0,"d":"0.00%"},{"v":0,"d":"0.00"},{"v":0,"d":"0.00"},{"v":0,"d":"0.00"},null,"prüfen",{"$f":"IFERROR(OFFSET(MD!$U$5,MATCH(Grundlagen_Abrechnung_KAE!$E1410,MD_GENDER,0),0),\"\")","v":""},{"v":0,"d":"0.00"},null,{"v":0,"d":"0.00"},{"$f":"IF(F1410=\"Arbeitgeberähnliche Stellung\",OFFSET(MD!$Q$5,MATCH(Grundlagen_Abrechnung_KAE!$AK$7,MD_JAHR,0),0)*$H1410,IF(J1410>0,AC1410,I1410))","v":{"v":0,"d":"0.00"}},null,{"$f":"OFFSET(MD!$P$5,MATCH($AK$7,MD_JAHR,0),0)*12","v":{"$error":"#VALUE!"}},{"v":0,"d":"0.00"}]
[{"$nulls":14},{"$f":"IF($B1411=\"\",\"\",IF(F1411=\"Arbeitgeberähnliche Stellung\",OFFSET(MD!$Q$5,MATCH(Grundlagen_Abrechnung_KAE!$AK$7,MD_JAHR,0),0)*$H1411,IF(((AD1411/12*M1411*12)+N1411)>AF1411,AF1411/12,((AD1411/12*M1411*12)+N1411)/12)))","v":""},null,null,{"v":0,"d":"0.00"},null,{"v":0,"d":"0.00%"},{"v":0,"d":"0.00"},{"v":0,"d":"0.00"},{"v":0,"d":"0.00"},null,"prüfen",{"$f":"IFERROR(OFFSET(MD!$U$5,MATCH(Grundlagen_Abrechnung_KAE!$E1411,MD_GENDER,0),0),\"\")","v":""},{"v":0,"d":"0.00"},null,{"v":0,"d":"0.00"},{"$f":"IF(F1411=\"Arbeitgeberähnliche Stellung\",OFFSET(MD!$Q$5,MATCH(Grundlagen_Abrechnung_KAE!$AK$7,MD_JAHR,0),0)*$H1411,IF(J1411>0,AC1411,I1411))","v":{"v":0,"d":"0.00"}},null,{"$f":"OFFSET(MD!$P$5,MATCH($AK$7,MD_JAHR,0),0)*12","v":{"$error":"#VALUE!"}},{"v":0,"d":"0.00"}]
[{"$nulls":14},{"$f":"IF($B1412=\"\",\"\",IF(F1412=\"Arbeitgeberähnliche Stellung\",OFFSET(MD!$Q$5,MATCH(Grundlagen_Abrechnung_KAE!$AK$7,MD_JAHR,0),0)*$H1412,IF(((AD1412/12*M1412*12)+N1412)>AF1412,AF1412/12,((AD1412/12*M1412*12)+N1412)/12)))","v":""},null,null,{"v":0,"d":"0.00"},null,{"v":0,"d":"0.00%"},{"v":0,"d":"0.00"},{"v":0,"d":"0.00"},{"v":0,"d":"0.00"},null,"prüfen",{"$f":"IFERROR(OFFSET(MD!$U$5,MATCH(Grundlagen_Abrechnung_KAE!$E1412,MD_GENDER,0),0),\"\")","v":""},{"v":0,"d":"0.00"},null,{"v":0,"d":"0.00"},{"$f":"IF(F1412=\"Arbeitgeberähnliche Stellung\",OFFSET(MD!$Q$5,MATCH(Grundlagen_Abrechnung_KAE!$AK$7,MD_JAHR,0),0)*$H1412,IF(J1412>0,AC1412,I1412))","v":{"v":0,"d":"0.00"}},null,{"$f":"OFFSET(MD!$P$5,MATCH($AK$7,MD_JAHR,0),0)*12","v":{"$error":"#VALUE!"}},{"v":0,"d":"0.00"}]
[{"$nulls":14},{"$f":"IF($B1413=\"\",\"\",IF(F1413=\"Arbeitgeberähnliche Stellung\",OFFSET(MD!$Q$5,MATCH(Grundlagen_Abrechnung_KAE!$AK$7,MD_JAHR,0),0)*$H1413,IF(((AD1413/12*M1413*12)+N1413)>AF1413,AF1413/12,((AD1413/12*M1413*12)+N1413)/12)))","v":""},null,null,{"v":0,"d":"0.00"},null,{"v":0,"d":"0.00%"},{"v":0,"d":"0.00"},{"v":0,"d":"0.00"},{"v":0,"d":"0.00"},null,"prüfen",{"$f":"IFERROR(OFFSET(MD!$U$5,MATCH(Grundlagen_Abrechnung_KAE!$E1413,MD_GENDER,0),0),\"\")","v":""},{"v":0,"d":"0.00"},null,{"v":0,"d":"0.00"},{"$f":"IF(F1413=\"Arbeitgeberähnliche Stellung\",OFFSET(MD!$Q$5,MATCH(Grundlagen_Abrechnung_KAE!$AK$7,MD_JAHR,0),0)*$H1413,IF(J1413>0,AC1413,I1413))","v":{"v":0,"d":"0.00"}},null,{"$f":"OFFSET(MD!$P$5,MATCH($AK$7,MD_JAHR,0),0)*12","v":{"$error":"#VALUE!"}},{"v":0,"d":"0.00"}]
[{"$nulls":14},{"$f":"IF($B1414=\"\",\"\",IF(F1414=\"Arbeitgeberähnliche Stellung\",OFFSET(MD!$Q$5,MATCH(Grundlagen_Abrechnung_KAE!$AK$7,MD_JAHR,0),0)*$H1414,IF(((AD1414/12*M1414*12)+N1414)>AF1414,AF1414/12,((AD1414/12*M1414*12)+N1414)/12)))","v":""},null,null,{"v":0,"d":"0.00"},null,{"v":0,"d":"0.00%"},{"v":0,"d":"0.00"},{"v":0,"d":"0.00"},{"v":0,"d":"0.00"},null,"prüfen",{"$f":"IFERROR(OFFSET(MD!$U$5,MATCH(Grundlagen_Abrechnung_KAE!$E1414,MD_GENDER,0),0),\"\")","v":""},{"v":0,"d":"0.00"},null,{"v":0,"d":"0.00"},{"$f":"IF(F1414=\"Arbeitgeberähnliche Stellung\",OFFSET(MD!$Q$5,MATCH(Grundlagen_Abrechnung_KAE!$AK$7,MD_JAHR,0),0)*$H1414,IF(J1414>0,AC1414,I1414))","v":{"v":0,"d":"0.00"}},null,{"$f":"OFFSET(MD!$P$5,MATCH($AK$7,MD_JAHR,0),0)*12","v":{"$error":"#VALUE!"}},{"v":0,"d":"0.00"}]
[{"$nulls":14},{"$f":"IF($B1415=\"\",\"\",IF(F1415=\"Arbeitgeberähnliche Stellung\",OFFSET(MD!$Q$5,MATCH(Grundlagen_Abrechnung_KAE!$AK$7,MD_JAHR,0),0)*$H1415,IF(((AD1415/12*M1415*12)+N1415)>AF1415,AF1415/12,((AD1415/12*M1415*12)+N1415)/12)))","v":""},null,null,{"v":0,"d":"0.00"},null,{"v":0,"d":"0.00%"},{"v":0,"d":"0.00"},{"v":0,"d":"0.00"},{"v":0,"d":"0.00"},null,"prüfen",{"$f":"IFERROR(OFFSET(MD!$U$5,MATCH(Grundlagen_Abrechnung_KAE!$E1415,MD_GENDER,0),0),\"\")","v":""},{"v":0,"d":"0.00"},null,{"v":0,"d":"0.00"},{"$f":"IF(F1415=\"Arbeitgeberähnliche Stellung\",OFFSET(MD!$Q$5,MATCH(Grundlagen_Abrechnung_KAE!$AK$7,MD_JAHR,0),0)*$H1415,IF(J1415>0,AC1415,I1415))","v":{"v":0,"d":"0.00"}},null,{"$f":"OFFSET(MD!$P$5,MATCH($AK$7,MD_JAHR,0),0)*12","v":{"$error":"#VALUE!"}},{"v":0,"d":"0.00"}]
[{"$nulls":14},{"$f":"IF($B1416=\"\",\"\",IF(F1416=\"Arbeitgeberähnliche Stellung\",OFFSET(MD!$Q$5,MATCH(Grundlagen_Abrechnung_KAE!$AK$7,MD_JAHR,0),0)*$H1416,IF(((AD1416/12*M1416*12)+N1416)>AF1416,AF1416/12,((AD1416/12*M1416*12)+N1416)/12)))","v":""},null,null,{"v":0,"d":"0.00"},null,{"v":0,"d":"0.00%"},{"v":0,"d":"0.00"},{"v":0,"d":"0.00"},{"v":0,"d":"0.00"},null,"prüfen",{"$f":"IFERROR(OFFSET(MD!$U$5,MATCH(Grundlagen_Abrechnung_KAE!$E1416,MD_GENDER,0),0),\"\")","v":""},{"v":0,"d":"0.00"},null,{"v":0,"d":"0.00"},{"$f":"IF(F1416=\"Arbeitgeberähnliche Stellung\",OFFSET(MD!$Q$5,MATCH(Grundlagen_Abrechnung_KAE!$AK$7,MD_JAHR,0),0)*$H1416,IF(J1416>0,AC1416,I1416))","v":{"v":0,"d":"0.00"}},null,{"$f":"OFFSET(MD!$P$5,MATCH($AK$7,MD_JAHR,0),0)*12","v":{"$error":"#VALUE!"}},{"v":0,"d":"0.00"}]
[{"$nulls":14},{"$f":"IF($B1417=\"\",\"\",IF(F1417=\"Arbeitgeberähnliche Stellung\",OFFSET(MD!$Q$5,MATCH(Grundlagen_Abrechnung_KAE!$AK$7,MD_JAHR,0),0)*$H1417,IF(((AD1417/12*M1417*12)+N1417)>AF1417,AF1417/12,((AD1417/12*M1417*12)+N1417)/12)))","v":""},null,null,{"v":0,"d":"0.00"},null,{"v":0,"d":"0.00%"},{"v":0,"d":"0.00"},{"v":0,"d":"0.00"},{"v":0,"d":"0.00"},null,"prüfen",{"$f":"IFERROR(OFFSET(MD!$U$5,MATCH(Grundlagen_Abrechnung_KAE!$E1417,MD_GENDER,0),0),\"\")","v":""},{"v":0,"d":"0.00"},null,{"v":0,"d":"0.00"},{"$f":"IF(F1417=\"Arbeitgeberähnliche Stellung\",OFFSET(MD!$Q$5,MATCH(Grundlagen_Abrechnung_KAE!$AK$7,MD_JAHR,0),0)*$H1417,IF(J1417>0,AC1417,I1417))","v":{"v":0,"d":"0.00"}},null,{"$f":"OFFSET(MD!$P$5,MATCH($AK$7,MD_JAHR,0),0)*12","v":{"$error":"#VALUE!"}},{"v":0,"d":"0.00"}]
[{"$nulls":14},{"$f":"IF($B1418=\"\",\"\",IF(F1418=\"Arbeitgeberähnliche Stellung\",OFFSET(MD!$Q$5,MATCH(Grundlagen_Abrechnung_KAE!$AK$7,MD_JAHR,0),0)*$H1418,IF(((AD1418/12*M1418*12)+N1418)>AF1418,AF1418/12,((AD1418/12*M1418*12)+N1418)/12)))","v":""},null,null,{"v":0,"d":"0.00"},null,{"v":0,"d":"0.00%"},{"v":0,"d":"0.00"},{"v":0,"d":"0.00"},{"v":0,"d":"0.00"},null,"prüfen",{"$f":"IFERROR(OFFSET(MD!$U$5,MATCH(Grundlagen_Abrechnung_KAE!$E1418,MD_GENDER,0),0),\"\")","v":""},{"v":0,"d":"0.00"},null,{"v":0,"d":"0.00"},{"$f":"IF(F1418=\"Arbeitgeberähnliche Stellung\",OFFSET(MD!$Q$5,MATCH(Grundlagen_Abrechnung_KAE!$AK$7,MD_JAHR,0),0)*$H1418,IF(J1418>0,AC1418,I1418))","v":{"v":0,"d":"0.00"}},null,{"$f":"OFFSET(MD!$P$5,MATCH($AK$7,MD_JAHR,0),0)*12","v":{"$error":"#VALUE!"}},{"v":0,"d":"0.00"}]
[{"$nulls":14},{"$f":"IF($B1419=\"\",\"\",IF(F1419=\"Arbeitgeberähnliche Stellung\",OFFSET(MD!$Q$5,MATCH(Grundlagen_Abrechnung_KAE!$AK$7,MD_JAHR,0),0)*$H1419,IF(((AD1419/12*M1419*12)+N1419)>AF1419,AF1419/12,((AD1419/12*M1419*12)+N1419)/12)))","v":""},null,null,{"v":0,"d":"0.00"},null,{"v":0,"d":"0.00%"},{"v":0,"d":"0.00"},{"v":0,"d":"0.00"},{"v":0,"d":"0.00"},null,"prüfen",{"$f":"IFERROR(OFFSET(MD!$U$5,MATCH(Grundlagen_Abrechnung_KAE!$E1419,MD_GENDER,0),0),\"\")","v":""},{"v":0,"d":"0.00"},null,{"v":0,"d":"0.00"},{"$f":"IF(F1419=\"Arbeitgeberähnliche Stellung\",OFFSET(MD!$Q$5,MATCH(Grundlagen_Abrechnung_KAE!$AK$7,MD_JAHR,0),0)*$H1419,IF(J1419>0,AC1419,I1419))","v":{"v":0,"d":"0.00"}},null,{"$f":"OFFSET(MD!$P$5,MATCH($AK$7,MD_JAHR,0),0)*12","v":{"$error":"#VALUE!"}},{"v":0,"d":"0.00"}]
[{"$nulls":14},{"$f":"IF($B1420=\"\",\"\",IF(F1420=\"Arbeitgeberähnliche Stellung\",OFFSET(MD!$Q$5,MATCH(Grundlagen_Abrechnung_KAE!$AK$7,MD_JAHR,0),0)*$H1420,IF(((AD1420/12*M1420*12)+N1420)>AF1420,AF1420/12,((AD1420/12*M1420*12)+N1420)/12)))","v":""},null,null,{"v":0,"d":"0.00"},null,{"v":0,"d":"0.00%"},{"v":0,"d":"0.00"},{"v":0,"d":"0.00"},{"v":0,"d":"0.00"},null,"prüfen",{"$f":"IFERROR(OFFSET(MD!$U$5,MATCH(Grundlagen_Abrechnung_KAE!$E1420,MD_GENDER,0),0),\"\")","v":""},{"v":0,"d":"0.00"},null,{"v":0,"d":"0.00"},{"$f":"IF(F1420=\"Arbeitgeberähnliche Stellung\",OFFSET(MD!$Q$5,MATCH(Grundlagen_Abrechnung_KAE!$AK$7,MD_JAHR,0),0)*$H1420,IF(J1420>0,AC1420,I1420))","v":{"v":0,"d":"0.00"}},null,{"$f":"OFFSET(MD!$P$5,MATCH($AK$7,MD_JAHR,0),0)*12","v":{"$error":"#VALUE!"}},{"v":0,"d":"0.00"}]
[{"$nulls":14},{"$f":"IF($B1421=\"\",\"\",IF(F1421=\"Arbeitgeberähnliche Stellung\",OFFSET(MD!$Q$5,MATCH(Grundlagen_Abrechnung_KAE!$AK$7,MD_JAHR,0),0)*$H1421,IF(((AD1421/12*M1421*12)+N1421)>AF1421,AF1421/12,((AD1421/12*M1421*12)+N1421)/12)))","v":""},null,null,{"v":0,"d":"0.00"},null,{"v":0,"d":"0.00%"},{"v":0,"d":"0.00"},{"v":0,"d":"0.00"},{"v":0,"d":"0.00"},null,"prüfen",{"$f":"IFERROR(OFFSET(MD!$U$5,MATCH(Grundlagen_Abrechnung_KAE!$E1421,MD_GENDER,0),0),\"\")","v":""},{"v":0,"d":"0.00"},null,{"v":0,"d":"0.00"},{"$f":"IF(F1421=\"Arbeitgeberähnliche Stellung\",OFFSET(MD!$Q$5,MATCH(Grundlagen_Abrechnung_KAE!$AK$7,MD_JAHR,0),0)*$H1421,IF(J1421>0,AC1421,I1421))","v":{"v":0,"d":"0.00"}},null,{"$f":"OFFSET(MD!$P$5,MATCH($AK$7,MD_JAHR,0),0)*12","v":{"$error":"#VALUE!"}},{"v":0,"d":"0.00"}]
[{"$nulls":14},{"$f":"IF($B1422=\"\",\"\",IF(F1422=\"Arbeitgeberähnliche Stellung\",OFFSET(MD!$Q$5,MATCH(Grundlagen_Abrechnung_KAE!$AK$7,MD_JAHR,0),0)*$H1422,IF(((AD1422/12*M1422*12)+N1422)>AF1422,AF1422/12,((AD1422/12*M1422*12)+N1422)/12)))","v":""},null,null,{"v":0,"d":"0.00"},null,{"v":0,"d":"0.00%"},{"v":0,"d":"0.00"},{"v":0,"d":"0.00"},{"v":0,"d":"0.00"},null,"prüfen",{"$f":"IFERROR(OFFSET(MD!$U$5,MATCH(Grundlagen_Abrechnung_KAE!$E1422,MD_GENDER,0),0),\"\")","v":""},{"v":0,"d":"0.00"},null,{"v":0,"d":"0.00"},{"$f":"IF(F1422=\"Arbeitgeberähnliche Stellung\",OFFSET(MD!$Q$5,MATCH(Grundlagen_Abrechnung_KAE!$AK$7,MD_JAHR,0),0)*$H1422,IF(J1422>0,AC1422,I1422))","v":{"v":0,"d":"0.00"}},null,{"$f":"OFFSET(MD!$P$5,MATCH($AK$7,MD_JAHR,0),0)*12","v":{"$error":"#VALUE!"}},{"v":0,"d":"0.00"}]
[{"$nulls":14},{"$f":"IF($B1423=\"\",\"\",IF(F1423=\"Arbeitgeberähnliche Stellung\",OFFSET(MD!$Q$5,MATCH(Grundlagen_Abrechnung_KAE!$AK$7,MD_JAHR,0),0)*$H1423,IF(((AD1423/12*M1423*12)+N1423)>AF1423,AF1423/12,((AD1423/12*M1423*12)+N1423)/12)))","v":""},null,null,{"v":0,"d":"0.00"},null,{"v":0,"d":"0.00%"},{"v":0,"d":"0.00"},{"v":0,"d":"0.00"},{"v":0,"d":"0.00"},null,"prüfen",{"$f":"IFERROR(OFFSET(MD!$U$5,MATCH(Grundlagen_Abrechnung_KAE!$E1423,MD_GENDER,0),0),\"\")","v":""},{"v":0,"d":"0.00"},null,{"v":0,"d":"0.00"},{"$f":"IF(F1423=\"Arbeitgeberähnliche Stellung\",OFFSET(MD!$Q$5,MATCH(Grundlagen_Abrechnung_KAE!$AK$7,MD_JAHR,0),0)*$H1423,IF(J1423>0,AC1423,I1423))","v":{"v":0,"d":"0.00"}},null,{"$f":"OFFSET(MD!$P$5,MATCH($AK$7,MD_JAHR,0),0)*12","v":{"$error":"#VALUE!"}},{"v":0,"d":"0.00"}]
[{"$nulls":14},{"$f":"IF($B1424=\"\",\"\",IF(F1424=\"Arbeitgeberähnliche Stellung\",OFFSET(MD!$Q$5,MATCH(Grundlagen_Abrechnung_KAE!$AK$7,MD_JAHR,0),0)*$H1424,IF(((AD1424/12*M1424*12)+N1424)>AF1424,AF1424/12,((AD1424/12*M1424*12)+N1424)/12)))","v":""},null,null,{"v":0,"d":"0.00"},null,{"v":0,"d":"0.00%"},{"v":0,"d":"0.00"},{"v":0,"d":"0.00"},{"v":0,"d":"0.00"},null,"prüfen",{"$f":"IFERROR(OFFSET(MD!$U$5,MATCH(Grundlagen_Abrechnung_KAE!$E1424,MD_GENDER,0),0),\"\")","v":""},{"v":0,"d":"0.00"},null,{"v":0,"d":"0.00"},{"$f":"IF(F1424=\"Arbeitgeberähnliche Stellung\",OFFSET(MD!$Q$5,MATCH(Grundlagen_Abrechnung_KAE!$AK$7,MD_JAHR,0),0)*$H1424,IF(J1424>0,AC1424,I1424))","v":{"v":0,"d":"0.00"}},null,{"$f":"OFFSET(MD!$P$5,MATCH($AK$7,MD_JAHR,0),0)*12","v":{"$error":"#VALUE!"}},{"v":0,"d":"0.00"}]
[{"$nulls":14},{"$f":"IF($B1425=\"\",\"\",IF(F1425=\"Arbeitgeberähnliche Stellung\",OFFSET(MD!$Q$5,MATCH(Grundlagen_Abrechnung_KAE!$AK$7,MD_JAHR,0),0)*$H1425,IF(((AD1425/12*M1425*12)+N1425)>AF1425,AF1425/12,((AD1425/12*M1425*12)+N1425)/12)))","v":""},null,null,{"v":0,"d":"0.00"},null,{"v":0,"d":"0.00%"},{"v":0,"d":"0.00"},{"v":0,"d":"0.00"},{"v":0,"d":"0.00"},null,"prüfen",{"$f":"IFERROR(OFFSET(MD!$U$5,MATCH(Grundlagen_Abrechnung_KAE!$E1425,MD_GENDER,0),0),\"\")","v":""},{"v":0,"d":"0.00"},null,{"v":0,"d":"0.00"},{"$f":"IF(F1425=\"Arbeitgeberähnliche Stellung\",OFFSET(MD!$Q$5,MATCH(Grundlagen_Abrechnung_KAE!$AK$7,MD_JAHR,0),0)*$H1425,IF(J1425>0,AC1425,I1425))","v":{"v":0,"d":"0.00"}},null,{"$f":"OFFSET(MD!$P$5,MATCH($AK$7,MD_JAHR,0),0)*12","v":{"$error":"#VALUE!"}},{"v":0,"d":"0.00"}]
[{"$nulls":14},{"$f":"IF($B1426=\"\",\"\",IF(F1426=\"Arbeitgeberähnliche Stellung\",OFFSET(MD!$Q$5,MATCH(Grundlagen_Abrechnung_KAE!$AK$7,MD_JAHR,0),0)*$H1426,IF(((AD1426/12*M1426*12)+N1426)>AF1426,AF1426/12,((AD1426/12*M1426*12)+N1426)/12)))","v":""},null,null,{"v":0,"d":"0.00"},null,{"v":0,"d":"0.00%"},{"v":0,"d":"0.00"},{"v":0,"d":"0.00"},{"v":0,"d":"0.00"},null,"prüfen",{"$f":"IFERROR(OFFSET(MD!$U$5,MATCH(Grundlagen_Abrechnung_KAE!$E1426,MD_GENDER,0),0),\"\")","v":""},{"v":0,"d":"0.00"},null,{"v":0,"d":"0.00"},{"$f":"IF(F1426=\"Arbeitgeberähnliche Stellung\",OFFSET(MD!$Q$5,MATCH(Grundlagen_Abrechnung_KAE!$AK$7,MD_JAHR,0),0)*$H1426,IF(J1426>0,AC1426,I1426))","v":{"v":0,"d":"0.00"}},null,{"$f":"OFFSET(MD!$P$5,MATCH($AK$7,MD_JAHR,0),0)*12","v":{"$error":"#VALUE!"}},{"v":0,"d":"0.00"}]
[{"$nulls":14},{"$f":"IF($B1427=\"\",\"\",IF(F1427=\"Arbeitgeberähnliche Stellung\",OFFSET(MD!$Q$5,MATCH(Grundlagen_Abrechnung_KAE!$AK$7,MD_JAHR,0),0)*$H1427,IF(((AD1427/12*M1427*12)+N1427)>AF1427,AF1427/12,((AD1427/12*M1427*12)+N1427)/12)))","v":""},null,null,{"$f":"ROUND(IF(Q1427=\"\",0,IF(P1427=0,0,IF(Q1427>P1427,0,P1427-Q1427))),2)","v":{"v":0,"d":"0.00"}},null,{"$f":"IFERROR(R1427/P1427,0)","v":{"v":0,"d":"0.00%"}},{"$f":"IFERROR(IF(O1427-W1427=0,O1427,(O1427)*(1-T1427)),0)","v":{"v":0,"d":"0.00"}},{"v":0,"d":"0.00"},{"$f":"IFERROR(O1427*T1427,0)*0.8","v":{"v":0,"d":"0.00"}},null,{"$f":"IF(YEAR($G1427)>$Y$16,\"prüfen\",\"\")","v":"prüfen"},{"$f":"IFERROR(OFFSET(MD!$U$5,MATCH(Grundlagen_Abrechnung_KAE!$E1427,MD_GENDER,0),0),\"\")","v":""},{"$f":"IF(B1427=\"\",0,IF(YEAR(G1427)>$AA$16,0,1))","v":{"v":0,"d":"0.00"}},null,{"$f":"IF(J1427*K1427/6>J1427*L1427/12,J1427*K1427/6,J1427*L1427/12)","v":{"v":0,"d":"0.00"}},{"$f":"IF(F1427=\"Arbeitgeberähnliche Stellung\",OFFSET(MD!$Q$5,MATCH(Grundlagen_Abrechnung_KAE!$AK$7,MD_JAHR,0),0)*$H1427,IF(J1427>0,AC1427,I1427))","v":{"v":0,"d":"0.00"}},null,{"$f":"OFFSET(MD!$P$5,MATCH($AK$7,MD_JAHR,0),0)*12","v":{"$error":"#VALUE!"}},{"$f":"I1427*M1427+N1427","v":{"v":0,"d":"0.00"}}]
[{"$nulls":14},{"$f":"IF($B1428=\"\",\"\",IF(F1428=\"Arbeitgeberähnliche Stellung\",OFFSET(MD!$Q$5,MATCH(Grundlagen_Abrechnung_KAE!$AK$7,MD_JAHR,0),0)*$H1428,IF(((AD1428/12*M1428*12)+N1428)>AF1428,AF1428/12,((AD1428/12*M1428*12)+N1428)/12)))","v":""},null,null,{"v":0,"d":"0.00"},null,{"v":0,"d":"0.00%"},{"v":0,"d":"0.00"},{"$f":"IFERROR(O1428*T1428,0)","v":{"v":0,"d":"0.00"}},{"v":0,"d":"0.00"},null,"prüfen",{"$f":"IFERROR(OFFSET(MD!$U$5,MATCH(Grundlagen_Abrechnung_KAE!$E1428,MD_GENDER,0),0),\"\")","v":""},{"v":0,"d":"0.00"},null,{"v":0,"d":"0.00"},{"$f":"IF(F1428=\"Arbeitgeberähnliche Stellung\",OFFSET(MD!$Q$5,MATCH(Grundlagen_Abrechnung_KAE!$AK$7,MD_JAHR,0),0)*$H1428,IF(J1428>0,AC1428,I1428))","v":{"v":0,"d":"0.00"}},null,{"$f":"OFFSET(MD!$P$5,MATCH($AK$7,MD_JAHR,0),0)*12","v":{"$error":"#VALUE!"}},{"v":0,"d":"0.00"}]
[{"$nulls":14},{"$f":"IF($B1429=\"\",\"\",IF(F1429=\"Arbeitgeberähnliche Stellung\",OFFSET(MD!$Q$5,MATCH(Grundlagen_Abrechnung_KAE!$AK$7,MD_JAHR,0),0)*$H1429,IF(((AD1429/12*M1429*12)+N1429)>AF1429,AF1429/12,((AD1429/12*M1429*12)+N1429)/12)))","v":""},null,null,{"v":0,"d":"0.00"},null,{"v":0,"d":"0.00%"},{"v":0,"d":"0.00"},{"v":0,"d":"0.00"},{"v":0,"d":"0.00"},null,"prüfen",{"$f":"IFERROR(OFFSET(MD!$U$5,MATCH(Grundlagen_Abrechnung_KAE!$E1429,MD_GENDER,0),0),\"\")","v":""},{"v":0,"d":"0.00"},null,{"v":0,"d":"0.00"},{"$f":"IF(F1429=\"Arbeitgeberähnliche Stellung\",OFFSET(MD!$Q$5,MATCH(Grundlagen_Abrechnung_KAE!$AK$7,MD_JAHR,0),0)*$H1429,IF(J1429>0,AC1429,I1429))","v":{"v":0,"d":"0.00"}},null,{"$f":"OFFSET(MD!$P$5,MATCH($AK$7,MD_JAHR,0),0)*12","v":{"$error":"#VALUE!"}},{"v":0,"d":"0.00"}]
[{"$nulls":14},{"$f":"IF($B1430=\"\",\"\",IF(F1430=\"Arbeitgeberähnliche Stellung\",OFFSET(MD!$Q$5,MATCH(Grundlagen_Abrechnung_KAE!$AK$7,MD_JAHR,0),0)*$H1430,IF(((AD1430/12*M1430*12)+N1430)>AF1430,AF1430/12,((AD1430/12*M1430*12)+N1430)/12)))","v":""},null,null,{"v":0,"d":"0.00"},null,{"v":0,"d":"0.00%"},{"v":0,"d":"0.00"},{"v":0,"d":"0.00"},{"v":0,"d":"0.00"},null,"prüfen",{"$f":"IFERROR(OFFSET(MD!$U$5,MATCH(Grundlagen_Abrechnung_KAE!$E1430,MD_GENDER,0),0),\"\")","v":""},{"v":0,"d":"0.00"},null,{"v":0,"d":"0.00"},{"$f":"IF(F1430=\"Arbeitgeberähnliche Stellung\",OFFSET(MD!$Q$5,MATCH(Grundlagen_Abrechnung_KAE!$AK$7,MD_JAHR,0),0)*$H1430,IF(J1430>0,AC1430,I1430))","v":{"v":0,"d":"0.00"}},null,{"$f":"OFFSET(MD!$P$5,MATCH($AK$7,MD_JAHR,0),0)*12","v":{"$error":"#VALUE!"}},{"v":0,"d":"0.00"}]
[{"$nulls":14},{"$f":"IF($B1431=\"\",\"\",IF(F1431=\"Arbeitgeberähnliche Stellung\",OFFSET(MD!$Q$5,MATCH(Grundlagen_Abrechnung_KAE!$AK$7,MD_JAHR,0),0)*$H1431,IF(((AD1431/12*M1431*12)+N1431)>AF1431,AF1431/12,((AD1431/12*M1431*12)+N1431)/12)))","v":""},null,null,{"v":0,"d":"0.00"},null,{"v":0,"d":"0.00%"},{"v":0,"d":"0.00"},{"v":0,"d":"0.00"},{"v":0,"d":"0.00"},null,"prüfen",{"$f":"IFERROR(OFFSET(MD!$U$5,MATCH(Grundlagen_Abrechnung_KAE!$E1431,MD_GENDER,0),0),\"\")","v":""},{"v":0,"d":"0.00"},null,{"v":0,"d":"0.00"},{"$f":"IF(F1431=\"Arbeitgeberähnliche Stellung\",OFFSET(MD!$Q$5,MATCH(Grundlagen_Abrechnung_KAE!$AK$7,MD_JAHR,0),0)*$H1431,IF(J1431>0,AC1431,I1431))","v":{"v":0,"d":"0.00"}},null,{"$f":"OFFSET(MD!$P$5,MATCH($AK$7,MD_JAHR,0),0)*12","v":{"$error":"#VALUE!"}},{"v":0,"d":"0.00"}]
[{"$nulls":14},{"$f":"IF($B1432=\"\",\"\",IF(F1432=\"Arbeitgeberähnliche Stellung\",OFFSET(MD!$Q$5,MATCH(Grundlagen_Abrechnung_KAE!$AK$7,MD_JAHR,0),0)*$H1432,IF(((AD1432/12*M1432*12)+N1432)>AF1432,AF1432/12,((AD1432/12*M1432*12)+N1432)/12)))","v":""},null,null,{"v":0,"d":"0.00"},null,{"v":0,"d":"0.00%"},{"v":0,"d":"0.00"},{"v":0,"d":"0.00"},{"v":0,"d":"0.00"},null,"prüfen",{"$f":"IFERROR(OFFSET(MD!$U$5,MATCH(Grundlagen_Abrechnung_KAE!$E1432,MD_GENDER,0),0),\"\")","v":""},{"v":0,"d":"0.00"},null,{"v":0,"d":"0.00"},{"$f":"IF(F1432=\"Arbeitgeberähnliche Stellung\",OFFSET(MD!$Q$5,MATCH(Grundlagen_Abrechnung_KAE!$AK$7,MD_JAHR,0),0)*$H1432,IF(J1432>0,AC1432,I1432))","v":{"v":0,"d":"0.00"}},null,{"$f":"OFFSET(MD!$P$5,MATCH($AK$7,MD_JAHR,0),0)*12","v":{"$error":"#VALUE!"}},{"v":0,"d":"0.00"}]
[{"$nulls":14},{"$f":"IF($B1433=\"\",\"\",IF(F1433=\"Arbeitgeberähnliche Stellung\",OFFSET(MD!$Q$5,MATCH(Grundlagen_Abrechnung_KAE!$AK$7,MD_JAHR,0),0)*$H1433,IF(((AD1433/12*M1433*12)+N1433)>AF1433,AF1433/12,((AD1433/12*M1433*12)+N1433)/12)))","v":""},null,null,{"v":0,"d":"0.00"},null,{"v":0,"d":"0.00%"},{"v":0,"d":"0.00"},{"v":0,"d":"0.00"},{"v":0,"d":"0.00"},null,"prüfen",{"$f":"IFERROR(OFFSET(MD!$U$5,MATCH(Grundlagen_Abrechnung_KAE!$E1433,MD_GENDER,0),0),\"\")","v":""},{"v":0,"d":"0.00"},null,{"v":0,"d":"0.00"},{"$f":"IF(F1433=\"Arbeitgeberähnliche Stellung\",OFFSET(MD!$Q$5,MATCH(Grundlagen_Abrechnung_KAE!$AK$7,MD_JAHR,0),0)*$H1433,IF(J1433>0,AC1433,I1433))","v":{"v":0,"d":"0.00"}},null,{"$f":"OFFSET(MD!$P$5,MATCH($AK$7,MD_JAHR,0),0)*12","v":{"$error":"#VALUE!"}},{"v":0,"d":"0.00"}]
[{"$nulls":14},{"$f":"IF($B1434=\"\",\"\",IF(F1434=\"Arbeitgeberähnliche Stellung\",OFFSET(MD!$Q$5,MATCH(Grundlagen_Abrechnung_KAE!$AK$7,MD_JAHR,0),0)*$H1434,IF(((AD1434/12*M1434*12)+N1434)>AF1434,AF1434/12,((AD1434/12*M1434*12)+N1434)/12)))","v":""},null,null,{"v":0,"d":"0.00"},null,{"v":0,"d":"0.00%"},{"v":0,"d":"0.00"},{"v":0,"d":"0.00"},{"v":0,"d":"0.00"},null,"prüfen",{"$f":"IFERROR(OFFSET(MD!$U$5,MATCH(Grundlagen_Abrechnung_KAE!$E1434,MD_GENDER,0),0),\"\")","v":""},{"v":0,"d":"0.00"},null,{"v":0,"d":"0.00"},{"$f":"IF(F1434=\"Arbeitgeberähnliche Stellung\",OFFSET(MD!$Q$5,MATCH(Grundlagen_Abrechnung_KAE!$AK$7,MD_JAHR,0),0)*$H1434,IF(J1434>0,AC1434,I1434))","v":{"v":0,"d":"0.00"}},null,{"$f":"OFFSET(MD!$P$5,MATCH($AK$7,MD_JAHR,0),0)*12","v":{"$error":"#VALUE!"}},{"v":0,"d":"0.00"}]
[{"$nulls":14},{"$f":"IF($B1435=\"\",\"\",IF(F1435=\"Arbeitgeberähnliche Stellung\",OFFSET(MD!$Q$5,MATCH(Grundlagen_Abrechnung_KAE!$AK$7,MD_JAHR,0),0)*$H1435,IF(((AD1435/12*M1435*12)+N1435)>AF1435,AF1435/12,((AD1435/12*M1435*12)+N1435)/12)))","v":""},null,null,{"v":0,"d":"0.00"},null,{"v":0,"d":"0.00%"},{"v":0,"d":"0.00"},{"v":0,"d":"0.00"},{"v":0,"d":"0.00"},null,"prüfen",{"$f":"IFERROR(OFFSET(MD!$U$5,MATCH(Grundlagen_Abrechnung_KAE!$E1435,MD_GENDER,0),0),\"\")","v":""},{"v":0,"d":"0.00"},null,{"v":0,"d":"0.00"},{"$f":"IF(F1435=\"Arbeitgeberähnliche Stellung\",OFFSET(MD!$Q$5,MATCH(Grundlagen_Abrechnung_KAE!$AK$7,MD_JAHR,0),0)*$H1435,IF(J1435>0,AC1435,I1435))","v":{"v":0,"d":"0.00"}},null,{"$f":"OFFSET(MD!$P$5,MATCH($AK$7,MD_JAHR,0),0)*12","v":{"$error":"#VALUE!"}},{"v":0,"d":"0.00"}]
[{"$nulls":14},{"$f":"IF($B1436=\"\",\"\",IF(F1436=\"Arbeitgeberähnliche Stellung\",OFFSET(MD!$Q$5,MATCH(Grundlagen_Abrechnung_KAE!$AK$7,MD_JAHR,0),0)*$H1436,IF(((AD1436/12*M1436*12)+N1436)>AF1436,AF1436/12,((AD1436/12*M1436*12)+N1436)/12)))","v":""},null,null,{"v":0,"d":"0.00"},null,{"v":0,"d":"0.00%"},{"v":0,"d":"0.00"},{"v":0,"d":"0.00"},{"v":0,"d":"0.00"},null,"prüfen",{"$f":"IFERROR(OFFSET(MD!$U$5,MATCH(Grundlagen_Abrechnung_KAE!$E1436,MD_GENDER,0),0),\"\")","v":""},{"v":0,"d":"0.00"},null,{"v":0,"d":"0.00"},{"$f":"IF(F1436=\"Arbeitgeberähnliche Stellung\",OFFSET(MD!$Q$5,MATCH(Grundlagen_Abrechnung_KAE!$AK$7,MD_JAHR,0),0)*$H1436,IF(J1436>0,AC1436,I1436))","v":{"v":0,"d":"0.00"}},null,{"$f":"OFFSET(MD!$P$5,MATCH($AK$7,MD_JAHR,0),0)*12","v":{"$error":"#VALUE!"}},{"v":0,"d":"0.00"}]
[{"$nulls":14},{"$f":"IF($B1437=\"\",\"\",IF(F1437=\"Arbeitgeberähnliche Stellung\",OFFSET(MD!$Q$5,MATCH(Grundlagen_Abrechnung_KAE!$AK$7,MD_JAHR,0),0)*$H1437,IF(((AD1437/12*M1437*12)+N1437)>AF1437,AF1437/12,((AD1437/12*M1437*12)+N1437)/12)))","v":""},null,null,{"v":0,"d":"0.00"},null,{"v":0,"d":"0.00%"},{"v":0,"d":"0.00"},{"v":0,"d":"0.00"},{"v":0,"d":"0.00"},null,"prüfen",{"$f":"IFERROR(OFFSET(MD!$U$5,MATCH(Grundlagen_Abrechnung_KAE!$E1437,MD_GENDER,0),0),\"\")","v":""},{"v":0,"d":"0.00"},null,{"v":0,"d":"0.00"},{"$f":"IF(F1437=\"Arbeitgeberähnliche Stellung\",OFFSET(MD!$Q$5,MATCH(Grundlagen_Abrechnung_KAE!$AK$7,MD_JAHR,0),0)*$H1437,IF(J1437>0,AC1437,I1437))","v":{"v":0,"d":"0.00"}},null,{"$f":"OFFSET(MD!$P$5,MATCH($AK$7,MD_JAHR,0),0)*12","v":{"$error":"#VALUE!"}},{"v":0,"d":"0.00"}]
[{"$nulls":14},{"$f":"IF($B1438=\"\",\"\",IF(F1438=\"Arbeitgeberähnliche Stellung\",OFFSET(MD!$Q$5,MATCH(Grundlagen_Abrechnung_KAE!$AK$7,MD_JAHR,0),0)*$H1438,IF(((AD1438/12*M1438*12)+N1438)>AF1438,AF1438/12,((AD1438/12*M1438*12)+N1438)/12)))","v":""},null,null,{"v":0,"d":"0.00"},null,{"v":0,"d":"0.00%"},{"v":0,"d":"0.00"},{"v":0,"d":"0.00"},{"v":0,"d":"0.00"},null,"prüfen",{"$f":"IFERROR(OFFSET(MD!$U$5,MATCH(Grundlagen_Abrechnung_KAE!$E1438,MD_GENDER,0),0),\"\")","v":""},{"v":0,"d":"0.00"},null,{"v":0,"d":"0.00"},{"$f":"IF(F1438=\"Arbeitgeberähnliche Stellung\",OFFSET(MD!$Q$5,MATCH(Grundlagen_Abrechnung_KAE!$AK$7,MD_JAHR,0),0)*$H1438,IF(J1438>0,AC1438,I1438))","v":{"v":0,"d":"0.00"}},null,{"$f":"OFFSET(MD!$P$5,MATCH($AK$7,MD_JAHR,0),0)*12","v":{"$error":"#VALUE!"}},{"v":0,"d":"0.00"}]
[{"$nulls":14},{"$f":"IF($B1439=\"\",\"\",IF(F1439=\"Arbeitgeberähnliche Stellung\",OFFSET(MD!$Q$5,MATCH(Grundlagen_Abrechnung_KAE!$AK$7,MD_JAHR,0),0)*$H1439,IF(((AD1439/12*M1439*12)+N1439)>AF1439,AF1439/12,((AD1439/12*M1439*12)+N1439)/12)))","v":""},null,null,{"v":0,"d":"0.00"},null,{"v":0,"d":"0.00%"},{"v":0,"d":"0.00"},{"v":0,"d":"0.00"},{"v":0,"d":"0.00"},null,"prüfen",{"$f":"IFERROR(OFFSET(MD!$U$5,MATCH(Grundlagen_Abrechnung_KAE!$E1439,MD_GENDER,0),0),\"\")","v":""},{"v":0,"d":"0.00"},null,{"v":0,"d":"0.00"},{"$f":"IF(F1439=\"Arbeitgeberähnliche Stellung\",OFFSET(MD!$Q$5,MATCH(Grundlagen_Abrechnung_KAE!$AK$7,MD_JAHR,0),0)*$H1439,IF(J1439>0,AC1439,I1439))","v":{"v":0,"d":"0.00"}},null,{"$f":"OFFSET(MD!$P$5,MATCH($AK$7,MD_JAHR,0),0)*12","v":{"$error":"#VALUE!"}},{"v":0,"d":"0.00"}]
[{"$nulls":14},{"$f":"IF($B1440=\"\",\"\",IF(F1440=\"Arbeitgeberähnliche Stellung\",OFFSET(MD!$Q$5,MATCH(Grundlagen_Abrechnung_KAE!$AK$7,MD_JAHR,0),0)*$H1440,IF(((AD1440/12*M1440*12)+N1440)>AF1440,AF1440/12,((AD1440/12*M1440*12)+N1440)/12)))","v":""},null,null,{"v":0,"d":"0.00"},null,{"v":0,"d":"0.00%"},{"v":0,"d":"0.00"},{"v":0,"d":"0.00"},{"v":0,"d":"0.00"},null,"prüfen",{"$f":"IFERROR(OFFSET(MD!$U$5,MATCH(Grundlagen_Abrechnung_KAE!$E1440,MD_GENDER,0),0),\"\")","v":""},{"v":0,"d":"0.00"},null,{"v":0,"d":"0.00"},{"$f":"IF(F1440=\"Arbeitgeberähnliche Stellung\",OFFSET(MD!$Q$5,MATCH(Grundlagen_Abrechnung_KAE!$AK$7,MD_JAHR,0),0)*$H1440,IF(J1440>0,AC1440,I1440))","v":{"v":0,"d":"0.00"}},null,{"$f":"OFFSET(MD!$P$5,MATCH($AK$7,MD_JAHR,0),0)*12","v":{"$error":"#VALUE!"}},{"v":0,"d":"0.00"}]
[{"$nulls":14},{"$f":"IF($B1441=\"\",\"\",IF(F1441=\"Arbeitgeberähnliche Stellung\",OFFSET(MD!$Q$5,MATCH(Grundlagen_Abrechnung_KAE!$AK$7,MD_JAHR,0),0)*$H1441,IF(((AD1441/12*M1441*12)+N1441)>AF1441,AF1441/12,((AD1441/12*M1441*12)+N1441)/12)))","v":""},null,null,{"v":0,"d":"0.00"},null,{"v":0,"d":"0.00%"},{"v":0,"d":"0.00"},{"v":0,"d":"0.00"},{"v":0,"d":"0.00"},null,"prüfen",{"$f":"IFERROR(OFFSET(MD!$U$5,MATCH(Grundlagen_Abrechnung_KAE!$E1441,MD_GENDER,0),0),\"\")","v":""},{"v":0,"d":"0.00"},null,{"v":0,"d":"0.00"},{"$f":"IF(F1441=\"Arbeitgeberähnliche Stellung\",OFFSET(MD!$Q$5,MATCH(Grundlagen_Abrechnung_KAE!$AK$7,MD_JAHR,0),0)*$H1441,IF(J1441>0,AC1441,I1441))","v":{"v":0,"d":"0.00"}},null,{"$f":"OFFSET(MD!$P$5,MATCH($AK$7,MD_JAHR,0),0)*12","v":{"$error":"#VALUE!"}},{"v":0,"d":"0.00"}]
[{"$nulls":14},{"$f":"IF($B1442=\"\",\"\",IF(F1442=\"Arbeitgeberähnliche Stellung\",OFFSET(MD!$Q$5,MATCH(Grundlagen_Abrechnung_KAE!$AK$7,MD_JAHR,0),0)*$H1442,IF(((AD1442/12*M1442*12)+N1442)>AF1442,AF1442/12,((AD1442/12*M1442*12)+N1442)/12)))","v":""},null,null,{"v":0,"d":"0.00"},null,{"v":0,"d":"0.00%"},{"v":0,"d":"0.00"},{"v":0,"d":"0.00"},{"v":0,"d":"0.00"},null,"prüfen",{"$f":"IFERROR(OFFSET(MD!$U$5,MATCH(Grundlagen_Abrechnung_KAE!$E1442,MD_GENDER,0),0),\"\")","v":""},{"v":0,"d":"0.00"},null,{"v":0,"d":"0.00"},{"$f":"IF(F1442=\"Arbeitgeberähnliche Stellung\",OFFSET(MD!$Q$5,MATCH(Grundlagen_Abrechnung_KAE!$AK$7,MD_JAHR,0),0)*$H1442,IF(J1442>0,AC1442,I1442))","v":{"v":0,"d":"0.00"}},null,{"$f":"OFFSET(MD!$P$5,MATCH($AK$7,MD_JAHR,0),0)*12","v":{"$error":"#VALUE!"}},{"v":0,"d":"0.00"}]
[{"$nulls":14},{"$f":"IF($B1443=\"\",\"\",IF(F1443=\"Arbeitgeberähnliche Stellung\",OFFSET(MD!$Q$5,MATCH(Grundlagen_Abrechnung_KAE!$AK$7,MD_JAHR,0),0)*$H1443,IF(((AD1443/12*M1443*12)+N1443)>AF1443,AF1443/12,((AD1443/12*M1443*12)+N1443)/12)))","v":""},null,null,{"v":0,"d":"0.00"},null,{"v":0,"d":"0.00%"},{"v":0,"d":"0.00"},{"v":0,"d":"0.00"},{"v":0,"d":"0.00"},null,"prüfen",{"$f":"IFERROR(OFFSET(MD!$U$5,MATCH(Grundlagen_Abrechnung_KAE!$E1443,MD_GENDER,0),0),\"\")","v":""},{"v":0,"d":"0.00"},null,{"v":0,"d":"0.00"},{"$f":"IF(F1443=\"Arbeitgeberähnliche Stellung\",OFFSET(MD!$Q$5,MATCH(Grundlagen_Abrechnung_KAE!$AK$7,MD_JAHR,0),0)*$H1443,IF(J1443>0,AC1443,I1443))","v":{"v":0,"d":"0.00"}},null,{"$f":"OFFSET(MD!$P$5,MATCH($AK$7,MD_JAHR,0),0)*12","v":{"$error":"#VALUE!"}},{"v":0,"d":"0.00"}]
[{"$nulls":14},{"$f":"IF($B1444=\"\",\"\",IF(F1444=\"Arbeitgeberähnliche Stellung\",OFFSET(MD!$Q$5,MATCH(Grundlagen_Abrechnung_KAE!$AK$7,MD_JAHR,0),0)*$H1444,IF(((AD1444/12*M1444*12)+N1444)>AF1444,AF1444/12,((AD1444/12*M1444*12)+N1444)/12)))","v":""},null,null,{"v":0,"d":"0.00"},null,{"v":0,"d":"0.00%"},{"v":0,"d":"0.00"},{"v":0,"d":"0.00"},{"v":0,"d":"0.00"},null,"prüfen",{"$f":"IFERROR(OFFSET(MD!$U$5,MATCH(Grundlagen_Abrechnung_KAE!$E1444,MD_GENDER,0),0),\"\")","v":""},{"v":0,"d":"0.00"},null,{"v":0,"d":"0.00"},{"$f":"IF(F1444=\"Arbeitgeberähnliche Stellung\",OFFSET(MD!$Q$5,MATCH(Grundlagen_Abrechnung_KAE!$AK$7,MD_JAHR,0),0)*$H1444,IF(J1444>0,AC1444,I1444))","v":{"v":0,"d":"0.00"}},null,{"$f":"OFFSET(MD!$P$5,MATCH($AK$7,MD_JAHR,0),0)*12","v":{"$error":"#VALUE!"}},{"v":0,"d":"0.00"}]
[{"$nulls":14},{"$f":"IF($B1445=\"\",\"\",IF(F1445=\"Arbeitgeberähnliche Stellung\",OFFSET(MD!$Q$5,MATCH(Grundlagen_Abrechnung_KAE!$AK$7,MD_JAHR,0),0)*$H1445,IF(((AD1445/12*M1445*12)+N1445)>AF1445,AF1445/12,((AD1445/12*M1445*12)+N1445)/12)))","v":""},null,null,{"v":0,"d":"0.00"},null,{"v":0,"d":"0.00%"},{"v":0,"d":"0.00"},{"v":0,"d":"0.00"},{"v":0,"d":"0.00"},null,"prüfen",{"$f":"IFERROR(OFFSET(MD!$U$5,MATCH(Grundlagen_Abrechnung_KAE!$E1445,MD_GENDER,0),0),\"\")","v":""},{"v":0,"d":"0.00"},null,{"v":0,"d":"0.00"},{"$f":"IF(F1445=\"Arbeitgeberähnliche Stellung\",OFFSET(MD!$Q$5,MATCH(Grundlagen_Abrechnung_KAE!$AK$7,MD_JAHR,0),0)*$H1445,IF(J1445>0,AC1445,I1445))","v":{"v":0,"d":"0.00"}},null,{"$f":"OFFSET(MD!$P$5,MATCH($AK$7,MD_JAHR,0),0)*12","v":{"$error":"#VALUE!"}},{"v":0,"d":"0.00"}]
[{"$nulls":14},{"$f":"IF($B1446=\"\",\"\",IF(F1446=\"Arbeitgeberähnliche Stellung\",OFFSET(MD!$Q$5,MATCH(Grundlagen_Abrechnung_KAE!$AK$7,MD_JAHR,0),0)*$H1446,IF(((AD1446/12*M1446*12)+N1446)>AF1446,AF1446/12,((AD1446/12*M1446*12)+N1446)/12)))","v":""},null,null,{"v":0,"d":"0.00"},null,{"v":0,"d":"0.00%"},{"v":0,"d":"0.00"},{"v":0,"d":"0.00"},{"v":0,"d":"0.00"},null,"prüfen",{"$f":"IFERROR(OFFSET(MD!$U$5,MATCH(Grundlagen_Abrechnung_KAE!$E1446,MD_GENDER,0),0),\"\")","v":""},{"v":0,"d":"0.00"},null,{"v":0,"d":"0.00"},{"$f":"IF(F1446=\"Arbeitgeberähnliche Stellung\",OFFSET(MD!$Q$5,MATCH(Grundlagen_Abrechnung_KAE!$AK$7,MD_JAHR,0),0)*$H1446,IF(J1446>0,AC1446,I1446))","v":{"v":0,"d":"0.00"}},null,{"$f":"OFFSET(MD!$P$5,MATCH($AK$7,MD_JAHR,0),0)*12","v":{"$error":"#VALUE!"}},{"v":0,"d":"0.00"}]
[{"$nulls":14},{"$f":"IF($B1447=\"\",\"\",IF(F1447=\"Arbeitgeberähnliche Stellung\",OFFSET(MD!$Q$5,MATCH(Grundlagen_Abrechnung_KAE!$AK$7,MD_JAHR,0),0)*$H1447,IF(((AD1447/12*M1447*12)+N1447)>AF1447,AF1447/12,((AD1447/12*M1447*12)+N1447)/12)))","v":""},null,null,{"v":0,"d":"0.00"},null,{"v":0,"d":"0.00%"},{"v":0,"d":"0.00"},{"v":0,"d":"0.00"},{"v":0,"d":"0.00"},null,"prüfen",{"$f":"IFERROR(OFFSET(MD!$U$5,MATCH(Grundlagen_Abrechnung_KAE!$E1447,MD_GENDER,0),0),\"\")","v":""},{"v":0,"d":"0.00"},null,{"v":0,"d":"0.00"},{"$f":"IF(F1447=\"Arbeitgeberähnliche Stellung\",OFFSET(MD!$Q$5,MATCH(Grundlagen_Abrechnung_KAE!$AK$7,MD_JAHR,0),0)*$H1447,IF(J1447>0,AC1447,I1447))","v":{"v":0,"d":"0.00"}},null,{"$f":"OFFSET(MD!$P$5,MATCH($AK$7,MD_JAHR,0),0)*12","v":{"$error":"#VALUE!"}},{"v":0,"d":"0.00"}]
[{"$nulls":14},{"$f":"IF($B1448=\"\",\"\",IF(F1448=\"Arbeitgeberähnliche Stellung\",OFFSET(MD!$Q$5,MATCH(Grundlagen_Abrechnung_KAE!$AK$7,MD_JAHR,0),0)*$H1448,IF(((AD1448/12*M1448*12)+N1448)>AF1448,AF1448/12,((AD1448/12*M1448*12)+N1448)/12)))","v":""},null,null,{"v":0,"d":"0.00"},null,{"v":0,"d":"0.00%"},{"v":0,"d":"0.00"},{"v":0,"d":"0.00"},{"v":0,"d":"0.00"},null,"prüfen",{"$f":"IFERROR(OFFSET(MD!$U$5,MATCH(Grundlagen_Abrechnung_KAE!$E1448,MD_GENDER,0),0),\"\")","v":""},{"v":0,"d":"0.00"},null,{"v":0,"d":"0.00"},{"$f":"IF(F1448=\"Arbeitgeberähnliche Stellung\",OFFSET(MD!$Q$5,MATCH(Grundlagen_Abrechnung_KAE!$AK$7,MD_JAHR,0),0)*$H1448,IF(J1448>0,AC1448,I1448))","v":{"v":0,"d":"0.00"}},null,{"$f":"OFFSET(MD!$P$5,MATCH($AK$7,MD_JAHR,0),0)*12","v":{"$error":"#VALUE!"}},{"v":0,"d":"0.00"}]
[{"$nulls":14},{"$f":"IF($B1449=\"\",\"\",IF(F1449=\"Arbeitgeberähnliche Stellung\",OFFSET(MD!$Q$5,MATCH(Grundlagen_Abrechnung_KAE!$AK$7,MD_JAHR,0),0)*$H1449,IF(((AD1449/12*M1449*12)+N1449)>AF1449,AF1449/12,((AD1449/12*M1449*12)+N1449)/12)))","v":""},null,null,{"v":0,"d":"0.00"},null,{"v":0,"d":"0.00%"},{"v":0,"d":"0.00"},{"v":0,"d":"0.00"},{"v":0,"d":"0.00"},null,"prüfen",{"$f":"IFERROR(OFFSET(MD!$U$5,MATCH(Grundlagen_Abrechnung_KAE!$E1449,MD_GENDER,0),0),\"\")","v":""},{"v":0,"d":"0.00"},null,{"v":0,"d":"0.00"},{"$f":"IF(F1449=\"Arbeitgeberähnliche Stellung\",OFFSET(MD!$Q$5,MATCH(Grundlagen_Abrechnung_KAE!$AK$7,MD_JAHR,0),0)*$H1449,IF(J1449>0,AC1449,I1449))","v":{"v":0,"d":"0.00"}},null,{"$f":"OFFSET(MD!$P$5,MATCH($AK$7,MD_JAHR,0),0)*12","v":{"$error":"#VALUE!"}},{"v":0,"d":"0.00"}]
[{"$nulls":14},{"$f":"IF($B1450=\"\",\"\",IF(F1450=\"Arbeitgeberähnliche Stellung\",OFFSET(MD!$Q$5,MATCH(Grundlagen_Abrechnung_KAE!$AK$7,MD_JAHR,0),0)*$H1450,IF(((AD1450/12*M1450*12)+N1450)>AF1450,AF1450/12,((AD1450/12*M1450*12)+N1450)/12)))","v":""},null,null,{"v":0,"d":"0.00"},null,{"v":0,"d":"0.00%"},{"v":0,"d":"0.00"},{"v":0,"d":"0.00"},{"v":0,"d":"0.00"},null,"prüfen",{"$f":"IFERROR(OFFSET(MD!$U$5,MATCH(Grundlagen_Abrechnung_KAE!$E1450,MD_GENDER,0),0),\"\")","v":""},{"v":0,"d":"0.00"},null,{"v":0,"d":"0.00"},{"$f":"IF(F1450=\"Arbeitgeberähnliche Stellung\",OFFSET(MD!$Q$5,MATCH(Grundlagen_Abrechnung_KAE!$AK$7,MD_JAHR,0),0)*$H1450,IF(J1450>0,AC1450,I1450))","v":{"v":0,"d":"0.00"}},null,{"$f":"OFFSET(MD!$P$5,MATCH($AK$7,MD_JAHR,0),0)*12","v":{"$error":"#VALUE!"}},{"v":0,"d":"0.00"}]
[{"$nulls":14},{"$f":"IF($B1451=\"\",\"\",IF(F1451=\"Arbeitgeberähnliche Stellung\",OFFSET(MD!$Q$5,MATCH(Grundlagen_Abrechnung_KAE!$AK$7,MD_JAHR,0),0)*$H1451,IF(((AD1451/12*M1451*12)+N1451)>AF1451,AF1451/12,((AD1451/12*M1451*12)+N1451)/12)))","v":""},null,null,{"v":0,"d":"0.00"},null,{"v":0,"d":"0.00%"},{"v":0,"d":"0.00"},{"v":0,"d":"0.00"},{"v":0,"d":"0.00"},null,"prüfen",{"$f":"IFERROR(OFFSET(MD!$U$5,MATCH(Grundlagen_Abrechnung_KAE!$E1451,MD_GENDER,0),0),\"\")","v":""},{"v":0,"d":"0.00"},null,{"v":0,"d":"0.00"},{"$f":"IF(F1451=\"Arbeitgeberähnliche Stellung\",OFFSET(MD!$Q$5,MATCH(Grundlagen_Abrechnung_KAE!$AK$7,MD_JAHR,0),0)*$H1451,IF(J1451>0,AC1451,I1451))","v":{"v":0,"d":"0.00"}},null,{"$f":"OFFSET(MD!$P$5,MATCH($AK$7,MD_JAHR,0),0)*12","v":{"$error":"#VALUE!"}},{"v":0,"d":"0.00"}]
[{"$nulls":14},{"$f":"IF($B1452=\"\",\"\",IF(F1452=\"Arbeitgeberähnliche Stellung\",OFFSET(MD!$Q$5,MATCH(Grundlagen_Abrechnung_KAE!$AK$7,MD_JAHR,0),0)*$H1452,IF(((AD1452/12*M1452*12)+N1452)>AF1452,AF1452/12,((AD1452/12*M1452*12)+N1452)/12)))","v":""},null,null,{"v":0,"d":"0.00"},null,{"v":0,"d":"0.00%"},{"v":0,"d":"0.00"},{"v":0,"d":"0.00"},{"v":0,"d":"0.00"},null,"prüfen",{"$f":"IFERROR(OFFSET(MD!$U$5,MATCH(Grundlagen_Abrechnung_KAE!$E1452,MD_GENDER,0),0),\"\")","v":""},{"v":0,"d":"0.00"},null,{"v":0,"d":"0.00"},{"$f":"IF(F1452=\"Arbeitgeberähnliche Stellung\",OFFSET(MD!$Q$5,MATCH(Grundlagen_Abrechnung_KAE!$AK$7,MD_JAHR,0),0)*$H1452,IF(J1452>0,AC1452,I1452))","v":{"v":0,"d":"0.00"}},null,{"$f":"OFFSET(MD!$P$5,MATCH($AK$7,MD_JAHR,0),0)*12","v":{"$error":"#VALUE!"}},{"v":0,"d":"0.00"}]
[{"$nulls":14},{"$f":"IF($B1453=\"\",\"\",IF(F1453=\"Arbeitgeberähnliche Stellung\",OFFSET(MD!$Q$5,MATCH(Grundlagen_Abrechnung_KAE!$AK$7,MD_JAHR,0),0)*$H1453,IF(((AD1453/12*M1453*12)+N1453)>AF1453,AF1453/12,((AD1453/12*M1453*12)+N1453)/12)))","v":""},null,null,{"v":0,"d":"0.00"},null,{"v":0,"d":"0.00%"},{"v":0,"d":"0.00"},{"v":0,"d":"0.00"},{"v":0,"d":"0.00"},null,"prüfen",{"$f":"IFERROR(OFFSET(MD!$U$5,MATCH(Grundlagen_Abrechnung_KAE!$E1453,MD_GENDER,0),0),\"\")","v":""},{"v":0,"d":"0.00"},null,{"v":0,"d":"0.00"},{"$f":"IF(F1453=\"Arbeitgeberähnliche Stellung\",OFFSET(MD!$Q$5,MATCH(Grundlagen_Abrechnung_KAE!$AK$7,MD_JAHR,0),0)*$H1453,IF(J1453>0,AC1453,I1453))","v":{"v":0,"d":"0.00"}},null,{"$f":"OFFSET(MD!$P$5,MATCH($AK$7,MD_JAHR,0),0)*12","v":{"$error":"#VALUE!"}},{"v":0,"d":"0.00"}]
[{"$nulls":14},{"$f":"IF($B1454=\"\",\"\",IF(F1454=\"Arbeitgeberähnliche Stellung\",OFFSET(MD!$Q$5,MATCH(Grundlagen_Abrechnung_KAE!$AK$7,MD_JAHR,0),0)*$H1454,IF(((AD1454/12*M1454*12)+N1454)>AF1454,AF1454/12,((AD1454/12*M1454*12)+N1454)/12)))","v":""},null,null,{"v":0,"d":"0.00"},null,{"v":0,"d":"0.00%"},{"v":0,"d":"0.00"},{"v":0,"d":"0.00"},{"v":0,"d":"0.00"},null,"prüfen",{"$f":"IFERROR(OFFSET(MD!$U$5,MATCH(Grundlagen_Abrechnung_KAE!$E1454,MD_GENDER,0),0),\"\")","v":""},{"v":0,"d":"0.00"},null,{"v":0,"d":"0.00"},{"$f":"IF(F1454=\"Arbeitgeberähnliche Stellung\",OFFSET(MD!$Q$5,MATCH(Grundlagen_Abrechnung_KAE!$AK$7,MD_JAHR,0),0)*$H1454,IF(J1454>0,AC1454,I1454))","v":{"v":0,"d":"0.00"}},null,{"$f":"OFFSET(MD!$P$5,MATCH($AK$7,MD_JAHR,0),0)*12","v":{"$error":"#VALUE!"}},{"v":0,"d":"0.00"}]
[{"$nulls":14},{"$f":"IF($B1455=\"\",\"\",IF(F1455=\"Arbeitgeberähnliche Stellung\",OFFSET(MD!$Q$5,MATCH(Grundlagen_Abrechnung_KAE!$AK$7,MD_JAHR,0),0)*$H1455,IF(((AD1455/12*M1455*12)+N1455)>AF1455,AF1455/12,((AD1455/12*M1455*12)+N1455)/12)))","v":""},null,null,{"v":0,"d":"0.00"},null,{"v":0,"d":"0.00%"},{"v":0,"d":"0.00"},{"v":0,"d":"0.00"},{"v":0,"d":"0.00"},null,"prüfen",{"$f":"IFERROR(OFFSET(MD!$U$5,MATCH(Grundlagen_Abrechnung_KAE!$E1455,MD_GENDER,0),0),\"\")","v":""},{"v":0,"d":"0.00"},null,{"v":0,"d":"0.00"},{"$f":"IF(F1455=\"Arbeitgeberähnliche Stellung\",OFFSET(MD!$Q$5,MATCH(Grundlagen_Abrechnung_KAE!$AK$7,MD_JAHR,0),0)*$H1455,IF(J1455>0,AC1455,I1455))","v":{"v":0,"d":"0.00"}},null,{"$f":"OFFSET(MD!$P$5,MATCH($AK$7,MD_JAHR,0),0)*12","v":{"$error":"#VALUE!"}},{"v":0,"d":"0.00"}]
[{"$nulls":14},{"$f":"IF($B1456=\"\",\"\",IF(F1456=\"Arbeitgeberähnliche Stellung\",OFFSET(MD!$Q$5,MATCH(Grundlagen_Abrechnung_KAE!$AK$7,MD_JAHR,0),0)*$H1456,IF(((AD1456/12*M1456*12)+N1456)>AF1456,AF1456/12,((AD1456/12*M1456*12)+N1456)/12)))","v":""},null,null,{"v":0,"d":"0.00"},null,{"v":0,"d":"0.00%"},{"v":0,"d":"0.00"},{"v":0,"d":"0.00"},{"v":0,"d":"0.00"},null,"prüfen",{"$f":"IFERROR(OFFSET(MD!$U$5,MATCH(Grundlagen_Abrechnung_KAE!$E1456,MD_GENDER,0),0),\"\")","v":""},{"v":0,"d":"0.00"},null,{"v":0,"d":"0.00"},{"$f":"IF(F1456=\"Arbeitgeberähnliche Stellung\",OFFSET(MD!$Q$5,MATCH(Grundlagen_Abrechnung_KAE!$AK$7,MD_JAHR,0),0)*$H1456,IF(J1456>0,AC1456,I1456))","v":{"v":0,"d":"0.00"}},null,{"$f":"OFFSET(MD!$P$5,MATCH($AK$7,MD_JAHR,0),0)*12","v":{"$error":"#VALUE!"}},{"v":0,"d":"0.00"}]
[{"$nulls":14},{"$f":"IF($B1457=\"\",\"\",IF(F1457=\"Arbeitgeberähnliche Stellung\",OFFSET(MD!$Q$5,MATCH(Grundlagen_Abrechnung_KAE!$AK$7,MD_JAHR,0),0)*$H1457,IF(((AD1457/12*M1457*12)+N1457)>AF1457,AF1457/12,((AD1457/12*M1457*12)+N1457)/12)))","v":""},null,null,{"v":0,"d":"0.00"},null,{"v":0,"d":"0.00%"},{"v":0,"d":"0.00"},{"v":0,"d":"0.00"},{"v":0,"d":"0.00"},null,"prüfen",{"$f":"IFERROR(OFFSET(MD!$U$5,MATCH(Grundlagen_Abrechnung_KAE!$E1457,MD_GENDER,0),0),\"\")","v":""},{"v":0,"d":"0.00"},null,{"v":0,"d":"0.00"},{"$f":"IF(F1457=\"Arbeitgeberähnliche Stellung\",OFFSET(MD!$Q$5,MATCH(Grundlagen_Abrechnung_KAE!$AK$7,MD_JAHR,0),0)*$H1457,IF(J1457>0,AC1457,I1457))","v":{"v":0,"d":"0.00"}},null,{"$f":"OFFSET(MD!$P$5,MATCH($AK$7,MD_JAHR,0),0)*12","v":{"$error":"#VALUE!"}},{"v":0,"d":"0.00"}]
[{"$nulls":14},{"$f":"IF($B1458=\"\",\"\",IF(F1458=\"Arbeitgeberähnliche Stellung\",OFFSET(MD!$Q$5,MATCH(Grundlagen_Abrechnung_KAE!$AK$7,MD_JAHR,0),0)*$H1458,IF(((AD1458/12*M1458*12)+N1458)>AF1458,AF1458/12,((AD1458/12*M1458*12)+N1458)/12)))","v":""},null,null,{"v":0,"d":"0.00"},null,{"v":0,"d":"0.00%"},{"v":0,"d":"0.00"},{"v":0,"d":"0.00"},{"v":0,"d":"0.00"},null,"prüfen",{"$f":"IFERROR(OFFSET(MD!$U$5,MATCH(Grundlagen_Abrechnung_KAE!$E1458,MD_GENDER,0),0),\"\")","v":""},{"v":0,"d":"0.00"},null,{"v":0,"d":"0.00"},{"$f":"IF(F1458=\"Arbeitgeberähnliche Stellung\",OFFSET(MD!$Q$5,MATCH(Grundlagen_Abrechnung_KAE!$AK$7,MD_JAHR,0),0)*$H1458,IF(J1458>0,AC1458,I1458))","v":{"v":0,"d":"0.00"}},null,{"$f":"OFFSET(MD!$P$5,MATCH($AK$7,MD_JAHR,0),0)*12","v":{"$error":"#VALUE!"}},{"v":0,"d":"0.00"}]
[{"$nulls":14},{"$f":"IF($B1459=\"\",\"\",IF(F1459=\"Arbeitgeberähnliche Stellung\",OFFSET(MD!$Q$5,MATCH(Grundlagen_Abrechnung_KAE!$AK$7,MD_JAHR,0),0)*$H1459,IF(((AD1459/12*M1459*12)+N1459)>AF1459,AF1459/12,((AD1459/12*M1459*12)+N1459)/12)))","v":""},null,null,{"v":0,"d":"0.00"},null,{"v":0,"d":"0.00%"},{"v":0,"d":"0.00"},{"v":0,"d":"0.00"},{"v":0,"d":"0.00"},null,"prüfen",{"$f":"IFERROR(OFFSET(MD!$U$5,MATCH(Grundlagen_Abrechnung_KAE!$E1459,MD_GENDER,0),0),\"\")","v":""},{"v":0,"d":"0.00"},null,{"v":0,"d":"0.00"},{"$f":"IF(F1459=\"Arbeitgeberähnliche Stellung\",OFFSET(MD!$Q$5,MATCH(Grundlagen_Abrechnung_KAE!$AK$7,MD_JAHR,0),0)*$H1459,IF(J1459>0,AC1459,I1459))","v":{"v":0,"d":"0.00"}},null,{"$f":"OFFSET(MD!$P$5,MATCH($AK$7,MD_JAHR,0),0)*12","v":{"$error":"#VALUE!"}},{"v":0,"d":"0.00"}]
[{"$nulls":14},{"$f":"IF($B1460=\"\",\"\",IF(F1460=\"Arbeitgeberähnliche Stellung\",OFFSET(MD!$Q$5,MATCH(Grundlagen_Abrechnung_KAE!$AK$7,MD_JAHR,0),0)*$H1460,IF(((AD1460/12*M1460*12)+N1460)>AF1460,AF1460/12,((AD1460/12*M1460*12)+N1460)/12)))","v":""},null,null,{"v":0,"d":"0.00"},null,{"v":0,"d":"0.00%"},{"v":0,"d":"0.00"},{"v":0,"d":"0.00"},{"v":0,"d":"0.00"},null,"prüfen",{"$f":"IFERROR(OFFSET(MD!$U$5,MATCH(Grundlagen_Abrechnung_KAE!$E1460,MD_GENDER,0),0),\"\")","v":""},{"v":0,"d":"0.00"},null,{"v":0,"d":"0.00"},{"$f":"IF(F1460=\"Arbeitgeberähnliche Stellung\",OFFSET(MD!$Q$5,MATCH(Grundlagen_Abrechnung_KAE!$AK$7,MD_JAHR,0),0)*$H1460,IF(J1460>0,AC1460,I1460))","v":{"v":0,"d":"0.00"}},null,{"$f":"OFFSET(MD!$P$5,MATCH($AK$7,MD_JAHR,0),0)*12","v":{"$error":"#VALUE!"}},{"v":0,"d":"0.00"}]
[{"$nulls":14},{"$f":"IF($B1461=\"\",\"\",IF(F1461=\"Arbeitgeberähnliche Stellung\",OFFSET(MD!$Q$5,MATCH(Grundlagen_Abrechnung_KAE!$AK$7,MD_JAHR,0),0)*$H1461,IF(((AD1461/12*M1461*12)+N1461)>AF1461,AF1461/12,((AD1461/12*M1461*12)+N1461)/12)))","v":""},null,null,{"v":0,"d":"0.00"},null,{"v":0,"d":"0.00%"},{"v":0,"d":"0.00"},{"v":0,"d":"0.00"},{"v":0,"d":"0.00"},null,"prüfen",{"$f":"IFERROR(OFFSET(MD!$U$5,MATCH(Grundlagen_Abrechnung_KAE!$E1461,MD_GENDER,0),0),\"\")","v":""},{"v":0,"d":"0.00"},null,{"v":0,"d":"0.00"},{"$f":"IF(F1461=\"Arbeitgeberähnliche Stellung\",OFFSET(MD!$Q$5,MATCH(Grundlagen_Abrechnung_KAE!$AK$7,MD_JAHR,0),0)*$H1461,IF(J1461>0,AC1461,I1461))","v":{"v":0,"d":"0.00"}},null,{"$f":"OFFSET(MD!$P$5,MATCH($AK$7,MD_JAHR,0),0)*12","v":{"$error":"#VALUE!"}},{"v":0,"d":"0.00"}]
[{"$nulls":14},{"$f":"IF($B1462=\"\",\"\",IF(F1462=\"Arbeitgeberähnliche Stellung\",OFFSET(MD!$Q$5,MATCH(Grundlagen_Abrechnung_KAE!$AK$7,MD_JAHR,0),0)*$H1462,IF(((AD1462/12*M1462*12)+N1462)>AF1462,AF1462/12,((AD1462/12*M1462*12)+N1462)/12)))","v":""},null,null,{"v":0,"d":"0.00"},null,{"v":0,"d":"0.00%"},{"v":0,"d":"0.00"},{"v":0,"d":"0.00"},{"v":0,"d":"0.00"},null,"prüfen",{"$f":"IFERROR(OFFSET(MD!$U$5,MATCH(Grundlagen_Abrechnung_KAE!$E1462,MD_GENDER,0),0),\"\")","v":""},{"v":0,"d":"0.00"},null,{"v":0,"d":"0.00"},{"$f":"IF(F1462=\"Arbeitgeberähnliche Stellung\",OFFSET(MD!$Q$5,MATCH(Grundlagen_Abrechnung_KAE!$AK$7,MD_JAHR,0),0)*$H1462,IF(J1462>0,AC1462,I1462))","v":{"v":0,"d":"0.00"}},null,{"$f":"OFFSET(MD!$P$5,MATCH($AK$7,MD_JAHR,0),0)*12","v":{"$error":"#VALUE!"}},{"v":0,"d":"0.00"}]
[{"$nulls":14},{"$f":"IF($B1463=\"\",\"\",IF(F1463=\"Arbeitgeberähnliche Stellung\",OFFSET(MD!$Q$5,MATCH(Grundlagen_Abrechnung_KAE!$AK$7,MD_JAHR,0),0)*$H1463,IF(((AD1463/12*M1463*12)+N1463)>AF1463,AF1463/12,((AD1463/12*M1463*12)+N1463)/12)))","v":""},null,null,{"v":0,"d":"0.00"},null,{"v":0,"d":"0.00%"},{"v":0,"d":"0.00"},{"v":0,"d":"0.00"},{"v":0,"d":"0.00"},null,"prüfen",{"$f":"IFERROR(OFFSET(MD!$U$5,MATCH(Grundlagen_Abrechnung_KAE!$E1463,MD_GENDER,0),0),\"\")","v":""},{"v":0,"d":"0.00"},null,{"v":0,"d":"0.00"},{"$f":"IF(F1463=\"Arbeitgeberähnliche Stellung\",OFFSET(MD!$Q$5,MATCH(Grundlagen_Abrechnung_KAE!$AK$7,MD_JAHR,0),0)*$H1463,IF(J1463>0,AC1463,I1463))","v":{"v":0,"d":"0.00"}},null,{"$f":"OFFSET(MD!$P$5,MATCH($AK$7,MD_JAHR,0),0)*12","v":{"$error":"#VALUE!"}},{"v":0,"d":"0.00"}]
[{"$nulls":14},{"$f":"IF($B1464=\"\",\"\",IF(F1464=\"Arbeitgeberähnliche Stellung\",OFFSET(MD!$Q$5,MATCH(Grundlagen_Abrechnung_KAE!$AK$7,MD_JAHR,0),0)*$H1464,IF(((AD1464/12*M1464*12)+N1464)>AF1464,AF1464/12,((AD1464/12*M1464*12)+N1464)/12)))","v":""},null,null,{"v":0,"d":"0.00"},null,{"v":0,"d":"0.00%"},{"v":0,"d":"0.00"},{"v":0,"d":"0.00"},{"v":0,"d":"0.00"},null,"prüfen",{"$f":"IFERROR(OFFSET(MD!$U$5,MATCH(Grundlagen_Abrechnung_KAE!$E1464,MD_GENDER,0),0),\"\")","v":""},{"v":0,"d":"0.00"},null,{"v":0,"d":"0.00"},{"$f":"IF(F1464=\"Arbeitgeberähnliche Stellung\",OFFSET(MD!$Q$5,MATCH(Grundlagen_Abrechnung_KAE!$AK$7,MD_JAHR,0),0)*$H1464,IF(J1464>0,AC1464,I1464))","v":{"v":0,"d":"0.00"}},null,{"$f":"OFFSET(MD!$P$5,MATCH($AK$7,MD_JAHR,0),0)*12","v":{"$error":"#VALUE!"}},{"v":0,"d":"0.00"}]
[{"$nulls":14},{"$f":"IF($B1465=\"\",\"\",IF(F1465=\"Arbeitgeberähnliche Stellung\",OFFSET(MD!$Q$5,MATCH(Grundlagen_Abrechnung_KAE!$AK$7,MD_JAHR,0),0)*$H1465,IF(((AD1465/12*M1465*12)+N1465)>AF1465,AF1465/12,((AD1465/12*M1465*12)+N1465)/12)))","v":""},null,null,{"v":0,"d":"0.00"},null,{"v":0,"d":"0.00%"},{"v":0,"d":"0.00"},{"v":0,"d":"0.00"},{"v":0,"d":"0.00"},null,"prüfen",{"$f":"IFERROR(OFFSET(MD!$U$5,MATCH(Grundlagen_Abrechnung_KAE!$E1465,MD_GENDER,0),0),\"\")","v":""},{"v":0,"d":"0.00"},null,{"v":0,"d":"0.00"},{"$f":"IF(F1465=\"Arbeitgeberähnliche Stellung\",OFFSET(MD!$Q$5,MATCH(Grundlagen_Abrechnung_KAE!$AK$7,MD_JAHR,0),0)*$H1465,IF(J1465>0,AC1465,I1465))","v":{"v":0,"d":"0.00"}},null,{"$f":"OFFSET(MD!$P$5,MATCH($AK$7,MD_JAHR,0),0)*12","v":{"$error":"#VALUE!"}},{"v":0,"d":"0.00"}]
[{"$nulls":14},{"$f":"IF($B1466=\"\",\"\",IF(F1466=\"Arbeitgeberähnliche Stellung\",OFFSET(MD!$Q$5,MATCH(Grundlagen_Abrechnung_KAE!$AK$7,MD_JAHR,0),0)*$H1466,IF(((AD1466/12*M1466*12)+N1466)>AF1466,AF1466/12,((AD1466/12*M1466*12)+N1466)/12)))","v":""},null,null,{"v":0,"d":"0.00"},null,{"v":0,"d":"0.00%"},{"v":0,"d":"0.00"},{"v":0,"d":"0.00"},{"v":0,"d":"0.00"},null,"prüfen",{"$f":"IFERROR(OFFSET(MD!$U$5,MATCH(Grundlagen_Abrechnung_KAE!$E1466,MD_GENDER,0),0),\"\")","v":""},{"v":0,"d":"0.00"},null,{"v":0,"d":"0.00"},{"$f":"IF(F1466=\"Arbeitgeberähnliche Stellung\",OFFSET(MD!$Q$5,MATCH(Grundlagen_Abrechnung_KAE!$AK$7,MD_JAHR,0),0)*$H1466,IF(J1466>0,AC1466,I1466))","v":{"v":0,"d":"0.00"}},null,{"$f":"OFFSET(MD!$P$5,MATCH($AK$7,MD_JAHR,0),0)*12","v":{"$error":"#VALUE!"}},{"v":0,"d":"0.00"}]
[{"$nulls":14},{"$f":"IF($B1467=\"\",\"\",IF(F1467=\"Arbeitgeberähnliche Stellung\",OFFSET(MD!$Q$5,MATCH(Grundlagen_Abrechnung_KAE!$AK$7,MD_JAHR,0),0)*$H1467,IF(((AD1467/12*M1467*12)+N1467)>AF1467,AF1467/12,((AD1467/12*M1467*12)+N1467)/12)))","v":""},null,null,{"v":0,"d":"0.00"},null,{"v":0,"d":"0.00%"},{"v":0,"d":"0.00"},{"v":0,"d":"0.00"},{"v":0,"d":"0.00"},null,"prüfen",{"$f":"IFERROR(OFFSET(MD!$U$5,MATCH(Grundlagen_Abrechnung_KAE!$E1467,MD_GENDER,0),0),\"\")","v":""},{"v":0,"d":"0.00"},null,{"v":0,"d":"0.00"},{"$f":"IF(F1467=\"Arbeitgeberähnliche Stellung\",OFFSET(MD!$Q$5,MATCH(Grundlagen_Abrechnung_KAE!$AK$7,MD_JAHR,0),0)*$H1467,IF(J1467>0,AC1467,I1467))","v":{"v":0,"d":"0.00"}},null,{"$f":"OFFSET(MD!$P$5,MATCH($AK$7,MD_JAHR,0),0)*12","v":{"$error":"#VALUE!"}},{"v":0,"d":"0.00"}]
[{"$nulls":14},{"$f":"IF($B1468=\"\",\"\",IF(F1468=\"Arbeitgeberähnliche Stellung\",OFFSET(MD!$Q$5,MATCH(Grundlagen_Abrechnung_KAE!$AK$7,MD_JAHR,0),0)*$H1468,IF(((AD1468/12*M1468*12)+N1468)>AF1468,AF1468/12,((AD1468/12*M1468*12)+N1468)/12)))","v":""},null,null,{"v":0,"d":"0.00"},null,{"v":0,"d":"0.00%"},{"v":0,"d":"0.00"},{"v":0,"d":"0.00"},{"v":0,"d":"0.00"},null,"prüfen",{"$f":"IFERROR(OFFSET(MD!$U$5,MATCH(Grundlagen_Abrechnung_KAE!$E1468,MD_GENDER,0),0),\"\")","v":""},{"v":0,"d":"0.00"},null,{"v":0,"d":"0.00"},{"$f":"IF(F1468=\"Arbeitgeberähnliche Stellung\",OFFSET(MD!$Q$5,MATCH(Grundlagen_Abrechnung_KAE!$AK$7,MD_JAHR,0),0)*$H1468,IF(J1468>0,AC1468,I1468))","v":{"v":0,"d":"0.00"}},null,{"$f":"OFFSET(MD!$P$5,MATCH($AK$7,MD_JAHR,0),0)*12","v":{"$error":"#VALUE!"}},{"v":0,"d":"0.00"}]
[{"$nulls":14},{"$f":"IF($B1469=\"\",\"\",IF(F1469=\"Arbeitgeberähnliche Stellung\",OFFSET(MD!$Q$5,MATCH(Grundlagen_Abrechnung_KAE!$AK$7,MD_JAHR,0),0)*$H1469,IF(((AD1469/12*M1469*12)+N1469)>AF1469,AF1469/12,((AD1469/12*M1469*12)+N1469)/12)))","v":""},null,null,{"v":0,"d":"0.00"},null,{"v":0,"d":"0.00%"},{"v":0,"d":"0.00"},{"v":0,"d":"0.00"},{"v":0,"d":"0.00"},null,"prüfen",{"$f":"IFERROR(OFFSET(MD!$U$5,MATCH(Grundlagen_Abrechnung_KAE!$E1469,MD_GENDER,0),0),\"\")","v":""},{"v":0,"d":"0.00"},null,{"v":0,"d":"0.00"},{"$f":"IF(F1469=\"Arbeitgeberähnliche Stellung\",OFFSET(MD!$Q$5,MATCH(Grundlagen_Abrechnung_KAE!$AK$7,MD_JAHR,0),0)*$H1469,IF(J1469>0,AC1469,I1469))","v":{"v":0,"d":"0.00"}},null,{"$f":"OFFSET(MD!$P$5,MATCH($AK$7,MD_JAHR,0),0)*12","v":{"$error":"#VALUE!"}},{"v":0,"d":"0.00"}]
[{"$nulls":14},{"$f":"IF($B1470=\"\",\"\",IF(F1470=\"Arbeitgeberähnliche Stellung\",OFFSET(MD!$Q$5,MATCH(Grundlagen_Abrechnung_KAE!$AK$7,MD_JAHR,0),0)*$H1470,IF(((AD1470/12*M1470*12)+N1470)>AF1470,AF1470/12,((AD1470/12*M1470*12)+N1470)/12)))","v":""},null,null,{"v":0,"d":"0.00"},null,{"v":0,"d":"0.00%"},{"v":0,"d":"0.00"},{"v":0,"d":"0.00"},{"v":0,"d":"0.00"},null,"prüfen",{"$f":"IFERROR(OFFSET(MD!$U$5,MATCH(Grundlagen_Abrechnung_KAE!$E1470,MD_GENDER,0),0),\"\")","v":""},{"v":0,"d":"0.00"},null,{"v":0,"d":"0.00"},{"$f":"IF(F1470=\"Arbeitgeberähnliche Stellung\",OFFSET(MD!$Q$5,MATCH(Grundlagen_Abrechnung_KAE!$AK$7,MD_JAHR,0),0)*$H1470,IF(J1470>0,AC1470,I1470))","v":{"v":0,"d":"0.00"}},null,{"$f":"OFFSET(MD!$P$5,MATCH($AK$7,MD_JAHR,0),0)*12","v":{"$error":"#VALUE!"}},{"v":0,"d":"0.00"}]
[{"$nulls":14},{"$f":"IF($B1471=\"\",\"\",IF(F1471=\"Arbeitgeberähnliche Stellung\",OFFSET(MD!$Q$5,MATCH(Grundlagen_Abrechnung_KAE!$AK$7,MD_JAHR,0),0)*$H1471,IF(((AD1471/12*M1471*12)+N1471)>AF1471,AF1471/12,((AD1471/12*M1471*12)+N1471)/12)))","v":""},null,null,{"v":0,"d":"0.00"},null,{"v":0,"d":"0.00%"},{"v":0,"d":"0.00"},{"v":0,"d":"0.00"},{"v":0,"d":"0.00"},null,"prüfen",{"$f":"IFERROR(OFFSET(MD!$U$5,MATCH(Grundlagen_Abrechnung_KAE!$E1471,MD_GENDER,0),0),\"\")","v":""},{"v":0,"d":"0.00"},null,{"v":0,"d":"0.00"},{"$f":"IF(F1471=\"Arbeitgeberähnliche Stellung\",OFFSET(MD!$Q$5,MATCH(Grundlagen_Abrechnung_KAE!$AK$7,MD_JAHR,0),0)*$H1471,IF(J1471>0,AC1471,I1471))","v":{"v":0,"d":"0.00"}},null,{"$f":"OFFSET(MD!$P$5,MATCH($AK$7,MD_JAHR,0),0)*12","v":{"$error":"#VALUE!"}},{"v":0,"d":"0.00"}]
[{"$nulls":14},{"$f":"IF($B1472=\"\",\"\",IF(F1472=\"Arbeitgeberähnliche Stellung\",OFFSET(MD!$Q$5,MATCH(Grundlagen_Abrechnung_KAE!$AK$7,MD_JAHR,0),0)*$H1472,IF(((AD1472/12*M1472*12)+N1472)>AF1472,AF1472/12,((AD1472/12*M1472*12)+N1472)/12)))","v":""},null,null,{"v":0,"d":"0.00"},null,{"v":0,"d":"0.00%"},{"v":0,"d":"0.00"},{"v":0,"d":"0.00"},{"v":0,"d":"0.00"},null,"prüfen",{"$f":"IFERROR(OFFSET(MD!$U$5,MATCH(Grundlagen_Abrechnung_KAE!$E1472,MD_GENDER,0),0),\"\")","v":""},{"v":0,"d":"0.00"},null,{"v":0,"d":"0.00"},{"$f":"IF(F1472=\"Arbeitgeberähnliche Stellung\",OFFSET(MD!$Q$5,MATCH(Grundlagen_Abrechnung_KAE!$AK$7,MD_JAHR,0),0)*$H1472,IF(J1472>0,AC1472,I1472))","v":{"v":0,"d":"0.00"}},null,{"$f":"OFFSET(MD!$P$5,MATCH($AK$7,MD_JAHR,0),0)*12","v":{"$error":"#VALUE!"}},{"v":0,"d":"0.00"}]
[{"$nulls":14},{"$f":"IF($B1473=\"\",\"\",IF(F1473=\"Arbeitgeberähnliche Stellung\",OFFSET(MD!$Q$5,MATCH(Grundlagen_Abrechnung_KAE!$AK$7,MD_JAHR,0),0)*$H1473,IF(((AD1473/12*M1473*12)+N1473)>AF1473,AF1473/12,((AD1473/12*M1473*12)+N1473)/12)))","v":""},null,null,{"v":0,"d":"0.00"},null,{"v":0,"d":"0.00%"},{"v":0,"d":"0.00"},{"v":0,"d":"0.00"},{"v":0,"d":"0.00"},null,"prüfen",{"$f":"IFERROR(OFFSET(MD!$U$5,MATCH(Grundlagen_Abrechnung_KAE!$E1473,MD_GENDER,0),0),\"\")","v":""},{"v":0,"d":"0.00"},null,{"v":0,"d":"0.00"},{"$f":"IF(F1473=\"Arbeitgeberähnliche Stellung\",OFFSET(MD!$Q$5,MATCH(Grundlagen_Abrechnung_KAE!$AK$7,MD_JAHR,0),0)*$H1473,IF(J1473>0,AC1473,I1473))","v":{"v":0,"d":"0.00"}},null,{"$f":"OFFSET(MD!$P$5,MATCH($AK$7,MD_JAHR,0),0)*12","v":{"$error":"#VALUE!"}},{"v":0,"d":"0.00"}]
[{"$nulls":14},{"$f":"IF($B1474=\"\",\"\",IF(F1474=\"Arbeitgeberähnliche Stellung\",OFFSET(MD!$Q$5,MATCH(Grundlagen_Abrechnung_KAE!$AK$7,MD_JAHR,0),0)*$H1474,IF(((AD1474/12*M1474*12)+N1474)>AF1474,AF1474/12,((AD1474/12*M1474*12)+N1474)/12)))","v":""},null,null,{"v":0,"d":"0.00"},null,{"v":0,"d":"0.00%"},{"v":0,"d":"0.00"},{"v":0,"d":"0.00"},{"v":0,"d":"0.00"},null,"prüfen",{"$f":"IFERROR(OFFSET(MD!$U$5,MATCH(Grundlagen_Abrechnung_KAE!$E1474,MD_GENDER,0),0),\"\")","v":""},{"v":0,"d":"0.00"},null,{"v":0,"d":"0.00"},{"$f":"IF(F1474=\"Arbeitgeberähnliche Stellung\",OFFSET(MD!$Q$5,MATCH(Grundlagen_Abrechnung_KAE!$AK$7,MD_JAHR,0),0)*$H1474,IF(J1474>0,AC1474,I1474))","v":{"v":0,"d":"0.00"}},null,{"$f":"OFFSET(MD!$P$5,MATCH($AK$7,MD_JAHR,0),0)*12","v":{"$error":"#VALUE!"}},{"v":0,"d":"0.00"}]
[{"$nulls":14},{"$f":"IF($B1475=\"\",\"\",IF(F1475=\"Arbeitgeberähnliche Stellung\",OFFSET(MD!$Q$5,MATCH(Grundlagen_Abrechnung_KAE!$AK$7,MD_JAHR,0),0)*$H1475,IF(((AD1475/12*M1475*12)+N1475)>AF1475,AF1475/12,((AD1475/12*M1475*12)+N1475)/12)))","v":""},null,null,{"v":0,"d":"0.00"},null,{"v":0,"d":"0.00%"},{"v":0,"d":"0.00"},{"v":0,"d":"0.00"},{"v":0,"d":"0.00"},null,"prüfen",{"$f":"IFERROR(OFFSET(MD!$U$5,MATCH(Grundlagen_Abrechnung_KAE!$E1475,MD_GENDER,0),0),\"\")","v":""},{"v":0,"d":"0.00"},null,{"v":0,"d":"0.00"},{"$f":"IF(F1475=\"Arbeitgeberähnliche Stellung\",OFFSET(MD!$Q$5,MATCH(Grundlagen_Abrechnung_KAE!$AK$7,MD_JAHR,0),0)*$H1475,IF(J1475>0,AC1475,I1475))","v":{"v":0,"d":"0.00"}},null,{"$f":"OFFSET(MD!$P$5,MATCH($AK$7,MD_JAHR,0),0)*12","v":{"$error":"#VALUE!"}},{"v":0,"d":"0.00"}]
[{"$nulls":14},{"$f":"IF($B1476=\"\",\"\",IF(F1476=\"Arbeitgeberähnliche Stellung\",OFFSET(MD!$Q$5,MATCH(Grundlagen_Abrechnung_KAE!$AK$7,MD_JAHR,0),0)*$H1476,IF(((AD1476/12*M1476*12)+N1476)>AF1476,AF1476/12,((AD1476/12*M1476*12)+N1476)/12)))","v":""},null,null,{"v":0,"d":"0.00"},null,{"v":0,"d":"0.00%"},{"v":0,"d":"0.00"},{"v":0,"d":"0.00"},{"v":0,"d":"0.00"},null,"prüfen",{"$f":"IFERROR(OFFSET(MD!$U$5,MATCH(Grundlagen_Abrechnung_KAE!$E1476,MD_GENDER,0),0),\"\")","v":""},{"v":0,"d":"0.00"},null,{"v":0,"d":"0.00"},{"$f":"IF(F1476=\"Arbeitgeberähnliche Stellung\",OFFSET(MD!$Q$5,MATCH(Grundlagen_Abrechnung_KAE!$AK$7,MD_JAHR,0),0)*$H1476,IF(J1476>0,AC1476,I1476))","v":{"v":0,"d":"0.00"}},null,{"$f":"OFFSET(MD!$P$5,MATCH($AK$7,MD_JAHR,0),0)*12","v":{"$error":"#VALUE!"}},{"v":0,"d":"0.00"}]
[{"$nulls":14},{"$f":"IF($B1477=\"\",\"\",IF(F1477=\"Arbeitgeberähnliche Stellung\",OFFSET(MD!$Q$5,MATCH(Grundlagen_Abrechnung_KAE!$AK$7,MD_JAHR,0),0)*$H1477,IF(((AD1477/12*M1477*12)+N1477)>AF1477,AF1477/12,((AD1477/12*M1477*12)+N1477)/12)))","v":""},null,null,{"v":0,"d":"0.00"},null,{"v":0,"d":"0.00%"},{"v":0,"d":"0.00"},{"v":0,"d":"0.00"},{"v":0,"d":"0.00"},null,"prüfen",{"$f":"IFERROR(OFFSET(MD!$U$5,MATCH(Grundlagen_Abrechnung_KAE!$E1477,MD_GENDER,0),0),\"\")","v":""},{"v":0,"d":"0.00"},null,{"v":0,"d":"0.00"},{"$f":"IF(F1477=\"Arbeitgeberähnliche Stellung\",OFFSET(MD!$Q$5,MATCH(Grundlagen_Abrechnung_KAE!$AK$7,MD_JAHR,0),0)*$H1477,IF(J1477>0,AC1477,I1477))","v":{"v":0,"d":"0.00"}},null,{"$f":"OFFSET(MD!$P$5,MATCH($AK$7,MD_JAHR,0),0)*12","v":{"$error":"#VALUE!"}},{"v":0,"d":"0.00"}]
[{"$nulls":14},{"$f":"IF($B1478=\"\",\"\",IF(F1478=\"Arbeitgeberähnliche Stellung\",OFFSET(MD!$Q$5,MATCH(Grundlagen_Abrechnung_KAE!$AK$7,MD_JAHR,0),0)*$H1478,IF(((AD1478/12*M1478*12)+N1478)>AF1478,AF1478/12,((AD1478/12*M1478*12)+N1478)/12)))","v":""},null,null,{"v":0,"d":"0.00"},null,{"v":0,"d":"0.00%"},{"v":0,"d":"0.00"},{"v":0,"d":"0.00"},{"v":0,"d":"0.00"},null,"prüfen",{"$f":"IFERROR(OFFSET(MD!$U$5,MATCH(Grundlagen_Abrechnung_KAE!$E1478,MD_GENDER,0),0),\"\")","v":""},{"v":0,"d":"0.00"},null,{"v":0,"d":"0.00"},{"$f":"IF(F1478=\"Arbeitgeberähnliche Stellung\",OFFSET(MD!$Q$5,MATCH(Grundlagen_Abrechnung_KAE!$AK$7,MD_JAHR,0),0)*$H1478,IF(J1478>0,AC1478,I1478))","v":{"v":0,"d":"0.00"}},null,{"$f":"OFFSET(MD!$P$5,MATCH($AK$7,MD_JAHR,0),0)*12","v":{"$error":"#VALUE!"}},{"v":0,"d":"0.00"}]
[{"$nulls":14},{"$f":"IF($B1479=\"\",\"\",IF(F1479=\"Arbeitgeberähnliche Stellung\",OFFSET(MD!$Q$5,MATCH(Grundlagen_Abrechnung_KAE!$AK$7,MD_JAHR,0),0)*$H1479,IF(((AD1479/12*M1479*12)+N1479)>AF1479,AF1479/12,((AD1479/12*M1479*12)+N1479)/12)))","v":""},null,null,{"v":0,"d":"0.00"},null,{"v":0,"d":"0.00%"},{"v":0,"d":"0.00"},{"v":0,"d":"0.00"},{"v":0,"d":"0.00"},null,"prüfen",{"$f":"IFERROR(OFFSET(MD!$U$5,MATCH(Grundlagen_Abrechnung_KAE!$E1479,MD_GENDER,0),0),\"\")","v":""},{"v":0,"d":"0.00"},null,{"v":0,"d":"0.00"},{"$f":"IF(F1479=\"Arbeitgeberähnliche Stellung\",OFFSET(MD!$Q$5,MATCH(Grundlagen_Abrechnung_KAE!$AK$7,MD_JAHR,0),0)*$H1479,IF(J1479>0,AC1479,I1479))","v":{"v":0,"d":"0.00"}},null,{"$f":"OFFSET(MD!$P$5,MATCH($AK$7,MD_JAHR,0),0)*12","v":{"$error":"#VALUE!"}},{"v":0,"d":"0.00"}]
[{"$nulls":14},{"$f":"IF($B1480=\"\",\"\",IF(F1480=\"Arbeitgeberähnliche Stellung\",OFFSET(MD!$Q$5,MATCH(Grundlagen_Abrechnung_KAE!$AK$7,MD_JAHR,0),0)*$H1480,IF(((AD1480/12*M1480*12)+N1480)>AF1480,AF1480/12,((AD1480/12*M1480*12)+N1480)/12)))","v":""},null,null,{"v":0,"d":"0.00"},null,{"v":0,"d":"0.00%"},{"v":0,"d":"0.00"},{"v":0,"d":"0.00"},{"v":0,"d":"0.00"},null,"prüfen",{"$f":"IFERROR(OFFSET(MD!$U$5,MATCH(Grundlagen_Abrechnung_KAE!$E1480,MD_GENDER,0),0),\"\")","v":""},{"v":0,"d":"0.00"},null,{"v":0,"d":"0.00"},{"$f":"IF(F1480=\"Arbeitgeberähnliche Stellung\",OFFSET(MD!$Q$5,MATCH(Grundlagen_Abrechnung_KAE!$AK$7,MD_JAHR,0),0)*$H1480,IF(J1480>0,AC1480,I1480))","v":{"v":0,"d":"0.00"}},null,{"$f":"OFFSET(MD!$P$5,MATCH($AK$7,MD_JAHR,0),0)*12","v":{"$error":"#VALUE!"}},{"v":0,"d":"0.00"}]
[{"$nulls":14},{"$f":"IF($B1481=\"\",\"\",IF(F1481=\"Arbeitgeberähnliche Stellung\",OFFSET(MD!$Q$5,MATCH(Grundlagen_Abrechnung_KAE!$AK$7,MD_JAHR,0),0)*$H1481,IF(((AD1481/12*M1481*12)+N1481)>AF1481,AF1481/12,((AD1481/12*M1481*12)+N1481)/12)))","v":""},null,null,{"v":0,"d":"0.00"},null,{"v":0,"d":"0.00%"},{"v":0,"d":"0.00"},{"v":0,"d":"0.00"},{"v":0,"d":"0.00"},null,"prüfen",{"$f":"IFERROR(OFFSET(MD!$U$5,MATCH(Grundlagen_Abrechnung_KAE!$E1481,MD_GENDER,0),0),\"\")","v":""},{"v":0,"d":"0.00"},null,{"v":0,"d":"0.00"},{"$f":"IF(F1481=\"Arbeitgeberähnliche Stellung\",OFFSET(MD!$Q$5,MATCH(Grundlagen_Abrechnung_KAE!$AK$7,MD_JAHR,0),0)*$H1481,IF(J1481>0,AC1481,I1481))","v":{"v":0,"d":"0.00"}},null,{"$f":"OFFSET(MD!$P$5,MATCH($AK$7,MD_JAHR,0),0)*12","v":{"$error":"#VALUE!"}},{"v":0,"d":"0.00"}]
[{"$nulls":14},{"$f":"IF($B1482=\"\",\"\",IF(F1482=\"Arbeitgeberähnliche Stellung\",OFFSET(MD!$Q$5,MATCH(Grundlagen_Abrechnung_KAE!$AK$7,MD_JAHR,0),0)*$H1482,IF(((AD1482/12*M1482*12)+N1482)>AF1482,AF1482/12,((AD1482/12*M1482*12)+N1482)/12)))","v":""},null,null,{"v":0,"d":"0.00"},null,{"v":0,"d":"0.00%"},{"v":0,"d":"0.00"},{"v":0,"d":"0.00"},{"v":0,"d":"0.00"},null,"prüfen",{"$f":"IFERROR(OFFSET(MD!$U$5,MATCH(Grundlagen_Abrechnung_KAE!$E1482,MD_GENDER,0),0),\"\")","v":""},{"v":0,"d":"0.00"},null,{"v":0,"d":"0.00"},{"$f":"IF(F1482=\"Arbeitgeberähnliche Stellung\",OFFSET(MD!$Q$5,MATCH(Grundlagen_Abrechnung_KAE!$AK$7,MD_JAHR,0),0)*$H1482,IF(J1482>0,AC1482,I1482))","v":{"v":0,"d":"0.00"}},null,{"$f":"OFFSET(MD!$P$5,MATCH($AK$7,MD_JAHR,0),0)*12","v":{"$error":"#VALUE!"}},{"v":0,"d":"0.00"}]
[{"$nulls":14},{"$f":"IF($B1483=\"\",\"\",IF(F1483=\"Arbeitgeberähnliche Stellung\",OFFSET(MD!$Q$5,MATCH(Grundlagen_Abrechnung_KAE!$AK$7,MD_JAHR,0),0)*$H1483,IF(((AD1483/12*M1483*12)+N1483)>AF1483,AF1483/12,((AD1483/12*M1483*12)+N1483)/12)))","v":""},null,null,{"v":0,"d":"0.00"},null,{"v":0,"d":"0.00%"},{"v":0,"d":"0.00"},{"v":0,"d":"0.00"},{"v":0,"d":"0.00"},null,"prüfen",{"$f":"IFERROR(OFFSET(MD!$U$5,MATCH(Grundlagen_Abrechnung_KAE!$E1483,MD_GENDER,0),0),\"\")","v":""},{"v":0,"d":"0.00"},null,{"v":0,"d":"0.00"},{"$f":"IF(F1483=\"Arbeitgeberähnliche Stellung\",OFFSET(MD!$Q$5,MATCH(Grundlagen_Abrechnung_KAE!$AK$7,MD_JAHR,0),0)*$H1483,IF(J1483>0,AC1483,I1483))","v":{"v":0,"d":"0.00"}},null,{"$f":"OFFSET(MD!$P$5,MATCH($AK$7,MD_JAHR,0),0)*12","v":{"$error":"#VALUE!"}},{"v":0,"d":"0.00"}]
[{"$nulls":14},{"$f":"IF($B1484=\"\",\"\",IF(F1484=\"Arbeitgeberähnliche Stellung\",OFFSET(MD!$Q$5,MATCH(Grundlagen_Abrechnung_KAE!$AK$7,MD_JAHR,0),0)*$H1484,IF(((AD1484/12*M1484*12)+N1484)>AF1484,AF1484/12,((AD1484/12*M1484*12)+N1484)/12)))","v":""},null,null,{"v":0,"d":"0.00"},null,{"v":0,"d":"0.00%"},{"v":0,"d":"0.00"},{"v":0,"d":"0.00"},{"v":0,"d":"0.00"},null,"prüfen",{"$f":"IFERROR(OFFSET(MD!$U$5,MATCH(Grundlagen_Abrechnung_KAE!$E1484,MD_GENDER,0),0),\"\")","v":""},{"v":0,"d":"0.00"},null,{"v":0,"d":"0.00"},{"$f":"IF(F1484=\"Arbeitgeberähnliche Stellung\",OFFSET(MD!$Q$5,MATCH(Grundlagen_Abrechnung_KAE!$AK$7,MD_JAHR,0),0)*$H1484,IF(J1484>0,AC1484,I1484))","v":{"v":0,"d":"0.00"}},null,{"$f":"OFFSET(MD!$P$5,MATCH($AK$7,MD_JAHR,0),0)*12","v":{"$error":"#VALUE!"}},{"v":0,"d":"0.00"}]
[{"$nulls":14},{"$f":"IF($B1485=\"\",\"\",IF(F1485=\"Arbeitgeberähnliche Stellung\",OFFSET(MD!$Q$5,MATCH(Grundlagen_Abrechnung_KAE!$AK$7,MD_JAHR,0),0)*$H1485,IF(((AD1485/12*M1485*12)+N1485)>AF1485,AF1485/12,((AD1485/12*M1485*12)+N1485)/12)))","v":""},null,null,{"v":0,"d":"0.00"},null,{"v":0,"d":"0.00%"},{"v":0,"d":"0.00"},{"v":0,"d":"0.00"},{"v":0,"d":"0.00"},null,"prüfen",{"$f":"IFERROR(OFFSET(MD!$U$5,MATCH(Grundlagen_Abrechnung_KAE!$E1485,MD_GENDER,0),0),\"\")","v":""},{"v":0,"d":"0.00"},null,{"v":0,"d":"0.00"},{"$f":"IF(F1485=\"Arbeitgeberähnliche Stellung\",OFFSET(MD!$Q$5,MATCH(Grundlagen_Abrechnung_KAE!$AK$7,MD_JAHR,0),0)*$H1485,IF(J1485>0,AC1485,I1485))","v":{"v":0,"d":"0.00"}},null,{"$f":"OFFSET(MD!$P$5,MATCH($AK$7,MD_JAHR,0),0)*12","v":{"$error":"#VALUE!"}},{"v":0,"d":"0.00"}]
[{"$nulls":14},{"$f":"IF($B1486=\"\",\"\",IF(F1486=\"Arbeitgeberähnliche Stellung\",OFFSET(MD!$Q$5,MATCH(Grundlagen_Abrechnung_KAE!$AK$7,MD_JAHR,0),0)*$H1486,IF(((AD1486/12*M1486*12)+N1486)>AF1486,AF1486/12,((AD1486/12*M1486*12)+N1486)/12)))","v":""},null,null,{"v":0,"d":"0.00"},null,{"v":0,"d":"0.00%"},{"v":0,"d":"0.00"},{"v":0,"d":"0.00"},{"v":0,"d":"0.00"},null,"prüfen",{"$f":"IFERROR(OFFSET(MD!$U$5,MATCH(Grundlagen_Abrechnung_KAE!$E1486,MD_GENDER,0),0),\"\")","v":""},{"v":0,"d":"0.00"},null,{"v":0,"d":"0.00"},{"$f":"IF(F1486=\"Arbeitgeberähnliche Stellung\",OFFSET(MD!$Q$5,MATCH(Grundlagen_Abrechnung_KAE!$AK$7,MD_JAHR,0),0)*$H1486,IF(J1486>0,AC1486,I1486))","v":{"v":0,"d":"0.00"}},null,{"$f":"OFFSET(MD!$P$5,MATCH($AK$7,MD_JAHR,0),0)*12","v":{"$error":"#VALUE!"}},{"v":0,"d":"0.00"}]
[{"$nulls":14},{"$f":"IF($B1487=\"\",\"\",IF(F1487=\"Arbeitgeberähnliche Stellung\",OFFSET(MD!$Q$5,MATCH(Grundlagen_Abrechnung_KAE!$AK$7,MD_JAHR,0),0)*$H1487,IF(((AD1487/12*M1487*12)+N1487)>AF1487,AF1487/12,((AD1487/12*M1487*12)+N1487)/12)))","v":""},null,null,{"v":0,"d":"0.00"},null,{"v":0,"d":"0.00%"},{"v":0,"d":"0.00"},{"v":0,"d":"0.00"},{"v":0,"d":"0.00"},null,"prüfen",{"$f":"IFERROR(OFFSET(MD!$U$5,MATCH(Grundlagen_Abrechnung_KAE!$E1487,MD_GENDER,0),0),\"\")","v":""},{"v":0,"d":"0.00"},null,{"v":0,"d":"0.00"},{"$f":"IF(F1487=\"Arbeitgeberähnliche Stellung\",OFFSET(MD!$Q$5,MATCH(Grundlagen_Abrechnung_KAE!$AK$7,MD_JAHR,0),0)*$H1487,IF(J1487>0,AC1487,I1487))","v":{"v":0,"d":"0.00"}},null,{"$f":"OFFSET(MD!$P$5,MATCH($AK$7,MD_JAHR,0),0)*12","v":{"$error":"#VALUE!"}},{"v":0,"d":"0.00"}]
[{"$nulls":14},{"$f":"IF($B1488=\"\",\"\",IF(F1488=\"Arbeitgeberähnliche Stellung\",OFFSET(MD!$Q$5,MATCH(Grundlagen_Abrechnung_KAE!$AK$7,MD_JAHR,0),0)*$H1488,IF(((AD1488/12*M1488*12)+N1488)>AF1488,AF1488/12,((AD1488/12*M1488*12)+N1488)/12)))","v":""},null,null,{"v":0,"d":"0.00"},null,{"v":0,"d":"0.00%"},{"v":0,"d":"0.00"},{"v":0,"d":"0.00"},{"v":0,"d":"0.00"},null,"prüfen",{"$f":"IFERROR(OFFSET(MD!$U$5,MATCH(Grundlagen_Abrechnung_KAE!$E1488,MD_GENDER,0),0),\"\")","v":""},{"v":0,"d":"0.00"},null,{"v":0,"d":"0.00"},{"$f":"IF(F1488=\"Arbeitgeberähnliche Stellung\",OFFSET(MD!$Q$5,MATCH(Grundlagen_Abrechnung_KAE!$AK$7,MD_JAHR,0),0)*$H1488,IF(J1488>0,AC1488,I1488))","v":{"v":0,"d":"0.00"}},null,{"$f":"OFFSET(MD!$P$5,MATCH($AK$7,MD_JAHR,0),0)*12","v":{"$error":"#VALUE!"}},{"v":0,"d":"0.00"}]
[{"$nulls":14},{"$f":"IF($B1489=\"\",\"\",IF(F1489=\"Arbeitgeberähnliche Stellung\",OFFSET(MD!$Q$5,MATCH(Grundlagen_Abrechnung_KAE!$AK$7,MD_JAHR,0),0)*$H1489,IF(((AD1489/12*M1489*12)+N1489)>AF1489,AF1489/12,((AD1489/12*M1489*12)+N1489)/12)))","v":""},null,null,{"v":0,"d":"0.00"},null,{"v":0,"d":"0.00%"},{"v":0,"d":"0.00"},{"v":0,"d":"0.00"},{"v":0,"d":"0.00"},null,"prüfen",{"$f":"IFERROR(OFFSET(MD!$U$5,MATCH(Grundlagen_Abrechnung_KAE!$E1489,MD_GENDER,0),0),\"\")","v":""},{"v":0,"d":"0.00"},null,{"v":0,"d":"0.00"},{"$f":"IF(F1489=\"Arbeitgeberähnliche Stellung\",OFFSET(MD!$Q$5,MATCH(Grundlagen_Abrechnung_KAE!$AK$7,MD_JAHR,0),0)*$H1489,IF(J1489>0,AC1489,I1489))","v":{"v":0,"d":"0.00"}},null,{"$f":"OFFSET(MD!$P$5,MATCH($AK$7,MD_JAHR,0),0)*12","v":{"$error":"#VALUE!"}},{"v":0,"d":"0.00"}]
[{"$nulls":14},{"$f":"IF($B1490=\"\",\"\",IF(F1490=\"Arbeitgeberähnliche Stellung\",OFFSET(MD!$Q$5,MATCH(Grundlagen_Abrechnung_KAE!$AK$7,MD_JAHR,0),0)*$H1490,IF(((AD1490/12*M1490*12)+N1490)>AF1490,AF1490/12,((AD1490/12*M1490*12)+N1490)/12)))","v":""},null,null,{"v":0,"d":"0.00"},null,{"v":0,"d":"0.00%"},{"v":0,"d":"0.00"},{"v":0,"d":"0.00"},{"v":0,"d":"0.00"},null,"prüfen",{"$f":"IFERROR(OFFSET(MD!$U$5,MATCH(Grundlagen_Abrechnung_KAE!$E1490,MD_GENDER,0),0),\"\")","v":""},{"v":0,"d":"0.00"},null,{"v":0,"d":"0.00"},{"$f":"IF(F1490=\"Arbeitgeberähnliche Stellung\",OFFSET(MD!$Q$5,MATCH(Grundlagen_Abrechnung_KAE!$AK$7,MD_JAHR,0),0)*$H1490,IF(J1490>0,AC1490,I1490))","v":{"v":0,"d":"0.00"}},null,{"$f":"OFFSET(MD!$P$5,MATCH($AK$7,MD_JAHR,0),0)*12","v":{"$error":"#VALUE!"}},{"v":0,"d":"0.00"}]
[{"$nulls":14},{"$f":"IF($B1491=\"\",\"\",IF(F1491=\"Arbeitgeberähnliche Stellung\",OFFSET(MD!$Q$5,MATCH(Grundlagen_Abrechnung_KAE!$AK$7,MD_JAHR,0),0)*$H1491,IF(((AD1491/12*M1491*12)+N1491)>AF1491,AF1491/12,((AD1491/12*M1491*12)+N1491)/12)))","v":""},null,null,{"$f":"ROUND(IF(Q1491=\"\",0,IF(P1491=0,0,IF(Q1491>P1491,0,P1491-Q1491))),2)","v":{"v":0,"d":"0.00"}},null,{"$f":"IFERROR(R1491/P1491,0)","v":{"v":0,"d":"0.00%"}},{"$f":"IFERROR(IF(O1491-W1491=0,O1491,(O1491)*(1-T1491)),0)","v":{"v":0,"d":"0.00"}},{"v":0,"d":"0.00"},{"$f":"IFERROR(O1491*T1491,0)*0.8","v":{"v":0,"d":"0.00"}},null,{"$f":"IF(YEAR($G1491)>$Y$16,\"prüfen\",\"\")","v":"prüfen"},{"$f":"IFERROR(OFFSET(MD!$U$5,MATCH(Grundlagen_Abrechnung_KAE!$E1491,MD_GENDER,0),0),\"\")","v":""},{"$f":"IF(B1491=\"\",0,IF(YEAR(G1491)>$AA$16,0,1))","v":{"v":0,"d":"0.00"}},null,{"$f":"IF(J1491*K1491/6>J1491*L1491/12,J1491*K1491/6,J1491*L1491/12)","v":{"v":0,"d":"0.00"}},{"$f":"IF(F1491=\"Arbeitgeberähnliche Stellung\",OFFSET(MD!$Q$5,MATCH(Grundlagen_Abrechnung_KAE!$AK$7,MD_JAHR,0),0)*$H1491,IF(J1491>0,AC1491,I1491))","v":{"v":0,"d":"0.00"}},null,{"$f":"OFFSET(MD!$P$5,MATCH($AK$7,MD_JAHR,0),0)*12","v":{"$error":"#VALUE!"}},{"$f":"I1491*M1491+N1491","v":{"v":0,"d":"0.00"}}]
[{"$nulls":14},{"$f":"IF($B1492=\"\",\"\",IF(F1492=\"Arbeitgeberähnliche Stellung\",OFFSET(MD!$Q$5,MATCH(Grundlagen_Abrechnung_KAE!$AK$7,MD_JAHR,0),0)*$H1492,IF(((AD1492/12*M1492*12)+N1492)>AF1492,AF1492/12,((AD1492/12*M1492*12)+N1492)/12)))","v":""},null,null,{"v":0,"d":"0.00"},null,{"v":0,"d":"0.00%"},{"v":0,"d":"0.00"},{"$f":"IFERROR(O1492*T1492,0)","v":{"v":0,"d":"0.00"}},{"v":0,"d":"0.00"},null,"prüfen",{"$f":"IFERROR(OFFSET(MD!$U$5,MATCH(Grundlagen_Abrechnung_KAE!$E1492,MD_GENDER,0),0),\"\")","v":""},{"v":0,"d":"0.00"},null,{"v":0,"d":"0.00"},{"$f":"IF(F1492=\"Arbeitgeberähnliche Stellung\",OFFSET(MD!$Q$5,MATCH(Grundlagen_Abrechnung_KAE!$AK$7,MD_JAHR,0),0)*$H1492,IF(J1492>0,AC1492,I1492))","v":{"v":0,"d":"0.00"}},null,{"$f":"OFFSET(MD!$P$5,MATCH($AK$7,MD_JAHR,0),0)*12","v":{"$error":"#VALUE!"}},{"v":0,"d":"0.00"}]
[{"$nulls":14},{"$f":"IF($B1493=\"\",\"\",IF(F1493=\"Arbeitgeberähnliche Stellung\",OFFSET(MD!$Q$5,MATCH(Grundlagen_Abrechnung_KAE!$AK$7,MD_JAHR,0),0)*$H1493,IF(((AD1493/12*M1493*12)+N1493)>AF1493,AF1493/12,((AD1493/12*M1493*12)+N1493)/12)))","v":""},null,null,{"v":0,"d":"0.00"},null,{"v":0,"d":"0.00%"},{"v":0,"d":"0.00"},{"v":0,"d":"0.00"},{"v":0,"d":"0.00"},null,"prüfen",{"$f":"IFERROR(OFFSET(MD!$U$5,MATCH(Grundlagen_Abrechnung_KAE!$E1493,MD_GENDER,0),0),\"\")","v":""},{"v":0,"d":"0.00"},null,{"v":0,"d":"0.00"},{"$f":"IF(F1493=\"Arbeitgeberähnliche Stellung\",OFFSET(MD!$Q$5,MATCH(Grundlagen_Abrechnung_KAE!$AK$7,MD_JAHR,0),0)*$H1493,IF(J1493>0,AC1493,I1493))","v":{"v":0,"d":"0.00"}},null,{"$f":"OFFSET(MD!$P$5,MATCH($AK$7,MD_JAHR,0),0)*12","v":{"$error":"#VALUE!"}},{"v":0,"d":"0.00"}]
[{"$nulls":14},{"$f":"IF($B1494=\"\",\"\",IF(F1494=\"Arbeitgeberähnliche Stellung\",OFFSET(MD!$Q$5,MATCH(Grundlagen_Abrechnung_KAE!$AK$7,MD_JAHR,0),0)*$H1494,IF(((AD1494/12*M1494*12)+N1494)>AF1494,AF1494/12,((AD1494/12*M1494*12)+N1494)/12)))","v":""},null,null,{"v":0,"d":"0.00"},null,{"v":0,"d":"0.00%"},{"v":0,"d":"0.00"},{"v":0,"d":"0.00"},{"v":0,"d":"0.00"},null,"prüfen",{"$f":"IFERROR(OFFSET(MD!$U$5,MATCH(Grundlagen_Abrechnung_KAE!$E1494,MD_GENDER,0),0),\"\")","v":""},{"v":0,"d":"0.00"},null,{"v":0,"d":"0.00"},{"$f":"IF(F1494=\"Arbeitgeberähnliche Stellung\",OFFSET(MD!$Q$5,MATCH(Grundlagen_Abrechnung_KAE!$AK$7,MD_JAHR,0),0)*$H1494,IF(J1494>0,AC1494,I1494))","v":{"v":0,"d":"0.00"}},null,{"$f":"OFFSET(MD!$P$5,MATCH($AK$7,MD_JAHR,0),0)*12","v":{"$error":"#VALUE!"}},{"v":0,"d":"0.00"}]
[{"$nulls":14},{"$f":"IF($B1495=\"\",\"\",IF(F1495=\"Arbeitgeberähnliche Stellung\",OFFSET(MD!$Q$5,MATCH(Grundlagen_Abrechnung_KAE!$AK$7,MD_JAHR,0),0)*$H1495,IF(((AD1495/12*M1495*12)+N1495)>AF1495,AF1495/12,((AD1495/12*M1495*12)+N1495)/12)))","v":""},null,null,{"v":0,"d":"0.00"},null,{"v":0,"d":"0.00%"},{"v":0,"d":"0.00"},{"v":0,"d":"0.00"},{"v":0,"d":"0.00"},null,"prüfen",{"$f":"IFERROR(OFFSET(MD!$U$5,MATCH(Grundlagen_Abrechnung_KAE!$E1495,MD_GENDER,0),0),\"\")","v":""},{"v":0,"d":"0.00"},null,{"v":0,"d":"0.00"},{"$f":"IF(F1495=\"Arbeitgeberähnliche Stellung\",OFFSET(MD!$Q$5,MATCH(Grundlagen_Abrechnung_KAE!$AK$7,MD_JAHR,0),0)*$H1495,IF(J1495>0,AC1495,I1495))","v":{"v":0,"d":"0.00"}},null,{"$f":"OFFSET(MD!$P$5,MATCH($AK$7,MD_JAHR,0),0)*12","v":{"$error":"#VALUE!"}},{"v":0,"d":"0.00"}]
[{"$nulls":14},{"$f":"IF($B1496=\"\",\"\",IF(F1496=\"Arbeitgeberähnliche Stellung\",OFFSET(MD!$Q$5,MATCH(Grundlagen_Abrechnung_KAE!$AK$7,MD_JAHR,0),0)*$H1496,IF(((AD1496/12*M1496*12)+N1496)>AF1496,AF1496/12,((AD1496/12*M1496*12)+N1496)/12)))","v":""},null,null,{"v":0,"d":"0.00"},null,{"v":0,"d":"0.00%"},{"v":0,"d":"0.00"},{"v":0,"d":"0.00"},{"v":0,"d":"0.00"},null,"prüfen",{"$f":"IFERROR(OFFSET(MD!$U$5,MATCH(Grundlagen_Abrechnung_KAE!$E1496,MD_GENDER,0),0),\"\")","v":""},{"v":0,"d":"0.00"},null,{"v":0,"d":"0.00"},{"$f":"IF(F1496=\"Arbeitgeberähnliche Stellung\",OFFSET(MD!$Q$5,MATCH(Grundlagen_Abrechnung_KAE!$AK$7,MD_JAHR,0),0)*$H1496,IF(J1496>0,AC1496,I1496))","v":{"v":0,"d":"0.00"}},null,{"$f":"OFFSET(MD!$P$5,MATCH($AK$7,MD_JAHR,0),0)*12","v":{"$error":"#VALUE!"}},{"v":0,"d":"0.00"}]
[{"$nulls":14},{"$f":"IF($B1497=\"\",\"\",IF(F1497=\"Arbeitgeberähnliche Stellung\",OFFSET(MD!$Q$5,MATCH(Grundlagen_Abrechnung_KAE!$AK$7,MD_JAHR,0),0)*$H1497,IF(((AD1497/12*M1497*12)+N1497)>AF1497,AF1497/12,((AD1497/12*M1497*12)+N1497)/12)))","v":""},null,null,{"v":0,"d":"0.00"},null,{"v":0,"d":"0.00%"},{"v":0,"d":"0.00"},{"v":0,"d":"0.00"},{"v":0,"d":"0.00"},null,"prüfen",{"$f":"IFERROR(OFFSET(MD!$U$5,MATCH(Grundlagen_Abrechnung_KAE!$E1497,MD_GENDER,0),0),\"\")","v":""},{"v":0,"d":"0.00"},null,{"v":0,"d":"0.00"},{"$f":"IF(F1497=\"Arbeitgeberähnliche Stellung\",OFFSET(MD!$Q$5,MATCH(Grundlagen_Abrechnung_KAE!$AK$7,MD_JAHR,0),0)*$H1497,IF(J1497>0,AC1497,I1497))","v":{"v":0,"d":"0.00"}},null,{"$f":"OFFSET(MD!$P$5,MATCH($AK$7,MD_JAHR,0),0)*12","v":{"$error":"#VALUE!"}},{"v":0,"d":"0.00"}]
[{"$nulls":14},{"$f":"IF($B1498=\"\",\"\",IF(F1498=\"Arbeitgeberähnliche Stellung\",OFFSET(MD!$Q$5,MATCH(Grundlagen_Abrechnung_KAE!$AK$7,MD_JAHR,0),0)*$H1498,IF(((AD1498/12*M1498*12)+N1498)>AF1498,AF1498/12,((AD1498/12*M1498*12)+N1498)/12)))","v":""},null,null,{"v":0,"d":"0.00"},null,{"v":0,"d":"0.00%"},{"v":0,"d":"0.00"},{"v":0,"d":"0.00"},{"v":0,"d":"0.00"},null,"prüfen",{"$f":"IFERROR(OFFSET(MD!$U$5,MATCH(Grundlagen_Abrechnung_KAE!$E1498,MD_GENDER,0),0),\"\")","v":""},{"v":0,"d":"0.00"},null,{"v":0,"d":"0.00"},{"$f":"IF(F1498=\"Arbeitgeberähnliche Stellung\",OFFSET(MD!$Q$5,MATCH(Grundlagen_Abrechnung_KAE!$AK$7,MD_JAHR,0),0)*$H1498,IF(J1498>0,AC1498,I1498))","v":{"v":0,"d":"0.00"}},null,{"$f":"OFFSET(MD!$P$5,MATCH($AK$7,MD_JAHR,0),0)*12","v":{"$error":"#VALUE!"}},{"v":0,"d":"0.00"}]
[{"$nulls":14},{"$f":"IF($B1499=\"\",\"\",IF(F1499=\"Arbeitgeberähnliche Stellung\",OFFSET(MD!$Q$5,MATCH(Grundlagen_Abrechnung_KAE!$AK$7,MD_JAHR,0),0)*$H1499,IF(((AD1499/12*M1499*12)+N1499)>AF1499,AF1499/12,((AD1499/12*M1499*12)+N1499)/12)))","v":""},null,null,{"v":0,"d":"0.00"},null,{"v":0,"d":"0.00%"},{"v":0,"d":"0.00"},{"v":0,"d":"0.00"},{"v":0,"d":"0.00"},null,"prüfen",{"$f":"IFERROR(OFFSET(MD!$U$5,MATCH(Grundlagen_Abrechnung_KAE!$E1499,MD_GENDER,0),0),\"\")","v":""},{"v":0,"d":"0.00"},null,{"v":0,"d":"0.00"},{"$f":"IF(F1499=\"Arbeitgeberähnliche Stellung\",OFFSET(MD!$Q$5,MATCH(Grundlagen_Abrechnung_KAE!$AK$7,MD_JAHR,0),0)*$H1499,IF(J1499>0,AC1499,I1499))","v":{"v":0,"d":"0.00"}},null,{"$f":"OFFSET(MD!$P$5,MATCH($AK$7,MD_JAHR,0),0)*12","v":{"$error":"#VALUE!"}},{"v":0,"d":"0.00"}]
[{"$nulls":14},{"$f":"IF($B1500=\"\",\"\",IF(F1500=\"Arbeitgeberähnliche Stellung\",OFFSET(MD!$Q$5,MATCH(Grundlagen_Abrechnung_KAE!$AK$7,MD_JAHR,0),0)*$H1500,IF(((AD1500/12*M1500*12)+N1500)>AF1500,AF1500/12,((AD1500/12*M1500*12)+N1500)/12)))","v":""},null,null,{"v":0,"d":"0.00"},null,{"v":0,"d":"0.00%"},{"v":0,"d":"0.00"},{"v":0,"d":"0.00"},{"v":0,"d":"0.00"},null,"prüfen",{"$f":"IFERROR(OFFSET(MD!$U$5,MATCH(Grundlagen_Abrechnung_KAE!$E1500,MD_GENDER,0),0),\"\")","v":""},{"v":0,"d":"0.00"},null,{"v":0,"d":"0.00"},{"$f":"IF(F1500=\"Arbeitgeberähnliche Stellung\",OFFSET(MD!$Q$5,MATCH(Grundlagen_Abrechnung_KAE!$AK$7,MD_JAHR,0),0)*$H1500,IF(J1500>0,AC1500,I1500))","v":{"v":0,"d":"0.00"}},null,{"$f":"OFFSET(MD!$P$5,MATCH($AK$7,MD_JAHR,0),0)*12","v":{"$error":"#VALUE!"}},{"v":0,"d":"0.00"}]
[{"$nulls":14},{"$f":"IF($B1501=\"\",\"\",IF(F1501=\"Arbeitgeberähnliche Stellung\",OFFSET(MD!$Q$5,MATCH(Grundlagen_Abrechnung_KAE!$AK$7,MD_JAHR,0),0)*$H1501,IF(((AD1501/12*M1501*12)+N1501)>AF1501,AF1501/12,((AD1501/12*M1501*12)+N1501)/12)))","v":""},null,null,{"v":0,"d":"0.00"},null,{"v":0,"d":"0.00%"},{"v":0,"d":"0.00"},{"v":0,"d":"0.00"},{"v":0,"d":"0.00"},null,"prüfen",{"$f":"IFERROR(OFFSET(MD!$U$5,MATCH(Grundlagen_Abrechnung_KAE!$E1501,MD_GENDER,0),0),\"\")","v":""},{"v":0,"d":"0.00"},null,{"v":0,"d":"0.00"},{"$f":"IF(F1501=\"Arbeitgeberähnliche Stellung\",OFFSET(MD!$Q$5,MATCH(Grundlagen_Abrechnung_KAE!$AK$7,MD_JAHR,0),0)*$H1501,IF(J1501>0,AC1501,I1501))","v":{"v":0,"d":"0.00"}},null,{"$f":"OFFSET(MD!$P$5,MATCH($AK$7,MD_JAHR,0),0)*12","v":{"$error":"#VALUE!"}},{"v":0,"d":"0.00"}]
[{"$nulls":14},{"$f":"IF($B1502=\"\",\"\",IF(F1502=\"Arbeitgeberähnliche Stellung\",OFFSET(MD!$Q$5,MATCH(Grundlagen_Abrechnung_KAE!$AK$7,MD_JAHR,0),0)*$H1502,IF(((AD1502/12*M1502*12)+N1502)>AF1502,AF1502/12,((AD1502/12*M1502*12)+N1502)/12)))","v":""},null,null,{"v":0,"d":"0.00"},null,{"v":0,"d":"0.00%"},{"v":0,"d":"0.00"},{"v":0,"d":"0.00"},{"v":0,"d":"0.00"},null,"prüfen",{"$f":"IFERROR(OFFSET(MD!$U$5,MATCH(Grundlagen_Abrechnung_KAE!$E1502,MD_GENDER,0),0),\"\")","v":""},{"v":0,"d":"0.00"},null,{"v":0,"d":"0.00"},{"$f":"IF(F1502=\"Arbeitgeberähnliche Stellung\",OFFSET(MD!$Q$5,MATCH(Grundlagen_Abrechnung_KAE!$AK$7,MD_JAHR,0),0)*$H1502,IF(J1502>0,AC1502,I1502))","v":{"v":0,"d":"0.00"}},null,{"$f":"OFFSET(MD!$P$5,MATCH($AK$7,MD_JAHR,0),0)*12","v":{"$error":"#VALUE!"}},{"v":0,"d":"0.00"}]
[{"$nulls":14},{"$f":"IF($B1503=\"\",\"\",IF(F1503=\"Arbeitgeberähnliche Stellung\",OFFSET(MD!$Q$5,MATCH(Grundlagen_Abrechnung_KAE!$AK$7,MD_JAHR,0),0)*$H1503,IF(((AD1503/12*M1503*12)+N1503)>AF1503,AF1503/12,((AD1503/12*M1503*12)+N1503)/12)))","v":""},null,null,{"v":0,"d":"0.00"},null,{"v":0,"d":"0.00%"},{"v":0,"d":"0.00"},{"v":0,"d":"0.00"},{"v":0,"d":"0.00"},null,"prüfen",{"$f":"IFERROR(OFFSET(MD!$U$5,MATCH(Grundlagen_Abrechnung_KAE!$E1503,MD_GENDER,0),0),\"\")","v":""},{"v":0,"d":"0.00"},null,{"v":0,"d":"0.00"},{"$f":"IF(F1503=\"Arbeitgeberähnliche Stellung\",OFFSET(MD!$Q$5,MATCH(Grundlagen_Abrechnung_KAE!$AK$7,MD_JAHR,0),0)*$H1503,IF(J1503>0,AC1503,I1503))","v":{"v":0,"d":"0.00"}},null,{"$f":"OFFSET(MD!$P$5,MATCH($AK$7,MD_JAHR,0),0)*12","v":{"$error":"#VALUE!"}},{"v":0,"d":"0.00"}]
[{"$nulls":14},{"$f":"IF($B1504=\"\",\"\",IF(F1504=\"Arbeitgeberähnliche Stellung\",OFFSET(MD!$Q$5,MATCH(Grundlagen_Abrechnung_KAE!$AK$7,MD_JAHR,0),0)*$H1504,IF(((AD1504/12*M1504*12)+N1504)>AF1504,AF1504/12,((AD1504/12*M1504*12)+N1504)/12)))","v":""},null,null,{"v":0,"d":"0.00"},null,{"v":0,"d":"0.00%"},{"v":0,"d":"0.00"},{"v":0,"d":"0.00"},{"v":0,"d":"0.00"},null,"prüfen",{"$f":"IFERROR(OFFSET(MD!$U$5,MATCH(Grundlagen_Abrechnung_KAE!$E1504,MD_GENDER,0),0),\"\")","v":""},{"v":0,"d":"0.00"},null,{"v":0,"d":"0.00"},{"$f":"IF(F1504=\"Arbeitgeberähnliche Stellung\",OFFSET(MD!$Q$5,MATCH(Grundlagen_Abrechnung_KAE!$AK$7,MD_JAHR,0),0)*$H1504,IF(J1504>0,AC1504,I1504))","v":{"v":0,"d":"0.00"}},null,{"$f":"OFFSET(MD!$P$5,MATCH($AK$7,MD_JAHR,0),0)*12","v":{"$error":"#VALUE!"}},{"v":0,"d":"0.00"}]
[{"$nulls":14},{"$f":"IF($B1505=\"\",\"\",IF(F1505=\"Arbeitgeberähnliche Stellung\",OFFSET(MD!$Q$5,MATCH(Grundlagen_Abrechnung_KAE!$AK$7,MD_JAHR,0),0)*$H1505,IF(((AD1505/12*M1505*12)+N1505)>AF1505,AF1505/12,((AD1505/12*M1505*12)+N1505)/12)))","v":""},null,null,{"v":0,"d":"0.00"},null,{"v":0,"d":"0.00%"},{"v":0,"d":"0.00"},{"v":0,"d":"0.00"},{"v":0,"d":"0.00"},null,"prüfen",{"$f":"IFERROR(OFFSET(MD!$U$5,MATCH(Grundlagen_Abrechnung_KAE!$E1505,MD_GENDER,0),0),\"\")","v":""},{"v":0,"d":"0.00"},null,{"v":0,"d":"0.00"},{"$f":"IF(F1505=\"Arbeitgeberähnliche Stellung\",OFFSET(MD!$Q$5,MATCH(Grundlagen_Abrechnung_KAE!$AK$7,MD_JAHR,0),0)*$H1505,IF(J1505>0,AC1505,I1505))","v":{"v":0,"d":"0.00"}},null,{"$f":"OFFSET(MD!$P$5,MATCH($AK$7,MD_JAHR,0),0)*12","v":{"$error":"#VALUE!"}},{"v":0,"d":"0.00"}]
[{"$nulls":14},{"$f":"IF($B1506=\"\",\"\",IF(F1506=\"Arbeitgeberähnliche Stellung\",OFFSET(MD!$Q$5,MATCH(Grundlagen_Abrechnung_KAE!$AK$7,MD_JAHR,0),0)*$H1506,IF(((AD1506/12*M1506*12)+N1506)>AF1506,AF1506/12,((AD1506/12*M1506*12)+N1506)/12)))","v":""},null,null,{"v":0,"d":"0.00"},null,{"v":0,"d":"0.00%"},{"v":0,"d":"0.00"},{"v":0,"d":"0.00"},{"v":0,"d":"0.00"},null,"prüfen",{"$f":"IFERROR(OFFSET(MD!$U$5,MATCH(Grundlagen_Abrechnung_KAE!$E1506,MD_GENDER,0),0),\"\")","v":""},{"v":0,"d":"0.00"},null,{"v":0,"d":"0.00"},{"$f":"IF(F1506=\"Arbeitgeberähnliche Stellung\",OFFSET(MD!$Q$5,MATCH(Grundlagen_Abrechnung_KAE!$AK$7,MD_JAHR,0),0)*$H1506,IF(J1506>0,AC1506,I1506))","v":{"v":0,"d":"0.00"}},null,{"$f":"OFFSET(MD!$P$5,MATCH($AK$7,MD_JAHR,0),0)*12","v":{"$error":"#VALUE!"}},{"v":0,"d":"0.00"}]
[{"$nulls":14},{"$f":"IF($B1507=\"\",\"\",IF(F1507=\"Arbeitgeberähnliche Stellung\",OFFSET(MD!$Q$5,MATCH(Grundlagen_Abrechnung_KAE!$AK$7,MD_JAHR,0),0)*$H1507,IF(((AD1507/12*M1507*12)+N1507)>AF1507,AF1507/12,((AD1507/12*M1507*12)+N1507)/12)))","v":""},null,null,{"v":0,"d":"0.00"},null,{"v":0,"d":"0.00%"},{"v":0,"d":"0.00"},{"v":0,"d":"0.00"},{"v":0,"d":"0.00"},null,"prüfen",{"$f":"IFERROR(OFFSET(MD!$U$5,MATCH(Grundlagen_Abrechnung_KAE!$E1507,MD_GENDER,0),0),\"\")","v":""},{"v":0,"d":"0.00"},null,{"v":0,"d":"0.00"},{"$f":"IF(F1507=\"Arbeitgeberähnliche Stellung\",OFFSET(MD!$Q$5,MATCH(Grundlagen_Abrechnung_KAE!$AK$7,MD_JAHR,0),0)*$H1507,IF(J1507>0,AC1507,I1507))","v":{"v":0,"d":"0.00"}},null,{"$f":"OFFSET(MD!$P$5,MATCH($AK$7,MD_JAHR,0),0)*12","v":{"$error":"#VALUE!"}},{"v":0,"d":"0.00"}]
[{"$nulls":14},{"$f":"IF($B1508=\"\",\"\",IF(F1508=\"Arbeitgeberähnliche Stellung\",OFFSET(MD!$Q$5,MATCH(Grundlagen_Abrechnung_KAE!$AK$7,MD_JAHR,0),0)*$H1508,IF(((AD1508/12*M1508*12)+N1508)>AF1508,AF1508/12,((AD1508/12*M1508*12)+N1508)/12)))","v":""},null,null,{"v":0,"d":"0.00"},null,{"v":0,"d":"0.00%"},{"v":0,"d":"0.00"},{"v":0,"d":"0.00"},{"v":0,"d":"0.00"},null,"prüfen",{"$f":"IFERROR(OFFSET(MD!$U$5,MATCH(Grundlagen_Abrechnung_KAE!$E1508,MD_GENDER,0),0),\"\")","v":""},{"v":0,"d":"0.00"},null,{"v":0,"d":"0.00"},{"$f":"IF(F1508=\"Arbeitgeberähnliche Stellung\",OFFSET(MD!$Q$5,MATCH(Grundlagen_Abrechnung_KAE!$AK$7,MD_JAHR,0),0)*$H1508,IF(J1508>0,AC1508,I1508))","v":{"v":0,"d":"0.00"}},null,{"$f":"OFFSET(MD!$P$5,MATCH($AK$7,MD_JAHR,0),0)*12","v":{"$error":"#VALUE!"}},{"v":0,"d":"0.00"}]
[{"$nulls":14},{"$f":"IF($B1509=\"\",\"\",IF(F1509=\"Arbeitgeberähnliche Stellung\",OFFSET(MD!$Q$5,MATCH(Grundlagen_Abrechnung_KAE!$AK$7,MD_JAHR,0),0)*$H1509,IF(((AD1509/12*M1509*12)+N1509)>AF1509,AF1509/12,((AD1509/12*M1509*12)+N1509)/12)))","v":""},null,null,{"v":0,"d":"0.00"},null,{"v":0,"d":"0.00%"},{"v":0,"d":"0.00"},{"v":0,"d":"0.00"},{"v":0,"d":"0.00"},null,"prüfen",{"$f":"IFERROR(OFFSET(MD!$U$5,MATCH(Grundlagen_Abrechnung_KAE!$E1509,MD_GENDER,0),0),\"\")","v":""},{"v":0,"d":"0.00"},null,{"v":0,"d":"0.00"},{"$f":"IF(F1509=\"Arbeitgeberähnliche Stellung\",OFFSET(MD!$Q$5,MATCH(Grundlagen_Abrechnung_KAE!$AK$7,MD_JAHR,0),0)*$H1509,IF(J1509>0,AC1509,I1509))","v":{"v":0,"d":"0.00"}},null,{"$f":"OFFSET(MD!$P$5,MATCH($AK$7,MD_JAHR,0),0)*12","v":{"$error":"#VALUE!"}},{"v":0,"d":"0.00"}]
[{"$nulls":14},{"$f":"IF($B1510=\"\",\"\",IF(F1510=\"Arbeitgeberähnliche Stellung\",OFFSET(MD!$Q$5,MATCH(Grundlagen_Abrechnung_KAE!$AK$7,MD_JAHR,0),0)*$H1510,IF(((AD1510/12*M1510*12)+N1510)>AF1510,AF1510/12,((AD1510/12*M1510*12)+N1510)/12)))","v":""},null,null,{"v":0,"d":"0.00"},null,{"v":0,"d":"0.00%"},{"v":0,"d":"0.00"},{"v":0,"d":"0.00"},{"v":0,"d":"0.00"},null,"prüfen",{"$f":"IFERROR(OFFSET(MD!$U$5,MATCH(Grundlagen_Abrechnung_KAE!$E1510,MD_GENDER,0),0),\"\")","v":""},{"v":0,"d":"0.00"},null,{"v":0,"d":"0.00"},{"$f":"IF(F1510=\"Arbeitgeberähnliche Stellung\",OFFSET(MD!$Q$5,MATCH(Grundlagen_Abrechnung_KAE!$AK$7,MD_JAHR,0),0)*$H1510,IF(J1510>0,AC1510,I1510))","v":{"v":0,"d":"0.00"}},null,{"$f":"OFFSET(MD!$P$5,MATCH($AK$7,MD_JAHR,0),0)*12","v":{"$error":"#VALUE!"}},{"v":0,"d":"0.00"}]
[{"$nulls":14},{"$f":"IF($B1511=\"\",\"\",IF(F1511=\"Arbeitgeberähnliche Stellung\",OFFSET(MD!$Q$5,MATCH(Grundlagen_Abrechnung_KAE!$AK$7,MD_JAHR,0),0)*$H1511,IF(((AD1511/12*M1511*12)+N1511)>AF1511,AF1511/12,((AD1511/12*M1511*12)+N1511)/12)))","v":""},null,null,{"v":0,"d":"0.00"},null,{"v":0,"d":"0.00%"},{"v":0,"d":"0.00"},{"v":0,"d":"0.00"},{"v":0,"d":"0.00"},null,"prüfen",{"$f":"IFERROR(OFFSET(MD!$U$5,MATCH(Grundlagen_Abrechnung_KAE!$E1511,MD_GENDER,0),0),\"\")","v":""},{"v":0,"d":"0.00"},null,{"v":0,"d":"0.00"},{"$f":"IF(F1511=\"Arbeitgeberähnliche Stellung\",OFFSET(MD!$Q$5,MATCH(Grundlagen_Abrechnung_KAE!$AK$7,MD_JAHR,0),0)*$H1511,IF(J1511>0,AC1511,I1511))","v":{"v":0,"d":"0.00"}},null,{"$f":"OFFSET(MD!$P$5,MATCH($AK$7,MD_JAHR,0),0)*12","v":{"$error":"#VALUE!"}},{"v":0,"d":"0.00"}]
[{"$nulls":14},{"$f":"IF($B1512=\"\",\"\",IF(F1512=\"Arbeitgeberähnliche Stellung\",OFFSET(MD!$Q$5,MATCH(Grundlagen_Abrechnung_KAE!$AK$7,MD_JAHR,0),0)*$H1512,IF(((AD1512/12*M1512*12)+N1512)>AF1512,AF1512/12,((AD1512/12*M1512*12)+N1512)/12)))","v":""},null,null,{"v":0,"d":"0.00"},null,{"v":0,"d":"0.00%"},{"v":0,"d":"0.00"},{"v":0,"d":"0.00"},{"v":0,"d":"0.00"},null,"prüfen",{"$f":"IFERROR(OFFSET(MD!$U$5,MATCH(Grundlagen_Abrechnung_KAE!$E1512,MD_GENDER,0),0),\"\")","v":""},{"v":0,"d":"0.00"},null,{"v":0,"d":"0.00"},{"$f":"IF(F1512=\"Arbeitgeberähnliche Stellung\",OFFSET(MD!$Q$5,MATCH(Grundlagen_Abrechnung_KAE!$AK$7,MD_JAHR,0),0)*$H1512,IF(J1512>0,AC1512,I1512))","v":{"v":0,"d":"0.00"}},null,{"$f":"OFFSET(MD!$P$5,MATCH($AK$7,MD_JAHR,0),0)*12","v":{"$error":"#VALUE!"}},{"v":0,"d":"0.00"}]
[{"$nulls":14},{"$f":"IF($B1513=\"\",\"\",IF(F1513=\"Arbeitgeberähnliche Stellung\",OFFSET(MD!$Q$5,MATCH(Grundlagen_Abrechnung_KAE!$AK$7,MD_JAHR,0),0)*$H1513,IF(((AD1513/12*M1513*12)+N1513)>AF1513,AF1513/12,((AD1513/12*M1513*12)+N1513)/12)))","v":""},null,null,{"v":0,"d":"0.00"},null,{"v":0,"d":"0.00%"},{"v":0,"d":"0.00"},{"v":0,"d":"0.00"},{"v":0,"d":"0.00"},null,"prüfen",{"$f":"IFERROR(OFFSET(MD!$U$5,MATCH(Grundlagen_Abrechnung_KAE!$E1513,MD_GENDER,0),0),\"\")","v":""},{"v":0,"d":"0.00"},null,{"v":0,"d":"0.00"},{"$f":"IF(F1513=\"Arbeitgeberähnliche Stellung\",OFFSET(MD!$Q$5,MATCH(Grundlagen_Abrechnung_KAE!$AK$7,MD_JAHR,0),0)*$H1513,IF(J1513>0,AC1513,I1513))","v":{"v":0,"d":"0.00"}},null,{"$f":"OFFSET(MD!$P$5,MATCH($AK$7,MD_JAHR,0),0)*12","v":{"$error":"#VALUE!"}},{"v":0,"d":"0.00"}]
[{"$nulls":14},{"$f":"IF($B1514=\"\",\"\",IF(F1514=\"Arbeitgeberähnliche Stellung\",OFFSET(MD!$Q$5,MATCH(Grundlagen_Abrechnung_KAE!$AK$7,MD_JAHR,0),0)*$H1514,IF(((AD1514/12*M1514*12)+N1514)>AF1514,AF1514/12,((AD1514/12*M1514*12)+N1514)/12)))","v":""},null,null,{"v":0,"d":"0.00"},null,{"v":0,"d":"0.00%"},{"v":0,"d":"0.00"},{"v":0,"d":"0.00"},{"v":0,"d":"0.00"},null,"prüfen",{"$f":"IFERROR(OFFSET(MD!$U$5,MATCH(Grundlagen_Abrechnung_KAE!$E1514,MD_GENDER,0),0),\"\")","v":""},{"v":0,"d":"0.00"},null,{"v":0,"d":"0.00"},{"$f":"IF(F1514=\"Arbeitgeberähnliche Stellung\",OFFSET(MD!$Q$5,MATCH(Grundlagen_Abrechnung_KAE!$AK$7,MD_JAHR,0),0)*$H1514,IF(J1514>0,AC1514,I1514))","v":{"v":0,"d":"0.00"}},null,{"$f":"OFFSET(MD!$P$5,MATCH($AK$7,MD_JAHR,0),0)*12","v":{"$error":"#VALUE!"}},{"v":0,"d":"0.00"}]
[{"$nulls":14},{"$f":"IF($B1515=\"\",\"\",IF(F1515=\"Arbeitgeberähnliche Stellung\",OFFSET(MD!$Q$5,MATCH(Grundlagen_Abrechnung_KAE!$AK$7,MD_JAHR,0),0)*$H1515,IF(((AD1515/12*M1515*12)+N1515)>AF1515,AF1515/12,((AD1515/12*M1515*12)+N1515)/12)))","v":""},null,null,{"v":0,"d":"0.00"},null,{"v":0,"d":"0.00%"},{"v":0,"d":"0.00"},{"v":0,"d":"0.00"},{"v":0,"d":"0.00"},null,"prüfen",{"$f":"IFERROR(OFFSET(MD!$U$5,MATCH(Grundlagen_Abrechnung_KAE!$E1515,MD_GENDER,0),0),\"\")","v":""},{"v":0,"d":"0.00"},null,{"v":0,"d":"0.00"},{"$f":"IF(F1515=\"Arbeitgeberähnliche Stellung\",OFFSET(MD!$Q$5,MATCH(Grundlagen_Abrechnung_KAE!$AK$7,MD_JAHR,0),0)*$H1515,IF(J1515>0,AC1515,I1515))","v":{"v":0,"d":"0.00"}},null,{"$f":"OFFSET(MD!$P$5,MATCH($AK$7,MD_JAHR,0),0)*12","v":{"$error":"#VALUE!"}},{"v":0,"d":"0.00"}]
[{"$nulls":14},{"$f":"IF($B1516=\"\",\"\",IF(F1516=\"Arbeitgeberähnliche Stellung\",OFFSET(MD!$Q$5,MATCH(Grundlagen_Abrechnung_KAE!$AK$7,MD_JAHR,0),0)*$H1516,IF(((AD1516/12*M1516*12)+N1516)>AF1516,AF1516/12,((AD1516/12*M1516*12)+N1516)/12)))","v":""},null,null,{"v":0,"d":"0.00"},null,{"v":0,"d":"0.00%"},{"v":0,"d":"0.00"},{"v":0,"d":"0.00"},{"v":0,"d":"0.00"},null,"prüfen",{"$f":"IFERROR(OFFSET(MD!$U$5,MATCH(Grundlagen_Abrechnung_KAE!$E1516,MD_GENDER,0),0),\"\")","v":""},{"v":0,"d":"0.00"},null,{"v":0,"d":"0.00"},{"$f":"IF(F1516=\"Arbeitgeberähnliche Stellung\",OFFSET(MD!$Q$5,MATCH(Grundlagen_Abrechnung_KAE!$AK$7,MD_JAHR,0),0)*$H1516,IF(J1516>0,AC1516,I1516))","v":{"v":0,"d":"0.00"}},null,{"$f":"OFFSET(MD!$P$5,MATCH($AK$7,MD_JAHR,0),0)*12","v":{"$error":"#VALUE!"}},{"v":0,"d":"0.00"}]
[{"$nulls":14},{"$f":"IF($B1517=\"\",\"\",IF(F1517=\"Arbeitgeberähnliche Stellung\",OFFSET(MD!$Q$5,MATCH(Grundlagen_Abrechnung_KAE!$AK$7,MD_JAHR,0),0)*$H1517,IF(((AD1517/12*M1517*12)+N1517)>AF1517,AF1517/12,((AD1517/12*M1517*12)+N1517)/12)))","v":""},null,null,{"v":0,"d":"0.00"},null,{"v":0,"d":"0.00%"},{"v":0,"d":"0.00"},{"v":0,"d":"0.00"},{"v":0,"d":"0.00"},null,"prüfen",{"$f":"IFERROR(OFFSET(MD!$U$5,MATCH(Grundlagen_Abrechnung_KAE!$E1517,MD_GENDER,0),0),\"\")","v":""},{"v":0,"d":"0.00"},null,{"v":0,"d":"0.00"},{"$f":"IF(F1517=\"Arbeitgeberähnliche Stellung\",OFFSET(MD!$Q$5,MATCH(Grundlagen_Abrechnung_KAE!$AK$7,MD_JAHR,0),0)*$H1517,IF(J1517>0,AC1517,I1517))","v":{"v":0,"d":"0.00"}},null,{"$f":"OFFSET(MD!$P$5,MATCH($AK$7,MD_JAHR,0),0)*12","v":{"$error":"#VALUE!"}},{"v":0,"d":"0.00"}]
[{"$nulls":14},{"$f":"IF($B1518=\"\",\"\",IF(F1518=\"Arbeitgeberähnliche Stellung\",OFFSET(MD!$Q$5,MATCH(Grundlagen_Abrechnung_KAE!$AK$7,MD_JAHR,0),0)*$H1518,IF(((AD1518/12*M1518*12)+N1518)>AF1518,AF1518/12,((AD1518/12*M1518*12)+N1518)/12)))","v":""},null,null,{"v":0,"d":"0.00"},null,{"v":0,"d":"0.00%"},{"v":0,"d":"0.00"},{"v":0,"d":"0.00"},{"v":0,"d":"0.00"},null,"prüfen",{"$f":"IFERROR(OFFSET(MD!$U$5,MATCH(Grundlagen_Abrechnung_KAE!$E1518,MD_GENDER,0),0),\"\")","v":""},{"v":0,"d":"0.00"},null,{"v":0,"d":"0.00"},{"$f":"IF(F1518=\"Arbeitgeberähnliche Stellung\",OFFSET(MD!$Q$5,MATCH(Grundlagen_Abrechnung_KAE!$AK$7,MD_JAHR,0),0)*$H1518,IF(J1518>0,AC1518,I1518))","v":{"v":0,"d":"0.00"}},null,{"$f":"OFFSET(MD!$P$5,MATCH($AK$7,MD_JAHR,0),0)*12","v":{"$error":"#VALUE!"}},{"v":0,"d":"0.00"}]
[{"$nulls":14},{"$f":"IF($B1519=\"\",\"\",IF(F1519=\"Arbeitgeberähnliche Stellung\",OFFSET(MD!$Q$5,MATCH(Grundlagen_Abrechnung_KAE!$AK$7,MD_JAHR,0),0)*$H1519,IF(((AD1519/12*M1519*12)+N1519)>AF1519,AF1519/12,((AD1519/12*M1519*12)+N1519)/12)))","v":""},null,null,{"v":0,"d":"0.00"},null,{"v":0,"d":"0.00%"},{"v":0,"d":"0.00"},{"v":0,"d":"0.00"},{"v":0,"d":"0.00"},null,"prüfen",{"$f":"IFERROR(OFFSET(MD!$U$5,MATCH(Grundlagen_Abrechnung_KAE!$E1519,MD_GENDER,0),0),\"\")","v":""},{"v":0,"d":"0.00"},null,{"v":0,"d":"0.00"},{"$f":"IF(F1519=\"Arbeitgeberähnliche Stellung\",OFFSET(MD!$Q$5,MATCH(Grundlagen_Abrechnung_KAE!$AK$7,MD_JAHR,0),0)*$H1519,IF(J1519>0,AC1519,I1519))","v":{"v":0,"d":"0.00"}},null,{"$f":"OFFSET(MD!$P$5,MATCH($AK$7,MD_JAHR,0),0)*12","v":{"$error":"#VALUE!"}},{"v":0,"d":"0.00"}]
[{"$nulls":14},{"$f":"IF($B1520=\"\",\"\",IF(F1520=\"Arbeitgeberähnliche Stellung\",OFFSET(MD!$Q$5,MATCH(Grundlagen_Abrechnung_KAE!$AK$7,MD_JAHR,0),0)*$H1520,IF(((AD1520/12*M1520*12)+N1520)>AF1520,AF1520/12,((AD1520/12*M1520*12)+N1520)/12)))","v":""},null,null,{"v":0,"d":"0.00"},null,{"v":0,"d":"0.00%"},{"v":0,"d":"0.00"},{"v":0,"d":"0.00"},{"v":0,"d":"0.00"},null,"prüfen",{"$f":"IFERROR(OFFSET(MD!$U$5,MATCH(Grundlagen_Abrechnung_KAE!$E1520,MD_GENDER,0),0),\"\")","v":""},{"v":0,"d":"0.00"},null,{"v":0,"d":"0.00"},{"$f":"IF(F1520=\"Arbeitgeberähnliche Stellung\",OFFSET(MD!$Q$5,MATCH(Grundlagen_Abrechnung_KAE!$AK$7,MD_JAHR,0),0)*$H1520,IF(J1520>0,AC1520,I1520))","v":{"v":0,"d":"0.00"}},null,{"$f":"OFFSET(MD!$P$5,MATCH($AK$7,MD_JAHR,0),0)*12","v":{"$error":"#VALUE!"}},{"v":0,"d":"0.00"}]
[{"$nulls":14},{"$f":"IF($B1521=\"\",\"\",IF(F1521=\"Arbeitgeberähnliche Stellung\",OFFSET(MD!$Q$5,MATCH(Grundlagen_Abrechnung_KAE!$AK$7,MD_JAHR,0),0)*$H1521,IF(((AD1521/12*M1521*12)+N1521)>AF1521,AF1521/12,((AD1521/12*M1521*12)+N1521)/12)))","v":""},null,null,{"v":0,"d":"0.00"},null,{"v":0,"d":"0.00%"},{"v":0,"d":"0.00"},{"v":0,"d":"0.00"},{"v":0,"d":"0.00"},null,"prüfen",{"$f":"IFERROR(OFFSET(MD!$U$5,MATCH(Grundlagen_Abrechnung_KAE!$E1521,MD_GENDER,0),0),\"\")","v":""},{"v":0,"d":"0.00"},null,{"v":0,"d":"0.00"},{"$f":"IF(F1521=\"Arbeitgeberähnliche Stellung\",OFFSET(MD!$Q$5,MATCH(Grundlagen_Abrechnung_KAE!$AK$7,MD_JAHR,0),0)*$H1521,IF(J1521>0,AC1521,I1521))","v":{"v":0,"d":"0.00"}},null,{"$f":"OFFSET(MD!$P$5,MATCH($AK$7,MD_JAHR,0),0)*12","v":{"$error":"#VALUE!"}},{"v":0,"d":"0.00"}]
[{"$nulls":14},{"$f":"IF($B1522=\"\",\"\",IF(F1522=\"Arbeitgeberähnliche Stellung\",OFFSET(MD!$Q$5,MATCH(Grundlagen_Abrechnung_KAE!$AK$7,MD_JAHR,0),0)*$H1522,IF(((AD1522/12*M1522*12)+N1522)>AF1522,AF1522/12,((AD1522/12*M1522*12)+N1522)/12)))","v":""},null,null,{"v":0,"d":"0.00"},null,{"v":0,"d":"0.00%"},{"v":0,"d":"0.00"},{"v":0,"d":"0.00"},{"v":0,"d":"0.00"},null,"prüfen",{"$f":"IFERROR(OFFSET(MD!$U$5,MATCH(Grundlagen_Abrechnung_KAE!$E1522,MD_GENDER,0),0),\"\")","v":""},{"v":0,"d":"0.00"},null,{"v":0,"d":"0.00"},{"$f":"IF(F1522=\"Arbeitgeberähnliche Stellung\",OFFSET(MD!$Q$5,MATCH(Grundlagen_Abrechnung_KAE!$AK$7,MD_JAHR,0),0)*$H1522,IF(J1522>0,AC1522,I1522))","v":{"v":0,"d":"0.00"}},null,{"$f":"OFFSET(MD!$P$5,MATCH($AK$7,MD_JAHR,0),0)*12","v":{"$error":"#VALUE!"}},{"v":0,"d":"0.00"}]
[{"$nulls":14},{"$f":"IF($B1523=\"\",\"\",IF(F1523=\"Arbeitgeberähnliche Stellung\",OFFSET(MD!$Q$5,MATCH(Grundlagen_Abrechnung_KAE!$AK$7,MD_JAHR,0),0)*$H1523,IF(((AD1523/12*M1523*12)+N1523)>AF1523,AF1523/12,((AD1523/12*M1523*12)+N1523)/12)))","v":""},null,null,{"v":0,"d":"0.00"},null,{"v":0,"d":"0.00%"},{"v":0,"d":"0.00"},{"v":0,"d":"0.00"},{"v":0,"d":"0.00"},null,"prüfen",{"$f":"IFERROR(OFFSET(MD!$U$5,MATCH(Grundlagen_Abrechnung_KAE!$E1523,MD_GENDER,0),0),\"\")","v":""},{"v":0,"d":"0.00"},null,{"v":0,"d":"0.00"},{"$f":"IF(F1523=\"Arbeitgeberähnliche Stellung\",OFFSET(MD!$Q$5,MATCH(Grundlagen_Abrechnung_KAE!$AK$7,MD_JAHR,0),0)*$H1523,IF(J1523>0,AC1523,I1523))","v":{"v":0,"d":"0.00"}},null,{"$f":"OFFSET(MD!$P$5,MATCH($AK$7,MD_JAHR,0),0)*12","v":{"$error":"#VALUE!"}},{"v":0,"d":"0.00"}]
[{"$nulls":14},{"$f":"IF($B1524=\"\",\"\",IF(F1524=\"Arbeitgeberähnliche Stellung\",OFFSET(MD!$Q$5,MATCH(Grundlagen_Abrechnung_KAE!$AK$7,MD_JAHR,0),0)*$H1524,IF(((AD1524/12*M1524*12)+N1524)>AF1524,AF1524/12,((AD1524/12*M1524*12)+N1524)/12)))","v":""},null,null,{"v":0,"d":"0.00"},null,{"v":0,"d":"0.00%"},{"v":0,"d":"0.00"},{"v":0,"d":"0.00"},{"v":0,"d":"0.00"},null,"prüfen",{"$f":"IFERROR(OFFSET(MD!$U$5,MATCH(Grundlagen_Abrechnung_KAE!$E1524,MD_GENDER,0),0),\"\")","v":""},{"v":0,"d":"0.00"},null,{"v":0,"d":"0.00"},{"$f":"IF(F1524=\"Arbeitgeberähnliche Stellung\",OFFSET(MD!$Q$5,MATCH(Grundlagen_Abrechnung_KAE!$AK$7,MD_JAHR,0),0)*$H1524,IF(J1524>0,AC1524,I1524))","v":{"v":0,"d":"0.00"}},null,{"$f":"OFFSET(MD!$P$5,MATCH($AK$7,MD_JAHR,0),0)*12","v":{"$error":"#VALUE!"}},{"v":0,"d":"0.00"}]
[{"$nulls":14},{"$f":"IF($B1525=\"\",\"\",IF(F1525=\"Arbeitgeberähnliche Stellung\",OFFSET(MD!$Q$5,MATCH(Grundlagen_Abrechnung_KAE!$AK$7,MD_JAHR,0),0)*$H1525,IF(((AD1525/12*M1525*12)+N1525)>AF1525,AF1525/12,((AD1525/12*M1525*12)+N1525)/12)))","v":""},null,null,{"v":0,"d":"0.00"},null,{"v":0,"d":"0.00%"},{"v":0,"d":"0.00"},{"v":0,"d":"0.00"},{"v":0,"d":"0.00"},null,"prüfen",{"$f":"IFERROR(OFFSET(MD!$U$5,MATCH(Grundlagen_Abrechnung_KAE!$E1525,MD_GENDER,0),0),\"\")","v":""},{"v":0,"d":"0.00"},null,{"v":0,"d":"0.00"},{"$f":"IF(F1525=\"Arbeitgeberähnliche Stellung\",OFFSET(MD!$Q$5,MATCH(Grundlagen_Abrechnung_KAE!$AK$7,MD_JAHR,0),0)*$H1525,IF(J1525>0,AC1525,I1525))","v":{"v":0,"d":"0.00"}},null,{"$f":"OFFSET(MD!$P$5,MATCH($AK$7,MD_JAHR,0),0)*12","v":{"$error":"#VALUE!"}},{"v":0,"d":"0.00"}]
[{"$nulls":14},{"$f":"IF($B1526=\"\",\"\",IF(F1526=\"Arbeitgeberähnliche Stellung\",OFFSET(MD!$Q$5,MATCH(Grundlagen_Abrechnung_KAE!$AK$7,MD_JAHR,0),0)*$H1526,IF(((AD1526/12*M1526*12)+N1526)>AF1526,AF1526/12,((AD1526/12*M1526*12)+N1526)/12)))","v":""},null,null,{"v":0,"d":"0.00"},null,{"v":0,"d":"0.00%"},{"v":0,"d":"0.00"},{"v":0,"d":"0.00"},{"v":0,"d":"0.00"},null,"prüfen",{"$f":"IFERROR(OFFSET(MD!$U$5,MATCH(Grundlagen_Abrechnung_KAE!$E1526,MD_GENDER,0),0),\"\")","v":""},{"v":0,"d":"0.00"},null,{"v":0,"d":"0.00"},{"$f":"IF(F1526=\"Arbeitgeberähnliche Stellung\",OFFSET(MD!$Q$5,MATCH(Grundlagen_Abrechnung_KAE!$AK$7,MD_JAHR,0),0)*$H1526,IF(J1526>0,AC1526,I1526))","v":{"v":0,"d":"0.00"}},null,{"$f":"OFFSET(MD!$P$5,MATCH($AK$7,MD_JAHR,0),0)*12","v":{"$error":"#VALUE!"}},{"v":0,"d":"0.00"}]
[{"$nulls":14},{"$f":"IF($B1527=\"\",\"\",IF(F1527=\"Arbeitgeberähnliche Stellung\",OFFSET(MD!$Q$5,MATCH(Grundlagen_Abrechnung_KAE!$AK$7,MD_JAHR,0),0)*$H1527,IF(((AD1527/12*M1527*12)+N1527)>AF1527,AF1527/12,((AD1527/12*M1527*12)+N1527)/12)))","v":""},null,null,{"v":0,"d":"0.00"},null,{"v":0,"d":"0.00%"},{"v":0,"d":"0.00"},{"v":0,"d":"0.00"},{"v":0,"d":"0.00"},null,"prüfen",{"$f":"IFERROR(OFFSET(MD!$U$5,MATCH(Grundlagen_Abrechnung_KAE!$E1527,MD_GENDER,0),0),\"\")","v":""},{"v":0,"d":"0.00"},null,{"v":0,"d":"0.00"},{"$f":"IF(F1527=\"Arbeitgeberähnliche Stellung\",OFFSET(MD!$Q$5,MATCH(Grundlagen_Abrechnung_KAE!$AK$7,MD_JAHR,0),0)*$H1527,IF(J1527>0,AC1527,I1527))","v":{"v":0,"d":"0.00"}},null,{"$f":"OFFSET(MD!$P$5,MATCH($AK$7,MD_JAHR,0),0)*12","v":{"$error":"#VALUE!"}},{"v":0,"d":"0.00"}]
[{"$nulls":14},{"$f":"IF($B1528=\"\",\"\",IF(F1528=\"Arbeitgeberähnliche Stellung\",OFFSET(MD!$Q$5,MATCH(Grundlagen_Abrechnung_KAE!$AK$7,MD_JAHR,0),0)*$H1528,IF(((AD1528/12*M1528*12)+N1528)>AF1528,AF1528/12,((AD1528/12*M1528*12)+N1528)/12)))","v":""},null,null,{"v":0,"d":"0.00"},null,{"v":0,"d":"0.00%"},{"v":0,"d":"0.00"},{"v":0,"d":"0.00"},{"v":0,"d":"0.00"},null,"prüfen",{"$f":"IFERROR(OFFSET(MD!$U$5,MATCH(Grundlagen_Abrechnung_KAE!$E1528,MD_GENDER,0),0),\"\")","v":""},{"v":0,"d":"0.00"},null,{"v":0,"d":"0.00"},{"$f":"IF(F1528=\"Arbeitgeberähnliche Stellung\",OFFSET(MD!$Q$5,MATCH(Grundlagen_Abrechnung_KAE!$AK$7,MD_JAHR,0),0)*$H1528,IF(J1528>0,AC1528,I1528))","v":{"v":0,"d":"0.00"}},null,{"$f":"OFFSET(MD!$P$5,MATCH($AK$7,MD_JAHR,0),0)*12","v":{"$error":"#VALUE!"}},{"v":0,"d":"0.00"}]
[{"$nulls":14},{"$f":"IF($B1529=\"\",\"\",IF(F1529=\"Arbeitgeberähnliche Stellung\",OFFSET(MD!$Q$5,MATCH(Grundlagen_Abrechnung_KAE!$AK$7,MD_JAHR,0),0)*$H1529,IF(((AD1529/12*M1529*12)+N1529)>AF1529,AF1529/12,((AD1529/12*M1529*12)+N1529)/12)))","v":""},null,null,{"v":0,"d":"0.00"},null,{"v":0,"d":"0.00%"},{"v":0,"d":"0.00"},{"v":0,"d":"0.00"},{"v":0,"d":"0.00"},null,"prüfen",{"$f":"IFERROR(OFFSET(MD!$U$5,MATCH(Grundlagen_Abrechnung_KAE!$E1529,MD_GENDER,0),0),\"\")","v":""},{"v":0,"d":"0.00"},null,{"v":0,"d":"0.00"},{"$f":"IF(F1529=\"Arbeitgeberähnliche Stellung\",OFFSET(MD!$Q$5,MATCH(Grundlagen_Abrechnung_KAE!$AK$7,MD_JAHR,0),0)*$H1529,IF(J1529>0,AC1529,I1529))","v":{"v":0,"d":"0.00"}},null,{"$f":"OFFSET(MD!$P$5,MATCH($AK$7,MD_JAHR,0),0)*12","v":{"$error":"#VALUE!"}},{"v":0,"d":"0.00"}]
[{"$nulls":14},{"$f":"IF($B1530=\"\",\"\",IF(F1530=\"Arbeitgeberähnliche Stellung\",OFFSET(MD!$Q$5,MATCH(Grundlagen_Abrechnung_KAE!$AK$7,MD_JAHR,0),0)*$H1530,IF(((AD1530/12*M1530*12)+N1530)>AF1530,AF1530/12,((AD1530/12*M1530*12)+N1530)/12)))","v":""},null,null,{"v":0,"d":"0.00"},null,{"v":0,"d":"0.00%"},{"v":0,"d":"0.00"},{"v":0,"d":"0.00"},{"v":0,"d":"0.00"},null,"prüfen",{"$f":"IFERROR(OFFSET(MD!$U$5,MATCH(Grundlagen_Abrechnung_KAE!$E1530,MD_GENDER,0),0),\"\")","v":""},{"v":0,"d":"0.00"},null,{"v":0,"d":"0.00"},{"$f":"IF(F1530=\"Arbeitgeberähnliche Stellung\",OFFSET(MD!$Q$5,MATCH(Grundlagen_Abrechnung_KAE!$AK$7,MD_JAHR,0),0)*$H1530,IF(J1530>0,AC1530,I1530))","v":{"v":0,"d":"0.00"}},null,{"$f":"OFFSET(MD!$P$5,MATCH($AK$7,MD_JAHR,0),0)*12","v":{"$error":"#VALUE!"}},{"v":0,"d":"0.00"}]
[{"$nulls":14},{"$f":"IF($B1531=\"\",\"\",IF(F1531=\"Arbeitgeberähnliche Stellung\",OFFSET(MD!$Q$5,MATCH(Grundlagen_Abrechnung_KAE!$AK$7,MD_JAHR,0),0)*$H1531,IF(((AD1531/12*M1531*12)+N1531)>AF1531,AF1531/12,((AD1531/12*M1531*12)+N1531)/12)))","v":""},null,null,{"v":0,"d":"0.00"},null,{"v":0,"d":"0.00%"},{"v":0,"d":"0.00"},{"v":0,"d":"0.00"},{"v":0,"d":"0.00"},null,"prüfen",{"$f":"IFERROR(OFFSET(MD!$U$5,MATCH(Grundlagen_Abrechnung_KAE!$E1531,MD_GENDER,0),0),\"\")","v":""},{"v":0,"d":"0.00"},null,{"v":0,"d":"0.00"},{"$f":"IF(F1531=\"Arbeitgeberähnliche Stellung\",OFFSET(MD!$Q$5,MATCH(Grundlagen_Abrechnung_KAE!$AK$7,MD_JAHR,0),0)*$H1531,IF(J1531>0,AC1531,I1531))","v":{"v":0,"d":"0.00"}},null,{"$f":"OFFSET(MD!$P$5,MATCH($AK$7,MD_JAHR,0),0)*12","v":{"$error":"#VALUE!"}},{"v":0,"d":"0.00"}]
[{"$nulls":14},{"$f":"IF($B1532=\"\",\"\",IF(F1532=\"Arbeitgeberähnliche Stellung\",OFFSET(MD!$Q$5,MATCH(Grundlagen_Abrechnung_KAE!$AK$7,MD_JAHR,0),0)*$H1532,IF(((AD1532/12*M1532*12)+N1532)>AF1532,AF1532/12,((AD1532/12*M1532*12)+N1532)/12)))","v":""},null,null,{"v":0,"d":"0.00"},null,{"v":0,"d":"0.00%"},{"v":0,"d":"0.00"},{"v":0,"d":"0.00"},{"v":0,"d":"0.00"},null,"prüfen",{"$f":"IFERROR(OFFSET(MD!$U$5,MATCH(Grundlagen_Abrechnung_KAE!$E1532,MD_GENDER,0),0),\"\")","v":""},{"v":0,"d":"0.00"},null,{"v":0,"d":"0.00"},{"$f":"IF(F1532=\"Arbeitgeberähnliche Stellung\",OFFSET(MD!$Q$5,MATCH(Grundlagen_Abrechnung_KAE!$AK$7,MD_JAHR,0),0)*$H1532,IF(J1532>0,AC1532,I1532))","v":{"v":0,"d":"0.00"}},null,{"$f":"OFFSET(MD!$P$5,MATCH($AK$7,MD_JAHR,0),0)*12","v":{"$error":"#VALUE!"}},{"v":0,"d":"0.00"}]
[{"$nulls":14},{"$f":"IF($B1533=\"\",\"\",IF(F1533=\"Arbeitgeberähnliche Stellung\",OFFSET(MD!$Q$5,MATCH(Grundlagen_Abrechnung_KAE!$AK$7,MD_JAHR,0),0)*$H1533,IF(((AD1533/12*M1533*12)+N1533)>AF1533,AF1533/12,((AD1533/12*M1533*12)+N1533)/12)))","v":""},null,null,{"v":0,"d":"0.00"},null,{"v":0,"d":"0.00%"},{"v":0,"d":"0.00"},{"v":0,"d":"0.00"},{"v":0,"d":"0.00"},null,"prüfen",{"$f":"IFERROR(OFFSET(MD!$U$5,MATCH(Grundlagen_Abrechnung_KAE!$E1533,MD_GENDER,0),0),\"\")","v":""},{"v":0,"d":"0.00"},null,{"v":0,"d":"0.00"},{"$f":"IF(F1533=\"Arbeitgeberähnliche Stellung\",OFFSET(MD!$Q$5,MATCH(Grundlagen_Abrechnung_KAE!$AK$7,MD_JAHR,0),0)*$H1533,IF(J1533>0,AC1533,I1533))","v":{"v":0,"d":"0.00"}},null,{"$f":"OFFSET(MD!$P$5,MATCH($AK$7,MD_JAHR,0),0)*12","v":{"$error":"#VALUE!"}},{"v":0,"d":"0.00"}]
[{"$nulls":14},{"$f":"IF($B1534=\"\",\"\",IF(F1534=\"Arbeitgeberähnliche Stellung\",OFFSET(MD!$Q$5,MATCH(Grundlagen_Abrechnung_KAE!$AK$7,MD_JAHR,0),0)*$H1534,IF(((AD1534/12*M1534*12)+N1534)>AF1534,AF1534/12,((AD1534/12*M1534*12)+N1534)/12)))","v":""},null,null,{"v":0,"d":"0.00"},null,{"v":0,"d":"0.00%"},{"v":0,"d":"0.00"},{"v":0,"d":"0.00"},{"v":0,"d":"0.00"},null,"prüfen",{"$f":"IFERROR(OFFSET(MD!$U$5,MATCH(Grundlagen_Abrechnung_KAE!$E1534,MD_GENDER,0),0),\"\")","v":""},{"v":0,"d":"0.00"},null,{"v":0,"d":"0.00"},{"$f":"IF(F1534=\"Arbeitgeberähnliche Stellung\",OFFSET(MD!$Q$5,MATCH(Grundlagen_Abrechnung_KAE!$AK$7,MD_JAHR,0),0)*$H1534,IF(J1534>0,AC1534,I1534))","v":{"v":0,"d":"0.00"}},null,{"$f":"OFFSET(MD!$P$5,MATCH($AK$7,MD_JAHR,0),0)*12","v":{"$error":"#VALUE!"}},{"v":0,"d":"0.00"}]
[{"$nulls":14},{"$f":"IF($B1535=\"\",\"\",IF(F1535=\"Arbeitgeberähnliche Stellung\",OFFSET(MD!$Q$5,MATCH(Grundlagen_Abrechnung_KAE!$AK$7,MD_JAHR,0),0)*$H1535,IF(((AD1535/12*M1535*12)+N1535)>AF1535,AF1535/12,((AD1535/12*M1535*12)+N1535)/12)))","v":""},null,null,{"v":0,"d":"0.00"},null,{"v":0,"d":"0.00%"},{"v":0,"d":"0.00"},{"v":0,"d":"0.00"},{"v":0,"d":"0.00"},null,"prüfen",{"$f":"IFERROR(OFFSET(MD!$U$5,MATCH(Grundlagen_Abrechnung_KAE!$E1535,MD_GENDER,0),0),\"\")","v":""},{"v":0,"d":"0.00"},null,{"v":0,"d":"0.00"},{"$f":"IF(F1535=\"Arbeitgeberähnliche Stellung\",OFFSET(MD!$Q$5,MATCH(Grundlagen_Abrechnung_KAE!$AK$7,MD_JAHR,0),0)*$H1535,IF(J1535>0,AC1535,I1535))","v":{"v":0,"d":"0.00"}},null,{"$f":"OFFSET(MD!$P$5,MATCH($AK$7,MD_JAHR,0),0)*12","v":{"$error":"#VALUE!"}},{"v":0,"d":"0.00"}]
[{"$nulls":14},{"$f":"IF($B1536=\"\",\"\",IF(F1536=\"Arbeitgeberähnliche Stellung\",OFFSET(MD!$Q$5,MATCH(Grundlagen_Abrechnung_KAE!$AK$7,MD_JAHR,0),0)*$H1536,IF(((AD1536/12*M1536*12)+N1536)>AF1536,AF1536/12,((AD1536/12*M1536*12)+N1536)/12)))","v":""},null,null,{"v":0,"d":"0.00"},null,{"v":0,"d":"0.00%"},{"v":0,"d":"0.00"},{"v":0,"d":"0.00"},{"v":0,"d":"0.00"},null,"prüfen",{"$f":"IFERROR(OFFSET(MD!$U$5,MATCH(Grundlagen_Abrechnung_KAE!$E1536,MD_GENDER,0),0),\"\")","v":""},{"v":0,"d":"0.00"},null,{"v":0,"d":"0.00"},{"$f":"IF(F1536=\"Arbeitgeberähnliche Stellung\",OFFSET(MD!$Q$5,MATCH(Grundlagen_Abrechnung_KAE!$AK$7,MD_JAHR,0),0)*$H1536,IF(J1536>0,AC1536,I1536))","v":{"v":0,"d":"0.00"}},null,{"$f":"OFFSET(MD!$P$5,MATCH($AK$7,MD_JAHR,0),0)*12","v":{"$error":"#VALUE!"}},{"v":0,"d":"0.00"}]
[{"$nulls":14},{"$f":"IF($B1537=\"\",\"\",IF(F1537=\"Arbeitgeberähnliche Stellung\",OFFSET(MD!$Q$5,MATCH(Grundlagen_Abrechnung_KAE!$AK$7,MD_JAHR,0),0)*$H1537,IF(((AD1537/12*M1537*12)+N1537)>AF1537,AF1537/12,((AD1537/12*M1537*12)+N1537)/12)))","v":""},null,null,{"v":0,"d":"0.00"},null,{"v":0,"d":"0.00%"},{"v":0,"d":"0.00"},{"v":0,"d":"0.00"},{"v":0,"d":"0.00"},null,"prüfen",{"$f":"IFERROR(OFFSET(MD!$U$5,MATCH(Grundlagen_Abrechnung_KAE!$E1537,MD_GENDER,0),0),\"\")","v":""},{"v":0,"d":"0.00"},null,{"v":0,"d":"0.00"},{"$f":"IF(F1537=\"Arbeitgeberähnliche Stellung\",OFFSET(MD!$Q$5,MATCH(Grundlagen_Abrechnung_KAE!$AK$7,MD_JAHR,0),0)*$H1537,IF(J1537>0,AC1537,I1537))","v":{"v":0,"d":"0.00"}},null,{"$f":"OFFSET(MD!$P$5,MATCH($AK$7,MD_JAHR,0),0)*12","v":{"$error":"#VALUE!"}},{"v":0,"d":"0.00"}]
[{"$nulls":14},{"$f":"IF($B1538=\"\",\"\",IF(F1538=\"Arbeitgeberähnliche Stellung\",OFFSET(MD!$Q$5,MATCH(Grundlagen_Abrechnung_KAE!$AK$7,MD_JAHR,0),0)*$H1538,IF(((AD1538/12*M1538*12)+N1538)>AF1538,AF1538/12,((AD1538/12*M1538*12)+N1538)/12)))","v":""},null,null,{"v":0,"d":"0.00"},null,{"v":0,"d":"0.00%"},{"v":0,"d":"0.00"},{"v":0,"d":"0.00"},{"v":0,"d":"0.00"},null,"prüfen",{"$f":"IFERROR(OFFSET(MD!$U$5,MATCH(Grundlagen_Abrechnung_KAE!$E1538,MD_GENDER,0),0),\"\")","v":""},{"v":0,"d":"0.00"},null,{"v":0,"d":"0.00"},{"$f":"IF(F1538=\"Arbeitgeberähnliche Stellung\",OFFSET(MD!$Q$5,MATCH(Grundlagen_Abrechnung_KAE!$AK$7,MD_JAHR,0),0)*$H1538,IF(J1538>0,AC1538,I1538))","v":{"v":0,"d":"0.00"}},null,{"$f":"OFFSET(MD!$P$5,MATCH($AK$7,MD_JAHR,0),0)*12","v":{"$error":"#VALUE!"}},{"v":0,"d":"0.00"}]
[{"$nulls":14},{"$f":"IF($B1539=\"\",\"\",IF(F1539=\"Arbeitgeberähnliche Stellung\",OFFSET(MD!$Q$5,MATCH(Grundlagen_Abrechnung_KAE!$AK$7,MD_JAHR,0),0)*$H1539,IF(((AD1539/12*M1539*12)+N1539)>AF1539,AF1539/12,((AD1539/12*M1539*12)+N1539)/12)))","v":""},null,null,{"v":0,"d":"0.00"},null,{"v":0,"d":"0.00%"},{"v":0,"d":"0.00"},{"v":0,"d":"0.00"},{"v":0,"d":"0.00"},null,"prüfen",{"$f":"IFERROR(OFFSET(MD!$U$5,MATCH(Grundlagen_Abrechnung_KAE!$E1539,MD_GENDER,0),0),\"\")","v":""},{"v":0,"d":"0.00"},null,{"v":0,"d":"0.00"},{"$f":"IF(F1539=\"Arbeitgeberähnliche Stellung\",OFFSET(MD!$Q$5,MATCH(Grundlagen_Abrechnung_KAE!$AK$7,MD_JAHR,0),0)*$H1539,IF(J1539>0,AC1539,I1539))","v":{"v":0,"d":"0.00"}},null,{"$f":"OFFSET(MD!$P$5,MATCH($AK$7,MD_JAHR,0),0)*12","v":{"$error":"#VALUE!"}},{"v":0,"d":"0.00"}]
[{"$nulls":14},{"$f":"IF($B1540=\"\",\"\",IF(F1540=\"Arbeitgeberähnliche Stellung\",OFFSET(MD!$Q$5,MATCH(Grundlagen_Abrechnung_KAE!$AK$7,MD_JAHR,0),0)*$H1540,IF(((AD1540/12*M1540*12)+N1540)>AF1540,AF1540/12,((AD1540/12*M1540*12)+N1540)/12)))","v":""},null,null,{"v":0,"d":"0.00"},null,{"v":0,"d":"0.00%"},{"v":0,"d":"0.00"},{"v":0,"d":"0.00"},{"v":0,"d":"0.00"},null,"prüfen",{"$f":"IFERROR(OFFSET(MD!$U$5,MATCH(Grundlagen_Abrechnung_KAE!$E1540,MD_GENDER,0),0),\"\")","v":""},{"v":0,"d":"0.00"},null,{"v":0,"d":"0.00"},{"$f":"IF(F1540=\"Arbeitgeberähnliche Stellung\",OFFSET(MD!$Q$5,MATCH(Grundlagen_Abrechnung_KAE!$AK$7,MD_JAHR,0),0)*$H1540,IF(J1540>0,AC1540,I1540))","v":{"v":0,"d":"0.00"}},null,{"$f":"OFFSET(MD!$P$5,MATCH($AK$7,MD_JAHR,0),0)*12","v":{"$error":"#VALUE!"}},{"v":0,"d":"0.00"}]
[{"$nulls":14},{"$f":"IF($B1541=\"\",\"\",IF(F1541=\"Arbeitgeberähnliche Stellung\",OFFSET(MD!$Q$5,MATCH(Grundlagen_Abrechnung_KAE!$AK$7,MD_JAHR,0),0)*$H1541,IF(((AD1541/12*M1541*12)+N1541)>AF1541,AF1541/12,((AD1541/12*M1541*12)+N1541)/12)))","v":""},null,null,{"v":0,"d":"0.00"},null,{"v":0,"d":"0.00%"},{"v":0,"d":"0.00"},{"v":0,"d":"0.00"},{"v":0,"d":"0.00"},null,"prüfen",{"$f":"IFERROR(OFFSET(MD!$U$5,MATCH(Grundlagen_Abrechnung_KAE!$E1541,MD_GENDER,0),0),\"\")","v":""},{"v":0,"d":"0.00"},null,{"v":0,"d":"0.00"},{"$f":"IF(F1541=\"Arbeitgeberähnliche Stellung\",OFFSET(MD!$Q$5,MATCH(Grundlagen_Abrechnung_KAE!$AK$7,MD_JAHR,0),0)*$H1541,IF(J1541>0,AC1541,I1541))","v":{"v":0,"d":"0.00"}},null,{"$f":"OFFSET(MD!$P$5,MATCH($AK$7,MD_JAHR,0),0)*12","v":{"$error":"#VALUE!"}},{"v":0,"d":"0.00"}]
[{"$nulls":14},{"$f":"IF($B1542=\"\",\"\",IF(F1542=\"Arbeitgeberähnliche Stellung\",OFFSET(MD!$Q$5,MATCH(Grundlagen_Abrechnung_KAE!$AK$7,MD_JAHR,0),0)*$H1542,IF(((AD1542/12*M1542*12)+N1542)>AF1542,AF1542/12,((AD1542/12*M1542*12)+N1542)/12)))","v":""},null,null,{"v":0,"d":"0.00"},null,{"v":0,"d":"0.00%"},{"v":0,"d":"0.00"},{"v":0,"d":"0.00"},{"v":0,"d":"0.00"},null,"prüfen",{"$f":"IFERROR(OFFSET(MD!$U$5,MATCH(Grundlagen_Abrechnung_KAE!$E1542,MD_GENDER,0),0),\"\")","v":""},{"v":0,"d":"0.00"},null,{"v":0,"d":"0.00"},{"$f":"IF(F1542=\"Arbeitgeberähnliche Stellung\",OFFSET(MD!$Q$5,MATCH(Grundlagen_Abrechnung_KAE!$AK$7,MD_JAHR,0),0)*$H1542,IF(J1542>0,AC1542,I1542))","v":{"v":0,"d":"0.00"}},null,{"$f":"OFFSET(MD!$P$5,MATCH($AK$7,MD_JAHR,0),0)*12","v":{"$error":"#VALUE!"}},{"v":0,"d":"0.00"}]
[{"$nulls":14},{"$f":"IF($B1543=\"\",\"\",IF(F1543=\"Arbeitgeberähnliche Stellung\",OFFSET(MD!$Q$5,MATCH(Grundlagen_Abrechnung_KAE!$AK$7,MD_JAHR,0),0)*$H1543,IF(((AD1543/12*M1543*12)+N1543)>AF1543,AF1543/12,((AD1543/12*M1543*12)+N1543)/12)))","v":""},null,null,{"v":0,"d":"0.00"},null,{"v":0,"d":"0.00%"},{"v":0,"d":"0.00"},{"v":0,"d":"0.00"},{"v":0,"d":"0.00"},null,"prüfen",{"$f":"IFERROR(OFFSET(MD!$U$5,MATCH(Grundlagen_Abrechnung_KAE!$E1543,MD_GENDER,0),0),\"\")","v":""},{"v":0,"d":"0.00"},null,{"v":0,"d":"0.00"},{"$f":"IF(F1543=\"Arbeitgeberähnliche Stellung\",OFFSET(MD!$Q$5,MATCH(Grundlagen_Abrechnung_KAE!$AK$7,MD_JAHR,0),0)*$H1543,IF(J1543>0,AC1543,I1543))","v":{"v":0,"d":"0.00"}},null,{"$f":"OFFSET(MD!$P$5,MATCH($AK$7,MD_JAHR,0),0)*12","v":{"$error":"#VALUE!"}},{"v":0,"d":"0.00"}]
[{"$nulls":14},{"$f":"IF($B1544=\"\",\"\",IF(F1544=\"Arbeitgeberähnliche Stellung\",OFFSET(MD!$Q$5,MATCH(Grundlagen_Abrechnung_KAE!$AK$7,MD_JAHR,0),0)*$H1544,IF(((AD1544/12*M1544*12)+N1544)>AF1544,AF1544/12,((AD1544/12*M1544*12)+N1544)/12)))","v":""},null,null,{"v":0,"d":"0.00"},null,{"v":0,"d":"0.00%"},{"v":0,"d":"0.00"},{"v":0,"d":"0.00"},{"v":0,"d":"0.00"},null,"prüfen",{"$f":"IFERROR(OFFSET(MD!$U$5,MATCH(Grundlagen_Abrechnung_KAE!$E1544,MD_GENDER,0),0),\"\")","v":""},{"v":0,"d":"0.00"},null,{"v":0,"d":"0.00"},{"$f":"IF(F1544=\"Arbeitgeberähnliche Stellung\",OFFSET(MD!$Q$5,MATCH(Grundlagen_Abrechnung_KAE!$AK$7,MD_JAHR,0),0)*$H1544,IF(J1544>0,AC1544,I1544))","v":{"v":0,"d":"0.00"}},null,{"$f":"OFFSET(MD!$P$5,MATCH($AK$7,MD_JAHR,0),0)*12","v":{"$error":"#VALUE!"}},{"v":0,"d":"0.00"}]
[{"$nulls":14},{"$f":"IF($B1545=\"\",\"\",IF(F1545=\"Arbeitgeberähnliche Stellung\",OFFSET(MD!$Q$5,MATCH(Grundlagen_Abrechnung_KAE!$AK$7,MD_JAHR,0),0)*$H1545,IF(((AD1545/12*M1545*12)+N1545)>AF1545,AF1545/12,((AD1545/12*M1545*12)+N1545)/12)))","v":""},null,null,{"v":0,"d":"0.00"},null,{"v":0,"d":"0.00%"},{"v":0,"d":"0.00"},{"v":0,"d":"0.00"},{"v":0,"d":"0.00"},null,"prüfen",{"$f":"IFERROR(OFFSET(MD!$U$5,MATCH(Grundlagen_Abrechnung_KAE!$E1545,MD_GENDER,0),0),\"\")","v":""},{"v":0,"d":"0.00"},null,{"v":0,"d":"0.00"},{"$f":"IF(F1545=\"Arbeitgeberähnliche Stellung\",OFFSET(MD!$Q$5,MATCH(Grundlagen_Abrechnung_KAE!$AK$7,MD_JAHR,0),0)*$H1545,IF(J1545>0,AC1545,I1545))","v":{"v":0,"d":"0.00"}},null,{"$f":"OFFSET(MD!$P$5,MATCH($AK$7,MD_JAHR,0),0)*12","v":{"$error":"#VALUE!"}},{"v":0,"d":"0.00"}]
[{"$nulls":14},{"$f":"IF($B1546=\"\",\"\",IF(F1546=\"Arbeitgeberähnliche Stellung\",OFFSET(MD!$Q$5,MATCH(Grundlagen_Abrechnung_KAE!$AK$7,MD_JAHR,0),0)*$H1546,IF(((AD1546/12*M1546*12)+N1546)>AF1546,AF1546/12,((AD1546/12*M1546*12)+N1546)/12)))","v":""},null,null,{"v":0,"d":"0.00"},null,{"v":0,"d":"0.00%"},{"v":0,"d":"0.00"},{"v":0,"d":"0.00"},{"v":0,"d":"0.00"},null,"prüfen",{"$f":"IFERROR(OFFSET(MD!$U$5,MATCH(Grundlagen_Abrechnung_KAE!$E1546,MD_GENDER,0),0),\"\")","v":""},{"v":0,"d":"0.00"},null,{"v":0,"d":"0.00"},{"$f":"IF(F1546=\"Arbeitgeberähnliche Stellung\",OFFSET(MD!$Q$5,MATCH(Grundlagen_Abrechnung_KAE!$AK$7,MD_JAHR,0),0)*$H1546,IF(J1546>0,AC1546,I1546))","v":{"v":0,"d":"0.00"}},null,{"$f":"OFFSET(MD!$P$5,MATCH($AK$7,MD_JAHR,0),0)*12","v":{"$error":"#VALUE!"}},{"v":0,"d":"0.00"}]
[{"$nulls":14},{"$f":"IF($B1547=\"\",\"\",IF(F1547=\"Arbeitgeberähnliche Stellung\",OFFSET(MD!$Q$5,MATCH(Grundlagen_Abrechnung_KAE!$AK$7,MD_JAHR,0),0)*$H1547,IF(((AD1547/12*M1547*12)+N1547)>AF1547,AF1547/12,((AD1547/12*M1547*12)+N1547)/12)))","v":""},null,null,{"v":0,"d":"0.00"},null,{"v":0,"d":"0.00%"},{"v":0,"d":"0.00"},{"v":0,"d":"0.00"},{"v":0,"d":"0.00"},null,"prüfen",{"$f":"IFERROR(OFFSET(MD!$U$5,MATCH(Grundlagen_Abrechnung_KAE!$E1547,MD_GENDER,0),0),\"\")","v":""},{"v":0,"d":"0.00"},null,{"v":0,"d":"0.00"},{"$f":"IF(F1547=\"Arbeitgeberähnliche Stellung\",OFFSET(MD!$Q$5,MATCH(Grundlagen_Abrechnung_KAE!$AK$7,MD_JAHR,0),0)*$H1547,IF(J1547>0,AC1547,I1547))","v":{"v":0,"d":"0.00"}},null,{"$f":"OFFSET(MD!$P$5,MATCH($AK$7,MD_JAHR,0),0)*12","v":{"$error":"#VALUE!"}},{"v":0,"d":"0.00"}]
[{"$nulls":14},{"$f":"IF($B1548=\"\",\"\",IF(F1548=\"Arbeitgeberähnliche Stellung\",OFFSET(MD!$Q$5,MATCH(Grundlagen_Abrechnung_KAE!$AK$7,MD_JAHR,0),0)*$H1548,IF(((AD1548/12*M1548*12)+N1548)>AF1548,AF1548/12,((AD1548/12*M1548*12)+N1548)/12)))","v":""},null,null,{"v":0,"d":"0.00"},null,{"v":0,"d":"0.00%"},{"v":0,"d":"0.00"},{"v":0,"d":"0.00"},{"v":0,"d":"0.00"},null,"prüfen",{"$f":"IFERROR(OFFSET(MD!$U$5,MATCH(Grundlagen_Abrechnung_KAE!$E1548,MD_GENDER,0),0),\"\")","v":""},{"v":0,"d":"0.00"},null,{"v":0,"d":"0.00"},{"$f":"IF(F1548=\"Arbeitgeberähnliche Stellung\",OFFSET(MD!$Q$5,MATCH(Grundlagen_Abrechnung_KAE!$AK$7,MD_JAHR,0),0)*$H1548,IF(J1548>0,AC1548,I1548))","v":{"v":0,"d":"0.00"}},null,{"$f":"OFFSET(MD!$P$5,MATCH($AK$7,MD_JAHR,0),0)*12","v":{"$error":"#VALUE!"}},{"v":0,"d":"0.00"}]
[{"$nulls":14},{"$f":"IF($B1549=\"\",\"\",IF(F1549=\"Arbeitgeberähnliche Stellung\",OFFSET(MD!$Q$5,MATCH(Grundlagen_Abrechnung_KAE!$AK$7,MD_JAHR,0),0)*$H1549,IF(((AD1549/12*M1549*12)+N1549)>AF1549,AF1549/12,((AD1549/12*M1549*12)+N1549)/12)))","v":""},null,null,{"v":0,"d":"0.00"},null,{"v":0,"d":"0.00%"},{"v":0,"d":"0.00"},{"v":0,"d":"0.00"},{"v":0,"d":"0.00"},null,"prüfen",{"$f":"IFERROR(OFFSET(MD!$U$5,MATCH(Grundlagen_Abrechnung_KAE!$E1549,MD_GENDER,0),0),\"\")","v":""},{"v":0,"d":"0.00"},null,{"v":0,"d":"0.00"},{"$f":"IF(F1549=\"Arbeitgeberähnliche Stellung\",OFFSET(MD!$Q$5,MATCH(Grundlagen_Abrechnung_KAE!$AK$7,MD_JAHR,0),0)*$H1549,IF(J1549>0,AC1549,I1549))","v":{"v":0,"d":"0.00"}},null,{"$f":"OFFSET(MD!$P$5,MATCH($AK$7,MD_JAHR,0),0)*12","v":{"$error":"#VALUE!"}},{"v":0,"d":"0.00"}]
[{"$nulls":14},{"$f":"IF($B1550=\"\",\"\",IF(F1550=\"Arbeitgeberähnliche Stellung\",OFFSET(MD!$Q$5,MATCH(Grundlagen_Abrechnung_KAE!$AK$7,MD_JAHR,0),0)*$H1550,IF(((AD1550/12*M1550*12)+N1550)>AF1550,AF1550/12,((AD1550/12*M1550*12)+N1550)/12)))","v":""},null,null,{"v":0,"d":"0.00"},null,{"v":0,"d":"0.00%"},{"v":0,"d":"0.00"},{"v":0,"d":"0.00"},{"v":0,"d":"0.00"},null,"prüfen",{"$f":"IFERROR(OFFSET(MD!$U$5,MATCH(Grundlagen_Abrechnung_KAE!$E1550,MD_GENDER,0),0),\"\")","v":""},{"v":0,"d":"0.00"},null,{"v":0,"d":"0.00"},{"$f":"IF(F1550=\"Arbeitgeberähnliche Stellung\",OFFSET(MD!$Q$5,MATCH(Grundlagen_Abrechnung_KAE!$AK$7,MD_JAHR,0),0)*$H1550,IF(J1550>0,AC1550,I1550))","v":{"v":0,"d":"0.00"}},null,{"$f":"OFFSET(MD!$P$5,MATCH($AK$7,MD_JAHR,0),0)*12","v":{"$error":"#VALUE!"}},{"v":0,"d":"0.00"}]
[{"$nulls":14},{"$f":"IF($B1551=\"\",\"\",IF(F1551=\"Arbeitgeberähnliche Stellung\",OFFSET(MD!$Q$5,MATCH(Grundlagen_Abrechnung_KAE!$AK$7,MD_JAHR,0),0)*$H1551,IF(((AD1551/12*M1551*12)+N1551)>AF1551,AF1551/12,((AD1551/12*M1551*12)+N1551)/12)))","v":""},null,null,{"v":0,"d":"0.00"},null,{"v":0,"d":"0.00%"},{"v":0,"d":"0.00"},{"v":0,"d":"0.00"},{"v":0,"d":"0.00"},null,"prüfen",{"$f":"IFERROR(OFFSET(MD!$U$5,MATCH(Grundlagen_Abrechnung_KAE!$E1551,MD_GENDER,0),0),\"\")","v":""},{"v":0,"d":"0.00"},null,{"v":0,"d":"0.00"},{"$f":"IF(F1551=\"Arbeitgeberähnliche Stellung\",OFFSET(MD!$Q$5,MATCH(Grundlagen_Abrechnung_KAE!$AK$7,MD_JAHR,0),0)*$H1551,IF(J1551>0,AC1551,I1551))","v":{"v":0,"d":"0.00"}},null,{"$f":"OFFSET(MD!$P$5,MATCH($AK$7,MD_JAHR,0),0)*12","v":{"$error":"#VALUE!"}},{"v":0,"d":"0.00"}]
[{"$nulls":14},{"$f":"IF($B1552=\"\",\"\",IF(F1552=\"Arbeitgeberähnliche Stellung\",OFFSET(MD!$Q$5,MATCH(Grundlagen_Abrechnung_KAE!$AK$7,MD_JAHR,0),0)*$H1552,IF(((AD1552/12*M1552*12)+N1552)>AF1552,AF1552/12,((AD1552/12*M1552*12)+N1552)/12)))","v":""},null,null,{"v":0,"d":"0.00"},null,{"v":0,"d":"0.00%"},{"v":0,"d":"0.00"},{"v":0,"d":"0.00"},{"v":0,"d":"0.00"},null,"prüfen",{"$f":"IFERROR(OFFSET(MD!$U$5,MATCH(Grundlagen_Abrechnung_KAE!$E1552,MD_GENDER,0),0),\"\")","v":""},{"v":0,"d":"0.00"},null,{"v":0,"d":"0.00"},{"$f":"IF(F1552=\"Arbeitgeberähnliche Stellung\",OFFSET(MD!$Q$5,MATCH(Grundlagen_Abrechnung_KAE!$AK$7,MD_JAHR,0),0)*$H1552,IF(J1552>0,AC1552,I1552))","v":{"v":0,"d":"0.00"}},null,{"$f":"OFFSET(MD!$P$5,MATCH($AK$7,MD_JAHR,0),0)*12","v":{"$error":"#VALUE!"}},{"v":0,"d":"0.00"}]
[{"$nulls":14},{"$f":"IF($B1553=\"\",\"\",IF(F1553=\"Arbeitgeberähnliche Stellung\",OFFSET(MD!$Q$5,MATCH(Grundlagen_Abrechnung_KAE!$AK$7,MD_JAHR,0),0)*$H1553,IF(((AD1553/12*M1553*12)+N1553)>AF1553,AF1553/12,((AD1553/12*M1553*12)+N1553)/12)))","v":""},null,null,{"v":0,"d":"0.00"},null,{"v":0,"d":"0.00%"},{"v":0,"d":"0.00"},{"v":0,"d":"0.00"},{"v":0,"d":"0.00"},null,"prüfen",{"$f":"IFERROR(OFFSET(MD!$U$5,MATCH(Grundlagen_Abrechnung_KAE!$E1553,MD_GENDER,0),0),\"\")","v":""},{"v":0,"d":"0.00"},null,{"v":0,"d":"0.00"},{"$f":"IF(F1553=\"Arbeitgeberähnliche Stellung\",OFFSET(MD!$Q$5,MATCH(Grundlagen_Abrechnung_KAE!$AK$7,MD_JAHR,0),0)*$H1553,IF(J1553>0,AC1553,I1553))","v":{"v":0,"d":"0.00"}},null,{"$f":"OFFSET(MD!$P$5,MATCH($AK$7,MD_JAHR,0),0)*12","v":{"$error":"#VALUE!"}},{"v":0,"d":"0.00"}]
[{"$nulls":14},{"$f":"IF($B1554=\"\",\"\",IF(F1554=\"Arbeitgeberähnliche Stellung\",OFFSET(MD!$Q$5,MATCH(Grundlagen_Abrechnung_KAE!$AK$7,MD_JAHR,0),0)*$H1554,IF(((AD1554/12*M1554*12)+N1554)>AF1554,AF1554/12,((AD1554/12*M1554*12)+N1554)/12)))","v":""},null,null,{"v":0,"d":"0.00"},null,{"v":0,"d":"0.00%"},{"v":0,"d":"0.00"},{"v":0,"d":"0.00"},{"v":0,"d":"0.00"},null,"prüfen",{"$f":"IFERROR(OFFSET(MD!$U$5,MATCH(Grundlagen_Abrechnung_KAE!$E1554,MD_GENDER,0),0),\"\")","v":""},{"v":0,"d":"0.00"},null,{"v":0,"d":"0.00"},{"$f":"IF(F1554=\"Arbeitgeberähnliche Stellung\",OFFSET(MD!$Q$5,MATCH(Grundlagen_Abrechnung_KAE!$AK$7,MD_JAHR,0),0)*$H1554,IF(J1554>0,AC1554,I1554))","v":{"v":0,"d":"0.00"}},null,{"$f":"OFFSET(MD!$P$5,MATCH($AK$7,MD_JAHR,0),0)*12","v":{"$error":"#VALUE!"}},{"v":0,"d":"0.00"}]
[{"$nulls":14},{"$f":"IF($B1555=\"\",\"\",IF(F1555=\"Arbeitgeberähnliche Stellung\",OFFSET(MD!$Q$5,MATCH(Grundlagen_Abrechnung_KAE!$AK$7,MD_JAHR,0),0)*$H1555,IF(((AD1555/12*M1555*12)+N1555)>AF1555,AF1555/12,((AD1555/12*M1555*12)+N1555)/12)))","v":""},null,null,{"$f":"ROUND(IF(Q1555=\"\",0,IF(P1555=0,0,IF(Q1555>P1555,0,P1555-Q1555))),2)","v":{"v":0,"d":"0.00"}},null,{"$f":"IFERROR(R1555/P1555,0)","v":{"v":0,"d":"0.00%"}},{"$f":"IFERROR(IF(O1555-W1555=0,O1555,(O1555)*(1-T1555)),0)","v":{"v":0,"d":"0.00"}},{"v":0,"d":"0.00"},{"$f":"IFERROR(O1555*T1555,0)*0.8","v":{"v":0,"d":"0.00"}},null,{"$f":"IF(YEAR($G1555)>$Y$16,\"prüfen\",\"\")","v":"prüfen"},{"$f":"IFERROR(OFFSET(MD!$U$5,MATCH(Grundlagen_Abrechnung_KAE!$E1555,MD_GENDER,0),0),\"\")","v":""},{"$f":"IF(B1555=\"\",0,IF(YEAR(G1555)>$AA$16,0,1))","v":{"v":0,"d":"0.00"}},null,{"$f":"IF(J1555*K1555/6>J1555*L1555/12,J1555*K1555/6,J1555*L1555/12)","v":{"v":0,"d":"0.00"}},{"$f":"IF(F1555=\"Arbeitgeberähnliche Stellung\",OFFSET(MD!$Q$5,MATCH(Grundlagen_Abrechnung_KAE!$AK$7,MD_JAHR,0),0)*$H1555,IF(J1555>0,AC1555,I1555))","v":{"v":0,"d":"0.00"}},null,{"$f":"OFFSET(MD!$P$5,MATCH($AK$7,MD_JAHR,0),0)*12","v":{"$error":"#VALUE!"}},{"$f":"I1555*M1555+N1555","v":{"v":0,"d":"0.00"}}]
[{"$nulls":14},{"$f":"IF($B1556=\"\",\"\",IF(F1556=\"Arbeitgeberähnliche Stellung\",OFFSET(MD!$Q$5,MATCH(Grundlagen_Abrechnung_KAE!$AK$7,MD_JAHR,0),0)*$H1556,IF(((AD1556/12*M1556*12)+N1556)>AF1556,AF1556/12,((AD1556/12*M1556*12)+N1556)/12)))","v":""},null,null,{"v":0,"d":"0.00"},null,{"v":0,"d":"0.00%"},{"v":0,"d":"0.00"},{"$f":"IFERROR(O1556*T1556,0)","v":{"v":0,"d":"0.00"}},{"v":0,"d":"0.00"},null,"prüfen",{"$f":"IFERROR(OFFSET(MD!$U$5,MATCH(Grundlagen_Abrechnung_KAE!$E1556,MD_GENDER,0),0),\"\")","v":""},{"v":0,"d":"0.00"},null,{"v":0,"d":"0.00"},{"$f":"IF(F1556=\"Arbeitgeberähnliche Stellung\",OFFSET(MD!$Q$5,MATCH(Grundlagen_Abrechnung_KAE!$AK$7,MD_JAHR,0),0)*$H1556,IF(J1556>0,AC1556,I1556))","v":{"v":0,"d":"0.00"}},null,{"$f":"OFFSET(MD!$P$5,MATCH($AK$7,MD_JAHR,0),0)*12","v":{"$error":"#VALUE!"}},{"v":0,"d":"0.00"}]
[{"$nulls":14},{"$f":"IF($B1557=\"\",\"\",IF(F1557=\"Arbeitgeberähnliche Stellung\",OFFSET(MD!$Q$5,MATCH(Grundlagen_Abrechnung_KAE!$AK$7,MD_JAHR,0),0)*$H1557,IF(((AD1557/12*M1557*12)+N1557)>AF1557,AF1557/12,((AD1557/12*M1557*12)+N1557)/12)))","v":""},null,null,{"v":0,"d":"0.00"},null,{"v":0,"d":"0.00%"},{"v":0,"d":"0.00"},{"v":0,"d":"0.00"},{"v":0,"d":"0.00"},null,"prüfen",{"$f":"IFERROR(OFFSET(MD!$U$5,MATCH(Grundlagen_Abrechnung_KAE!$E1557,MD_GENDER,0),0),\"\")","v":""},{"v":0,"d":"0.00"},null,{"v":0,"d":"0.00"},{"$f":"IF(F1557=\"Arbeitgeberähnliche Stellung\",OFFSET(MD!$Q$5,MATCH(Grundlagen_Abrechnung_KAE!$AK$7,MD_JAHR,0),0)*$H1557,IF(J1557>0,AC1557,I1557))","v":{"v":0,"d":"0.00"}},null,{"$f":"OFFSET(MD!$P$5,MATCH($AK$7,MD_JAHR,0),0)*12","v":{"$error":"#VALUE!"}},{"v":0,"d":"0.00"}]
[{"$nulls":14},{"$f":"IF($B1558=\"\",\"\",IF(F1558=\"Arbeitgeberähnliche Stellung\",OFFSET(MD!$Q$5,MATCH(Grundlagen_Abrechnung_KAE!$AK$7,MD_JAHR,0),0)*$H1558,IF(((AD1558/12*M1558*12)+N1558)>AF1558,AF1558/12,((AD1558/12*M1558*12)+N1558)/12)))","v":""},null,null,{"v":0,"d":"0.00"},null,{"v":0,"d":"0.00%"},{"v":0,"d":"0.00"},{"v":0,"d":"0.00"},{"v":0,"d":"0.00"},null,"prüfen",{"$f":"IFERROR(OFFSET(MD!$U$5,MATCH(Grundlagen_Abrechnung_KAE!$E1558,MD_GENDER,0),0),\"\")","v":""},{"v":0,"d":"0.00"},null,{"v":0,"d":"0.00"},{"$f":"IF(F1558=\"Arbeitgeberähnliche Stellung\",OFFSET(MD!$Q$5,MATCH(Grundlagen_Abrechnung_KAE!$AK$7,MD_JAHR,0),0)*$H1558,IF(J1558>0,AC1558,I1558))","v":{"v":0,"d":"0.00"}},null,{"$f":"OFFSET(MD!$P$5,MATCH($AK$7,MD_JAHR,0),0)*12","v":{"$error":"#VALUE!"}},{"v":0,"d":"0.00"}]
[{"$nulls":14},{"$f":"IF($B1559=\"\",\"\",IF(F1559=\"Arbeitgeberähnliche Stellung\",OFFSET(MD!$Q$5,MATCH(Grundlagen_Abrechnung_KAE!$AK$7,MD_JAHR,0),0)*$H1559,IF(((AD1559/12*M1559*12)+N1559)>AF1559,AF1559/12,((AD1559/12*M1559*12)+N1559)/12)))","v":""},null,null,{"v":0,"d":"0.00"},null,{"v":0,"d":"0.00%"},{"v":0,"d":"0.00"},{"v":0,"d":"0.00"},{"v":0,"d":"0.00"},null,"prüfen",{"$f":"IFERROR(OFFSET(MD!$U$5,MATCH(Grundlagen_Abrechnung_KAE!$E1559,MD_GENDER,0),0),\"\")","v":""},{"v":0,"d":"0.00"},null,{"v":0,"d":"0.00"},{"$f":"IF(F1559=\"Arbeitgeberähnliche Stellung\",OFFSET(MD!$Q$5,MATCH(Grundlagen_Abrechnung_KAE!$AK$7,MD_JAHR,0),0)*$H1559,IF(J1559>0,AC1559,I1559))","v":{"v":0,"d":"0.00"}},null,{"$f":"OFFSET(MD!$P$5,MATCH($AK$7,MD_JAHR,0),0)*12","v":{"$error":"#VALUE!"}},{"v":0,"d":"0.00"}]
[{"$nulls":14},{"$f":"IF($B1560=\"\",\"\",IF(F1560=\"Arbeitgeberähnliche Stellung\",OFFSET(MD!$Q$5,MATCH(Grundlagen_Abrechnung_KAE!$AK$7,MD_JAHR,0),0)*$H1560,IF(((AD1560/12*M1560*12)+N1560)>AF1560,AF1560/12,((AD1560/12*M1560*12)+N1560)/12)))","v":""},null,null,{"v":0,"d":"0.00"},null,{"v":0,"d":"0.00%"},{"v":0,"d":"0.00"},{"v":0,"d":"0.00"},{"v":0,"d":"0.00"},null,"prüfen",{"$f":"IFERROR(OFFSET(MD!$U$5,MATCH(Grundlagen_Abrechnung_KAE!$E1560,MD_GENDER,0),0),\"\")","v":""},{"v":0,"d":"0.00"},null,{"v":0,"d":"0.00"},{"$f":"IF(F1560=\"Arbeitgeberähnliche Stellung\",OFFSET(MD!$Q$5,MATCH(Grundlagen_Abrechnung_KAE!$AK$7,MD_JAHR,0),0)*$H1560,IF(J1560>0,AC1560,I1560))","v":{"v":0,"d":"0.00"}},null,{"$f":"OFFSET(MD!$P$5,MATCH($AK$7,MD_JAHR,0),0)*12","v":{"$error":"#VALUE!"}},{"v":0,"d":"0.00"}]
[{"$nulls":14},{"$f":"IF($B1561=\"\",\"\",IF(F1561=\"Arbeitgeberähnliche Stellung\",OFFSET(MD!$Q$5,MATCH(Grundlagen_Abrechnung_KAE!$AK$7,MD_JAHR,0),0)*$H1561,IF(((AD1561/12*M1561*12)+N1561)>AF1561,AF1561/12,((AD1561/12*M1561*12)+N1561)/12)))","v":""},null,null,{"v":0,"d":"0.00"},null,{"v":0,"d":"0.00%"},{"v":0,"d":"0.00"},{"v":0,"d":"0.00"},{"v":0,"d":"0.00"},null,"prüfen",{"$f":"IFERROR(OFFSET(MD!$U$5,MATCH(Grundlagen_Abrechnung_KAE!$E1561,MD_GENDER,0),0),\"\")","v":""},{"v":0,"d":"0.00"},null,{"v":0,"d":"0.00"},{"$f":"IF(F1561=\"Arbeitgeberähnliche Stellung\",OFFSET(MD!$Q$5,MATCH(Grundlagen_Abrechnung_KAE!$AK$7,MD_JAHR,0),0)*$H1561,IF(J1561>0,AC1561,I1561))","v":{"v":0,"d":"0.00"}},null,{"$f":"OFFSET(MD!$P$5,MATCH($AK$7,MD_JAHR,0),0)*12","v":{"$error":"#VALUE!"}},{"v":0,"d":"0.00"}]
[{"$nulls":14},{"$f":"IF($B1562=\"\",\"\",IF(F1562=\"Arbeitgeberähnliche Stellung\",OFFSET(MD!$Q$5,MATCH(Grundlagen_Abrechnung_KAE!$AK$7,MD_JAHR,0),0)*$H1562,IF(((AD1562/12*M1562*12)+N1562)>AF1562,AF1562/12,((AD1562/12*M1562*12)+N1562)/12)))","v":""},null,null,{"v":0,"d":"0.00"},null,{"v":0,"d":"0.00%"},{"v":0,"d":"0.00"},{"v":0,"d":"0.00"},{"v":0,"d":"0.00"},null,"prüfen",{"$f":"IFERROR(OFFSET(MD!$U$5,MATCH(Grundlagen_Abrechnung_KAE!$E1562,MD_GENDER,0),0),\"\")","v":""},{"v":0,"d":"0.00"},null,{"v":0,"d":"0.00"},{"$f":"IF(F1562=\"Arbeitgeberähnliche Stellung\",OFFSET(MD!$Q$5,MATCH(Grundlagen_Abrechnung_KAE!$AK$7,MD_JAHR,0),0)*$H1562,IF(J1562>0,AC1562,I1562))","v":{"v":0,"d":"0.00"}},null,{"$f":"OFFSET(MD!$P$5,MATCH($AK$7,MD_JAHR,0),0)*12","v":{"$error":"#VALUE!"}},{"v":0,"d":"0.00"}]
[{"$nulls":14},{"$f":"IF($B1563=\"\",\"\",IF(F1563=\"Arbeitgeberähnliche Stellung\",OFFSET(MD!$Q$5,MATCH(Grundlagen_Abrechnung_KAE!$AK$7,MD_JAHR,0),0)*$H1563,IF(((AD1563/12*M1563*12)+N1563)>AF1563,AF1563/12,((AD1563/12*M1563*12)+N1563)/12)))","v":""},null,null,{"v":0,"d":"0.00"},null,{"v":0,"d":"0.00%"},{"v":0,"d":"0.00"},{"v":0,"d":"0.00"},{"v":0,"d":"0.00"},null,"prüfen",{"$f":"IFERROR(OFFSET(MD!$U$5,MATCH(Grundlagen_Abrechnung_KAE!$E1563,MD_GENDER,0),0),\"\")","v":""},{"v":0,"d":"0.00"},null,{"v":0,"d":"0.00"},{"$f":"IF(F1563=\"Arbeitgeberähnliche Stellung\",OFFSET(MD!$Q$5,MATCH(Grundlagen_Abrechnung_KAE!$AK$7,MD_JAHR,0),0)*$H1563,IF(J1563>0,AC1563,I1563))","v":{"v":0,"d":"0.00"}},null,{"$f":"OFFSET(MD!$P$5,MATCH($AK$7,MD_JAHR,0),0)*12","v":{"$error":"#VALUE!"}},{"v":0,"d":"0.00"}]
[{"$nulls":14},{"$f":"IF($B1564=\"\",\"\",IF(F1564=\"Arbeitgeberähnliche Stellung\",OFFSET(MD!$Q$5,MATCH(Grundlagen_Abrechnung_KAE!$AK$7,MD_JAHR,0),0)*$H1564,IF(((AD1564/12*M1564*12)+N1564)>AF1564,AF1564/12,((AD1564/12*M1564*12)+N1564)/12)))","v":""},null,null,{"v":0,"d":"0.00"},null,{"v":0,"d":"0.00%"},{"v":0,"d":"0.00"},{"v":0,"d":"0.00"},{"v":0,"d":"0.00"},null,"prüfen",{"$f":"IFERROR(OFFSET(MD!$U$5,MATCH(Grundlagen_Abrechnung_KAE!$E1564,MD_GENDER,0),0),\"\")","v":""},{"v":0,"d":"0.00"},null,{"v":0,"d":"0.00"},{"$f":"IF(F1564=\"Arbeitgeberähnliche Stellung\",OFFSET(MD!$Q$5,MATCH(Grundlagen_Abrechnung_KAE!$AK$7,MD_JAHR,0),0)*$H1564,IF(J1564>0,AC1564,I1564))","v":{"v":0,"d":"0.00"}},null,{"$f":"OFFSET(MD!$P$5,MATCH($AK$7,MD_JAHR,0),0)*12","v":{"$error":"#VALUE!"}},{"v":0,"d":"0.00"}]
[{"$nulls":14},{"$f":"IF($B1565=\"\",\"\",IF(F1565=\"Arbeitgeberähnliche Stellung\",OFFSET(MD!$Q$5,MATCH(Grundlagen_Abrechnung_KAE!$AK$7,MD_JAHR,0),0)*$H1565,IF(((AD1565/12*M1565*12)+N1565)>AF1565,AF1565/12,((AD1565/12*M1565*12)+N1565)/12)))","v":""},null,null,{"v":0,"d":"0.00"},null,{"v":0,"d":"0.00%"},{"v":0,"d":"0.00"},{"v":0,"d":"0.00"},{"v":0,"d":"0.00"},null,"prüfen",{"$f":"IFERROR(OFFSET(MD!$U$5,MATCH(Grundlagen_Abrechnung_KAE!$E1565,MD_GENDER,0),0),\"\")","v":""},{"v":0,"d":"0.00"},null,{"v":0,"d":"0.00"},{"$f":"IF(F1565=\"Arbeitgeberähnliche Stellung\",OFFSET(MD!$Q$5,MATCH(Grundlagen_Abrechnung_KAE!$AK$7,MD_JAHR,0),0)*$H1565,IF(J1565>0,AC1565,I1565))","v":{"v":0,"d":"0.00"}},null,{"$f":"OFFSET(MD!$P$5,MATCH($AK$7,MD_JAHR,0),0)*12","v":{"$error":"#VALUE!"}},{"v":0,"d":"0.00"}]
[{"$nulls":14},{"$f":"IF($B1566=\"\",\"\",IF(F1566=\"Arbeitgeberähnliche Stellung\",OFFSET(MD!$Q$5,MATCH(Grundlagen_Abrechnung_KAE!$AK$7,MD_JAHR,0),0)*$H1566,IF(((AD1566/12*M1566*12)+N1566)>AF1566,AF1566/12,((AD1566/12*M1566*12)+N1566)/12)))","v":""},null,null,{"v":0,"d":"0.00"},null,{"v":0,"d":"0.00%"},{"v":0,"d":"0.00"},{"v":0,"d":"0.00"},{"v":0,"d":"0.00"},null,"prüfen",{"$f":"IFERROR(OFFSET(MD!$U$5,MATCH(Grundlagen_Abrechnung_KAE!$E1566,MD_GENDER,0),0),\"\")","v":""},{"v":0,"d":"0.00"},null,{"v":0,"d":"0.00"},{"$f":"IF(F1566=\"Arbeitgeberähnliche Stellung\",OFFSET(MD!$Q$5,MATCH(Grundlagen_Abrechnung_KAE!$AK$7,MD_JAHR,0),0)*$H1566,IF(J1566>0,AC1566,I1566))","v":{"v":0,"d":"0.00"}},null,{"$f":"OFFSET(MD!$P$5,MATCH($AK$7,MD_JAHR,0),0)*12","v":{"$error":"#VALUE!"}},{"v":0,"d":"0.00"}]
[{"$nulls":14},{"$f":"IF($B1567=\"\",\"\",IF(F1567=\"Arbeitgeberähnliche Stellung\",OFFSET(MD!$Q$5,MATCH(Grundlagen_Abrechnung_KAE!$AK$7,MD_JAHR,0),0)*$H1567,IF(((AD1567/12*M1567*12)+N1567)>AF1567,AF1567/12,((AD1567/12*M1567*12)+N1567)/12)))","v":""},null,null,{"v":0,"d":"0.00"},null,{"v":0,"d":"0.00%"},{"v":0,"d":"0.00"},{"v":0,"d":"0.00"},{"v":0,"d":"0.00"},null,"prüfen",{"$f":"IFERROR(OFFSET(MD!$U$5,MATCH(Grundlagen_Abrechnung_KAE!$E1567,MD_GENDER,0),0),\"\")","v":""},{"v":0,"d":"0.00"},null,{"v":0,"d":"0.00"},{"$f":"IF(F1567=\"Arbeitgeberähnliche Stellung\",OFFSET(MD!$Q$5,MATCH(Grundlagen_Abrechnung_KAE!$AK$7,MD_JAHR,0),0)*$H1567,IF(J1567>0,AC1567,I1567))","v":{"v":0,"d":"0.00"}},null,{"$f":"OFFSET(MD!$P$5,MATCH($AK$7,MD_JAHR,0),0)*12","v":{"$error":"#VALUE!"}},{"v":0,"d":"0.00"}]
[{"$nulls":14},{"$f":"IF($B1568=\"\",\"\",IF(F1568=\"Arbeitgeberähnliche Stellung\",OFFSET(MD!$Q$5,MATCH(Grundlagen_Abrechnung_KAE!$AK$7,MD_JAHR,0),0)*$H1568,IF(((AD1568/12*M1568*12)+N1568)>AF1568,AF1568/12,((AD1568/12*M1568*12)+N1568)/12)))","v":""},null,null,{"v":0,"d":"0.00"},null,{"v":0,"d":"0.00%"},{"v":0,"d":"0.00"},{"v":0,"d":"0.00"},{"v":0,"d":"0.00"},null,"prüfen",{"$f":"IFERROR(OFFSET(MD!$U$5,MATCH(Grundlagen_Abrechnung_KAE!$E1568,MD_GENDER,0),0),\"\")","v":""},{"v":0,"d":"0.00"},null,{"v":0,"d":"0.00"},{"$f":"IF(F1568=\"Arbeitgeberähnliche Stellung\",OFFSET(MD!$Q$5,MATCH(Grundlagen_Abrechnung_KAE!$AK$7,MD_JAHR,0),0)*$H1568,IF(J1568>0,AC1568,I1568))","v":{"v":0,"d":"0.00"}},null,{"$f":"OFFSET(MD!$P$5,MATCH($AK$7,MD_JAHR,0),0)*12","v":{"$error":"#VALUE!"}},{"v":0,"d":"0.00"}]
[{"$nulls":14},{"$f":"IF($B1569=\"\",\"\",IF(F1569=\"Arbeitgeberähnliche Stellung\",OFFSET(MD!$Q$5,MATCH(Grundlagen_Abrechnung_KAE!$AK$7,MD_JAHR,0),0)*$H1569,IF(((AD1569/12*M1569*12)+N1569)>AF1569,AF1569/12,((AD1569/12*M1569*12)+N1569)/12)))","v":""},null,null,{"v":0,"d":"0.00"},null,{"v":0,"d":"0.00%"},{"v":0,"d":"0.00"},{"v":0,"d":"0.00"},{"v":0,"d":"0.00"},null,"prüfen",{"$f":"IFERROR(OFFSET(MD!$U$5,MATCH(Grundlagen_Abrechnung_KAE!$E1569,MD_GENDER,0),0),\"\")","v":""},{"v":0,"d":"0.00"},null,{"v":0,"d":"0.00"},{"$f":"IF(F1569=\"Arbeitgeberähnliche Stellung\",OFFSET(MD!$Q$5,MATCH(Grundlagen_Abrechnung_KAE!$AK$7,MD_JAHR,0),0)*$H1569,IF(J1569>0,AC1569,I1569))","v":{"v":0,"d":"0.00"}},null,{"$f":"OFFSET(MD!$P$5,MATCH($AK$7,MD_JAHR,0),0)*12","v":{"$error":"#VALUE!"}},{"v":0,"d":"0.00"}]
[{"$nulls":14},{"$f":"IF($B1570=\"\",\"\",IF(F1570=\"Arbeitgeberähnliche Stellung\",OFFSET(MD!$Q$5,MATCH(Grundlagen_Abrechnung_KAE!$AK$7,MD_JAHR,0),0)*$H1570,IF(((AD1570/12*M1570*12)+N1570)>AF1570,AF1570/12,((AD1570/12*M1570*12)+N1570)/12)))","v":""},null,null,{"v":0,"d":"0.00"},null,{"v":0,"d":"0.00%"},{"v":0,"d":"0.00"},{"v":0,"d":"0.00"},{"v":0,"d":"0.00"},null,"prüfen",{"$f":"IFERROR(OFFSET(MD!$U$5,MATCH(Grundlagen_Abrechnung_KAE!$E1570,MD_GENDER,0),0),\"\")","v":""},{"v":0,"d":"0.00"},null,{"v":0,"d":"0.00"},{"$f":"IF(F1570=\"Arbeitgeberähnliche Stellung\",OFFSET(MD!$Q$5,MATCH(Grundlagen_Abrechnung_KAE!$AK$7,MD_JAHR,0),0)*$H1570,IF(J1570>0,AC1570,I1570))","v":{"v":0,"d":"0.00"}},null,{"$f":"OFFSET(MD!$P$5,MATCH($AK$7,MD_JAHR,0),0)*12","v":{"$error":"#VALUE!"}},{"v":0,"d":"0.00"}]
[{"$nulls":14},{"$f":"IF($B1571=\"\",\"\",IF(F1571=\"Arbeitgeberähnliche Stellung\",OFFSET(MD!$Q$5,MATCH(Grundlagen_Abrechnung_KAE!$AK$7,MD_JAHR,0),0)*$H1571,IF(((AD1571/12*M1571*12)+N1571)>AF1571,AF1571/12,((AD1571/12*M1571*12)+N1571)/12)))","v":""},null,null,{"v":0,"d":"0.00"},null,{"v":0,"d":"0.00%"},{"v":0,"d":"0.00"},{"v":0,"d":"0.00"},{"v":0,"d":"0.00"},null,"prüfen",{"$f":"IFERROR(OFFSET(MD!$U$5,MATCH(Grundlagen_Abrechnung_KAE!$E1571,MD_GENDER,0),0),\"\")","v":""},{"v":0,"d":"0.00"},null,{"v":0,"d":"0.00"},{"$f":"IF(F1571=\"Arbeitgeberähnliche Stellung\",OFFSET(MD!$Q$5,MATCH(Grundlagen_Abrechnung_KAE!$AK$7,MD_JAHR,0),0)*$H1571,IF(J1571>0,AC1571,I1571))","v":{"v":0,"d":"0.00"}},null,{"$f":"OFFSET(MD!$P$5,MATCH($AK$7,MD_JAHR,0),0)*12","v":{"$error":"#VALUE!"}},{"v":0,"d":"0.00"}]
[{"$nulls":14},{"$f":"IF($B1572=\"\",\"\",IF(F1572=\"Arbeitgeberähnliche Stellung\",OFFSET(MD!$Q$5,MATCH(Grundlagen_Abrechnung_KAE!$AK$7,MD_JAHR,0),0)*$H1572,IF(((AD1572/12*M1572*12)+N1572)>AF1572,AF1572/12,((AD1572/12*M1572*12)+N1572)/12)))","v":""},null,null,{"v":0,"d":"0.00"},null,{"v":0,"d":"0.00%"},{"v":0,"d":"0.00"},{"v":0,"d":"0.00"},{"v":0,"d":"0.00"},null,"prüfen",{"$f":"IFERROR(OFFSET(MD!$U$5,MATCH(Grundlagen_Abrechnung_KAE!$E1572,MD_GENDER,0),0),\"\")","v":""},{"v":0,"d":"0.00"},null,{"v":0,"d":"0.00"},{"$f":"IF(F1572=\"Arbeitgeberähnliche Stellung\",OFFSET(MD!$Q$5,MATCH(Grundlagen_Abrechnung_KAE!$AK$7,MD_JAHR,0),0)*$H1572,IF(J1572>0,AC1572,I1572))","v":{"v":0,"d":"0.00"}},null,{"$f":"OFFSET(MD!$P$5,MATCH($AK$7,MD_JAHR,0),0)*12","v":{"$error":"#VALUE!"}},{"v":0,"d":"0.00"}]
[{"$nulls":14},{"$f":"IF($B1573=\"\",\"\",IF(F1573=\"Arbeitgeberähnliche Stellung\",OFFSET(MD!$Q$5,MATCH(Grundlagen_Abrechnung_KAE!$AK$7,MD_JAHR,0),0)*$H1573,IF(((AD1573/12*M1573*12)+N1573)>AF1573,AF1573/12,((AD1573/12*M1573*12)+N1573)/12)))","v":""},null,null,{"v":0,"d":"0.00"},null,{"v":0,"d":"0.00%"},{"v":0,"d":"0.00"},{"v":0,"d":"0.00"},{"v":0,"d":"0.00"},null,"prüfen",{"$f":"IFERROR(OFFSET(MD!$U$5,MATCH(Grundlagen_Abrechnung_KAE!$E1573,MD_GENDER,0),0),\"\")","v":""},{"v":0,"d":"0.00"},null,{"v":0,"d":"0.00"},{"$f":"IF(F1573=\"Arbeitgeberähnliche Stellung\",OFFSET(MD!$Q$5,MATCH(Grundlagen_Abrechnung_KAE!$AK$7,MD_JAHR,0),0)*$H1573,IF(J1573>0,AC1573,I1573))","v":{"v":0,"d":"0.00"}},null,{"$f":"OFFSET(MD!$P$5,MATCH($AK$7,MD_JAHR,0),0)*12","v":{"$error":"#VALUE!"}},{"v":0,"d":"0.00"}]
[{"$nulls":14},{"$f":"IF($B1574=\"\",\"\",IF(F1574=\"Arbeitgeberähnliche Stellung\",OFFSET(MD!$Q$5,MATCH(Grundlagen_Abrechnung_KAE!$AK$7,MD_JAHR,0),0)*$H1574,IF(((AD1574/12*M1574*12)+N1574)>AF1574,AF1574/12,((AD1574/12*M1574*12)+N1574)/12)))","v":""},null,null,{"v":0,"d":"0.00"},null,{"v":0,"d":"0.00%"},{"v":0,"d":"0.00"},{"v":0,"d":"0.00"},{"v":0,"d":"0.00"},null,"prüfen",{"$f":"IFERROR(OFFSET(MD!$U$5,MATCH(Grundlagen_Abrechnung_KAE!$E1574,MD_GENDER,0),0),\"\")","v":""},{"v":0,"d":"0.00"},null,{"v":0,"d":"0.00"},{"$f":"IF(F1574=\"Arbeitgeberähnliche Stellung\",OFFSET(MD!$Q$5,MATCH(Grundlagen_Abrechnung_KAE!$AK$7,MD_JAHR,0),0)*$H1574,IF(J1574>0,AC1574,I1574))","v":{"v":0,"d":"0.00"}},null,{"$f":"OFFSET(MD!$P$5,MATCH($AK$7,MD_JAHR,0),0)*12","v":{"$error":"#VALUE!"}},{"v":0,"d":"0.00"}]
[{"$nulls":14},{"$f":"IF($B1575=\"\",\"\",IF(F1575=\"Arbeitgeberähnliche Stellung\",OFFSET(MD!$Q$5,MATCH(Grundlagen_Abrechnung_KAE!$AK$7,MD_JAHR,0),0)*$H1575,IF(((AD1575/12*M1575*12)+N1575)>AF1575,AF1575/12,((AD1575/12*M1575*12)+N1575)/12)))","v":""},null,null,{"v":0,"d":"0.00"},null,{"v":0,"d":"0.00%"},{"v":0,"d":"0.00"},{"v":0,"d":"0.00"},{"v":0,"d":"0.00"},null,"prüfen",{"$f":"IFERROR(OFFSET(MD!$U$5,MATCH(Grundlagen_Abrechnung_KAE!$E1575,MD_GENDER,0),0),\"\")","v":""},{"v":0,"d":"0.00"},null,{"v":0,"d":"0.00"},{"$f":"IF(F1575=\"Arbeitgeberähnliche Stellung\",OFFSET(MD!$Q$5,MATCH(Grundlagen_Abrechnung_KAE!$AK$7,MD_JAHR,0),0)*$H1575,IF(J1575>0,AC1575,I1575))","v":{"v":0,"d":"0.00"}},null,{"$f":"OFFSET(MD!$P$5,MATCH($AK$7,MD_JAHR,0),0)*12","v":{"$error":"#VALUE!"}},{"v":0,"d":"0.00"}]
[{"$nulls":14},{"$f":"IF($B1576=\"\",\"\",IF(F1576=\"Arbeitgeberähnliche Stellung\",OFFSET(MD!$Q$5,MATCH(Grundlagen_Abrechnung_KAE!$AK$7,MD_JAHR,0),0)*$H1576,IF(((AD1576/12*M1576*12)+N1576)>AF1576,AF1576/12,((AD1576/12*M1576*12)+N1576)/12)))","v":""},null,null,{"v":0,"d":"0.00"},null,{"v":0,"d":"0.00%"},{"v":0,"d":"0.00"},{"v":0,"d":"0.00"},{"v":0,"d":"0.00"},null,"prüfen",{"$f":"IFERROR(OFFSET(MD!$U$5,MATCH(Grundlagen_Abrechnung_KAE!$E1576,MD_GENDER,0),0),\"\")","v":""},{"v":0,"d":"0.00"},null,{"v":0,"d":"0.00"},{"$f":"IF(F1576=\"Arbeitgeberähnliche Stellung\",OFFSET(MD!$Q$5,MATCH(Grundlagen_Abrechnung_KAE!$AK$7,MD_JAHR,0),0)*$H1576,IF(J1576>0,AC1576,I1576))","v":{"v":0,"d":"0.00"}},null,{"$f":"OFFSET(MD!$P$5,MATCH($AK$7,MD_JAHR,0),0)*12","v":{"$error":"#VALUE!"}},{"v":0,"d":"0.00"}]
[{"$nulls":14},{"$f":"IF($B1577=\"\",\"\",IF(F1577=\"Arbeitgeberähnliche Stellung\",OFFSET(MD!$Q$5,MATCH(Grundlagen_Abrechnung_KAE!$AK$7,MD_JAHR,0),0)*$H1577,IF(((AD1577/12*M1577*12)+N1577)>AF1577,AF1577/12,((AD1577/12*M1577*12)+N1577)/12)))","v":""},null,null,{"v":0,"d":"0.00"},null,{"v":0,"d":"0.00%"},{"v":0,"d":"0.00"},{"v":0,"d":"0.00"},{"v":0,"d":"0.00"},null,"prüfen",{"$f":"IFERROR(OFFSET(MD!$U$5,MATCH(Grundlagen_Abrechnung_KAE!$E1577,MD_GENDER,0),0),\"\")","v":""},{"v":0,"d":"0.00"},null,{"v":0,"d":"0.00"},{"$f":"IF(F1577=\"Arbeitgeberähnliche Stellung\",OFFSET(MD!$Q$5,MATCH(Grundlagen_Abrechnung_KAE!$AK$7,MD_JAHR,0),0)*$H1577,IF(J1577>0,AC1577,I1577))","v":{"v":0,"d":"0.00"}},null,{"$f":"OFFSET(MD!$P$5,MATCH($AK$7,MD_JAHR,0),0)*12","v":{"$error":"#VALUE!"}},{"v":0,"d":"0.00"}]
[{"$nulls":14},{"$f":"IF($B1578=\"\",\"\",IF(F1578=\"Arbeitgeberähnliche Stellung\",OFFSET(MD!$Q$5,MATCH(Grundlagen_Abrechnung_KAE!$AK$7,MD_JAHR,0),0)*$H1578,IF(((AD1578/12*M1578*12)+N1578)>AF1578,AF1578/12,((AD1578/12*M1578*12)+N1578)/12)))","v":""},null,null,{"v":0,"d":"0.00"},null,{"v":0,"d":"0.00%"},{"v":0,"d":"0.00"},{"v":0,"d":"0.00"},{"v":0,"d":"0.00"},null,"prüfen",{"$f":"IFERROR(OFFSET(MD!$U$5,MATCH(Grundlagen_Abrechnung_KAE!$E1578,MD_GENDER,0),0),\"\")","v":""},{"v":0,"d":"0.00"},null,{"v":0,"d":"0.00"},{"$f":"IF(F1578=\"Arbeitgeberähnliche Stellung\",OFFSET(MD!$Q$5,MATCH(Grundlagen_Abrechnung_KAE!$AK$7,MD_JAHR,0),0)*$H1578,IF(J1578>0,AC1578,I1578))","v":{"v":0,"d":"0.00"}},null,{"$f":"OFFSET(MD!$P$5,MATCH($AK$7,MD_JAHR,0),0)*12","v":{"$error":"#VALUE!"}},{"v":0,"d":"0.00"}]
[{"$nulls":14},{"$f":"IF($B1579=\"\",\"\",IF(F1579=\"Arbeitgeberähnliche Stellung\",OFFSET(MD!$Q$5,MATCH(Grundlagen_Abrechnung_KAE!$AK$7,MD_JAHR,0),0)*$H1579,IF(((AD1579/12*M1579*12)+N1579)>AF1579,AF1579/12,((AD1579/12*M1579*12)+N1579)/12)))","v":""},null,null,{"v":0,"d":"0.00"},null,{"v":0,"d":"0.00%"},{"v":0,"d":"0.00"},{"v":0,"d":"0.00"},{"v":0,"d":"0.00"},null,"prüfen",{"$f":"IFERROR(OFFSET(MD!$U$5,MATCH(Grundlagen_Abrechnung_KAE!$E1579,MD_GENDER,0),0),\"\")","v":""},{"v":0,"d":"0.00"},null,{"v":0,"d":"0.00"},{"$f":"IF(F1579=\"Arbeitgeberähnliche Stellung\",OFFSET(MD!$Q$5,MATCH(Grundlagen_Abrechnung_KAE!$AK$7,MD_JAHR,0),0)*$H1579,IF(J1579>0,AC1579,I1579))","v":{"v":0,"d":"0.00"}},null,{"$f":"OFFSET(MD!$P$5,MATCH($AK$7,MD_JAHR,0),0)*12","v":{"$error":"#VALUE!"}},{"v":0,"d":"0.00"}]
[{"$nulls":14},{"$f":"IF($B1580=\"\",\"\",IF(F1580=\"Arbeitgeberähnliche Stellung\",OFFSET(MD!$Q$5,MATCH(Grundlagen_Abrechnung_KAE!$AK$7,MD_JAHR,0),0)*$H1580,IF(((AD1580/12*M1580*12)+N1580)>AF1580,AF1580/12,((AD1580/12*M1580*12)+N1580)/12)))","v":""},null,null,{"v":0,"d":"0.00"},null,{"v":0,"d":"0.00%"},{"v":0,"d":"0.00"},{"v":0,"d":"0.00"},{"v":0,"d":"0.00"},null,"prüfen",{"$f":"IFERROR(OFFSET(MD!$U$5,MATCH(Grundlagen_Abrechnung_KAE!$E1580,MD_GENDER,0),0),\"\")","v":""},{"v":0,"d":"0.00"},null,{"v":0,"d":"0.00"},{"$f":"IF(F1580=\"Arbeitgeberähnliche Stellung\",OFFSET(MD!$Q$5,MATCH(Grundlagen_Abrechnung_KAE!$AK$7,MD_JAHR,0),0)*$H1580,IF(J1580>0,AC1580,I1580))","v":{"v":0,"d":"0.00"}},null,{"$f":"OFFSET(MD!$P$5,MATCH($AK$7,MD_JAHR,0),0)*12","v":{"$error":"#VALUE!"}},{"v":0,"d":"0.00"}]
[{"$nulls":14},{"$f":"IF($B1581=\"\",\"\",IF(F1581=\"Arbeitgeberähnliche Stellung\",OFFSET(MD!$Q$5,MATCH(Grundlagen_Abrechnung_KAE!$AK$7,MD_JAHR,0),0)*$H1581,IF(((AD1581/12*M1581*12)+N1581)>AF1581,AF1581/12,((AD1581/12*M1581*12)+N1581)/12)))","v":""},null,null,{"v":0,"d":"0.00"},null,{"v":0,"d":"0.00%"},{"v":0,"d":"0.00"},{"v":0,"d":"0.00"},{"v":0,"d":"0.00"},null,"prüfen",{"$f":"IFERROR(OFFSET(MD!$U$5,MATCH(Grundlagen_Abrechnung_KAE!$E1581,MD_GENDER,0),0),\"\")","v":""},{"v":0,"d":"0.00"},null,{"v":0,"d":"0.00"},{"$f":"IF(F1581=\"Arbeitgeberähnliche Stellung\",OFFSET(MD!$Q$5,MATCH(Grundlagen_Abrechnung_KAE!$AK$7,MD_JAHR,0),0)*$H1581,IF(J1581>0,AC1581,I1581))","v":{"v":0,"d":"0.00"}},null,{"$f":"OFFSET(MD!$P$5,MATCH($AK$7,MD_JAHR,0),0)*12","v":{"$error":"#VALUE!"}},{"v":0,"d":"0.00"}]
[{"$nulls":14},{"$f":"IF($B1582=\"\",\"\",IF(F1582=\"Arbeitgeberähnliche Stellung\",OFFSET(MD!$Q$5,MATCH(Grundlagen_Abrechnung_KAE!$AK$7,MD_JAHR,0),0)*$H1582,IF(((AD1582/12*M1582*12)+N1582)>AF1582,AF1582/12,((AD1582/12*M1582*12)+N1582)/12)))","v":""},null,null,{"v":0,"d":"0.00"},null,{"v":0,"d":"0.00%"},{"v":0,"d":"0.00"},{"v":0,"d":"0.00"},{"v":0,"d":"0.00"},null,"prüfen",{"$f":"IFERROR(OFFSET(MD!$U$5,MATCH(Grundlagen_Abrechnung_KAE!$E1582,MD_GENDER,0),0),\"\")","v":""},{"v":0,"d":"0.00"},null,{"v":0,"d":"0.00"},{"$f":"IF(F1582=\"Arbeitgeberähnliche Stellung\",OFFSET(MD!$Q$5,MATCH(Grundlagen_Abrechnung_KAE!$AK$7,MD_JAHR,0),0)*$H1582,IF(J1582>0,AC1582,I1582))","v":{"v":0,"d":"0.00"}},null,{"$f":"OFFSET(MD!$P$5,MATCH($AK$7,MD_JAHR,0),0)*12","v":{"$error":"#VALUE!"}},{"v":0,"d":"0.00"}]
[{"$nulls":14},{"$f":"IF($B1583=\"\",\"\",IF(F1583=\"Arbeitgeberähnliche Stellung\",OFFSET(MD!$Q$5,MATCH(Grundlagen_Abrechnung_KAE!$AK$7,MD_JAHR,0),0)*$H1583,IF(((AD1583/12*M1583*12)+N1583)>AF1583,AF1583/12,((AD1583/12*M1583*12)+N1583)/12)))","v":""},null,null,{"v":0,"d":"0.00"},null,{"v":0,"d":"0.00%"},{"v":0,"d":"0.00"},{"v":0,"d":"0.00"},{"v":0,"d":"0.00"},null,"prüfen",{"$f":"IFERROR(OFFSET(MD!$U$5,MATCH(Grundlagen_Abrechnung_KAE!$E1583,MD_GENDER,0),0),\"\")","v":""},{"v":0,"d":"0.00"},null,{"v":0,"d":"0.00"},{"$f":"IF(F1583=\"Arbeitgeberähnliche Stellung\",OFFSET(MD!$Q$5,MATCH(Grundlagen_Abrechnung_KAE!$AK$7,MD_JAHR,0),0)*$H1583,IF(J1583>0,AC1583,I1583))","v":{"v":0,"d":"0.00"}},null,{"$f":"OFFSET(MD!$P$5,MATCH($AK$7,MD_JAHR,0),0)*12","v":{"$error":"#VALUE!"}},{"v":0,"d":"0.00"}]
[{"$nulls":14},{"$f":"IF($B1584=\"\",\"\",IF(F1584=\"Arbeitgeberähnliche Stellung\",OFFSET(MD!$Q$5,MATCH(Grundlagen_Abrechnung_KAE!$AK$7,MD_JAHR,0),0)*$H1584,IF(((AD1584/12*M1584*12)+N1584)>AF1584,AF1584/12,((AD1584/12*M1584*12)+N1584)/12)))","v":""},null,null,{"v":0,"d":"0.00"},null,{"v":0,"d":"0.00%"},{"v":0,"d":"0.00"},{"v":0,"d":"0.00"},{"v":0,"d":"0.00"},null,"prüfen",{"$f":"IFERROR(OFFSET(MD!$U$5,MATCH(Grundlagen_Abrechnung_KAE!$E1584,MD_GENDER,0),0),\"\")","v":""},{"v":0,"d":"0.00"},null,{"v":0,"d":"0.00"},{"$f":"IF(F1584=\"Arbeitgeberähnliche Stellung\",OFFSET(MD!$Q$5,MATCH(Grundlagen_Abrechnung_KAE!$AK$7,MD_JAHR,0),0)*$H1584,IF(J1584>0,AC1584,I1584))","v":{"v":0,"d":"0.00"}},null,{"$f":"OFFSET(MD!$P$5,MATCH($AK$7,MD_JAHR,0),0)*12","v":{"$error":"#VALUE!"}},{"v":0,"d":"0.00"}]
[{"$nulls":14},{"$f":"IF($B1585=\"\",\"\",IF(F1585=\"Arbeitgeberähnliche Stellung\",OFFSET(MD!$Q$5,MATCH(Grundlagen_Abrechnung_KAE!$AK$7,MD_JAHR,0),0)*$H1585,IF(((AD1585/12*M1585*12)+N1585)>AF1585,AF1585/12,((AD1585/12*M1585*12)+N1585)/12)))","v":""},null,null,{"v":0,"d":"0.00"},null,{"v":0,"d":"0.00%"},{"v":0,"d":"0.00"},{"v":0,"d":"0.00"},{"v":0,"d":"0.00"},null,"prüfen",{"$f":"IFERROR(OFFSET(MD!$U$5,MATCH(Grundlagen_Abrechnung_KAE!$E1585,MD_GENDER,0),0),\"\")","v":""},{"v":0,"d":"0.00"},null,{"v":0,"d":"0.00"},{"$f":"IF(F1585=\"Arbeitgeberähnliche Stellung\",OFFSET(MD!$Q$5,MATCH(Grundlagen_Abrechnung_KAE!$AK$7,MD_JAHR,0),0)*$H1585,IF(J1585>0,AC1585,I1585))","v":{"v":0,"d":"0.00"}},null,{"$f":"OFFSET(MD!$P$5,MATCH($AK$7,MD_JAHR,0),0)*12","v":{"$error":"#VALUE!"}},{"v":0,"d":"0.00"}]
[{"$nulls":14},{"$f":"IF($B1586=\"\",\"\",IF(F1586=\"Arbeitgeberähnliche Stellung\",OFFSET(MD!$Q$5,MATCH(Grundlagen_Abrechnung_KAE!$AK$7,MD_JAHR,0),0)*$H1586,IF(((AD1586/12*M1586*12)+N1586)>AF1586,AF1586/12,((AD1586/12*M1586*12)+N1586)/12)))","v":""},null,null,{"v":0,"d":"0.00"},null,{"v":0,"d":"0.00%"},{"v":0,"d":"0.00"},{"v":0,"d":"0.00"},{"v":0,"d":"0.00"},null,"prüfen",{"$f":"IFERROR(OFFSET(MD!$U$5,MATCH(Grundlagen_Abrechnung_KAE!$E1586,MD_GENDER,0),0),\"\")","v":""},{"v":0,"d":"0.00"},null,{"v":0,"d":"0.00"},{"$f":"IF(F1586=\"Arbeitgeberähnliche Stellung\",OFFSET(MD!$Q$5,MATCH(Grundlagen_Abrechnung_KAE!$AK$7,MD_JAHR,0),0)*$H1586,IF(J1586>0,AC1586,I1586))","v":{"v":0,"d":"0.00"}},null,{"$f":"OFFSET(MD!$P$5,MATCH($AK$7,MD_JAHR,0),0)*12","v":{"$error":"#VALUE!"}},{"v":0,"d":"0.00"}]
[{"$nulls":14},{"$f":"IF($B1587=\"\",\"\",IF(F1587=\"Arbeitgeberähnliche Stellung\",OFFSET(MD!$Q$5,MATCH(Grundlagen_Abrechnung_KAE!$AK$7,MD_JAHR,0),0)*$H1587,IF(((AD1587/12*M1587*12)+N1587)>AF1587,AF1587/12,((AD1587/12*M1587*12)+N1587)/12)))","v":""},null,null,{"v":0,"d":"0.00"},null,{"v":0,"d":"0.00%"},{"v":0,"d":"0.00"},{"v":0,"d":"0.00"},{"v":0,"d":"0.00"},null,"prüfen",{"$f":"IFERROR(OFFSET(MD!$U$5,MATCH(Grundlagen_Abrechnung_KAE!$E1587,MD_GENDER,0),0),\"\")","v":""},{"v":0,"d":"0.00"},null,{"v":0,"d":"0.00"},{"$f":"IF(F1587=\"Arbeitgeberähnliche Stellung\",OFFSET(MD!$Q$5,MATCH(Grundlagen_Abrechnung_KAE!$AK$7,MD_JAHR,0),0)*$H1587,IF(J1587>0,AC1587,I1587))","v":{"v":0,"d":"0.00"}},null,{"$f":"OFFSET(MD!$P$5,MATCH($AK$7,MD_JAHR,0),0)*12","v":{"$error":"#VALUE!"}},{"v":0,"d":"0.00"}]
[{"$nulls":14},{"$f":"IF($B1588=\"\",\"\",IF(F1588=\"Arbeitgeberähnliche Stellung\",OFFSET(MD!$Q$5,MATCH(Grundlagen_Abrechnung_KAE!$AK$7,MD_JAHR,0),0)*$H1588,IF(((AD1588/12*M1588*12)+N1588)>AF1588,AF1588/12,((AD1588/12*M1588*12)+N1588)/12)))","v":""},null,null,{"v":0,"d":"0.00"},null,{"v":0,"d":"0.00%"},{"v":0,"d":"0.00"},{"v":0,"d":"0.00"},{"v":0,"d":"0.00"},null,"prüfen",{"$f":"IFERROR(OFFSET(MD!$U$5,MATCH(Grundlagen_Abrechnung_KAE!$E1588,MD_GENDER,0),0),\"\")","v":""},{"v":0,"d":"0.00"},null,{"v":0,"d":"0.00"},{"$f":"IF(F1588=\"Arbeitgeberähnliche Stellung\",OFFSET(MD!$Q$5,MATCH(Grundlagen_Abrechnung_KAE!$AK$7,MD_JAHR,0),0)*$H1588,IF(J1588>0,AC1588,I1588))","v":{"v":0,"d":"0.00"}},null,{"$f":"OFFSET(MD!$P$5,MATCH($AK$7,MD_JAHR,0),0)*12","v":{"$error":"#VALUE!"}},{"v":0,"d":"0.00"}]
[{"$nulls":14},{"$f":"IF($B1589=\"\",\"\",IF(F1589=\"Arbeitgeberähnliche Stellung\",OFFSET(MD!$Q$5,MATCH(Grundlagen_Abrechnung_KAE!$AK$7,MD_JAHR,0),0)*$H1589,IF(((AD1589/12*M1589*12)+N1589)>AF1589,AF1589/12,((AD1589/12*M1589*12)+N1589)/12)))","v":""},null,null,{"v":0,"d":"0.00"},null,{"v":0,"d":"0.00%"},{"v":0,"d":"0.00"},{"v":0,"d":"0.00"},{"v":0,"d":"0.00"},null,"prüfen",{"$f":"IFERROR(OFFSET(MD!$U$5,MATCH(Grundlagen_Abrechnung_KAE!$E1589,MD_GENDER,0),0),\"\")","v":""},{"v":0,"d":"0.00"},null,{"v":0,"d":"0.00"},{"$f":"IF(F1589=\"Arbeitgeberähnliche Stellung\",OFFSET(MD!$Q$5,MATCH(Grundlagen_Abrechnung_KAE!$AK$7,MD_JAHR,0),0)*$H1589,IF(J1589>0,AC1589,I1589))","v":{"v":0,"d":"0.00"}},null,{"$f":"OFFSET(MD!$P$5,MATCH($AK$7,MD_JAHR,0),0)*12","v":{"$error":"#VALUE!"}},{"v":0,"d":"0.00"}]
[{"$nulls":14},{"$f":"IF($B1590=\"\",\"\",IF(F1590=\"Arbeitgeberähnliche Stellung\",OFFSET(MD!$Q$5,MATCH(Grundlagen_Abrechnung_KAE!$AK$7,MD_JAHR,0),0)*$H1590,IF(((AD1590/12*M1590*12)+N1590)>AF1590,AF1590/12,((AD1590/12*M1590*12)+N1590)/12)))","v":""},null,null,{"v":0,"d":"0.00"},null,{"v":0,"d":"0.00%"},{"v":0,"d":"0.00"},{"v":0,"d":"0.00"},{"v":0,"d":"0.00"},null,"prüfen",{"$f":"IFERROR(OFFSET(MD!$U$5,MATCH(Grundlagen_Abrechnung_KAE!$E1590,MD_GENDER,0),0),\"\")","v":""},{"v":0,"d":"0.00"},null,{"v":0,"d":"0.00"},{"$f":"IF(F1590=\"Arbeitgeberähnliche Stellung\",OFFSET(MD!$Q$5,MATCH(Grundlagen_Abrechnung_KAE!$AK$7,MD_JAHR,0),0)*$H1590,IF(J1590>0,AC1590,I1590))","v":{"v":0,"d":"0.00"}},null,{"$f":"OFFSET(MD!$P$5,MATCH($AK$7,MD_JAHR,0),0)*12","v":{"$error":"#VALUE!"}},{"v":0,"d":"0.00"}]
[{"$nulls":14},{"$f":"IF($B1591=\"\",\"\",IF(F1591=\"Arbeitgeberähnliche Stellung\",OFFSET(MD!$Q$5,MATCH(Grundlagen_Abrechnung_KAE!$AK$7,MD_JAHR,0),0)*$H1591,IF(((AD1591/12*M1591*12)+N1591)>AF1591,AF1591/12,((AD1591/12*M1591*12)+N1591)/12)))","v":""},null,null,{"v":0,"d":"0.00"},null,{"v":0,"d":"0.00%"},{"v":0,"d":"0.00"},{"v":0,"d":"0.00"},{"v":0,"d":"0.00"},null,"prüfen",{"$f":"IFERROR(OFFSET(MD!$U$5,MATCH(Grundlagen_Abrechnung_KAE!$E1591,MD_GENDER,0),0),\"\")","v":""},{"v":0,"d":"0.00"},null,{"v":0,"d":"0.00"},{"$f":"IF(F1591=\"Arbeitgeberähnliche Stellung\",OFFSET(MD!$Q$5,MATCH(Grundlagen_Abrechnung_KAE!$AK$7,MD_JAHR,0),0)*$H1591,IF(J1591>0,AC1591,I1591))","v":{"v":0,"d":"0.00"}},null,{"$f":"OFFSET(MD!$P$5,MATCH($AK$7,MD_JAHR,0),0)*12","v":{"$error":"#VALUE!"}},{"v":0,"d":"0.00"}]
[{"$nulls":14},{"$f":"IF($B1592=\"\",\"\",IF(F1592=\"Arbeitgeberähnliche Stellung\",OFFSET(MD!$Q$5,MATCH(Grundlagen_Abrechnung_KAE!$AK$7,MD_JAHR,0),0)*$H1592,IF(((AD1592/12*M1592*12)+N1592)>AF1592,AF1592/12,((AD1592/12*M1592*12)+N1592)/12)))","v":""},null,null,{"v":0,"d":"0.00"},null,{"v":0,"d":"0.00%"},{"v":0,"d":"0.00"},{"v":0,"d":"0.00"},{"v":0,"d":"0.00"},null,"prüfen",{"$f":"IFERROR(OFFSET(MD!$U$5,MATCH(Grundlagen_Abrechnung_KAE!$E1592,MD_GENDER,0),0),\"\")","v":""},{"v":0,"d":"0.00"},null,{"v":0,"d":"0.00"},{"$f":"IF(F1592=\"Arbeitgeberähnliche Stellung\",OFFSET(MD!$Q$5,MATCH(Grundlagen_Abrechnung_KAE!$AK$7,MD_JAHR,0),0)*$H1592,IF(J1592>0,AC1592,I1592))","v":{"v":0,"d":"0.00"}},null,{"$f":"OFFSET(MD!$P$5,MATCH($AK$7,MD_JAHR,0),0)*12","v":{"$error":"#VALUE!"}},{"v":0,"d":"0.00"}]
[{"$nulls":14},{"$f":"IF($B1593=\"\",\"\",IF(F1593=\"Arbeitgeberähnliche Stellung\",OFFSET(MD!$Q$5,MATCH(Grundlagen_Abrechnung_KAE!$AK$7,MD_JAHR,0),0)*$H1593,IF(((AD1593/12*M1593*12)+N1593)>AF1593,AF1593/12,((AD1593/12*M1593*12)+N1593)/12)))","v":""},null,null,{"v":0,"d":"0.00"},null,{"v":0,"d":"0.00%"},{"v":0,"d":"0.00"},{"v":0,"d":"0.00"},{"v":0,"d":"0.00"},null,"prüfen",{"$f":"IFERROR(OFFSET(MD!$U$5,MATCH(Grundlagen_Abrechnung_KAE!$E1593,MD_GENDER,0),0),\"\")","v":""},{"v":0,"d":"0.00"},null,{"v":0,"d":"0.00"},{"$f":"IF(F1593=\"Arbeitgeberähnliche Stellung\",OFFSET(MD!$Q$5,MATCH(Grundlagen_Abrechnung_KAE!$AK$7,MD_JAHR,0),0)*$H1593,IF(J1593>0,AC1593,I1593))","v":{"v":0,"d":"0.00"}},null,{"$f":"OFFSET(MD!$P$5,MATCH($AK$7,MD_JAHR,0),0)*12","v":{"$error":"#VALUE!"}},{"v":0,"d":"0.00"}]
[{"$nulls":14},{"$f":"IF($B1594=\"\",\"\",IF(F1594=\"Arbeitgeberähnliche Stellung\",OFFSET(MD!$Q$5,MATCH(Grundlagen_Abrechnung_KAE!$AK$7,MD_JAHR,0),0)*$H1594,IF(((AD1594/12*M1594*12)+N1594)>AF1594,AF1594/12,((AD1594/12*M1594*12)+N1594)/12)))","v":""},null,null,{"v":0,"d":"0.00"},null,{"v":0,"d":"0.00%"},{"v":0,"d":"0.00"},{"v":0,"d":"0.00"},{"v":0,"d":"0.00"},null,"prüfen",{"$f":"IFERROR(OFFSET(MD!$U$5,MATCH(Grundlagen_Abrechnung_KAE!$E1594,MD_GENDER,0),0),\"\")","v":""},{"v":0,"d":"0.00"},null,{"v":0,"d":"0.00"},{"$f":"IF(F1594=\"Arbeitgeberähnliche Stellung\",OFFSET(MD!$Q$5,MATCH(Grundlagen_Abrechnung_KAE!$AK$7,MD_JAHR,0),0)*$H1594,IF(J1594>0,AC1594,I1594))","v":{"v":0,"d":"0.00"}},null,{"$f":"OFFSET(MD!$P$5,MATCH($AK$7,MD_JAHR,0),0)*12","v":{"$error":"#VALUE!"}},{"v":0,"d":"0.00"}]
[{"$nulls":14},{"$f":"IF($B1595=\"\",\"\",IF(F1595=\"Arbeitgeberähnliche Stellung\",OFFSET(MD!$Q$5,MATCH(Grundlagen_Abrechnung_KAE!$AK$7,MD_JAHR,0),0)*$H1595,IF(((AD1595/12*M1595*12)+N1595)>AF1595,AF1595/12,((AD1595/12*M1595*12)+N1595)/12)))","v":""},null,null,{"v":0,"d":"0.00"},null,{"v":0,"d":"0.00%"},{"v":0,"d":"0.00"},{"v":0,"d":"0.00"},{"v":0,"d":"0.00"},null,"prüfen",{"$f":"IFERROR(OFFSET(MD!$U$5,MATCH(Grundlagen_Abrechnung_KAE!$E1595,MD_GENDER,0),0),\"\")","v":""},{"v":0,"d":"0.00"},null,{"v":0,"d":"0.00"},{"$f":"IF(F1595=\"Arbeitgeberähnliche Stellung\",OFFSET(MD!$Q$5,MATCH(Grundlagen_Abrechnung_KAE!$AK$7,MD_JAHR,0),0)*$H1595,IF(J1595>0,AC1595,I1595))","v":{"v":0,"d":"0.00"}},null,{"$f":"OFFSET(MD!$P$5,MATCH($AK$7,MD_JAHR,0),0)*12","v":{"$error":"#VALUE!"}},{"v":0,"d":"0.00"}]
[{"$nulls":14},{"$f":"IF($B1596=\"\",\"\",IF(F1596=\"Arbeitgeberähnliche Stellung\",OFFSET(MD!$Q$5,MATCH(Grundlagen_Abrechnung_KAE!$AK$7,MD_JAHR,0),0)*$H1596,IF(((AD1596/12*M1596*12)+N1596)>AF1596,AF1596/12,((AD1596/12*M1596*12)+N1596)/12)))","v":""},null,null,{"v":0,"d":"0.00"},null,{"v":0,"d":"0.00%"},{"v":0,"d":"0.00"},{"v":0,"d":"0.00"},{"v":0,"d":"0.00"},null,"prüfen",{"$f":"IFERROR(OFFSET(MD!$U$5,MATCH(Grundlagen_Abrechnung_KAE!$E1596,MD_GENDER,0),0),\"\")","v":""},{"v":0,"d":"0.00"},null,{"v":0,"d":"0.00"},{"$f":"IF(F1596=\"Arbeitgeberähnliche Stellung\",OFFSET(MD!$Q$5,MATCH(Grundlagen_Abrechnung_KAE!$AK$7,MD_JAHR,0),0)*$H1596,IF(J1596>0,AC1596,I1596))","v":{"v":0,"d":"0.00"}},null,{"$f":"OFFSET(MD!$P$5,MATCH($AK$7,MD_JAHR,0),0)*12","v":{"$error":"#VALUE!"}},{"v":0,"d":"0.00"}]
[{"$nulls":14},{"$f":"IF($B1597=\"\",\"\",IF(F1597=\"Arbeitgeberähnliche Stellung\",OFFSET(MD!$Q$5,MATCH(Grundlagen_Abrechnung_KAE!$AK$7,MD_JAHR,0),0)*$H1597,IF(((AD1597/12*M1597*12)+N1597)>AF1597,AF1597/12,((AD1597/12*M1597*12)+N1597)/12)))","v":""},null,null,{"v":0,"d":"0.00"},null,{"v":0,"d":"0.00%"},{"v":0,"d":"0.00"},{"v":0,"d":"0.00"},{"v":0,"d":"0.00"},null,"prüfen",{"$f":"IFERROR(OFFSET(MD!$U$5,MATCH(Grundlagen_Abrechnung_KAE!$E1597,MD_GENDER,0),0),\"\")","v":""},{"v":0,"d":"0.00"},null,{"v":0,"d":"0.00"},{"$f":"IF(F1597=\"Arbeitgeberähnliche Stellung\",OFFSET(MD!$Q$5,MATCH(Grundlagen_Abrechnung_KAE!$AK$7,MD_JAHR,0),0)*$H1597,IF(J1597>0,AC1597,I1597))","v":{"v":0,"d":"0.00"}},null,{"$f":"OFFSET(MD!$P$5,MATCH($AK$7,MD_JAHR,0),0)*12","v":{"$error":"#VALUE!"}},{"v":0,"d":"0.00"}]
[{"$nulls":14},{"$f":"IF($B1598=\"\",\"\",IF(F1598=\"Arbeitgeberähnliche Stellung\",OFFSET(MD!$Q$5,MATCH(Grundlagen_Abrechnung_KAE!$AK$7,MD_JAHR,0),0)*$H1598,IF(((AD1598/12*M1598*12)+N1598)>AF1598,AF1598/12,((AD1598/12*M1598*12)+N1598)/12)))","v":""},null,null,{"v":0,"d":"0.00"},null,{"v":0,"d":"0.00%"},{"v":0,"d":"0.00"},{"v":0,"d":"0.00"},{"v":0,"d":"0.00"},null,"prüfen",{"$f":"IFERROR(OFFSET(MD!$U$5,MATCH(Grundlagen_Abrechnung_KAE!$E1598,MD_GENDER,0),0),\"\")","v":""},{"v":0,"d":"0.00"},null,{"v":0,"d":"0.00"},{"$f":"IF(F1598=\"Arbeitgeberähnliche Stellung\",OFFSET(MD!$Q$5,MATCH(Grundlagen_Abrechnung_KAE!$AK$7,MD_JAHR,0),0)*$H1598,IF(J1598>0,AC1598,I1598))","v":{"v":0,"d":"0.00"}},null,{"$f":"OFFSET(MD!$P$5,MATCH($AK$7,MD_JAHR,0),0)*12","v":{"$error":"#VALUE!"}},{"v":0,"d":"0.00"}]
[{"$nulls":14},{"$f":"IF($B1599=\"\",\"\",IF(F1599=\"Arbeitgeberähnliche Stellung\",OFFSET(MD!$Q$5,MATCH(Grundlagen_Abrechnung_KAE!$AK$7,MD_JAHR,0),0)*$H1599,IF(((AD1599/12*M1599*12)+N1599)>AF1599,AF1599/12,((AD1599/12*M1599*12)+N1599)/12)))","v":""},null,null,{"v":0,"d":"0.00"},null,{"v":0,"d":"0.00%"},{"v":0,"d":"0.00"},{"v":0,"d":"0.00"},{"v":0,"d":"0.00"},null,"prüfen",{"$f":"IFERROR(OFFSET(MD!$U$5,MATCH(Grundlagen_Abrechnung_KAE!$E1599,MD_GENDER,0),0),\"\")","v":""},{"v":0,"d":"0.00"},null,{"v":0,"d":"0.00"},{"$f":"IF(F1599=\"Arbeitgeberähnliche Stellung\",OFFSET(MD!$Q$5,MATCH(Grundlagen_Abrechnung_KAE!$AK$7,MD_JAHR,0),0)*$H1599,IF(J1599>0,AC1599,I1599))","v":{"v":0,"d":"0.00"}},null,{"$f":"OFFSET(MD!$P$5,MATCH($AK$7,MD_JAHR,0),0)*12","v":{"$error":"#VALUE!"}},{"v":0,"d":"0.00"}]
[{"$nulls":14},{"$f":"IF($B1600=\"\",\"\",IF(F1600=\"Arbeitgeberähnliche Stellung\",OFFSET(MD!$Q$5,MATCH(Grundlagen_Abrechnung_KAE!$AK$7,MD_JAHR,0),0)*$H1600,IF(((AD1600/12*M1600*12)+N1600)>AF1600,AF1600/12,((AD1600/12*M1600*12)+N1600)/12)))","v":""},null,null,{"v":0,"d":"0.00"},null,{"v":0,"d":"0.00%"},{"v":0,"d":"0.00"},{"v":0,"d":"0.00"},{"v":0,"d":"0.00"},null,"prüfen",{"$f":"IFERROR(OFFSET(MD!$U$5,MATCH(Grundlagen_Abrechnung_KAE!$E1600,MD_GENDER,0),0),\"\")","v":""},{"v":0,"d":"0.00"},null,{"v":0,"d":"0.00"},{"$f":"IF(F1600=\"Arbeitgeberähnliche Stellung\",OFFSET(MD!$Q$5,MATCH(Grundlagen_Abrechnung_KAE!$AK$7,MD_JAHR,0),0)*$H1600,IF(J1600>0,AC1600,I1600))","v":{"v":0,"d":"0.00"}},null,{"$f":"OFFSET(MD!$P$5,MATCH($AK$7,MD_JAHR,0),0)*12","v":{"$error":"#VALUE!"}},{"v":0,"d":"0.00"}]
[{"$nulls":14},{"$f":"IF($B1601=\"\",\"\",IF(F1601=\"Arbeitgeberähnliche Stellung\",OFFSET(MD!$Q$5,MATCH(Grundlagen_Abrechnung_KAE!$AK$7,MD_JAHR,0),0)*$H1601,IF(((AD1601/12*M1601*12)+N1601)>AF1601,AF1601/12,((AD1601/12*M1601*12)+N1601)/12)))","v":""},null,null,{"v":0,"d":"0.00"},null,{"v":0,"d":"0.00%"},{"v":0,"d":"0.00"},{"v":0,"d":"0.00"},{"v":0,"d":"0.00"},null,"prüfen",{"$f":"IFERROR(OFFSET(MD!$U$5,MATCH(Grundlagen_Abrechnung_KAE!$E1601,MD_GENDER,0),0),\"\")","v":""},{"v":0,"d":"0.00"},null,{"v":0,"d":"0.00"},{"$f":"IF(F1601=\"Arbeitgeberähnliche Stellung\",OFFSET(MD!$Q$5,MATCH(Grundlagen_Abrechnung_KAE!$AK$7,MD_JAHR,0),0)*$H1601,IF(J1601>0,AC1601,I1601))","v":{"v":0,"d":"0.00"}},null,{"$f":"OFFSET(MD!$P$5,MATCH($AK$7,MD_JAHR,0),0)*12","v":{"$error":"#VALUE!"}},{"v":0,"d":"0.00"}]
[{"$nulls":14},{"$f":"IF($B1602=\"\",\"\",IF(F1602=\"Arbeitgeberähnliche Stellung\",OFFSET(MD!$Q$5,MATCH(Grundlagen_Abrechnung_KAE!$AK$7,MD_JAHR,0),0)*$H1602,IF(((AD1602/12*M1602*12)+N1602)>AF1602,AF1602/12,((AD1602/12*M1602*12)+N1602)/12)))","v":""},null,null,{"v":0,"d":"0.00"},null,{"v":0,"d":"0.00%"},{"v":0,"d":"0.00"},{"v":0,"d":"0.00"},{"v":0,"d":"0.00"},null,"prüfen",{"$f":"IFERROR(OFFSET(MD!$U$5,MATCH(Grundlagen_Abrechnung_KAE!$E1602,MD_GENDER,0),0),\"\")","v":""},{"v":0,"d":"0.00"},null,{"v":0,"d":"0.00"},{"$f":"IF(F1602=\"Arbeitgeberähnliche Stellung\",OFFSET(MD!$Q$5,MATCH(Grundlagen_Abrechnung_KAE!$AK$7,MD_JAHR,0),0)*$H1602,IF(J1602>0,AC1602,I1602))","v":{"v":0,"d":"0.00"}},null,{"$f":"OFFSET(MD!$P$5,MATCH($AK$7,MD_JAHR,0),0)*12","v":{"$error":"#VALUE!"}},{"v":0,"d":"0.00"}]
[{"$nulls":14},{"$f":"IF($B1603=\"\",\"\",IF(F1603=\"Arbeitgeberähnliche Stellung\",OFFSET(MD!$Q$5,MATCH(Grundlagen_Abrechnung_KAE!$AK$7,MD_JAHR,0),0)*$H1603,IF(((AD1603/12*M1603*12)+N1603)>AF1603,AF1603/12,((AD1603/12*M1603*12)+N1603)/12)))","v":""},null,null,{"v":0,"d":"0.00"},null,{"v":0,"d":"0.00%"},{"v":0,"d":"0.00"},{"v":0,"d":"0.00"},{"v":0,"d":"0.00"},null,"prüfen",{"$f":"IFERROR(OFFSET(MD!$U$5,MATCH(Grundlagen_Abrechnung_KAE!$E1603,MD_GENDER,0),0),\"\")","v":""},{"v":0,"d":"0.00"},null,{"v":0,"d":"0.00"},{"$f":"IF(F1603=\"Arbeitgeberähnliche Stellung\",OFFSET(MD!$Q$5,MATCH(Grundlagen_Abrechnung_KAE!$AK$7,MD_JAHR,0),0)*$H1603,IF(J1603>0,AC1603,I1603))","v":{"v":0,"d":"0.00"}},null,{"$f":"OFFSET(MD!$P$5,MATCH($AK$7,MD_JAHR,0),0)*12","v":{"$error":"#VALUE!"}},{"v":0,"d":"0.00"}]
[{"$nulls":14},{"$f":"IF($B1604=\"\",\"\",IF(F1604=\"Arbeitgeberähnliche Stellung\",OFFSET(MD!$Q$5,MATCH(Grundlagen_Abrechnung_KAE!$AK$7,MD_JAHR,0),0)*$H1604,IF(((AD1604/12*M1604*12)+N1604)>AF1604,AF1604/12,((AD1604/12*M1604*12)+N1604)/12)))","v":""},null,null,{"v":0,"d":"0.00"},null,{"v":0,"d":"0.00%"},{"v":0,"d":"0.00"},{"v":0,"d":"0.00"},{"v":0,"d":"0.00"},null,"prüfen",{"$f":"IFERROR(OFFSET(MD!$U$5,MATCH(Grundlagen_Abrechnung_KAE!$E1604,MD_GENDER,0),0),\"\")","v":""},{"v":0,"d":"0.00"},null,{"v":0,"d":"0.00"},{"$f":"IF(F1604=\"Arbeitgeberähnliche Stellung\",OFFSET(MD!$Q$5,MATCH(Grundlagen_Abrechnung_KAE!$AK$7,MD_JAHR,0),0)*$H1604,IF(J1604>0,AC1604,I1604))","v":{"v":0,"d":"0.00"}},null,{"$f":"OFFSET(MD!$P$5,MATCH($AK$7,MD_JAHR,0),0)*12","v":{"$error":"#VALUE!"}},{"v":0,"d":"0.00"}]
[{"$nulls":14},{"$f":"IF($B1605=\"\",\"\",IF(F1605=\"Arbeitgeberähnliche Stellung\",OFFSET(MD!$Q$5,MATCH(Grundlagen_Abrechnung_KAE!$AK$7,MD_JAHR,0),0)*$H1605,IF(((AD1605/12*M1605*12)+N1605)>AF1605,AF1605/12,((AD1605/12*M1605*12)+N1605)/12)))","v":""},null,null,{"v":0,"d":"0.00"},null,{"v":0,"d":"0.00%"},{"v":0,"d":"0.00"},{"v":0,"d":"0.00"},{"v":0,"d":"0.00"},null,"prüfen",{"$f":"IFERROR(OFFSET(MD!$U$5,MATCH(Grundlagen_Abrechnung_KAE!$E1605,MD_GENDER,0),0),\"\")","v":""},{"v":0,"d":"0.00"},null,{"v":0,"d":"0.00"},{"$f":"IF(F1605=\"Arbeitgeberähnliche Stellung\",OFFSET(MD!$Q$5,MATCH(Grundlagen_Abrechnung_KAE!$AK$7,MD_JAHR,0),0)*$H1605,IF(J1605>0,AC1605,I1605))","v":{"v":0,"d":"0.00"}},null,{"$f":"OFFSET(MD!$P$5,MATCH($AK$7,MD_JAHR,0),0)*12","v":{"$error":"#VALUE!"}},{"v":0,"d":"0.00"}]
[{"$nulls":14},{"$f":"IF($B1606=\"\",\"\",IF(F1606=\"Arbeitgeberähnliche Stellung\",OFFSET(MD!$Q$5,MATCH(Grundlagen_Abrechnung_KAE!$AK$7,MD_JAHR,0),0)*$H1606,IF(((AD1606/12*M1606*12)+N1606)>AF1606,AF1606/12,((AD1606/12*M1606*12)+N1606)/12)))","v":""},null,null,{"v":0,"d":"0.00"},null,{"v":0,"d":"0.00%"},{"v":0,"d":"0.00"},{"v":0,"d":"0.00"},{"v":0,"d":"0.00"},null,"prüfen",{"$f":"IFERROR(OFFSET(MD!$U$5,MATCH(Grundlagen_Abrechnung_KAE!$E1606,MD_GENDER,0),0),\"\")","v":""},{"v":0,"d":"0.00"},null,{"v":0,"d":"0.00"},{"$f":"IF(F1606=\"Arbeitgeberähnliche Stellung\",OFFSET(MD!$Q$5,MATCH(Grundlagen_Abrechnung_KAE!$AK$7,MD_JAHR,0),0)*$H1606,IF(J1606>0,AC1606,I1606))","v":{"v":0,"d":"0.00"}},null,{"$f":"OFFSET(MD!$P$5,MATCH($AK$7,MD_JAHR,0),0)*12","v":{"$error":"#VALUE!"}},{"v":0,"d":"0.00"}]
[{"$nulls":14},{"$f":"IF($B1607=\"\",\"\",IF(F1607=\"Arbeitgeberähnliche Stellung\",OFFSET(MD!$Q$5,MATCH(Grundlagen_Abrechnung_KAE!$AK$7,MD_JAHR,0),0)*$H1607,IF(((AD1607/12*M1607*12)+N1607)>AF1607,AF1607/12,((AD1607/12*M1607*12)+N1607)/12)))","v":""},null,null,{"v":0,"d":"0.00"},null,{"v":0,"d":"0.00%"},{"v":0,"d":"0.00"},{"v":0,"d":"0.00"},{"v":0,"d":"0.00"},null,"prüfen",{"$f":"IFERROR(OFFSET(MD!$U$5,MATCH(Grundlagen_Abrechnung_KAE!$E1607,MD_GENDER,0),0),\"\")","v":""},{"v":0,"d":"0.00"},null,{"v":0,"d":"0.00"},{"$f":"IF(F1607=\"Arbeitgeberähnliche Stellung\",OFFSET(MD!$Q$5,MATCH(Grundlagen_Abrechnung_KAE!$AK$7,MD_JAHR,0),0)*$H1607,IF(J1607>0,AC1607,I1607))","v":{"v":0,"d":"0.00"}},null,{"$f":"OFFSET(MD!$P$5,MATCH($AK$7,MD_JAHR,0),0)*12","v":{"$error":"#VALUE!"}},{"v":0,"d":"0.00"}]
[{"$nulls":14},{"$f":"IF($B1608=\"\",\"\",IF(F1608=\"Arbeitgeberähnliche Stellung\",OFFSET(MD!$Q$5,MATCH(Grundlagen_Abrechnung_KAE!$AK$7,MD_JAHR,0),0)*$H1608,IF(((AD1608/12*M1608*12)+N1608)>AF1608,AF1608/12,((AD1608/12*M1608*12)+N1608)/12)))","v":""},null,null,{"v":0,"d":"0.00"},null,{"v":0,"d":"0.00%"},{"v":0,"d":"0.00"},{"v":0,"d":"0.00"},{"v":0,"d":"0.00"},null,"prüfen",{"$f":"IFERROR(OFFSET(MD!$U$5,MATCH(Grundlagen_Abrechnung_KAE!$E1608,MD_GENDER,0),0),\"\")","v":""},{"v":0,"d":"0.00"},null,{"v":0,"d":"0.00"},{"$f":"IF(F1608=\"Arbeitgeberähnliche Stellung\",OFFSET(MD!$Q$5,MATCH(Grundlagen_Abrechnung_KAE!$AK$7,MD_JAHR,0),0)*$H1608,IF(J1608>0,AC1608,I1608))","v":{"v":0,"d":"0.00"}},null,{"$f":"OFFSET(MD!$P$5,MATCH($AK$7,MD_JAHR,0),0)*12","v":{"$error":"#VALUE!"}},{"v":0,"d":"0.00"}]
[{"$nulls":14},{"$f":"IF($B1609=\"\",\"\",IF(F1609=\"Arbeitgeberähnliche Stellung\",OFFSET(MD!$Q$5,MATCH(Grundlagen_Abrechnung_KAE!$AK$7,MD_JAHR,0),0)*$H1609,IF(((AD1609/12*M1609*12)+N1609)>AF1609,AF1609/12,((AD1609/12*M1609*12)+N1609)/12)))","v":""},null,null,{"v":0,"d":"0.00"},null,{"v":0,"d":"0.00%"},{"v":0,"d":"0.00"},{"v":0,"d":"0.00"},{"v":0,"d":"0.00"},null,"prüfen",{"$f":"IFERROR(OFFSET(MD!$U$5,MATCH(Grundlagen_Abrechnung_KAE!$E1609,MD_GENDER,0),0),\"\")","v":""},{"v":0,"d":"0.00"},null,{"v":0,"d":"0.00"},{"$f":"IF(F1609=\"Arbeitgeberähnliche Stellung\",OFFSET(MD!$Q$5,MATCH(Grundlagen_Abrechnung_KAE!$AK$7,MD_JAHR,0),0)*$H1609,IF(J1609>0,AC1609,I1609))","v":{"v":0,"d":"0.00"}},null,{"$f":"OFFSET(MD!$P$5,MATCH($AK$7,MD_JAHR,0),0)*12","v":{"$error":"#VALUE!"}},{"v":0,"d":"0.00"}]
[{"$nulls":14},{"$f":"IF($B1610=\"\",\"\",IF(F1610=\"Arbeitgeberähnliche Stellung\",OFFSET(MD!$Q$5,MATCH(Grundlagen_Abrechnung_KAE!$AK$7,MD_JAHR,0),0)*$H1610,IF(((AD1610/12*M1610*12)+N1610)>AF1610,AF1610/12,((AD1610/12*M1610*12)+N1610)/12)))","v":""},null,null,{"v":0,"d":"0.00"},null,{"v":0,"d":"0.00%"},{"v":0,"d":"0.00"},{"v":0,"d":"0.00"},{"v":0,"d":"0.00"},null,"prüfen",{"$f":"IFERROR(OFFSET(MD!$U$5,MATCH(Grundlagen_Abrechnung_KAE!$E1610,MD_GENDER,0),0),\"\")","v":""},{"v":0,"d":"0.00"},null,{"v":0,"d":"0.00"},{"$f":"IF(F1610=\"Arbeitgeberähnliche Stellung\",OFFSET(MD!$Q$5,MATCH(Grundlagen_Abrechnung_KAE!$AK$7,MD_JAHR,0),0)*$H1610,IF(J1610>0,AC1610,I1610))","v":{"v":0,"d":"0.00"}},null,{"$f":"OFFSET(MD!$P$5,MATCH($AK$7,MD_JAHR,0),0)*12","v":{"$error":"#VALUE!"}},{"v":0,"d":"0.00"}]
[{"$nulls":14},{"$f":"IF($B1611=\"\",\"\",IF(F1611=\"Arbeitgeberähnliche Stellung\",OFFSET(MD!$Q$5,MATCH(Grundlagen_Abrechnung_KAE!$AK$7,MD_JAHR,0),0)*$H1611,IF(((AD1611/12*M1611*12)+N1611)>AF1611,AF1611/12,((AD1611/12*M1611*12)+N1611)/12)))","v":""},null,null,{"v":0,"d":"0.00"},null,{"v":0,"d":"0.00%"},{"v":0,"d":"0.00"},{"v":0,"d":"0.00"},{"v":0,"d":"0.00"},null,"prüfen",{"$f":"IFERROR(OFFSET(MD!$U$5,MATCH(Grundlagen_Abrechnung_KAE!$E1611,MD_GENDER,0),0),\"\")","v":""},{"v":0,"d":"0.00"},null,{"v":0,"d":"0.00"},{"$f":"IF(F1611=\"Arbeitgeberähnliche Stellung\",OFFSET(MD!$Q$5,MATCH(Grundlagen_Abrechnung_KAE!$AK$7,MD_JAHR,0),0)*$H1611,IF(J1611>0,AC1611,I1611))","v":{"v":0,"d":"0.00"}},null,{"$f":"OFFSET(MD!$P$5,MATCH($AK$7,MD_JAHR,0),0)*12","v":{"$error":"#VALUE!"}},{"v":0,"d":"0.00"}]
[{"$nulls":14},{"$f":"IF($B1612=\"\",\"\",IF(F1612=\"Arbeitgeberähnliche Stellung\",OFFSET(MD!$Q$5,MATCH(Grundlagen_Abrechnung_KAE!$AK$7,MD_JAHR,0),0)*$H1612,IF(((AD1612/12*M1612*12)+N1612)>AF1612,AF1612/12,((AD1612/12*M1612*12)+N1612)/12)))","v":""},null,null,{"v":0,"d":"0.00"},null,{"v":0,"d":"0.00%"},{"v":0,"d":"0.00"},{"v":0,"d":"0.00"},{"v":0,"d":"0.00"},null,"prüfen",{"$f":"IFERROR(OFFSET(MD!$U$5,MATCH(Grundlagen_Abrechnung_KAE!$E1612,MD_GENDER,0),0),\"\")","v":""},{"v":0,"d":"0.00"},null,{"v":0,"d":"0.00"},{"$f":"IF(F1612=\"Arbeitgeberähnliche Stellung\",OFFSET(MD!$Q$5,MATCH(Grundlagen_Abrechnung_KAE!$AK$7,MD_JAHR,0),0)*$H1612,IF(J1612>0,AC1612,I1612))","v":{"v":0,"d":"0.00"}},null,{"$f":"OFFSET(MD!$P$5,MATCH($AK$7,MD_JAHR,0),0)*12","v":{"$error":"#VALUE!"}},{"v":0,"d":"0.00"}]
[{"$nulls":14},{"$f":"IF($B1613=\"\",\"\",IF(F1613=\"Arbeitgeberähnliche Stellung\",OFFSET(MD!$Q$5,MATCH(Grundlagen_Abrechnung_KAE!$AK$7,MD_JAHR,0),0)*$H1613,IF(((AD1613/12*M1613*12)+N1613)>AF1613,AF1613/12,((AD1613/12*M1613*12)+N1613)/12)))","v":""},null,null,{"v":0,"d":"0.00"},null,{"v":0,"d":"0.00%"},{"v":0,"d":"0.00"},{"v":0,"d":"0.00"},{"v":0,"d":"0.00"},null,"prüfen",{"$f":"IFERROR(OFFSET(MD!$U$5,MATCH(Grundlagen_Abrechnung_KAE!$E1613,MD_GENDER,0),0),\"\")","v":""},{"v":0,"d":"0.00"},null,{"v":0,"d":"0.00"},{"$f":"IF(F1613=\"Arbeitgeberähnliche Stellung\",OFFSET(MD!$Q$5,MATCH(Grundlagen_Abrechnung_KAE!$AK$7,MD_JAHR,0),0)*$H1613,IF(J1613>0,AC1613,I1613))","v":{"v":0,"d":"0.00"}},null,{"$f":"OFFSET(MD!$P$5,MATCH($AK$7,MD_JAHR,0),0)*12","v":{"$error":"#VALUE!"}},{"v":0,"d":"0.00"}]
[{"$nulls":14},{"$f":"IF($B1614=\"\",\"\",IF(F1614=\"Arbeitgeberähnliche Stellung\",OFFSET(MD!$Q$5,MATCH(Grundlagen_Abrechnung_KAE!$AK$7,MD_JAHR,0),0)*$H1614,IF(((AD1614/12*M1614*12)+N1614)>AF1614,AF1614/12,((AD1614/12*M1614*12)+N1614)/12)))","v":""},null,null,{"v":0,"d":"0.00"},null,{"v":0,"d":"0.00%"},{"v":0,"d":"0.00"},{"v":0,"d":"0.00"},{"v":0,"d":"0.00"},null,"prüfen",{"$f":"IFERROR(OFFSET(MD!$U$5,MATCH(Grundlagen_Abrechnung_KAE!$E1614,MD_GENDER,0),0),\"\")","v":""},{"v":0,"d":"0.00"},null,{"v":0,"d":"0.00"},{"$f":"IF(F1614=\"Arbeitgeberähnliche Stellung\",OFFSET(MD!$Q$5,MATCH(Grundlagen_Abrechnung_KAE!$AK$7,MD_JAHR,0),0)*$H1614,IF(J1614>0,AC1614,I1614))","v":{"v":0,"d":"0.00"}},null,{"$f":"OFFSET(MD!$P$5,MATCH($AK$7,MD_JAHR,0),0)*12","v":{"$error":"#VALUE!"}},{"v":0,"d":"0.00"}]
[{"$nulls":14},{"$f":"IF($B1615=\"\",\"\",IF(F1615=\"Arbeitgeberähnliche Stellung\",OFFSET(MD!$Q$5,MATCH(Grundlagen_Abrechnung_KAE!$AK$7,MD_JAHR,0),0)*$H1615,IF(((AD1615/12*M1615*12)+N1615)>AF1615,AF1615/12,((AD1615/12*M1615*12)+N1615)/12)))","v":""},null,null,{"v":0,"d":"0.00"},null,{"v":0,"d":"0.00%"},{"v":0,"d":"0.00"},{"v":0,"d":"0.00"},{"v":0,"d":"0.00"},null,"prüfen",{"$f":"IFERROR(OFFSET(MD!$U$5,MATCH(Grundlagen_Abrechnung_KAE!$E1615,MD_GENDER,0),0),\"\")","v":""},{"v":0,"d":"0.00"},null,{"v":0,"d":"0.00"},{"$f":"IF(F1615=\"Arbeitgeberähnliche Stellung\",OFFSET(MD!$Q$5,MATCH(Grundlagen_Abrechnung_KAE!$AK$7,MD_JAHR,0),0)*$H1615,IF(J1615>0,AC1615,I1615))","v":{"v":0,"d":"0.00"}},null,{"$f":"OFFSET(MD!$P$5,MATCH($AK$7,MD_JAHR,0),0)*12","v":{"$error":"#VALUE!"}},{"v":0,"d":"0.00"}]
[{"$nulls":14},{"$f":"IF($B1616=\"\",\"\",IF(F1616=\"Arbeitgeberähnliche Stellung\",OFFSET(MD!$Q$5,MATCH(Grundlagen_Abrechnung_KAE!$AK$7,MD_JAHR,0),0)*$H1616,IF(((AD1616/12*M1616*12)+N1616)>AF1616,AF1616/12,((AD1616/12*M1616*12)+N1616)/12)))","v":""},null,null,{"v":0,"d":"0.00"},null,{"v":0,"d":"0.00%"},{"v":0,"d":"0.00"},{"v":0,"d":"0.00"},{"v":0,"d":"0.00"},null,"prüfen",{"$f":"IFERROR(OFFSET(MD!$U$5,MATCH(Grundlagen_Abrechnung_KAE!$E1616,MD_GENDER,0),0),\"\")","v":""},{"v":0,"d":"0.00"},null,{"v":0,"d":"0.00"},{"$f":"IF(F1616=\"Arbeitgeberähnliche Stellung\",OFFSET(MD!$Q$5,MATCH(Grundlagen_Abrechnung_KAE!$AK$7,MD_JAHR,0),0)*$H1616,IF(J1616>0,AC1616,I1616))","v":{"v":0,"d":"0.00"}},null,{"$f":"OFFSET(MD!$P$5,MATCH($AK$7,MD_JAHR,0),0)*12","v":{"$error":"#VALUE!"}},{"v":0,"d":"0.00"}]
[{"$nulls":14},{"$f":"IF($B1617=\"\",\"\",IF(F1617=\"Arbeitgeberähnliche Stellung\",OFFSET(MD!$Q$5,MATCH(Grundlagen_Abrechnung_KAE!$AK$7,MD_JAHR,0),0)*$H1617,IF(((AD1617/12*M1617*12)+N1617)>AF1617,AF1617/12,((AD1617/12*M1617*12)+N1617)/12)))","v":""},null,null,{"v":0,"d":"0.00"},null,{"v":0,"d":"0.00%"},{"v":0,"d":"0.00"},{"v":0,"d":"0.00"},{"v":0,"d":"0.00"},null,"prüfen",{"$f":"IFERROR(OFFSET(MD!$U$5,MATCH(Grundlagen_Abrechnung_KAE!$E1617,MD_GENDER,0),0),\"\")","v":""},{"v":0,"d":"0.00"},null,{"v":0,"d":"0.00"},{"$f":"IF(F1617=\"Arbeitgeberähnliche Stellung\",OFFSET(MD!$Q$5,MATCH(Grundlagen_Abrechnung_KAE!$AK$7,MD_JAHR,0),0)*$H1617,IF(J1617>0,AC1617,I1617))","v":{"v":0,"d":"0.00"}},null,{"$f":"OFFSET(MD!$P$5,MATCH($AK$7,MD_JAHR,0),0)*12","v":{"$error":"#VALUE!"}},{"v":0,"d":"0.00"}]
[{"$nulls":14},{"$f":"IF($B1618=\"\",\"\",IF(F1618=\"Arbeitgeberähnliche Stellung\",OFFSET(MD!$Q$5,MATCH(Grundlagen_Abrechnung_KAE!$AK$7,MD_JAHR,0),0)*$H1618,IF(((AD1618/12*M1618*12)+N1618)>AF1618,AF1618/12,((AD1618/12*M1618*12)+N1618)/12)))","v":""},null,null,{"v":0,"d":"0.00"},null,{"v":0,"d":"0.00%"},{"v":0,"d":"0.00"},{"v":0,"d":"0.00"},{"v":0,"d":"0.00"},null,"prüfen",{"$f":"IFERROR(OFFSET(MD!$U$5,MATCH(Grundlagen_Abrechnung_KAE!$E1618,MD_GENDER,0),0),\"\")","v":""},{"v":0,"d":"0.00"},null,{"v":0,"d":"0.00"},{"$f":"IF(F1618=\"Arbeitgeberähnliche Stellung\",OFFSET(MD!$Q$5,MATCH(Grundlagen_Abrechnung_KAE!$AK$7,MD_JAHR,0),0)*$H1618,IF(J1618>0,AC1618,I1618))","v":{"v":0,"d":"0.00"}},null,{"$f":"OFFSET(MD!$P$5,MATCH($AK$7,MD_JAHR,0),0)*12","v":{"$error":"#VALUE!"}},{"v":0,"d":"0.00"}]
[{"$nulls":14},{"$f":"IF($B1619=\"\",\"\",IF(F1619=\"Arbeitgeberähnliche Stellung\",OFFSET(MD!$Q$5,MATCH(Grundlagen_Abrechnung_KAE!$AK$7,MD_JAHR,0),0)*$H1619,IF(((AD1619/12*M1619*12)+N1619)>AF1619,AF1619/12,((AD1619/12*M1619*12)+N1619)/12)))","v":""},null,null,{"$f":"ROUND(IF(Q1619=\"\",0,IF(P1619=0,0,IF(Q1619>P1619,0,P1619-Q1619))),2)","v":{"v":0,"d":"0.00"}},null,{"$f":"IFERROR(R1619/P1619,0)","v":{"v":0,"d":"0.00%"}},{"$f":"IFERROR(IF(O1619-W1619=0,O1619,(O1619)*(1-T1619)),0)","v":{"v":0,"d":"0.00"}},{"v":0,"d":"0.00"},{"$f":"IFERROR(O1619*T1619,0)*0.8","v":{"v":0,"d":"0.00"}},null,{"$f":"IF(YEAR($G1619)>$Y$16,\"prüfen\",\"\")","v":"prüfen"},{"$f":"IFERROR(OFFSET(MD!$U$5,MATCH(Grundlagen_Abrechnung_KAE!$E1619,MD_GENDER,0),0),\"\")","v":""},{"$f":"IF(B1619=\"\",0,IF(YEAR(G1619)>$AA$16,0,1))","v":{"v":0,"d":"0.00"}},null,{"$f":"IF(J1619*K1619/6>J1619*L1619/12,J1619*K1619/6,J1619*L1619/12)","v":{"v":0,"d":"0.00"}},{"$f":"IF(F1619=\"Arbeitgeberähnliche Stellung\",OFFSET(MD!$Q$5,MATCH(Grundlagen_Abrechnung_KAE!$AK$7,MD_JAHR,0),0)*$H1619,IF(J1619>0,AC1619,I1619))","v":{"v":0,"d":"0.00"}},null,{"$f":"OFFSET(MD!$P$5,MATCH($AK$7,MD_JAHR,0),0)*12","v":{"$error":"#VALUE!"}},{"$f":"I1619*M1619+N1619","v":{"v":0,"d":"0.00"}}]
[{"$nulls":14},{"$f":"IF($B1620=\"\",\"\",IF(F1620=\"Arbeitgeberähnliche Stellung\",OFFSET(MD!$Q$5,MATCH(Grundlagen_Abrechnung_KAE!$AK$7,MD_JAHR,0),0)*$H1620,IF(((AD1620/12*M1620*12)+N1620)>AF1620,AF1620/12,((AD1620/12*M1620*12)+N1620)/12)))","v":""},null,null,{"v":0,"d":"0.00"},null,{"v":0,"d":"0.00%"},{"v":0,"d":"0.00"},{"$f":"IFERROR(O1620*T1620,0)","v":{"v":0,"d":"0.00"}},{"v":0,"d":"0.00"},null,"prüfen",{"$f":"IFERROR(OFFSET(MD!$U$5,MATCH(Grundlagen_Abrechnung_KAE!$E1620,MD_GENDER,0),0),\"\")","v":""},{"v":0,"d":"0.00"},null,{"v":0,"d":"0.00"},{"$f":"IF(F1620=\"Arbeitgeberähnliche Stellung\",OFFSET(MD!$Q$5,MATCH(Grundlagen_Abrechnung_KAE!$AK$7,MD_JAHR,0),0)*$H1620,IF(J1620>0,AC1620,I1620))","v":{"v":0,"d":"0.00"}},null,{"$f":"OFFSET(MD!$P$5,MATCH($AK$7,MD_JAHR,0),0)*12","v":{"$error":"#VALUE!"}},{"v":0,"d":"0.00"}]
[{"$nulls":14},{"$f":"IF($B1621=\"\",\"\",IF(F1621=\"Arbeitgeberähnliche Stellung\",OFFSET(MD!$Q$5,MATCH(Grundlagen_Abrechnung_KAE!$AK$7,MD_JAHR,0),0)*$H1621,IF(((AD1621/12*M1621*12)+N1621)>AF1621,AF1621/12,((AD1621/12*M1621*12)+N1621)/12)))","v":""},null,null,{"v":0,"d":"0.00"},null,{"v":0,"d":"0.00%"},{"v":0,"d":"0.00"},{"v":0,"d":"0.00"},{"v":0,"d":"0.00"},null,"prüfen",{"$f":"IFERROR(OFFSET(MD!$U$5,MATCH(Grundlagen_Abrechnung_KAE!$E1621,MD_GENDER,0),0),\"\")","v":""},{"v":0,"d":"0.00"},null,{"v":0,"d":"0.00"},{"$f":"IF(F1621=\"Arbeitgeberähnliche Stellung\",OFFSET(MD!$Q$5,MATCH(Grundlagen_Abrechnung_KAE!$AK$7,MD_JAHR,0),0)*$H1621,IF(J1621>0,AC1621,I1621))","v":{"v":0,"d":"0.00"}},null,{"$f":"OFFSET(MD!$P$5,MATCH($AK$7,MD_JAHR,0),0)*12","v":{"$error":"#VALUE!"}},{"v":0,"d":"0.00"}]
[{"$nulls":14},{"$f":"IF($B1622=\"\",\"\",IF(F1622=\"Arbeitgeberähnliche Stellung\",OFFSET(MD!$Q$5,MATCH(Grundlagen_Abrechnung_KAE!$AK$7,MD_JAHR,0),0)*$H1622,IF(((AD1622/12*M1622*12)+N1622)>AF1622,AF1622/12,((AD1622/12*M1622*12)+N1622)/12)))","v":""},null,null,{"v":0,"d":"0.00"},null,{"v":0,"d":"0.00%"},{"v":0,"d":"0.00"},{"v":0,"d":"0.00"},{"v":0,"d":"0.00"},null,"prüfen",{"$f":"IFERROR(OFFSET(MD!$U$5,MATCH(Grundlagen_Abrechnung_KAE!$E1622,MD_GENDER,0),0),\"\")","v":""},{"v":0,"d":"0.00"},null,{"v":0,"d":"0.00"},{"$f":"IF(F1622=\"Arbeitgeberähnliche Stellung\",OFFSET(MD!$Q$5,MATCH(Grundlagen_Abrechnung_KAE!$AK$7,MD_JAHR,0),0)*$H1622,IF(J1622>0,AC1622,I1622))","v":{"v":0,"d":"0.00"}},null,{"$f":"OFFSET(MD!$P$5,MATCH($AK$7,MD_JAHR,0),0)*12","v":{"$error":"#VALUE!"}},{"v":0,"d":"0.00"}]
[{"$nulls":14},{"$f":"IF($B1623=\"\",\"\",IF(F1623=\"Arbeitgeberähnliche Stellung\",OFFSET(MD!$Q$5,MATCH(Grundlagen_Abrechnung_KAE!$AK$7,MD_JAHR,0),0)*$H1623,IF(((AD1623/12*M1623*12)+N1623)>AF1623,AF1623/12,((AD1623/12*M1623*12)+N1623)/12)))","v":""},null,null,{"v":0,"d":"0.00"},null,{"v":0,"d":"0.00%"},{"v":0,"d":"0.00"},{"v":0,"d":"0.00"},{"v":0,"d":"0.00"},null,"prüfen",{"$f":"IFERROR(OFFSET(MD!$U$5,MATCH(Grundlagen_Abrechnung_KAE!$E1623,MD_GENDER,0),0),\"\")","v":""},{"v":0,"d":"0.00"},null,{"v":0,"d":"0.00"},{"$f":"IF(F1623=\"Arbeitgeberähnliche Stellung\",OFFSET(MD!$Q$5,MATCH(Grundlagen_Abrechnung_KAE!$AK$7,MD_JAHR,0),0)*$H1623,IF(J1623>0,AC1623,I1623))","v":{"v":0,"d":"0.00"}},null,{"$f":"OFFSET(MD!$P$5,MATCH($AK$7,MD_JAHR,0),0)*12","v":{"$error":"#VALUE!"}},{"v":0,"d":"0.00"}]
[{"$nulls":14},{"$f":"IF($B1624=\"\",\"\",IF(F1624=\"Arbeitgeberähnliche Stellung\",OFFSET(MD!$Q$5,MATCH(Grundlagen_Abrechnung_KAE!$AK$7,MD_JAHR,0),0)*$H1624,IF(((AD1624/12*M1624*12)+N1624)>AF1624,AF1624/12,((AD1624/12*M1624*12)+N1624)/12)))","v":""},null,null,{"v":0,"d":"0.00"},null,{"v":0,"d":"0.00%"},{"v":0,"d":"0.00"},{"v":0,"d":"0.00"},{"v":0,"d":"0.00"},null,"prüfen",{"$f":"IFERROR(OFFSET(MD!$U$5,MATCH(Grundlagen_Abrechnung_KAE!$E1624,MD_GENDER,0),0),\"\")","v":""},{"v":0,"d":"0.00"},null,{"v":0,"d":"0.00"},{"$f":"IF(F1624=\"Arbeitgeberähnliche Stellung\",OFFSET(MD!$Q$5,MATCH(Grundlagen_Abrechnung_KAE!$AK$7,MD_JAHR,0),0)*$H1624,IF(J1624>0,AC1624,I1624))","v":{"v":0,"d":"0.00"}},null,{"$f":"OFFSET(MD!$P$5,MATCH($AK$7,MD_JAHR,0),0)*12","v":{"$error":"#VALUE!"}},{"v":0,"d":"0.00"}]
[{"$nulls":14},{"$f":"IF($B1625=\"\",\"\",IF(F1625=\"Arbeitgeberähnliche Stellung\",OFFSET(MD!$Q$5,MATCH(Grundlagen_Abrechnung_KAE!$AK$7,MD_JAHR,0),0)*$H1625,IF(((AD1625/12*M1625*12)+N1625)>AF1625,AF1625/12,((AD1625/12*M1625*12)+N1625)/12)))","v":""},null,null,{"v":0,"d":"0.00"},null,{"v":0,"d":"0.00%"},{"v":0,"d":"0.00"},{"v":0,"d":"0.00"},{"v":0,"d":"0.00"},null,"prüfen",{"$f":"IFERROR(OFFSET(MD!$U$5,MATCH(Grundlagen_Abrechnung_KAE!$E1625,MD_GENDER,0),0),\"\")","v":""},{"v":0,"d":"0.00"},null,{"v":0,"d":"0.00"},{"$f":"IF(F1625=\"Arbeitgeberähnliche Stellung\",OFFSET(MD!$Q$5,MATCH(Grundlagen_Abrechnung_KAE!$AK$7,MD_JAHR,0),0)*$H1625,IF(J1625>0,AC1625,I1625))","v":{"v":0,"d":"0.00"}},null,{"$f":"OFFSET(MD!$P$5,MATCH($AK$7,MD_JAHR,0),0)*12","v":{"$error":"#VALUE!"}},{"v":0,"d":"0.00"}]
[{"$nulls":14},{"$f":"IF($B1626=\"\",\"\",IF(F1626=\"Arbeitgeberähnliche Stellung\",OFFSET(MD!$Q$5,MATCH(Grundlagen_Abrechnung_KAE!$AK$7,MD_JAHR,0),0)*$H1626,IF(((AD1626/12*M1626*12)+N1626)>AF1626,AF1626/12,((AD1626/12*M1626*12)+N1626)/12)))","v":""},null,null,{"v":0,"d":"0.00"},null,{"v":0,"d":"0.00%"},{"v":0,"d":"0.00"},{"v":0,"d":"0.00"},{"v":0,"d":"0.00"},null,"prüfen",{"$f":"IFERROR(OFFSET(MD!$U$5,MATCH(Grundlagen_Abrechnung_KAE!$E1626,MD_GENDER,0),0),\"\")","v":""},{"v":0,"d":"0.00"},null,{"v":0,"d":"0.00"},{"$f":"IF(F1626=\"Arbeitgeberähnliche Stellung\",OFFSET(MD!$Q$5,MATCH(Grundlagen_Abrechnung_KAE!$AK$7,MD_JAHR,0),0)*$H1626,IF(J1626>0,AC1626,I1626))","v":{"v":0,"d":"0.00"}},null,{"$f":"OFFSET(MD!$P$5,MATCH($AK$7,MD_JAHR,0),0)*12","v":{"$error":"#VALUE!"}},{"v":0,"d":"0.00"}]
[{"$nulls":14},{"$f":"IF($B1627=\"\",\"\",IF(F1627=\"Arbeitgeberähnliche Stellung\",OFFSET(MD!$Q$5,MATCH(Grundlagen_Abrechnung_KAE!$AK$7,MD_JAHR,0),0)*$H1627,IF(((AD1627/12*M1627*12)+N1627)>AF1627,AF1627/12,((AD1627/12*M1627*12)+N1627)/12)))","v":""},null,null,{"v":0,"d":"0.00"},null,{"v":0,"d":"0.00%"},{"v":0,"d":"0.00"},{"v":0,"d":"0.00"},{"v":0,"d":"0.00"},null,"prüfen",{"$f":"IFERROR(OFFSET(MD!$U$5,MATCH(Grundlagen_Abrechnung_KAE!$E1627,MD_GENDER,0),0),\"\")","v":""},{"v":0,"d":"0.00"},null,{"v":0,"d":"0.00"},{"$f":"IF(F1627=\"Arbeitgeberähnliche Stellung\",OFFSET(MD!$Q$5,MATCH(Grundlagen_Abrechnung_KAE!$AK$7,MD_JAHR,0),0)*$H1627,IF(J1627>0,AC1627,I1627))","v":{"v":0,"d":"0.00"}},null,{"$f":"OFFSET(MD!$P$5,MATCH($AK$7,MD_JAHR,0),0)*12","v":{"$error":"#VALUE!"}},{"v":0,"d":"0.00"}]
[{"$nulls":14},{"$f":"IF($B1628=\"\",\"\",IF(F1628=\"Arbeitgeberähnliche Stellung\",OFFSET(MD!$Q$5,MATCH(Grundlagen_Abrechnung_KAE!$AK$7,MD_JAHR,0),0)*$H1628,IF(((AD1628/12*M1628*12)+N1628)>AF1628,AF1628/12,((AD1628/12*M1628*12)+N1628)/12)))","v":""},null,null,{"v":0,"d":"0.00"},null,{"v":0,"d":"0.00%"},{"v":0,"d":"0.00"},{"v":0,"d":"0.00"},{"v":0,"d":"0.00"},null,"prüfen",{"$f":"IFERROR(OFFSET(MD!$U$5,MATCH(Grundlagen_Abrechnung_KAE!$E1628,MD_GENDER,0),0),\"\")","v":""},{"v":0,"d":"0.00"},null,{"v":0,"d":"0.00"},{"$f":"IF(F1628=\"Arbeitgeberähnliche Stellung\",OFFSET(MD!$Q$5,MATCH(Grundlagen_Abrechnung_KAE!$AK$7,MD_JAHR,0),0)*$H1628,IF(J1628>0,AC1628,I1628))","v":{"v":0,"d":"0.00"}},null,{"$f":"OFFSET(MD!$P$5,MATCH($AK$7,MD_JAHR,0),0)*12","v":{"$error":"#VALUE!"}},{"v":0,"d":"0.00"}]
[{"$nulls":14},{"$f":"IF($B1629=\"\",\"\",IF(F1629=\"Arbeitgeberähnliche Stellung\",OFFSET(MD!$Q$5,MATCH(Grundlagen_Abrechnung_KAE!$AK$7,MD_JAHR,0),0)*$H1629,IF(((AD1629/12*M1629*12)+N1629)>AF1629,AF1629/12,((AD1629/12*M1629*12)+N1629)/12)))","v":""},null,null,{"v":0,"d":"0.00"},null,{"v":0,"d":"0.00%"},{"v":0,"d":"0.00"},{"v":0,"d":"0.00"},{"v":0,"d":"0.00"},null,"prüfen",{"$f":"IFERROR(OFFSET(MD!$U$5,MATCH(Grundlagen_Abrechnung_KAE!$E1629,MD_GENDER,0),0),\"\")","v":""},{"v":0,"d":"0.00"},null,{"v":0,"d":"0.00"},{"$f":"IF(F1629=\"Arbeitgeberähnliche Stellung\",OFFSET(MD!$Q$5,MATCH(Grundlagen_Abrechnung_KAE!$AK$7,MD_JAHR,0),0)*$H1629,IF(J1629>0,AC1629,I1629))","v":{"v":0,"d":"0.00"}},null,{"$f":"OFFSET(MD!$P$5,MATCH($AK$7,MD_JAHR,0),0)*12","v":{"$error":"#VALUE!"}},{"v":0,"d":"0.00"}]
[{"$nulls":14},{"$f":"IF($B1630=\"\",\"\",IF(F1630=\"Arbeitgeberähnliche Stellung\",OFFSET(MD!$Q$5,MATCH(Grundlagen_Abrechnung_KAE!$AK$7,MD_JAHR,0),0)*$H1630,IF(((AD1630/12*M1630*12)+N1630)>AF1630,AF1630/12,((AD1630/12*M1630*12)+N1630)/12)))","v":""},null,null,{"v":0,"d":"0.00"},null,{"v":0,"d":"0.00%"},{"v":0,"d":"0.00"},{"v":0,"d":"0.00"},{"v":0,"d":"0.00"},null,"prüfen",{"$f":"IFERROR(OFFSET(MD!$U$5,MATCH(Grundlagen_Abrechnung_KAE!$E1630,MD_GENDER,0),0),\"\")","v":""},{"v":0,"d":"0.00"},null,{"v":0,"d":"0.00"},{"$f":"IF(F1630=\"Arbeitgeberähnliche Stellung\",OFFSET(MD!$Q$5,MATCH(Grundlagen_Abrechnung_KAE!$AK$7,MD_JAHR,0),0)*$H1630,IF(J1630>0,AC1630,I1630))","v":{"v":0,"d":"0.00"}},null,{"$f":"OFFSET(MD!$P$5,MATCH($AK$7,MD_JAHR,0),0)*12","v":{"$error":"#VALUE!"}},{"v":0,"d":"0.00"}]
[{"$nulls":14},{"$f":"IF($B1631=\"\",\"\",IF(F1631=\"Arbeitgeberähnliche Stellung\",OFFSET(MD!$Q$5,MATCH(Grundlagen_Abrechnung_KAE!$AK$7,MD_JAHR,0),0)*$H1631,IF(((AD1631/12*M1631*12)+N1631)>AF1631,AF1631/12,((AD1631/12*M1631*12)+N1631)/12)))","v":""},null,null,{"v":0,"d":"0.00"},null,{"v":0,"d":"0.00%"},{"v":0,"d":"0.00"},{"v":0,"d":"0.00"},{"v":0,"d":"0.00"},null,"prüfen",{"$f":"IFERROR(OFFSET(MD!$U$5,MATCH(Grundlagen_Abrechnung_KAE!$E1631,MD_GENDER,0),0),\"\")","v":""},{"v":0,"d":"0.00"},null,{"v":0,"d":"0.00"},{"$f":"IF(F1631=\"Arbeitgeberähnliche Stellung\",OFFSET(MD!$Q$5,MATCH(Grundlagen_Abrechnung_KAE!$AK$7,MD_JAHR,0),0)*$H1631,IF(J1631>0,AC1631,I1631))","v":{"v":0,"d":"0.00"}},null,{"$f":"OFFSET(MD!$P$5,MATCH($AK$7,MD_JAHR,0),0)*12","v":{"$error":"#VALUE!"}},{"v":0,"d":"0.00"}]
[{"$nulls":14},{"$f":"IF($B1632=\"\",\"\",IF(F1632=\"Arbeitgeberähnliche Stellung\",OFFSET(MD!$Q$5,MATCH(Grundlagen_Abrechnung_KAE!$AK$7,MD_JAHR,0),0)*$H1632,IF(((AD1632/12*M1632*12)+N1632)>AF1632,AF1632/12,((AD1632/12*M1632*12)+N1632)/12)))","v":""},null,null,{"v":0,"d":"0.00"},null,{"v":0,"d":"0.00%"},{"v":0,"d":"0.00"},{"v":0,"d":"0.00"},{"v":0,"d":"0.00"},null,"prüfen",{"$f":"IFERROR(OFFSET(MD!$U$5,MATCH(Grundlagen_Abrechnung_KAE!$E1632,MD_GENDER,0),0),\"\")","v":""},{"v":0,"d":"0.00"},null,{"v":0,"d":"0.00"},{"$f":"IF(F1632=\"Arbeitgeberähnliche Stellung\",OFFSET(MD!$Q$5,MATCH(Grundlagen_Abrechnung_KAE!$AK$7,MD_JAHR,0),0)*$H1632,IF(J1632>0,AC1632,I1632))","v":{"v":0,"d":"0.00"}},null,{"$f":"OFFSET(MD!$P$5,MATCH($AK$7,MD_JAHR,0),0)*12","v":{"$error":"#VALUE!"}},{"v":0,"d":"0.00"}]
[{"$nulls":14},{"$f":"IF($B1633=\"\",\"\",IF(F1633=\"Arbeitgeberähnliche Stellung\",OFFSET(MD!$Q$5,MATCH(Grundlagen_Abrechnung_KAE!$AK$7,MD_JAHR,0),0)*$H1633,IF(((AD1633/12*M1633*12)+N1633)>AF1633,AF1633/12,((AD1633/12*M1633*12)+N1633)/12)))","v":""},null,null,{"v":0,"d":"0.00"},null,{"v":0,"d":"0.00%"},{"v":0,"d":"0.00"},{"v":0,"d":"0.00"},{"v":0,"d":"0.00"},null,"prüfen",{"$f":"IFERROR(OFFSET(MD!$U$5,MATCH(Grundlagen_Abrechnung_KAE!$E1633,MD_GENDER,0),0),\"\")","v":""},{"v":0,"d":"0.00"},null,{"v":0,"d":"0.00"},{"$f":"IF(F1633=\"Arbeitgeberähnliche Stellung\",OFFSET(MD!$Q$5,MATCH(Grundlagen_Abrechnung_KAE!$AK$7,MD_JAHR,0),0)*$H1633,IF(J1633>0,AC1633,I1633))","v":{"v":0,"d":"0.00"}},null,{"$f":"OFFSET(MD!$P$5,MATCH($AK$7,MD_JAHR,0),0)*12","v":{"$error":"#VALUE!"}},{"v":0,"d":"0.00"}]
[{"$nulls":14},{"$f":"IF($B1634=\"\",\"\",IF(F1634=\"Arbeitgeberähnliche Stellung\",OFFSET(MD!$Q$5,MATCH(Grundlagen_Abrechnung_KAE!$AK$7,MD_JAHR,0),0)*$H1634,IF(((AD1634/12*M1634*12)+N1634)>AF1634,AF1634/12,((AD1634/12*M1634*12)+N1634)/12)))","v":""},null,null,{"v":0,"d":"0.00"},null,{"v":0,"d":"0.00%"},{"v":0,"d":"0.00"},{"v":0,"d":"0.00"},{"v":0,"d":"0.00"},null,"prüfen",{"$f":"IFERROR(OFFSET(MD!$U$5,MATCH(Grundlagen_Abrechnung_KAE!$E1634,MD_GENDER,0),0),\"\")","v":""},{"v":0,"d":"0.00"},null,{"v":0,"d":"0.00"},{"$f":"IF(F1634=\"Arbeitgeberähnliche Stellung\",OFFSET(MD!$Q$5,MATCH(Grundlagen_Abrechnung_KAE!$AK$7,MD_JAHR,0),0)*$H1634,IF(J1634>0,AC1634,I1634))","v":{"v":0,"d":"0.00"}},null,{"$f":"OFFSET(MD!$P$5,MATCH($AK$7,MD_JAHR,0),0)*12","v":{"$error":"#VALUE!"}},{"v":0,"d":"0.00"}]
[{"$nulls":14},{"$f":"IF($B1635=\"\",\"\",IF(F1635=\"Arbeitgeberähnliche Stellung\",OFFSET(MD!$Q$5,MATCH(Grundlagen_Abrechnung_KAE!$AK$7,MD_JAHR,0),0)*$H1635,IF(((AD1635/12*M1635*12)+N1635)>AF1635,AF1635/12,((AD1635/12*M1635*12)+N1635)/12)))","v":""},null,null,{"v":0,"d":"0.00"},null,{"v":0,"d":"0.00%"},{"v":0,"d":"0.00"},{"v":0,"d":"0.00"},{"v":0,"d":"0.00"},null,"prüfen",{"$f":"IFERROR(OFFSET(MD!$U$5,MATCH(Grundlagen_Abrechnung_KAE!$E1635,MD_GENDER,0),0),\"\")","v":""},{"v":0,"d":"0.00"},null,{"v":0,"d":"0.00"},{"$f":"IF(F1635=\"Arbeitgeberähnliche Stellung\",OFFSET(MD!$Q$5,MATCH(Grundlagen_Abrechnung_KAE!$AK$7,MD_JAHR,0),0)*$H1635,IF(J1635>0,AC1635,I1635))","v":{"v":0,"d":"0.00"}},null,{"$f":"OFFSET(MD!$P$5,MATCH($AK$7,MD_JAHR,0),0)*12","v":{"$error":"#VALUE!"}},{"v":0,"d":"0.00"}]
[{"$nulls":14},{"$f":"IF($B1636=\"\",\"\",IF(F1636=\"Arbeitgeberähnliche Stellung\",OFFSET(MD!$Q$5,MATCH(Grundlagen_Abrechnung_KAE!$AK$7,MD_JAHR,0),0)*$H1636,IF(((AD1636/12*M1636*12)+N1636)>AF1636,AF1636/12,((AD1636/12*M1636*12)+N1636)/12)))","v":""},null,null,{"v":0,"d":"0.00"},null,{"v":0,"d":"0.00%"},{"v":0,"d":"0.00"},{"v":0,"d":"0.00"},{"v":0,"d":"0.00"},null,"prüfen",{"$f":"IFERROR(OFFSET(MD!$U$5,MATCH(Grundlagen_Abrechnung_KAE!$E1636,MD_GENDER,0),0),\"\")","v":""},{"v":0,"d":"0.00"},null,{"v":0,"d":"0.00"},{"$f":"IF(F1636=\"Arbeitgeberähnliche Stellung\",OFFSET(MD!$Q$5,MATCH(Grundlagen_Abrechnung_KAE!$AK$7,MD_JAHR,0),0)*$H1636,IF(J1636>0,AC1636,I1636))","v":{"v":0,"d":"0.00"}},null,{"$f":"OFFSET(MD!$P$5,MATCH($AK$7,MD_JAHR,0),0)*12","v":{"$error":"#VALUE!"}},{"v":0,"d":"0.00"}]
[{"$nulls":14},{"$f":"IF($B1637=\"\",\"\",IF(F1637=\"Arbeitgeberähnliche Stellung\",OFFSET(MD!$Q$5,MATCH(Grundlagen_Abrechnung_KAE!$AK$7,MD_JAHR,0),0)*$H1637,IF(((AD1637/12*M1637*12)+N1637)>AF1637,AF1637/12,((AD1637/12*M1637*12)+N1637)/12)))","v":""},null,null,{"v":0,"d":"0.00"},null,{"v":0,"d":"0.00%"},{"v":0,"d":"0.00"},{"v":0,"d":"0.00"},{"v":0,"d":"0.00"},null,"prüfen",{"$f":"IFERROR(OFFSET(MD!$U$5,MATCH(Grundlagen_Abrechnung_KAE!$E1637,MD_GENDER,0),0),\"\")","v":""},{"v":0,"d":"0.00"},null,{"v":0,"d":"0.00"},{"$f":"IF(F1637=\"Arbeitgeberähnliche Stellung\",OFFSET(MD!$Q$5,MATCH(Grundlagen_Abrechnung_KAE!$AK$7,MD_JAHR,0),0)*$H1637,IF(J1637>0,AC1637,I1637))","v":{"v":0,"d":"0.00"}},null,{"$f":"OFFSET(MD!$P$5,MATCH($AK$7,MD_JAHR,0),0)*12","v":{"$error":"#VALUE!"}},{"v":0,"d":"0.00"}]
[{"$nulls":14},{"$f":"IF($B1638=\"\",\"\",IF(F1638=\"Arbeitgeberähnliche Stellung\",OFFSET(MD!$Q$5,MATCH(Grundlagen_Abrechnung_KAE!$AK$7,MD_JAHR,0),0)*$H1638,IF(((AD1638/12*M1638*12)+N1638)>AF1638,AF1638/12,((AD1638/12*M1638*12)+N1638)/12)))","v":""},null,null,{"v":0,"d":"0.00"},null,{"v":0,"d":"0.00%"},{"v":0,"d":"0.00"},{"v":0,"d":"0.00"},{"v":0,"d":"0.00"},null,"prüfen",{"$f":"IFERROR(OFFSET(MD!$U$5,MATCH(Grundlagen_Abrechnung_KAE!$E1638,MD_GENDER,0),0),\"\")","v":""},{"v":0,"d":"0.00"},null,{"v":0,"d":"0.00"},{"$f":"IF(F1638=\"Arbeitgeberähnliche Stellung\",OFFSET(MD!$Q$5,MATCH(Grundlagen_Abrechnung_KAE!$AK$7,MD_JAHR,0),0)*$H1638,IF(J1638>0,AC1638,I1638))","v":{"v":0,"d":"0.00"}},null,{"$f":"OFFSET(MD!$P$5,MATCH($AK$7,MD_JAHR,0),0)*12","v":{"$error":"#VALUE!"}},{"v":0,"d":"0.00"}]
[{"$nulls":14},{"$f":"IF($B1639=\"\",\"\",IF(F1639=\"Arbeitgeberähnliche Stellung\",OFFSET(MD!$Q$5,MATCH(Grundlagen_Abrechnung_KAE!$AK$7,MD_JAHR,0),0)*$H1639,IF(((AD1639/12*M1639*12)+N1639)>AF1639,AF1639/12,((AD1639/12*M1639*12)+N1639)/12)))","v":""},null,null,{"v":0,"d":"0.00"},null,{"v":0,"d":"0.00%"},{"v":0,"d":"0.00"},{"v":0,"d":"0.00"},{"v":0,"d":"0.00"},null,"prüfen",{"$f":"IFERROR(OFFSET(MD!$U$5,MATCH(Grundlagen_Abrechnung_KAE!$E1639,MD_GENDER,0),0),\"\")","v":""},{"v":0,"d":"0.00"},null,{"v":0,"d":"0.00"},{"$f":"IF(F1639=\"Arbeitgeberähnliche Stellung\",OFFSET(MD!$Q$5,MATCH(Grundlagen_Abrechnung_KAE!$AK$7,MD_JAHR,0),0)*$H1639,IF(J1639>0,AC1639,I1639))","v":{"v":0,"d":"0.00"}},null,{"$f":"OFFSET(MD!$P$5,MATCH($AK$7,MD_JAHR,0),0)*12","v":{"$error":"#VALUE!"}},{"v":0,"d":"0.00"}]
[{"$nulls":14},{"$f":"IF($B1640=\"\",\"\",IF(F1640=\"Arbeitgeberähnliche Stellung\",OFFSET(MD!$Q$5,MATCH(Grundlagen_Abrechnung_KAE!$AK$7,MD_JAHR,0),0)*$H1640,IF(((AD1640/12*M1640*12)+N1640)>AF1640,AF1640/12,((AD1640/12*M1640*12)+N1640)/12)))","v":""},null,null,{"v":0,"d":"0.00"},null,{"v":0,"d":"0.00%"},{"v":0,"d":"0.00"},{"v":0,"d":"0.00"},{"v":0,"d":"0.00"},null,"prüfen",{"$f":"IFERROR(OFFSET(MD!$U$5,MATCH(Grundlagen_Abrechnung_KAE!$E1640,MD_GENDER,0),0),\"\")","v":""},{"v":0,"d":"0.00"},null,{"v":0,"d":"0.00"},{"$f":"IF(F1640=\"Arbeitgeberähnliche Stellung\",OFFSET(MD!$Q$5,MATCH(Grundlagen_Abrechnung_KAE!$AK$7,MD_JAHR,0),0)*$H1640,IF(J1640>0,AC1640,I1640))","v":{"v":0,"d":"0.00"}},null,{"$f":"OFFSET(MD!$P$5,MATCH($AK$7,MD_JAHR,0),0)*12","v":{"$error":"#VALUE!"}},{"v":0,"d":"0.00"}]
[{"$nulls":14},{"$f":"IF($B1641=\"\",\"\",IF(F1641=\"Arbeitgeberähnliche Stellung\",OFFSET(MD!$Q$5,MATCH(Grundlagen_Abrechnung_KAE!$AK$7,MD_JAHR,0),0)*$H1641,IF(((AD1641/12*M1641*12)+N1641)>AF1641,AF1641/12,((AD1641/12*M1641*12)+N1641)/12)))","v":""},null,null,{"v":0,"d":"0.00"},null,{"v":0,"d":"0.00%"},{"v":0,"d":"0.00"},{"v":0,"d":"0.00"},{"v":0,"d":"0.00"},null,"prüfen",{"$f":"IFERROR(OFFSET(MD!$U$5,MATCH(Grundlagen_Abrechnung_KAE!$E1641,MD_GENDER,0),0),\"\")","v":""},{"v":0,"d":"0.00"},null,{"v":0,"d":"0.00"},{"$f":"IF(F1641=\"Arbeitgeberähnliche Stellung\",OFFSET(MD!$Q$5,MATCH(Grundlagen_Abrechnung_KAE!$AK$7,MD_JAHR,0),0)*$H1641,IF(J1641>0,AC1641,I1641))","v":{"v":0,"d":"0.00"}},null,{"$f":"OFFSET(MD!$P$5,MATCH($AK$7,MD_JAHR,0),0)*12","v":{"$error":"#VALUE!"}},{"v":0,"d":"0.00"}]
[{"$nulls":14},{"$f":"IF($B1642=\"\",\"\",IF(F1642=\"Arbeitgeberähnliche Stellung\",OFFSET(MD!$Q$5,MATCH(Grundlagen_Abrechnung_KAE!$AK$7,MD_JAHR,0),0)*$H1642,IF(((AD1642/12*M1642*12)+N1642)>AF1642,AF1642/12,((AD1642/12*M1642*12)+N1642)/12)))","v":""},null,null,{"v":0,"d":"0.00"},null,{"v":0,"d":"0.00%"},{"v":0,"d":"0.00"},{"v":0,"d":"0.00"},{"v":0,"d":"0.00"},null,"prüfen",{"$f":"IFERROR(OFFSET(MD!$U$5,MATCH(Grundlagen_Abrechnung_KAE!$E1642,MD_GENDER,0),0),\"\")","v":""},{"v":0,"d":"0.00"},null,{"v":0,"d":"0.00"},{"$f":"IF(F1642=\"Arbeitgeberähnliche Stellung\",OFFSET(MD!$Q$5,MATCH(Grundlagen_Abrechnung_KAE!$AK$7,MD_JAHR,0),0)*$H1642,IF(J1642>0,AC1642,I1642))","v":{"v":0,"d":"0.00"}},null,{"$f":"OFFSET(MD!$P$5,MATCH($AK$7,MD_JAHR,0),0)*12","v":{"$error":"#VALUE!"}},{"v":0,"d":"0.00"}]
[{"$nulls":14},{"$f":"IF($B1643=\"\",\"\",IF(F1643=\"Arbeitgeberähnliche Stellung\",OFFSET(MD!$Q$5,MATCH(Grundlagen_Abrechnung_KAE!$AK$7,MD_JAHR,0),0)*$H1643,IF(((AD1643/12*M1643*12)+N1643)>AF1643,AF1643/12,((AD1643/12*M1643*12)+N1643)/12)))","v":""},null,null,{"v":0,"d":"0.00"},null,{"v":0,"d":"0.00%"},{"v":0,"d":"0.00"},{"v":0,"d":"0.00"},{"v":0,"d":"0.00"},null,"prüfen",{"$f":"IFERROR(OFFSET(MD!$U$5,MATCH(Grundlagen_Abrechnung_KAE!$E1643,MD_GENDER,0),0),\"\")","v":""},{"v":0,"d":"0.00"},null,{"v":0,"d":"0.00"},{"$f":"IF(F1643=\"Arbeitgeberähnliche Stellung\",OFFSET(MD!$Q$5,MATCH(Grundlagen_Abrechnung_KAE!$AK$7,MD_JAHR,0),0)*$H1643,IF(J1643>0,AC1643,I1643))","v":{"v":0,"d":"0.00"}},null,{"$f":"OFFSET(MD!$P$5,MATCH($AK$7,MD_JAHR,0),0)*12","v":{"$error":"#VALUE!"}},{"v":0,"d":"0.00"}]
[{"$nulls":14},{"$f":"IF($B1644=\"\",\"\",IF(F1644=\"Arbeitgeberähnliche Stellung\",OFFSET(MD!$Q$5,MATCH(Grundlagen_Abrechnung_KAE!$AK$7,MD_JAHR,0),0)*$H1644,IF(((AD1644/12*M1644*12)+N1644)>AF1644,AF1644/12,((AD1644/12*M1644*12)+N1644)/12)))","v":""},null,null,{"v":0,"d":"0.00"},null,{"v":0,"d":"0.00%"},{"v":0,"d":"0.00"},{"v":0,"d":"0.00"},{"v":0,"d":"0.00"},null,"prüfen",{"$f":"IFERROR(OFFSET(MD!$U$5,MATCH(Grundlagen_Abrechnung_KAE!$E1644,MD_GENDER,0),0),\"\")","v":""},{"v":0,"d":"0.00"},null,{"v":0,"d":"0.00"},{"$f":"IF(F1644=\"Arbeitgeberähnliche Stellung\",OFFSET(MD!$Q$5,MATCH(Grundlagen_Abrechnung_KAE!$AK$7,MD_JAHR,0),0)*$H1644,IF(J1644>0,AC1644,I1644))","v":{"v":0,"d":"0.00"}},null,{"$f":"OFFSET(MD!$P$5,MATCH($AK$7,MD_JAHR,0),0)*12","v":{"$error":"#VALUE!"}},{"v":0,"d":"0.00"}]
[{"$nulls":14},{"$f":"IF($B1645=\"\",\"\",IF(F1645=\"Arbeitgeberähnliche Stellung\",OFFSET(MD!$Q$5,MATCH(Grundlagen_Abrechnung_KAE!$AK$7,MD_JAHR,0),0)*$H1645,IF(((AD1645/12*M1645*12)+N1645)>AF1645,AF1645/12,((AD1645/12*M1645*12)+N1645)/12)))","v":""},null,null,{"v":0,"d":"0.00"},null,{"v":0,"d":"0.00%"},{"v":0,"d":"0.00"},{"v":0,"d":"0.00"},{"v":0,"d":"0.00"},null,"prüfen",{"$f":"IFERROR(OFFSET(MD!$U$5,MATCH(Grundlagen_Abrechnung_KAE!$E1645,MD_GENDER,0),0),\"\")","v":""},{"v":0,"d":"0.00"},null,{"v":0,"d":"0.00"},{"$f":"IF(F1645=\"Arbeitgeberähnliche Stellung\",OFFSET(MD!$Q$5,MATCH(Grundlagen_Abrechnung_KAE!$AK$7,MD_JAHR,0),0)*$H1645,IF(J1645>0,AC1645,I1645))","v":{"v":0,"d":"0.00"}},null,{"$f":"OFFSET(MD!$P$5,MATCH($AK$7,MD_JAHR,0),0)*12","v":{"$error":"#VALUE!"}},{"v":0,"d":"0.00"}]
[{"$nulls":14},{"$f":"IF($B1646=\"\",\"\",IF(F1646=\"Arbeitgeberähnliche Stellung\",OFFSET(MD!$Q$5,MATCH(Grundlagen_Abrechnung_KAE!$AK$7,MD_JAHR,0),0)*$H1646,IF(((AD1646/12*M1646*12)+N1646)>AF1646,AF1646/12,((AD1646/12*M1646*12)+N1646)/12)))","v":""},null,null,{"v":0,"d":"0.00"},null,{"v":0,"d":"0.00%"},{"v":0,"d":"0.00"},{"v":0,"d":"0.00"},{"v":0,"d":"0.00"},null,"prüfen",{"$f":"IFERROR(OFFSET(MD!$U$5,MATCH(Grundlagen_Abrechnung_KAE!$E1646,MD_GENDER,0),0),\"\")","v":""},{"v":0,"d":"0.00"},null,{"v":0,"d":"0.00"},{"$f":"IF(F1646=\"Arbeitgeberähnliche Stellung\",OFFSET(MD!$Q$5,MATCH(Grundlagen_Abrechnung_KAE!$AK$7,MD_JAHR,0),0)*$H1646,IF(J1646>0,AC1646,I1646))","v":{"v":0,"d":"0.00"}},null,{"$f":"OFFSET(MD!$P$5,MATCH($AK$7,MD_JAHR,0),0)*12","v":{"$error":"#VALUE!"}},{"v":0,"d":"0.00"}]
[{"$nulls":14},{"$f":"IF($B1647=\"\",\"\",IF(F1647=\"Arbeitgeberähnliche Stellung\",OFFSET(MD!$Q$5,MATCH(Grundlagen_Abrechnung_KAE!$AK$7,MD_JAHR,0),0)*$H1647,IF(((AD1647/12*M1647*12)+N1647)>AF1647,AF1647/12,((AD1647/12*M1647*12)+N1647)/12)))","v":""},null,null,{"v":0,"d":"0.00"},null,{"v":0,"d":"0.00%"},{"v":0,"d":"0.00"},{"v":0,"d":"0.00"},{"v":0,"d":"0.00"},null,"prüfen",{"$f":"IFERROR(OFFSET(MD!$U$5,MATCH(Grundlagen_Abrechnung_KAE!$E1647,MD_GENDER,0),0),\"\")","v":""},{"v":0,"d":"0.00"},null,{"v":0,"d":"0.00"},{"$f":"IF(F1647=\"Arbeitgeberähnliche Stellung\",OFFSET(MD!$Q$5,MATCH(Grundlagen_Abrechnung_KAE!$AK$7,MD_JAHR,0),0)*$H1647,IF(J1647>0,AC1647,I1647))","v":{"v":0,"d":"0.00"}},null,{"$f":"OFFSET(MD!$P$5,MATCH($AK$7,MD_JAHR,0),0)*12","v":{"$error":"#VALUE!"}},{"v":0,"d":"0.00"}]
[{"$nulls":14},{"$f":"IF($B1648=\"\",\"\",IF(F1648=\"Arbeitgeberähnliche Stellung\",OFFSET(MD!$Q$5,MATCH(Grundlagen_Abrechnung_KAE!$AK$7,MD_JAHR,0),0)*$H1648,IF(((AD1648/12*M1648*12)+N1648)>AF1648,AF1648/12,((AD1648/12*M1648*12)+N1648)/12)))","v":""},null,null,{"v":0,"d":"0.00"},null,{"v":0,"d":"0.00%"},{"v":0,"d":"0.00"},{"v":0,"d":"0.00"},{"v":0,"d":"0.00"},null,"prüfen",{"$f":"IFERROR(OFFSET(MD!$U$5,MATCH(Grundlagen_Abrechnung_KAE!$E1648,MD_GENDER,0),0),\"\")","v":""},{"v":0,"d":"0.00"},null,{"v":0,"d":"0.00"},{"$f":"IF(F1648=\"Arbeitgeberähnliche Stellung\",OFFSET(MD!$Q$5,MATCH(Grundlagen_Abrechnung_KAE!$AK$7,MD_JAHR,0),0)*$H1648,IF(J1648>0,AC1648,I1648))","v":{"v":0,"d":"0.00"}},null,{"$f":"OFFSET(MD!$P$5,MATCH($AK$7,MD_JAHR,0),0)*12","v":{"$error":"#VALUE!"}},{"v":0,"d":"0.00"}]
[{"$nulls":14},{"$f":"IF($B1649=\"\",\"\",IF(F1649=\"Arbeitgeberähnliche Stellung\",OFFSET(MD!$Q$5,MATCH(Grundlagen_Abrechnung_KAE!$AK$7,MD_JAHR,0),0)*$H1649,IF(((AD1649/12*M1649*12)+N1649)>AF1649,AF1649/12,((AD1649/12*M1649*12)+N1649)/12)))","v":""},null,null,{"v":0,"d":"0.00"},null,{"v":0,"d":"0.00%"},{"v":0,"d":"0.00"},{"v":0,"d":"0.00"},{"v":0,"d":"0.00"},null,"prüfen",{"$f":"IFERROR(OFFSET(MD!$U$5,MATCH(Grundlagen_Abrechnung_KAE!$E1649,MD_GENDER,0),0),\"\")","v":""},{"v":0,"d":"0.00"},null,{"v":0,"d":"0.00"},{"$f":"IF(F1649=\"Arbeitgeberähnliche Stellung\",OFFSET(MD!$Q$5,MATCH(Grundlagen_Abrechnung_KAE!$AK$7,MD_JAHR,0),0)*$H1649,IF(J1649>0,AC1649,I1649))","v":{"v":0,"d":"0.00"}},null,{"$f":"OFFSET(MD!$P$5,MATCH($AK$7,MD_JAHR,0),0)*12","v":{"$error":"#VALUE!"}},{"v":0,"d":"0.00"}]
[{"$nulls":14},{"$f":"IF($B1650=\"\",\"\",IF(F1650=\"Arbeitgeberähnliche Stellung\",OFFSET(MD!$Q$5,MATCH(Grundlagen_Abrechnung_KAE!$AK$7,MD_JAHR,0),0)*$H1650,IF(((AD1650/12*M1650*12)+N1650)>AF1650,AF1650/12,((AD1650/12*M1650*12)+N1650)/12)))","v":""},null,null,{"v":0,"d":"0.00"},null,{"v":0,"d":"0.00%"},{"v":0,"d":"0.00"},{"v":0,"d":"0.00"},{"v":0,"d":"0.00"},null,"prüfen",{"$f":"IFERROR(OFFSET(MD!$U$5,MATCH(Grundlagen_Abrechnung_KAE!$E1650,MD_GENDER,0),0),\"\")","v":""},{"v":0,"d":"0.00"},null,{"v":0,"d":"0.00"},{"$f":"IF(F1650=\"Arbeitgeberähnliche Stellung\",OFFSET(MD!$Q$5,MATCH(Grundlagen_Abrechnung_KAE!$AK$7,MD_JAHR,0),0)*$H1650,IF(J1650>0,AC1650,I1650))","v":{"v":0,"d":"0.00"}},null,{"$f":"OFFSET(MD!$P$5,MATCH($AK$7,MD_JAHR,0),0)*12","v":{"$error":"#VALUE!"}},{"v":0,"d":"0.00"}]
[{"$nulls":14},{"$f":"IF($B1651=\"\",\"\",IF(F1651=\"Arbeitgeberähnliche Stellung\",OFFSET(MD!$Q$5,MATCH(Grundlagen_Abrechnung_KAE!$AK$7,MD_JAHR,0),0)*$H1651,IF(((AD1651/12*M1651*12)+N1651)>AF1651,AF1651/12,((AD1651/12*M1651*12)+N1651)/12)))","v":""},null,null,{"v":0,"d":"0.00"},null,{"v":0,"d":"0.00%"},{"v":0,"d":"0.00"},{"v":0,"d":"0.00"},{"v":0,"d":"0.00"},null,"prüfen",{"$f":"IFERROR(OFFSET(MD!$U$5,MATCH(Grundlagen_Abrechnung_KAE!$E1651,MD_GENDER,0),0),\"\")","v":""},{"v":0,"d":"0.00"},null,{"v":0,"d":"0.00"},{"$f":"IF(F1651=\"Arbeitgeberähnliche Stellung\",OFFSET(MD!$Q$5,MATCH(Grundlagen_Abrechnung_KAE!$AK$7,MD_JAHR,0),0)*$H1651,IF(J1651>0,AC1651,I1651))","v":{"v":0,"d":"0.00"}},null,{"$f":"OFFSET(MD!$P$5,MATCH($AK$7,MD_JAHR,0),0)*12","v":{"$error":"#VALUE!"}},{"v":0,"d":"0.00"}]
[{"$nulls":14},{"$f":"IF($B1652=\"\",\"\",IF(F1652=\"Arbeitgeberähnliche Stellung\",OFFSET(MD!$Q$5,MATCH(Grundlagen_Abrechnung_KAE!$AK$7,MD_JAHR,0),0)*$H1652,IF(((AD1652/12*M1652*12)+N1652)>AF1652,AF1652/12,((AD1652/12*M1652*12)+N1652)/12)))","v":""},null,null,{"v":0,"d":"0.00"},null,{"v":0,"d":"0.00%"},{"v":0,"d":"0.00"},{"v":0,"d":"0.00"},{"v":0,"d":"0.00"},null,"prüfen",{"$f":"IFERROR(OFFSET(MD!$U$5,MATCH(Grundlagen_Abrechnung_KAE!$E1652,MD_GENDER,0),0),\"\")","v":""},{"v":0,"d":"0.00"},null,{"v":0,"d":"0.00"},{"$f":"IF(F1652=\"Arbeitgeberähnliche Stellung\",OFFSET(MD!$Q$5,MATCH(Grundlagen_Abrechnung_KAE!$AK$7,MD_JAHR,0),0)*$H1652,IF(J1652>0,AC1652,I1652))","v":{"v":0,"d":"0.00"}},null,{"$f":"OFFSET(MD!$P$5,MATCH($AK$7,MD_JAHR,0),0)*12","v":{"$error":"#VALUE!"}},{"v":0,"d":"0.00"}]
[{"$nulls":14},{"$f":"IF($B1653=\"\",\"\",IF(F1653=\"Arbeitgeberähnliche Stellung\",OFFSET(MD!$Q$5,MATCH(Grundlagen_Abrechnung_KAE!$AK$7,MD_JAHR,0),0)*$H1653,IF(((AD1653/12*M1653*12)+N1653)>AF1653,AF1653/12,((AD1653/12*M1653*12)+N1653)/12)))","v":""},null,null,{"v":0,"d":"0.00"},null,{"v":0,"d":"0.00%"},{"v":0,"d":"0.00"},{"v":0,"d":"0.00"},{"v":0,"d":"0.00"},null,"prüfen",{"$f":"IFERROR(OFFSET(MD!$U$5,MATCH(Grundlagen_Abrechnung_KAE!$E1653,MD_GENDER,0),0),\"\")","v":""},{"v":0,"d":"0.00"},null,{"v":0,"d":"0.00"},{"$f":"IF(F1653=\"Arbeitgeberähnliche Stellung\",OFFSET(MD!$Q$5,MATCH(Grundlagen_Abrechnung_KAE!$AK$7,MD_JAHR,0),0)*$H1653,IF(J1653>0,AC1653,I1653))","v":{"v":0,"d":"0.00"}},null,{"$f":"OFFSET(MD!$P$5,MATCH($AK$7,MD_JAHR,0),0)*12","v":{"$error":"#VALUE!"}},{"v":0,"d":"0.00"}]
[{"$nulls":14},{"$f":"IF($B1654=\"\",\"\",IF(F1654=\"Arbeitgeberähnliche Stellung\",OFFSET(MD!$Q$5,MATCH(Grundlagen_Abrechnung_KAE!$AK$7,MD_JAHR,0),0)*$H1654,IF(((AD1654/12*M1654*12)+N1654)>AF1654,AF1654/12,((AD1654/12*M1654*12)+N1654)/12)))","v":""},null,null,{"v":0,"d":"0.00"},null,{"v":0,"d":"0.00%"},{"v":0,"d":"0.00"},{"v":0,"d":"0.00"},{"v":0,"d":"0.00"},null,"prüfen",{"$f":"IFERROR(OFFSET(MD!$U$5,MATCH(Grundlagen_Abrechnung_KAE!$E1654,MD_GENDER,0),0),\"\")","v":""},{"v":0,"d":"0.00"},null,{"v":0,"d":"0.00"},{"$f":"IF(F1654=\"Arbeitgeberähnliche Stellung\",OFFSET(MD!$Q$5,MATCH(Grundlagen_Abrechnung_KAE!$AK$7,MD_JAHR,0),0)*$H1654,IF(J1654>0,AC1654,I1654))","v":{"v":0,"d":"0.00"}},null,{"$f":"OFFSET(MD!$P$5,MATCH($AK$7,MD_JAHR,0),0)*12","v":{"$error":"#VALUE!"}},{"v":0,"d":"0.00"}]
[{"$nulls":14},{"$f":"IF($B1655=\"\",\"\",IF(F1655=\"Arbeitgeberähnliche Stellung\",OFFSET(MD!$Q$5,MATCH(Grundlagen_Abrechnung_KAE!$AK$7,MD_JAHR,0),0)*$H1655,IF(((AD1655/12*M1655*12)+N1655)>AF1655,AF1655/12,((AD1655/12*M1655*12)+N1655)/12)))","v":""},null,null,{"v":0,"d":"0.00"},null,{"v":0,"d":"0.00%"},{"v":0,"d":"0.00"},{"v":0,"d":"0.00"},{"v":0,"d":"0.00"},null,"prüfen",{"$f":"IFERROR(OFFSET(MD!$U$5,MATCH(Grundlagen_Abrechnung_KAE!$E1655,MD_GENDER,0),0),\"\")","v":""},{"v":0,"d":"0.00"},null,{"v":0,"d":"0.00"},{"$f":"IF(F1655=\"Arbeitgeberähnliche Stellung\",OFFSET(MD!$Q$5,MATCH(Grundlagen_Abrechnung_KAE!$AK$7,MD_JAHR,0),0)*$H1655,IF(J1655>0,AC1655,I1655))","v":{"v":0,"d":"0.00"}},null,{"$f":"OFFSET(MD!$P$5,MATCH($AK$7,MD_JAHR,0),0)*12","v":{"$error":"#VALUE!"}},{"v":0,"d":"0.00"}]
[{"$nulls":14},{"$f":"IF($B1656=\"\",\"\",IF(F1656=\"Arbeitgeberähnliche Stellung\",OFFSET(MD!$Q$5,MATCH(Grundlagen_Abrechnung_KAE!$AK$7,MD_JAHR,0),0)*$H1656,IF(((AD1656/12*M1656*12)+N1656)>AF1656,AF1656/12,((AD1656/12*M1656*12)+N1656)/12)))","v":""},null,null,{"v":0,"d":"0.00"},null,{"v":0,"d":"0.00%"},{"v":0,"d":"0.00"},{"v":0,"d":"0.00"},{"v":0,"d":"0.00"},null,"prüfen",{"$f":"IFERROR(OFFSET(MD!$U$5,MATCH(Grundlagen_Abrechnung_KAE!$E1656,MD_GENDER,0),0),\"\")","v":""},{"v":0,"d":"0.00"},null,{"v":0,"d":"0.00"},{"$f":"IF(F1656=\"Arbeitgeberähnliche Stellung\",OFFSET(MD!$Q$5,MATCH(Grundlagen_Abrechnung_KAE!$AK$7,MD_JAHR,0),0)*$H1656,IF(J1656>0,AC1656,I1656))","v":{"v":0,"d":"0.00"}},null,{"$f":"OFFSET(MD!$P$5,MATCH($AK$7,MD_JAHR,0),0)*12","v":{"$error":"#VALUE!"}},{"v":0,"d":"0.00"}]
[{"$nulls":14},{"$f":"IF($B1657=\"\",\"\",IF(F1657=\"Arbeitgeberähnliche Stellung\",OFFSET(MD!$Q$5,MATCH(Grundlagen_Abrechnung_KAE!$AK$7,MD_JAHR,0),0)*$H1657,IF(((AD1657/12*M1657*12)+N1657)>AF1657,AF1657/12,((AD1657/12*M1657*12)+N1657)/12)))","v":""},null,null,{"v":0,"d":"0.00"},null,{"v":0,"d":"0.00%"},{"v":0,"d":"0.00"},{"v":0,"d":"0.00"},{"v":0,"d":"0.00"},null,"prüfen",{"$f":"IFERROR(OFFSET(MD!$U$5,MATCH(Grundlagen_Abrechnung_KAE!$E1657,MD_GENDER,0),0),\"\")","v":""},{"v":0,"d":"0.00"},null,{"v":0,"d":"0.00"},{"$f":"IF(F1657=\"Arbeitgeberähnliche Stellung\",OFFSET(MD!$Q$5,MATCH(Grundlagen_Abrechnung_KAE!$AK$7,MD_JAHR,0),0)*$H1657,IF(J1657>0,AC1657,I1657))","v":{"v":0,"d":"0.00"}},null,{"$f":"OFFSET(MD!$P$5,MATCH($AK$7,MD_JAHR,0),0)*12","v":{"$error":"#VALUE!"}},{"v":0,"d":"0.00"}]
[{"$nulls":14},{"$f":"IF($B1658=\"\",\"\",IF(F1658=\"Arbeitgeberähnliche Stellung\",OFFSET(MD!$Q$5,MATCH(Grundlagen_Abrechnung_KAE!$AK$7,MD_JAHR,0),0)*$H1658,IF(((AD1658/12*M1658*12)+N1658)>AF1658,AF1658/12,((AD1658/12*M1658*12)+N1658)/12)))","v":""},null,null,{"v":0,"d":"0.00"},null,{"v":0,"d":"0.00%"},{"v":0,"d":"0.00"},{"v":0,"d":"0.00"},{"v":0,"d":"0.00"},null,"prüfen",{"$f":"IFERROR(OFFSET(MD!$U$5,MATCH(Grundlagen_Abrechnung_KAE!$E1658,MD_GENDER,0),0),\"\")","v":""},{"v":0,"d":"0.00"},null,{"v":0,"d":"0.00"},{"$f":"IF(F1658=\"Arbeitgeberähnliche Stellung\",OFFSET(MD!$Q$5,MATCH(Grundlagen_Abrechnung_KAE!$AK$7,MD_JAHR,0),0)*$H1658,IF(J1658>0,AC1658,I1658))","v":{"v":0,"d":"0.00"}},null,{"$f":"OFFSET(MD!$P$5,MATCH($AK$7,MD_JAHR,0),0)*12","v":{"$error":"#VALUE!"}},{"v":0,"d":"0.00"}]
[{"$nulls":14},{"$f":"IF($B1659=\"\",\"\",IF(F1659=\"Arbeitgeberähnliche Stellung\",OFFSET(MD!$Q$5,MATCH(Grundlagen_Abrechnung_KAE!$AK$7,MD_JAHR,0),0)*$H1659,IF(((AD1659/12*M1659*12)+N1659)>AF1659,AF1659/12,((AD1659/12*M1659*12)+N1659)/12)))","v":""},null,null,{"v":0,"d":"0.00"},null,{"v":0,"d":"0.00%"},{"v":0,"d":"0.00"},{"v":0,"d":"0.00"},{"v":0,"d":"0.00"},null,"prüfen",{"$f":"IFERROR(OFFSET(MD!$U$5,MATCH(Grundlagen_Abrechnung_KAE!$E1659,MD_GENDER,0),0),\"\")","v":""},{"v":0,"d":"0.00"},null,{"v":0,"d":"0.00"},{"$f":"IF(F1659=\"Arbeitgeberähnliche Stellung\",OFFSET(MD!$Q$5,MATCH(Grundlagen_Abrechnung_KAE!$AK$7,MD_JAHR,0),0)*$H1659,IF(J1659>0,AC1659,I1659))","v":{"v":0,"d":"0.00"}},null,{"$f":"OFFSET(MD!$P$5,MATCH($AK$7,MD_JAHR,0),0)*12","v":{"$error":"#VALUE!"}},{"v":0,"d":"0.00"}]
[{"$nulls":14},{"$f":"IF($B1660=\"\",\"\",IF(F1660=\"Arbeitgeberähnliche Stellung\",OFFSET(MD!$Q$5,MATCH(Grundlagen_Abrechnung_KAE!$AK$7,MD_JAHR,0),0)*$H1660,IF(((AD1660/12*M1660*12)+N1660)>AF1660,AF1660/12,((AD1660/12*M1660*12)+N1660)/12)))","v":""},null,null,{"v":0,"d":"0.00"},null,{"v":0,"d":"0.00%"},{"v":0,"d":"0.00"},{"v":0,"d":"0.00"},{"v":0,"d":"0.00"},null,"prüfen",{"$f":"IFERROR(OFFSET(MD!$U$5,MATCH(Grundlagen_Abrechnung_KAE!$E1660,MD_GENDER,0),0),\"\")","v":""},{"v":0,"d":"0.00"},null,{"v":0,"d":"0.00"},{"$f":"IF(F1660=\"Arbeitgeberähnliche Stellung\",OFFSET(MD!$Q$5,MATCH(Grundlagen_Abrechnung_KAE!$AK$7,MD_JAHR,0),0)*$H1660,IF(J1660>0,AC1660,I1660))","v":{"v":0,"d":"0.00"}},null,{"$f":"OFFSET(MD!$P$5,MATCH($AK$7,MD_JAHR,0),0)*12","v":{"$error":"#VALUE!"}},{"v":0,"d":"0.00"}]
[{"$nulls":14},{"$f":"IF($B1661=\"\",\"\",IF(F1661=\"Arbeitgeberähnliche Stellung\",OFFSET(MD!$Q$5,MATCH(Grundlagen_Abrechnung_KAE!$AK$7,MD_JAHR,0),0)*$H1661,IF(((AD1661/12*M1661*12)+N1661)>AF1661,AF1661/12,((AD1661/12*M1661*12)+N1661)/12)))","v":""},null,null,{"v":0,"d":"0.00"},null,{"v":0,"d":"0.00%"},{"v":0,"d":"0.00"},{"v":0,"d":"0.00"},{"v":0,"d":"0.00"},null,"prüfen",{"$f":"IFERROR(OFFSET(MD!$U$5,MATCH(Grundlagen_Abrechnung_KAE!$E1661,MD_GENDER,0),0),\"\")","v":""},{"v":0,"d":"0.00"},null,{"v":0,"d":"0.00"},{"$f":"IF(F1661=\"Arbeitgeberähnliche Stellung\",OFFSET(MD!$Q$5,MATCH(Grundlagen_Abrechnung_KAE!$AK$7,MD_JAHR,0),0)*$H1661,IF(J1661>0,AC1661,I1661))","v":{"v":0,"d":"0.00"}},null,{"$f":"OFFSET(MD!$P$5,MATCH($AK$7,MD_JAHR,0),0)*12","v":{"$error":"#VALUE!"}},{"v":0,"d":"0.00"}]
[{"$nulls":14},{"$f":"IF($B1662=\"\",\"\",IF(F1662=\"Arbeitgeberähnliche Stellung\",OFFSET(MD!$Q$5,MATCH(Grundlagen_Abrechnung_KAE!$AK$7,MD_JAHR,0),0)*$H1662,IF(((AD1662/12*M1662*12)+N1662)>AF1662,AF1662/12,((AD1662/12*M1662*12)+N1662)/12)))","v":""},null,null,{"v":0,"d":"0.00"},null,{"v":0,"d":"0.00%"},{"v":0,"d":"0.00"},{"v":0,"d":"0.00"},{"v":0,"d":"0.00"},null,"prüfen",{"$f":"IFERROR(OFFSET(MD!$U$5,MATCH(Grundlagen_Abrechnung_KAE!$E1662,MD_GENDER,0),0),\"\")","v":""},{"v":0,"d":"0.00"},null,{"v":0,"d":"0.00"},{"$f":"IF(F1662=\"Arbeitgeberähnliche Stellung\",OFFSET(MD!$Q$5,MATCH(Grundlagen_Abrechnung_KAE!$AK$7,MD_JAHR,0),0)*$H1662,IF(J1662>0,AC1662,I1662))","v":{"v":0,"d":"0.00"}},null,{"$f":"OFFSET(MD!$P$5,MATCH($AK$7,MD_JAHR,0),0)*12","v":{"$error":"#VALUE!"}},{"v":0,"d":"0.00"}]
[{"$nulls":14},{"$f":"IF($B1663=\"\",\"\",IF(F1663=\"Arbeitgeberähnliche Stellung\",OFFSET(MD!$Q$5,MATCH(Grundlagen_Abrechnung_KAE!$AK$7,MD_JAHR,0),0)*$H1663,IF(((AD1663/12*M1663*12)+N1663)>AF1663,AF1663/12,((AD1663/12*M1663*12)+N1663)/12)))","v":""},null,null,{"v":0,"d":"0.00"},null,{"v":0,"d":"0.00%"},{"v":0,"d":"0.00"},{"v":0,"d":"0.00"},{"v":0,"d":"0.00"},null,"prüfen",{"$f":"IFERROR(OFFSET(MD!$U$5,MATCH(Grundlagen_Abrechnung_KAE!$E1663,MD_GENDER,0),0),\"\")","v":""},{"v":0,"d":"0.00"},null,{"v":0,"d":"0.00"},{"$f":"IF(F1663=\"Arbeitgeberähnliche Stellung\",OFFSET(MD!$Q$5,MATCH(Grundlagen_Abrechnung_KAE!$AK$7,MD_JAHR,0),0)*$H1663,IF(J1663>0,AC1663,I1663))","v":{"v":0,"d":"0.00"}},null,{"$f":"OFFSET(MD!$P$5,MATCH($AK$7,MD_JAHR,0),0)*12","v":{"$error":"#VALUE!"}},{"v":0,"d":"0.00"}]
[{"$nulls":14},{"$f":"IF($B1664=\"\",\"\",IF(F1664=\"Arbeitgeberähnliche Stellung\",OFFSET(MD!$Q$5,MATCH(Grundlagen_Abrechnung_KAE!$AK$7,MD_JAHR,0),0)*$H1664,IF(((AD1664/12*M1664*12)+N1664)>AF1664,AF1664/12,((AD1664/12*M1664*12)+N1664)/12)))","v":""},null,null,{"v":0,"d":"0.00"},null,{"v":0,"d":"0.00%"},{"v":0,"d":"0.00"},{"v":0,"d":"0.00"},{"v":0,"d":"0.00"},null,"prüfen",{"$f":"IFERROR(OFFSET(MD!$U$5,MATCH(Grundlagen_Abrechnung_KAE!$E1664,MD_GENDER,0),0),\"\")","v":""},{"v":0,"d":"0.00"},null,{"v":0,"d":"0.00"},{"$f":"IF(F1664=\"Arbeitgeberähnliche Stellung\",OFFSET(MD!$Q$5,MATCH(Grundlagen_Abrechnung_KAE!$AK$7,MD_JAHR,0),0)*$H1664,IF(J1664>0,AC1664,I1664))","v":{"v":0,"d":"0.00"}},null,{"$f":"OFFSET(MD!$P$5,MATCH($AK$7,MD_JAHR,0),0)*12","v":{"$error":"#VALUE!"}},{"v":0,"d":"0.00"}]
[{"$nulls":14},{"$f":"IF($B1665=\"\",\"\",IF(F1665=\"Arbeitgeberähnliche Stellung\",OFFSET(MD!$Q$5,MATCH(Grundlagen_Abrechnung_KAE!$AK$7,MD_JAHR,0),0)*$H1665,IF(((AD1665/12*M1665*12)+N1665)>AF1665,AF1665/12,((AD1665/12*M1665*12)+N1665)/12)))","v":""},null,null,{"v":0,"d":"0.00"},null,{"v":0,"d":"0.00%"},{"v":0,"d":"0.00"},{"v":0,"d":"0.00"},{"v":0,"d":"0.00"},null,"prüfen",{"$f":"IFERROR(OFFSET(MD!$U$5,MATCH(Grundlagen_Abrechnung_KAE!$E1665,MD_GENDER,0),0),\"\")","v":""},{"v":0,"d":"0.00"},null,{"v":0,"d":"0.00"},{"$f":"IF(F1665=\"Arbeitgeberähnliche Stellung\",OFFSET(MD!$Q$5,MATCH(Grundlagen_Abrechnung_KAE!$AK$7,MD_JAHR,0),0)*$H1665,IF(J1665>0,AC1665,I1665))","v":{"v":0,"d":"0.00"}},null,{"$f":"OFFSET(MD!$P$5,MATCH($AK$7,MD_JAHR,0),0)*12","v":{"$error":"#VALUE!"}},{"v":0,"d":"0.00"}]
[{"$nulls":14},{"$f":"IF($B1666=\"\",\"\",IF(F1666=\"Arbeitgeberähnliche Stellung\",OFFSET(MD!$Q$5,MATCH(Grundlagen_Abrechnung_KAE!$AK$7,MD_JAHR,0),0)*$H1666,IF(((AD1666/12*M1666*12)+N1666)>AF1666,AF1666/12,((AD1666/12*M1666*12)+N1666)/12)))","v":""},null,null,{"v":0,"d":"0.00"},null,{"v":0,"d":"0.00%"},{"v":0,"d":"0.00"},{"v":0,"d":"0.00"},{"v":0,"d":"0.00"},null,"prüfen",{"$f":"IFERROR(OFFSET(MD!$U$5,MATCH(Grundlagen_Abrechnung_KAE!$E1666,MD_GENDER,0),0),\"\")","v":""},{"v":0,"d":"0.00"},null,{"v":0,"d":"0.00"},{"$f":"IF(F1666=\"Arbeitgeberähnliche Stellung\",OFFSET(MD!$Q$5,MATCH(Grundlagen_Abrechnung_KAE!$AK$7,MD_JAHR,0),0)*$H1666,IF(J1666>0,AC1666,I1666))","v":{"v":0,"d":"0.00"}},null,{"$f":"OFFSET(MD!$P$5,MATCH($AK$7,MD_JAHR,0),0)*12","v":{"$error":"#VALUE!"}},{"v":0,"d":"0.00"}]
[{"$nulls":14},{"$f":"IF($B1667=\"\",\"\",IF(F1667=\"Arbeitgeberähnliche Stellung\",OFFSET(MD!$Q$5,MATCH(Grundlagen_Abrechnung_KAE!$AK$7,MD_JAHR,0),0)*$H1667,IF(((AD1667/12*M1667*12)+N1667)>AF1667,AF1667/12,((AD1667/12*M1667*12)+N1667)/12)))","v":""},null,null,{"v":0,"d":"0.00"},null,{"v":0,"d":"0.00%"},{"v":0,"d":"0.00"},{"v":0,"d":"0.00"},{"v":0,"d":"0.00"},null,"prüfen",{"$f":"IFERROR(OFFSET(MD!$U$5,MATCH(Grundlagen_Abrechnung_KAE!$E1667,MD_GENDER,0),0),\"\")","v":""},{"v":0,"d":"0.00"},null,{"v":0,"d":"0.00"},{"$f":"IF(F1667=\"Arbeitgeberähnliche Stellung\",OFFSET(MD!$Q$5,MATCH(Grundlagen_Abrechnung_KAE!$AK$7,MD_JAHR,0),0)*$H1667,IF(J1667>0,AC1667,I1667))","v":{"v":0,"d":"0.00"}},null,{"$f":"OFFSET(MD!$P$5,MATCH($AK$7,MD_JAHR,0),0)*12","v":{"$error":"#VALUE!"}},{"v":0,"d":"0.00"}]
[{"$nulls":14},{"$f":"IF($B1668=\"\",\"\",IF(F1668=\"Arbeitgeberähnliche Stellung\",OFFSET(MD!$Q$5,MATCH(Grundlagen_Abrechnung_KAE!$AK$7,MD_JAHR,0),0)*$H1668,IF(((AD1668/12*M1668*12)+N1668)>AF1668,AF1668/12,((AD1668/12*M1668*12)+N1668)/12)))","v":""},null,null,{"v":0,"d":"0.00"},null,{"v":0,"d":"0.00%"},{"v":0,"d":"0.00"},{"v":0,"d":"0.00"},{"v":0,"d":"0.00"},null,"prüfen",{"$f":"IFERROR(OFFSET(MD!$U$5,MATCH(Grundlagen_Abrechnung_KAE!$E1668,MD_GENDER,0),0),\"\")","v":""},{"v":0,"d":"0.00"},null,{"v":0,"d":"0.00"},{"$f":"IF(F1668=\"Arbeitgeberähnliche Stellung\",OFFSET(MD!$Q$5,MATCH(Grundlagen_Abrechnung_KAE!$AK$7,MD_JAHR,0),0)*$H1668,IF(J1668>0,AC1668,I1668))","v":{"v":0,"d":"0.00"}},null,{"$f":"OFFSET(MD!$P$5,MATCH($AK$7,MD_JAHR,0),0)*12","v":{"$error":"#VALUE!"}},{"v":0,"d":"0.00"}]
[{"$nulls":14},{"$f":"IF($B1669=\"\",\"\",IF(F1669=\"Arbeitgeberähnliche Stellung\",OFFSET(MD!$Q$5,MATCH(Grundlagen_Abrechnung_KAE!$AK$7,MD_JAHR,0),0)*$H1669,IF(((AD1669/12*M1669*12)+N1669)>AF1669,AF1669/12,((AD1669/12*M1669*12)+N1669)/12)))","v":""},null,null,{"v":0,"d":"0.00"},null,{"v":0,"d":"0.00%"},{"v":0,"d":"0.00"},{"v":0,"d":"0.00"},{"v":0,"d":"0.00"},null,"prüfen",{"$f":"IFERROR(OFFSET(MD!$U$5,MATCH(Grundlagen_Abrechnung_KAE!$E1669,MD_GENDER,0),0),\"\")","v":""},{"v":0,"d":"0.00"},null,{"v":0,"d":"0.00"},{"$f":"IF(F1669=\"Arbeitgeberähnliche Stellung\",OFFSET(MD!$Q$5,MATCH(Grundlagen_Abrechnung_KAE!$AK$7,MD_JAHR,0),0)*$H1669,IF(J1669>0,AC1669,I1669))","v":{"v":0,"d":"0.00"}},null,{"$f":"OFFSET(MD!$P$5,MATCH($AK$7,MD_JAHR,0),0)*12","v":{"$error":"#VALUE!"}},{"v":0,"d":"0.00"}]
[{"$nulls":14},{"$f":"IF($B1670=\"\",\"\",IF(F1670=\"Arbeitgeberähnliche Stellung\",OFFSET(MD!$Q$5,MATCH(Grundlagen_Abrechnung_KAE!$AK$7,MD_JAHR,0),0)*$H1670,IF(((AD1670/12*M1670*12)+N1670)>AF1670,AF1670/12,((AD1670/12*M1670*12)+N1670)/12)))","v":""},null,null,{"v":0,"d":"0.00"},null,{"v":0,"d":"0.00%"},{"v":0,"d":"0.00"},{"v":0,"d":"0.00"},{"v":0,"d":"0.00"},null,"prüfen",{"$f":"IFERROR(OFFSET(MD!$U$5,MATCH(Grundlagen_Abrechnung_KAE!$E1670,MD_GENDER,0),0),\"\")","v":""},{"v":0,"d":"0.00"},null,{"v":0,"d":"0.00"},{"$f":"IF(F1670=\"Arbeitgeberähnliche Stellung\",OFFSET(MD!$Q$5,MATCH(Grundlagen_Abrechnung_KAE!$AK$7,MD_JAHR,0),0)*$H1670,IF(J1670>0,AC1670,I1670))","v":{"v":0,"d":"0.00"}},null,{"$f":"OFFSET(MD!$P$5,MATCH($AK$7,MD_JAHR,0),0)*12","v":{"$error":"#VALUE!"}},{"v":0,"d":"0.00"}]
[{"$nulls":14},{"$f":"IF($B1671=\"\",\"\",IF(F1671=\"Arbeitgeberähnliche Stellung\",OFFSET(MD!$Q$5,MATCH(Grundlagen_Abrechnung_KAE!$AK$7,MD_JAHR,0),0)*$H1671,IF(((AD1671/12*M1671*12)+N1671)>AF1671,AF1671/12,((AD1671/12*M1671*12)+N1671)/12)))","v":""},null,null,{"v":0,"d":"0.00"},null,{"v":0,"d":"0.00%"},{"v":0,"d":"0.00"},{"v":0,"d":"0.00"},{"v":0,"d":"0.00"},null,"prüfen",{"$f":"IFERROR(OFFSET(MD!$U$5,MATCH(Grundlagen_Abrechnung_KAE!$E1671,MD_GENDER,0),0),\"\")","v":""},{"v":0,"d":"0.00"},null,{"v":0,"d":"0.00"},{"$f":"IF(F1671=\"Arbeitgeberähnliche Stellung\",OFFSET(MD!$Q$5,MATCH(Grundlagen_Abrechnung_KAE!$AK$7,MD_JAHR,0),0)*$H1671,IF(J1671>0,AC1671,I1671))","v":{"v":0,"d":"0.00"}},null,{"$f":"OFFSET(MD!$P$5,MATCH($AK$7,MD_JAHR,0),0)*12","v":{"$error":"#VALUE!"}},{"v":0,"d":"0.00"}]
[{"$nulls":14},{"$f":"IF($B1672=\"\",\"\",IF(F1672=\"Arbeitgeberähnliche Stellung\",OFFSET(MD!$Q$5,MATCH(Grundlagen_Abrechnung_KAE!$AK$7,MD_JAHR,0),0)*$H1672,IF(((AD1672/12*M1672*12)+N1672)>AF1672,AF1672/12,((AD1672/12*M1672*12)+N1672)/12)))","v":""},null,null,{"v":0,"d":"0.00"},null,{"v":0,"d":"0.00%"},{"v":0,"d":"0.00"},{"v":0,"d":"0.00"},{"v":0,"d":"0.00"},null,"prüfen",{"$f":"IFERROR(OFFSET(MD!$U$5,MATCH(Grundlagen_Abrechnung_KAE!$E1672,MD_GENDER,0),0),\"\")","v":""},{"v":0,"d":"0.00"},null,{"v":0,"d":"0.00"},{"$f":"IF(F1672=\"Arbeitgeberähnliche Stellung\",OFFSET(MD!$Q$5,MATCH(Grundlagen_Abrechnung_KAE!$AK$7,MD_JAHR,0),0)*$H1672,IF(J1672>0,AC1672,I1672))","v":{"v":0,"d":"0.00"}},null,{"$f":"OFFSET(MD!$P$5,MATCH($AK$7,MD_JAHR,0),0)*12","v":{"$error":"#VALUE!"}},{"v":0,"d":"0.00"}]
[{"$nulls":14},{"$f":"IF($B1673=\"\",\"\",IF(F1673=\"Arbeitgeberähnliche Stellung\",OFFSET(MD!$Q$5,MATCH(Grundlagen_Abrechnung_KAE!$AK$7,MD_JAHR,0),0)*$H1673,IF(((AD1673/12*M1673*12)+N1673)>AF1673,AF1673/12,((AD1673/12*M1673*12)+N1673)/12)))","v":""},null,null,{"v":0,"d":"0.00"},null,{"v":0,"d":"0.00%"},{"v":0,"d":"0.00"},{"v":0,"d":"0.00"},{"v":0,"d":"0.00"},null,"prüfen",{"$f":"IFERROR(OFFSET(MD!$U$5,MATCH(Grundlagen_Abrechnung_KAE!$E1673,MD_GENDER,0),0),\"\")","v":""},{"v":0,"d":"0.00"},null,{"v":0,"d":"0.00"},{"$f":"IF(F1673=\"Arbeitgeberähnliche Stellung\",OFFSET(MD!$Q$5,MATCH(Grundlagen_Abrechnung_KAE!$AK$7,MD_JAHR,0),0)*$H1673,IF(J1673>0,AC1673,I1673))","v":{"v":0,"d":"0.00"}},null,{"$f":"OFFSET(MD!$P$5,MATCH($AK$7,MD_JAHR,0),0)*12","v":{"$error":"#VALUE!"}},{"v":0,"d":"0.00"}]
[{"$nulls":14},{"$f":"IF($B1674=\"\",\"\",IF(F1674=\"Arbeitgeberähnliche Stellung\",OFFSET(MD!$Q$5,MATCH(Grundlagen_Abrechnung_KAE!$AK$7,MD_JAHR,0),0)*$H1674,IF(((AD1674/12*M1674*12)+N1674)>AF1674,AF1674/12,((AD1674/12*M1674*12)+N1674)/12)))","v":""},null,null,{"v":0,"d":"0.00"},null,{"v":0,"d":"0.00%"},{"v":0,"d":"0.00"},{"v":0,"d":"0.00"},{"v":0,"d":"0.00"},null,"prüfen",{"$f":"IFERROR(OFFSET(MD!$U$5,MATCH(Grundlagen_Abrechnung_KAE!$E1674,MD_GENDER,0),0),\"\")","v":""},{"v":0,"d":"0.00"},null,{"v":0,"d":"0.00"},{"$f":"IF(F1674=\"Arbeitgeberähnliche Stellung\",OFFSET(MD!$Q$5,MATCH(Grundlagen_Abrechnung_KAE!$AK$7,MD_JAHR,0),0)*$H1674,IF(J1674>0,AC1674,I1674))","v":{"v":0,"d":"0.00"}},null,{"$f":"OFFSET(MD!$P$5,MATCH($AK$7,MD_JAHR,0),0)*12","v":{"$error":"#VALUE!"}},{"v":0,"d":"0.00"}]
[{"$nulls":14},{"$f":"IF($B1675=\"\",\"\",IF(F1675=\"Arbeitgeberähnliche Stellung\",OFFSET(MD!$Q$5,MATCH(Grundlagen_Abrechnung_KAE!$AK$7,MD_JAHR,0),0)*$H1675,IF(((AD1675/12*M1675*12)+N1675)>AF1675,AF1675/12,((AD1675/12*M1675*12)+N1675)/12)))","v":""},null,null,{"v":0,"d":"0.00"},null,{"v":0,"d":"0.00%"},{"v":0,"d":"0.00"},{"v":0,"d":"0.00"},{"v":0,"d":"0.00"},null,"prüfen",{"$f":"IFERROR(OFFSET(MD!$U$5,MATCH(Grundlagen_Abrechnung_KAE!$E1675,MD_GENDER,0),0),\"\")","v":""},{"v":0,"d":"0.00"},null,{"v":0,"d":"0.00"},{"$f":"IF(F1675=\"Arbeitgeberähnliche Stellung\",OFFSET(MD!$Q$5,MATCH(Grundlagen_Abrechnung_KAE!$AK$7,MD_JAHR,0),0)*$H1675,IF(J1675>0,AC1675,I1675))","v":{"v":0,"d":"0.00"}},null,{"$f":"OFFSET(MD!$P$5,MATCH($AK$7,MD_JAHR,0),0)*12","v":{"$error":"#VALUE!"}},{"v":0,"d":"0.00"}]
[{"$nulls":14},{"$f":"IF($B1676=\"\",\"\",IF(F1676=\"Arbeitgeberähnliche Stellung\",OFFSET(MD!$Q$5,MATCH(Grundlagen_Abrechnung_KAE!$AK$7,MD_JAHR,0),0)*$H1676,IF(((AD1676/12*M1676*12)+N1676)>AF1676,AF1676/12,((AD1676/12*M1676*12)+N1676)/12)))","v":""},null,null,{"v":0,"d":"0.00"},null,{"v":0,"d":"0.00%"},{"v":0,"d":"0.00"},{"v":0,"d":"0.00"},{"v":0,"d":"0.00"},null,"prüfen",{"$f":"IFERROR(OFFSET(MD!$U$5,MATCH(Grundlagen_Abrechnung_KAE!$E1676,MD_GENDER,0),0),\"\")","v":""},{"v":0,"d":"0.00"},null,{"v":0,"d":"0.00"},{"$f":"IF(F1676=\"Arbeitgeberähnliche Stellung\",OFFSET(MD!$Q$5,MATCH(Grundlagen_Abrechnung_KAE!$AK$7,MD_JAHR,0),0)*$H1676,IF(J1676>0,AC1676,I1676))","v":{"v":0,"d":"0.00"}},null,{"$f":"OFFSET(MD!$P$5,MATCH($AK$7,MD_JAHR,0),0)*12","v":{"$error":"#VALUE!"}},{"v":0,"d":"0.00"}]
[{"$nulls":14},{"$f":"IF($B1677=\"\",\"\",IF(F1677=\"Arbeitgeberähnliche Stellung\",OFFSET(MD!$Q$5,MATCH(Grundlagen_Abrechnung_KAE!$AK$7,MD_JAHR,0),0)*$H1677,IF(((AD1677/12*M1677*12)+N1677)>AF1677,AF1677/12,((AD1677/12*M1677*12)+N1677)/12)))","v":""},null,null,{"v":0,"d":"0.00"},null,{"v":0,"d":"0.00%"},{"v":0,"d":"0.00"},{"v":0,"d":"0.00"},{"v":0,"d":"0.00"},null,"prüfen",{"$f":"IFERROR(OFFSET(MD!$U$5,MATCH(Grundlagen_Abrechnung_KAE!$E1677,MD_GENDER,0),0),\"\")","v":""},{"v":0,"d":"0.00"},null,{"v":0,"d":"0.00"},{"$f":"IF(F1677=\"Arbeitgeberähnliche Stellung\",OFFSET(MD!$Q$5,MATCH(Grundlagen_Abrechnung_KAE!$AK$7,MD_JAHR,0),0)*$H1677,IF(J1677>0,AC1677,I1677))","v":{"v":0,"d":"0.00"}},null,{"$f":"OFFSET(MD!$P$5,MATCH($AK$7,MD_JAHR,0),0)*12","v":{"$error":"#VALUE!"}},{"v":0,"d":"0.00"}]
[{"$nulls":14},{"$f":"IF($B1678=\"\",\"\",IF(F1678=\"Arbeitgeberähnliche Stellung\",OFFSET(MD!$Q$5,MATCH(Grundlagen_Abrechnung_KAE!$AK$7,MD_JAHR,0),0)*$H1678,IF(((AD1678/12*M1678*12)+N1678)>AF1678,AF1678/12,((AD1678/12*M1678*12)+N1678)/12)))","v":""},null,null,{"v":0,"d":"0.00"},null,{"v":0,"d":"0.00%"},{"v":0,"d":"0.00"},{"v":0,"d":"0.00"},{"v":0,"d":"0.00"},null,"prüfen",{"$f":"IFERROR(OFFSET(MD!$U$5,MATCH(Grundlagen_Abrechnung_KAE!$E1678,MD_GENDER,0),0),\"\")","v":""},{"v":0,"d":"0.00"},null,{"v":0,"d":"0.00"},{"$f":"IF(F1678=\"Arbeitgeberähnliche Stellung\",OFFSET(MD!$Q$5,MATCH(Grundlagen_Abrechnung_KAE!$AK$7,MD_JAHR,0),0)*$H1678,IF(J1678>0,AC1678,I1678))","v":{"v":0,"d":"0.00"}},null,{"$f":"OFFSET(MD!$P$5,MATCH($AK$7,MD_JAHR,0),0)*12","v":{"$error":"#VALUE!"}},{"v":0,"d":"0.00"}]
[{"$nulls":14},{"$f":"IF($B1679=\"\",\"\",IF(F1679=\"Arbeitgeberähnliche Stellung\",OFFSET(MD!$Q$5,MATCH(Grundlagen_Abrechnung_KAE!$AK$7,MD_JAHR,0),0)*$H1679,IF(((AD1679/12*M1679*12)+N1679)>AF1679,AF1679/12,((AD1679/12*M1679*12)+N1679)/12)))","v":""},null,null,{"v":0,"d":"0.00"},null,{"v":0,"d":"0.00%"},{"v":0,"d":"0.00"},{"v":0,"d":"0.00"},{"v":0,"d":"0.00"},null,"prüfen",{"$f":"IFERROR(OFFSET(MD!$U$5,MATCH(Grundlagen_Abrechnung_KAE!$E1679,MD_GENDER,0),0),\"\")","v":""},{"v":0,"d":"0.00"},null,{"v":0,"d":"0.00"},{"$f":"IF(F1679=\"Arbeitgeberähnliche Stellung\",OFFSET(MD!$Q$5,MATCH(Grundlagen_Abrechnung_KAE!$AK$7,MD_JAHR,0),0)*$H1679,IF(J1679>0,AC1679,I1679))","v":{"v":0,"d":"0.00"}},null,{"$f":"OFFSET(MD!$P$5,MATCH($AK$7,MD_JAHR,0),0)*12","v":{"$error":"#VALUE!"}},{"v":0,"d":"0.00"}]
[{"$nulls":14},{"$f":"IF($B1680=\"\",\"\",IF(F1680=\"Arbeitgeberähnliche Stellung\",OFFSET(MD!$Q$5,MATCH(Grundlagen_Abrechnung_KAE!$AK$7,MD_JAHR,0),0)*$H1680,IF(((AD1680/12*M1680*12)+N1680)>AF1680,AF1680/12,((AD1680/12*M1680*12)+N1680)/12)))","v":""},null,null,{"v":0,"d":"0.00"},null,{"v":0,"d":"0.00%"},{"v":0,"d":"0.00"},{"v":0,"d":"0.00"},{"v":0,"d":"0.00"},null,"prüfen",{"$f":"IFERROR(OFFSET(MD!$U$5,MATCH(Grundlagen_Abrechnung_KAE!$E1680,MD_GENDER,0),0),\"\")","v":""},{"v":0,"d":"0.00"},null,{"v":0,"d":"0.00"},{"$f":"IF(F1680=\"Arbeitgeberähnliche Stellung\",OFFSET(MD!$Q$5,MATCH(Grundlagen_Abrechnung_KAE!$AK$7,MD_JAHR,0),0)*$H1680,IF(J1680>0,AC1680,I1680))","v":{"v":0,"d":"0.00"}},null,{"$f":"OFFSET(MD!$P$5,MATCH($AK$7,MD_JAHR,0),0)*12","v":{"$error":"#VALUE!"}},{"v":0,"d":"0.00"}]
[{"$nulls":14},{"$f":"IF($B1681=\"\",\"\",IF(F1681=\"Arbeitgeberähnliche Stellung\",OFFSET(MD!$Q$5,MATCH(Grundlagen_Abrechnung_KAE!$AK$7,MD_JAHR,0),0)*$H1681,IF(((AD1681/12*M1681*12)+N1681)>AF1681,AF1681/12,((AD1681/12*M1681*12)+N1681)/12)))","v":""},null,null,{"v":0,"d":"0.00"},null,{"v":0,"d":"0.00%"},{"v":0,"d":"0.00"},{"v":0,"d":"0.00"},{"v":0,"d":"0.00"},null,"prüfen",{"$f":"IFERROR(OFFSET(MD!$U$5,MATCH(Grundlagen_Abrechnung_KAE!$E1681,MD_GENDER,0),0),\"\")","v":""},{"v":0,"d":"0.00"},null,{"v":0,"d":"0.00"},{"$f":"IF(F1681=\"Arbeitgeberähnliche Stellung\",OFFSET(MD!$Q$5,MATCH(Grundlagen_Abrechnung_KAE!$AK$7,MD_JAHR,0),0)*$H1681,IF(J1681>0,AC1681,I1681))","v":{"v":0,"d":"0.00"}},null,{"$f":"OFFSET(MD!$P$5,MATCH($AK$7,MD_JAHR,0),0)*12","v":{"$error":"#VALUE!"}},{"v":0,"d":"0.00"}]
[{"$nulls":14},{"$f":"IF($B1682=\"\",\"\",IF(F1682=\"Arbeitgeberähnliche Stellung\",OFFSET(MD!$Q$5,MATCH(Grundlagen_Abrechnung_KAE!$AK$7,MD_JAHR,0),0)*$H1682,IF(((AD1682/12*M1682*12)+N1682)>AF1682,AF1682/12,((AD1682/12*M1682*12)+N1682)/12)))","v":""},null,null,{"v":0,"d":"0.00"},null,{"v":0,"d":"0.00%"},{"v":0,"d":"0.00"},{"v":0,"d":"0.00"},{"v":0,"d":"0.00"},null,"prüfen",{"$f":"IFERROR(OFFSET(MD!$U$5,MATCH(Grundlagen_Abrechnung_KAE!$E1682,MD_GENDER,0),0),\"\")","v":""},{"v":0,"d":"0.00"},null,{"v":0,"d":"0.00"},{"$f":"IF(F1682=\"Arbeitgeberähnliche Stellung\",OFFSET(MD!$Q$5,MATCH(Grundlagen_Abrechnung_KAE!$AK$7,MD_JAHR,0),0)*$H1682,IF(J1682>0,AC1682,I1682))","v":{"v":0,"d":"0.00"}},null,{"$f":"OFFSET(MD!$P$5,MATCH($AK$7,MD_JAHR,0),0)*12","v":{"$error":"#VALUE!"}},{"v":0,"d":"0.00"}]
[{"$nulls":14},{"$f":"IF($B1683=\"\",\"\",IF(F1683=\"Arbeitgeberähnliche Stellung\",OFFSET(MD!$Q$5,MATCH(Grundlagen_Abrechnung_KAE!$AK$7,MD_JAHR,0),0)*$H1683,IF(((AD1683/12*M1683*12)+N1683)>AF1683,AF1683/12,((AD1683/12*M1683*12)+N1683)/12)))","v":""},null,null,{"$f":"ROUND(IF(Q1683=\"\",0,IF(P1683=0,0,IF(Q1683>P1683,0,P1683-Q1683))),2)","v":{"v":0,"d":"0.00"}},null,{"$f":"IFERROR(R1683/P1683,0)","v":{"v":0,"d":"0.00%"}},{"$f":"IFERROR(IF(O1683-W1683=0,O1683,(O1683)*(1-T1683)),0)","v":{"v":0,"d":"0.00"}},{"v":0,"d":"0.00"},{"$f":"IFERROR(O1683*T1683,0)*0.8","v":{"v":0,"d":"0.00"}},null,{"$f":"IF(YEAR($G1683)>$Y$16,\"prüfen\",\"\")","v":"prüfen"},{"$f":"IFERROR(OFFSET(MD!$U$5,MATCH(Grundlagen_Abrechnung_KAE!$E1683,MD_GENDER,0),0),\"\")","v":""},{"$f":"IF(B1683=\"\",0,IF(YEAR(G1683)>$AA$16,0,1))","v":{"v":0,"d":"0.00"}},null,{"$f":"IF(J1683*K1683/6>J1683*L1683/12,J1683*K1683/6,J1683*L1683/12)","v":{"v":0,"d":"0.00"}},{"$f":"IF(F1683=\"Arbeitgeberähnliche Stellung\",OFFSET(MD!$Q$5,MATCH(Grundlagen_Abrechnung_KAE!$AK$7,MD_JAHR,0),0)*$H1683,IF(J1683>0,AC1683,I1683))","v":{"v":0,"d":"0.00"}},null,{"$f":"OFFSET(MD!$P$5,MATCH($AK$7,MD_JAHR,0),0)*12","v":{"$error":"#VALUE!"}},{"$f":"I1683*M1683+N1683","v":{"v":0,"d":"0.00"}}]
[{"$nulls":14},{"$f":"IF($B1684=\"\",\"\",IF(F1684=\"Arbeitgeberähnliche Stellung\",OFFSET(MD!$Q$5,MATCH(Grundlagen_Abrechnung_KAE!$AK$7,MD_JAHR,0),0)*$H1684,IF(((AD1684/12*M1684*12)+N1684)>AF1684,AF1684/12,((AD1684/12*M1684*12)+N1684)/12)))","v":""},null,null,{"v":0,"d":"0.00"},null,{"v":0,"d":"0.00%"},{"v":0,"d":"0.00"},{"$f":"IFERROR(O1684*T1684,0)","v":{"v":0,"d":"0.00"}},{"v":0,"d":"0.00"},null,"prüfen",{"$f":"IFERROR(OFFSET(MD!$U$5,MATCH(Grundlagen_Abrechnung_KAE!$E1684,MD_GENDER,0),0),\"\")","v":""},{"v":0,"d":"0.00"},null,{"v":0,"d":"0.00"},{"$f":"IF(F1684=\"Arbeitgeberähnliche Stellung\",OFFSET(MD!$Q$5,MATCH(Grundlagen_Abrechnung_KAE!$AK$7,MD_JAHR,0),0)*$H1684,IF(J1684>0,AC1684,I1684))","v":{"v":0,"d":"0.00"}},null,{"$f":"OFFSET(MD!$P$5,MATCH($AK$7,MD_JAHR,0),0)*12","v":{"$error":"#VALUE!"}},{"v":0,"d":"0.00"}]
[{"$nulls":14},{"$f":"IF($B1685=\"\",\"\",IF(F1685=\"Arbeitgeberähnliche Stellung\",OFFSET(MD!$Q$5,MATCH(Grundlagen_Abrechnung_KAE!$AK$7,MD_JAHR,0),0)*$H1685,IF(((AD1685/12*M1685*12)+N1685)>AF1685,AF1685/12,((AD1685/12*M1685*12)+N1685)/12)))","v":""},null,null,{"v":0,"d":"0.00"},null,{"v":0,"d":"0.00%"},{"v":0,"d":"0.00"},{"v":0,"d":"0.00"},{"v":0,"d":"0.00"},null,"prüfen",{"$f":"IFERROR(OFFSET(MD!$U$5,MATCH(Grundlagen_Abrechnung_KAE!$E1685,MD_GENDER,0),0),\"\")","v":""},{"v":0,"d":"0.00"},null,{"v":0,"d":"0.00"},{"$f":"IF(F1685=\"Arbeitgeberähnliche Stellung\",OFFSET(MD!$Q$5,MATCH(Grundlagen_Abrechnung_KAE!$AK$7,MD_JAHR,0),0)*$H1685,IF(J1685>0,AC1685,I1685))","v":{"v":0,"d":"0.00"}},null,{"$f":"OFFSET(MD!$P$5,MATCH($AK$7,MD_JAHR,0),0)*12","v":{"$error":"#VALUE!"}},{"v":0,"d":"0.00"}]
[{"$nulls":14},{"$f":"IF($B1686=\"\",\"\",IF(F1686=\"Arbeitgeberähnliche Stellung\",OFFSET(MD!$Q$5,MATCH(Grundlagen_Abrechnung_KAE!$AK$7,MD_JAHR,0),0)*$H1686,IF(((AD1686/12*M1686*12)+N1686)>AF1686,AF1686/12,((AD1686/12*M1686*12)+N1686)/12)))","v":""},null,null,{"v":0,"d":"0.00"},null,{"v":0,"d":"0.00%"},{"v":0,"d":"0.00"},{"v":0,"d":"0.00"},{"v":0,"d":"0.00"},null,"prüfen",{"$f":"IFERROR(OFFSET(MD!$U$5,MATCH(Grundlagen_Abrechnung_KAE!$E1686,MD_GENDER,0),0),\"\")","v":""},{"v":0,"d":"0.00"},null,{"v":0,"d":"0.00"},{"$f":"IF(F1686=\"Arbeitgeberähnliche Stellung\",OFFSET(MD!$Q$5,MATCH(Grundlagen_Abrechnung_KAE!$AK$7,MD_JAHR,0),0)*$H1686,IF(J1686>0,AC1686,I1686))","v":{"v":0,"d":"0.00"}},null,{"$f":"OFFSET(MD!$P$5,MATCH($AK$7,MD_JAHR,0),0)*12","v":{"$error":"#VALUE!"}},{"v":0,"d":"0.00"}]
[{"$nulls":14},{"$f":"IF($B1687=\"\",\"\",IF(F1687=\"Arbeitgeberähnliche Stellung\",OFFSET(MD!$Q$5,MATCH(Grundlagen_Abrechnung_KAE!$AK$7,MD_JAHR,0),0)*$H1687,IF(((AD1687/12*M1687*12)+N1687)>AF1687,AF1687/12,((AD1687/12*M1687*12)+N1687)/12)))","v":""},null,null,{"v":0,"d":"0.00"},null,{"v":0,"d":"0.00%"},{"v":0,"d":"0.00"},{"v":0,"d":"0.00"},{"v":0,"d":"0.00"},null,"prüfen",{"$f":"IFERROR(OFFSET(MD!$U$5,MATCH(Grundlagen_Abrechnung_KAE!$E1687,MD_GENDER,0),0),\"\")","v":""},{"v":0,"d":"0.00"},null,{"v":0,"d":"0.00"},{"$f":"IF(F1687=\"Arbeitgeberähnliche Stellung\",OFFSET(MD!$Q$5,MATCH(Grundlagen_Abrechnung_KAE!$AK$7,MD_JAHR,0),0)*$H1687,IF(J1687>0,AC1687,I1687))","v":{"v":0,"d":"0.00"}},null,{"$f":"OFFSET(MD!$P$5,MATCH($AK$7,MD_JAHR,0),0)*12","v":{"$error":"#VALUE!"}},{"v":0,"d":"0.00"}]
[{"$nulls":14},{"$f":"IF($B1688=\"\",\"\",IF(F1688=\"Arbeitgeberähnliche Stellung\",OFFSET(MD!$Q$5,MATCH(Grundlagen_Abrechnung_KAE!$AK$7,MD_JAHR,0),0)*$H1688,IF(((AD1688/12*M1688*12)+N1688)>AF1688,AF1688/12,((AD1688/12*M1688*12)+N1688)/12)))","v":""},null,null,{"v":0,"d":"0.00"},null,{"v":0,"d":"0.00%"},{"v":0,"d":"0.00"},{"v":0,"d":"0.00"},{"v":0,"d":"0.00"},null,"prüfen",{"$f":"IFERROR(OFFSET(MD!$U$5,MATCH(Grundlagen_Abrechnung_KAE!$E1688,MD_GENDER,0),0),\"\")","v":""},{"v":0,"d":"0.00"},null,{"v":0,"d":"0.00"},{"$f":"IF(F1688=\"Arbeitgeberähnliche Stellung\",OFFSET(MD!$Q$5,MATCH(Grundlagen_Abrechnung_KAE!$AK$7,MD_JAHR,0),0)*$H1688,IF(J1688>0,AC1688,I1688))","v":{"v":0,"d":"0.00"}},null,{"$f":"OFFSET(MD!$P$5,MATCH($AK$7,MD_JAHR,0),0)*12","v":{"$error":"#VALUE!"}},{"v":0,"d":"0.00"}]
[{"$nulls":14},{"$f":"IF($B1689=\"\",\"\",IF(F1689=\"Arbeitgeberähnliche Stellung\",OFFSET(MD!$Q$5,MATCH(Grundlagen_Abrechnung_KAE!$AK$7,MD_JAHR,0),0)*$H1689,IF(((AD1689/12*M1689*12)+N1689)>AF1689,AF1689/12,((AD1689/12*M1689*12)+N1689)/12)))","v":""},null,null,{"v":0,"d":"0.00"},null,{"v":0,"d":"0.00%"},{"v":0,"d":"0.00"},{"v":0,"d":"0.00"},{"v":0,"d":"0.00"},null,"prüfen",{"$f":"IFERROR(OFFSET(MD!$U$5,MATCH(Grundlagen_Abrechnung_KAE!$E1689,MD_GENDER,0),0),\"\")","v":""},{"v":0,"d":"0.00"},null,{"v":0,"d":"0.00"},{"$f":"IF(F1689=\"Arbeitgeberähnliche Stellung\",OFFSET(MD!$Q$5,MATCH(Grundlagen_Abrechnung_KAE!$AK$7,MD_JAHR,0),0)*$H1689,IF(J1689>0,AC1689,I1689))","v":{"v":0,"d":"0.00"}},null,{"$f":"OFFSET(MD!$P$5,MATCH($AK$7,MD_JAHR,0),0)*12","v":{"$error":"#VALUE!"}},{"v":0,"d":"0.00"}]
[{"$nulls":14},{"$f":"IF($B1690=\"\",\"\",IF(F1690=\"Arbeitgeberähnliche Stellung\",OFFSET(MD!$Q$5,MATCH(Grundlagen_Abrechnung_KAE!$AK$7,MD_JAHR,0),0)*$H1690,IF(((AD1690/12*M1690*12)+N1690)>AF1690,AF1690/12,((AD1690/12*M1690*12)+N1690)/12)))","v":""},null,null,{"v":0,"d":"0.00"},null,{"v":0,"d":"0.00%"},{"v":0,"d":"0.00"},{"v":0,"d":"0.00"},{"v":0,"d":"0.00"},null,"prüfen",{"$f":"IFERROR(OFFSET(MD!$U$5,MATCH(Grundlagen_Abrechnung_KAE!$E1690,MD_GENDER,0),0),\"\")","v":""},{"v":0,"d":"0.00"},null,{"v":0,"d":"0.00"},{"$f":"IF(F1690=\"Arbeitgeberähnliche Stellung\",OFFSET(MD!$Q$5,MATCH(Grundlagen_Abrechnung_KAE!$AK$7,MD_JAHR,0),0)*$H1690,IF(J1690>0,AC1690,I1690))","v":{"v":0,"d":"0.00"}},null,{"$f":"OFFSET(MD!$P$5,MATCH($AK$7,MD_JAHR,0),0)*12","v":{"$error":"#VALUE!"}},{"v":0,"d":"0.00"}]
[{"$nulls":14},{"$f":"IF($B1691=\"\",\"\",IF(F1691=\"Arbeitgeberähnliche Stellung\",OFFSET(MD!$Q$5,MATCH(Grundlagen_Abrechnung_KAE!$AK$7,MD_JAHR,0),0)*$H1691,IF(((AD1691/12*M1691*12)+N1691)>AF1691,AF1691/12,((AD1691/12*M1691*12)+N1691)/12)))","v":""},null,null,{"v":0,"d":"0.00"},null,{"v":0,"d":"0.00%"},{"v":0,"d":"0.00"},{"v":0,"d":"0.00"},{"v":0,"d":"0.00"},null,"prüfen",{"$f":"IFERROR(OFFSET(MD!$U$5,MATCH(Grundlagen_Abrechnung_KAE!$E1691,MD_GENDER,0),0),\"\")","v":""},{"v":0,"d":"0.00"},null,{"v":0,"d":"0.00"},{"$f":"IF(F1691=\"Arbeitgeberähnliche Stellung\",OFFSET(MD!$Q$5,MATCH(Grundlagen_Abrechnung_KAE!$AK$7,MD_JAHR,0),0)*$H1691,IF(J1691>0,AC1691,I1691))","v":{"v":0,"d":"0.00"}},null,{"$f":"OFFSET(MD!$P$5,MATCH($AK$7,MD_JAHR,0),0)*12","v":{"$error":"#VALUE!"}},{"v":0,"d":"0.00"}]
[{"$nulls":14},{"$f":"IF($B1692=\"\",\"\",IF(F1692=\"Arbeitgeberähnliche Stellung\",OFFSET(MD!$Q$5,MATCH(Grundlagen_Abrechnung_KAE!$AK$7,MD_JAHR,0),0)*$H1692,IF(((AD1692/12*M1692*12)+N1692)>AF1692,AF1692/12,((AD1692/12*M1692*12)+N1692)/12)))","v":""},null,null,{"v":0,"d":"0.00"},null,{"v":0,"d":"0.00%"},{"v":0,"d":"0.00"},{"v":0,"d":"0.00"},{"v":0,"d":"0.00"},null,"prüfen",{"$f":"IFERROR(OFFSET(MD!$U$5,MATCH(Grundlagen_Abrechnung_KAE!$E1692,MD_GENDER,0),0),\"\")","v":""},{"v":0,"d":"0.00"},null,{"v":0,"d":"0.00"},{"$f":"IF(F1692=\"Arbeitgeberähnliche Stellung\",OFFSET(MD!$Q$5,MATCH(Grundlagen_Abrechnung_KAE!$AK$7,MD_JAHR,0),0)*$H1692,IF(J1692>0,AC1692,I1692))","v":{"v":0,"d":"0.00"}},null,{"$f":"OFFSET(MD!$P$5,MATCH($AK$7,MD_JAHR,0),0)*12","v":{"$error":"#VALUE!"}},{"v":0,"d":"0.00"}]
[{"$nulls":14},{"$f":"IF($B1693=\"\",\"\",IF(F1693=\"Arbeitgeberähnliche Stellung\",OFFSET(MD!$Q$5,MATCH(Grundlagen_Abrechnung_KAE!$AK$7,MD_JAHR,0),0)*$H1693,IF(((AD1693/12*M1693*12)+N1693)>AF1693,AF1693/12,((AD1693/12*M1693*12)+N1693)/12)))","v":""},null,null,{"v":0,"d":"0.00"},null,{"v":0,"d":"0.00%"},{"v":0,"d":"0.00"},{"v":0,"d":"0.00"},{"v":0,"d":"0.00"},null,"prüfen",{"$f":"IFERROR(OFFSET(MD!$U$5,MATCH(Grundlagen_Abrechnung_KAE!$E1693,MD_GENDER,0),0),\"\")","v":""},{"v":0,"d":"0.00"},null,{"v":0,"d":"0.00"},{"$f":"IF(F1693=\"Arbeitgeberähnliche Stellung\",OFFSET(MD!$Q$5,MATCH(Grundlagen_Abrechnung_KAE!$AK$7,MD_JAHR,0),0)*$H1693,IF(J1693>0,AC1693,I1693))","v":{"v":0,"d":"0.00"}},null,{"$f":"OFFSET(MD!$P$5,MATCH($AK$7,MD_JAHR,0),0)*12","v":{"$error":"#VALUE!"}},{"v":0,"d":"0.00"}]
[{"$nulls":14},{"$f":"IF($B1694=\"\",\"\",IF(F1694=\"Arbeitgeberähnliche Stellung\",OFFSET(MD!$Q$5,MATCH(Grundlagen_Abrechnung_KAE!$AK$7,MD_JAHR,0),0)*$H1694,IF(((AD1694/12*M1694*12)+N1694)>AF1694,AF1694/12,((AD1694/12*M1694*12)+N1694)/12)))","v":""},null,null,{"v":0,"d":"0.00"},null,{"v":0,"d":"0.00%"},{"v":0,"d":"0.00"},{"v":0,"d":"0.00"},{"v":0,"d":"0.00"},null,"prüfen",{"$f":"IFERROR(OFFSET(MD!$U$5,MATCH(Grundlagen_Abrechnung_KAE!$E1694,MD_GENDER,0),0),\"\")","v":""},{"v":0,"d":"0.00"},null,{"v":0,"d":"0.00"},{"$f":"IF(F1694=\"Arbeitgeberähnliche Stellung\",OFFSET(MD!$Q$5,MATCH(Grundlagen_Abrechnung_KAE!$AK$7,MD_JAHR,0),0)*$H1694,IF(J1694>0,AC1694,I1694))","v":{"v":0,"d":"0.00"}},null,{"$f":"OFFSET(MD!$P$5,MATCH($AK$7,MD_JAHR,0),0)*12","v":{"$error":"#VALUE!"}},{"v":0,"d":"0.00"}]
[{"$nulls":14},{"$f":"IF($B1695=\"\",\"\",IF(F1695=\"Arbeitgeberähnliche Stellung\",OFFSET(MD!$Q$5,MATCH(Grundlagen_Abrechnung_KAE!$AK$7,MD_JAHR,0),0)*$H1695,IF(((AD1695/12*M1695*12)+N1695)>AF1695,AF1695/12,((AD1695/12*M1695*12)+N1695)/12)))","v":""},null,null,{"v":0,"d":"0.00"},null,{"v":0,"d":"0.00%"},{"v":0,"d":"0.00"},{"v":0,"d":"0.00"},{"v":0,"d":"0.00"},null,"prüfen",{"$f":"IFERROR(OFFSET(MD!$U$5,MATCH(Grundlagen_Abrechnung_KAE!$E1695,MD_GENDER,0),0),\"\")","v":""},{"v":0,"d":"0.00"},null,{"v":0,"d":"0.00"},{"$f":"IF(F1695=\"Arbeitgeberähnliche Stellung\",OFFSET(MD!$Q$5,MATCH(Grundlagen_Abrechnung_KAE!$AK$7,MD_JAHR,0),0)*$H1695,IF(J1695>0,AC1695,I1695))","v":{"v":0,"d":"0.00"}},null,{"$f":"OFFSET(MD!$P$5,MATCH($AK$7,MD_JAHR,0),0)*12","v":{"$error":"#VALUE!"}},{"v":0,"d":"0.00"}]
[{"$nulls":14},{"$f":"IF($B1696=\"\",\"\",IF(F1696=\"Arbeitgeberähnliche Stellung\",OFFSET(MD!$Q$5,MATCH(Grundlagen_Abrechnung_KAE!$AK$7,MD_JAHR,0),0)*$H1696,IF(((AD1696/12*M1696*12)+N1696)>AF1696,AF1696/12,((AD1696/12*M1696*12)+N1696)/12)))","v":""},null,null,{"v":0,"d":"0.00"},null,{"v":0,"d":"0.00%"},{"v":0,"d":"0.00"},{"v":0,"d":"0.00"},{"v":0,"d":"0.00"},null,"prüfen",{"$f":"IFERROR(OFFSET(MD!$U$5,MATCH(Grundlagen_Abrechnung_KAE!$E1696,MD_GENDER,0),0),\"\")","v":""},{"v":0,"d":"0.00"},null,{"v":0,"d":"0.00"},{"$f":"IF(F1696=\"Arbeitgeberähnliche Stellung\",OFFSET(MD!$Q$5,MATCH(Grundlagen_Abrechnung_KAE!$AK$7,MD_JAHR,0),0)*$H1696,IF(J1696>0,AC1696,I1696))","v":{"v":0,"d":"0.00"}},null,{"$f":"OFFSET(MD!$P$5,MATCH($AK$7,MD_JAHR,0),0)*12","v":{"$error":"#VALUE!"}},{"v":0,"d":"0.00"}]
[{"$nulls":14},{"$f":"IF($B1697=\"\",\"\",IF(F1697=\"Arbeitgeberähnliche Stellung\",OFFSET(MD!$Q$5,MATCH(Grundlagen_Abrechnung_KAE!$AK$7,MD_JAHR,0),0)*$H1697,IF(((AD1697/12*M1697*12)+N1697)>AF1697,AF1697/12,((AD1697/12*M1697*12)+N1697)/12)))","v":""},null,null,{"v":0,"d":"0.00"},null,{"v":0,"d":"0.00%"},{"v":0,"d":"0.00"},{"v":0,"d":"0.00"},{"v":0,"d":"0.00"},null,"prüfen",{"$f":"IFERROR(OFFSET(MD!$U$5,MATCH(Grundlagen_Abrechnung_KAE!$E1697,MD_GENDER,0),0),\"\")","v":""},{"v":0,"d":"0.00"},null,{"v":0,"d":"0.00"},{"$f":"IF(F1697=\"Arbeitgeberähnliche Stellung\",OFFSET(MD!$Q$5,MATCH(Grundlagen_Abrechnung_KAE!$AK$7,MD_JAHR,0),0)*$H1697,IF(J1697>0,AC1697,I1697))","v":{"v":0,"d":"0.00"}},null,{"$f":"OFFSET(MD!$P$5,MATCH($AK$7,MD_JAHR,0),0)*12","v":{"$error":"#VALUE!"}},{"v":0,"d":"0.00"}]
[{"$nulls":14},{"$f":"IF($B1698=\"\",\"\",IF(F1698=\"Arbeitgeberähnliche Stellung\",OFFSET(MD!$Q$5,MATCH(Grundlagen_Abrechnung_KAE!$AK$7,MD_JAHR,0),0)*$H1698,IF(((AD1698/12*M1698*12)+N1698)>AF1698,AF1698/12,((AD1698/12*M1698*12)+N1698)/12)))","v":""},null,null,{"v":0,"d":"0.00"},null,{"v":0,"d":"0.00%"},{"v":0,"d":"0.00"},{"v":0,"d":"0.00"},{"v":0,"d":"0.00"},null,"prüfen",{"$f":"IFERROR(OFFSET(MD!$U$5,MATCH(Grundlagen_Abrechnung_KAE!$E1698,MD_GENDER,0),0),\"\")","v":""},{"v":0,"d":"0.00"},null,{"v":0,"d":"0.00"},{"$f":"IF(F1698=\"Arbeitgeberähnliche Stellung\",OFFSET(MD!$Q$5,MATCH(Grundlagen_Abrechnung_KAE!$AK$7,MD_JAHR,0),0)*$H1698,IF(J1698>0,AC1698,I1698))","v":{"v":0,"d":"0.00"}},null,{"$f":"OFFSET(MD!$P$5,MATCH($AK$7,MD_JAHR,0),0)*12","v":{"$error":"#VALUE!"}},{"v":0,"d":"0.00"}]
[{"$nulls":14},{"$f":"IF($B1699=\"\",\"\",IF(F1699=\"Arbeitgeberähnliche Stellung\",OFFSET(MD!$Q$5,MATCH(Grundlagen_Abrechnung_KAE!$AK$7,MD_JAHR,0),0)*$H1699,IF(((AD1699/12*M1699*12)+N1699)>AF1699,AF1699/12,((AD1699/12*M1699*12)+N1699)/12)))","v":""},null,null,{"v":0,"d":"0.00"},null,{"v":0,"d":"0.00%"},{"v":0,"d":"0.00"},{"v":0,"d":"0.00"},{"v":0,"d":"0.00"},null,"prüfen",{"$f":"IFERROR(OFFSET(MD!$U$5,MATCH(Grundlagen_Abrechnung_KAE!$E1699,MD_GENDER,0),0),\"\")","v":""},{"v":0,"d":"0.00"},null,{"v":0,"d":"0.00"},{"$f":"IF(F1699=\"Arbeitgeberähnliche Stellung\",OFFSET(MD!$Q$5,MATCH(Grundlagen_Abrechnung_KAE!$AK$7,MD_JAHR,0),0)*$H1699,IF(J1699>0,AC1699,I1699))","v":{"v":0,"d":"0.00"}},null,{"$f":"OFFSET(MD!$P$5,MATCH($AK$7,MD_JAHR,0),0)*12","v":{"$error":"#VALUE!"}},{"v":0,"d":"0.00"}]
[{"$nulls":14},{"$f":"IF($B1700=\"\",\"\",IF(F1700=\"Arbeitgeberähnliche Stellung\",OFFSET(MD!$Q$5,MATCH(Grundlagen_Abrechnung_KAE!$AK$7,MD_JAHR,0),0)*$H1700,IF(((AD1700/12*M1700*12)+N1700)>AF1700,AF1700/12,((AD1700/12*M1700*12)+N1700)/12)))","v":""},null,null,{"v":0,"d":"0.00"},null,{"v":0,"d":"0.00%"},{"v":0,"d":"0.00"},{"v":0,"d":"0.00"},{"v":0,"d":"0.00"},null,"prüfen",{"$f":"IFERROR(OFFSET(MD!$U$5,MATCH(Grundlagen_Abrechnung_KAE!$E1700,MD_GENDER,0),0),\"\")","v":""},{"v":0,"d":"0.00"},null,{"v":0,"d":"0.00"},{"$f":"IF(F1700=\"Arbeitgeberähnliche Stellung\",OFFSET(MD!$Q$5,MATCH(Grundlagen_Abrechnung_KAE!$AK$7,MD_JAHR,0),0)*$H1700,IF(J1700>0,AC1700,I1700))","v":{"v":0,"d":"0.00"}},null,{"$f":"OFFSET(MD!$P$5,MATCH($AK$7,MD_JAHR,0),0)*12","v":{"$error":"#VALUE!"}},{"v":0,"d":"0.00"}]
[{"$nulls":14},{"$f":"IF($B1701=\"\",\"\",IF(F1701=\"Arbeitgeberähnliche Stellung\",OFFSET(MD!$Q$5,MATCH(Grundlagen_Abrechnung_KAE!$AK$7,MD_JAHR,0),0)*$H1701,IF(((AD1701/12*M1701*12)+N1701)>AF1701,AF1701/12,((AD1701/12*M1701*12)+N1701)/12)))","v":""},null,null,{"v":0,"d":"0.00"},null,{"v":0,"d":"0.00%"},{"v":0,"d":"0.00"},{"v":0,"d":"0.00"},{"v":0,"d":"0.00"},null,"prüfen",{"$f":"IFERROR(OFFSET(MD!$U$5,MATCH(Grundlagen_Abrechnung_KAE!$E1701,MD_GENDER,0),0),\"\")","v":""},{"v":0,"d":"0.00"},null,{"v":0,"d":"0.00"},{"$f":"IF(F1701=\"Arbeitgeberähnliche Stellung\",OFFSET(MD!$Q$5,MATCH(Grundlagen_Abrechnung_KAE!$AK$7,MD_JAHR,0),0)*$H1701,IF(J1701>0,AC1701,I1701))","v":{"v":0,"d":"0.00"}},null,{"$f":"OFFSET(MD!$P$5,MATCH($AK$7,MD_JAHR,0),0)*12","v":{"$error":"#VALUE!"}},{"v":0,"d":"0.00"}]
[{"$nulls":14},{"$f":"IF($B1702=\"\",\"\",IF(F1702=\"Arbeitgeberähnliche Stellung\",OFFSET(MD!$Q$5,MATCH(Grundlagen_Abrechnung_KAE!$AK$7,MD_JAHR,0),0)*$H1702,IF(((AD1702/12*M1702*12)+N1702)>AF1702,AF1702/12,((AD1702/12*M1702*12)+N1702)/12)))","v":""},null,null,{"v":0,"d":"0.00"},null,{"v":0,"d":"0.00%"},{"v":0,"d":"0.00"},{"v":0,"d":"0.00"},{"v":0,"d":"0.00"},null,"prüfen",{"$f":"IFERROR(OFFSET(MD!$U$5,MATCH(Grundlagen_Abrechnung_KAE!$E1702,MD_GENDER,0),0),\"\")","v":""},{"v":0,"d":"0.00"},null,{"v":0,"d":"0.00"},{"$f":"IF(F1702=\"Arbeitgeberähnliche Stellung\",OFFSET(MD!$Q$5,MATCH(Grundlagen_Abrechnung_KAE!$AK$7,MD_JAHR,0),0)*$H1702,IF(J1702>0,AC1702,I1702))","v":{"v":0,"d":"0.00"}},null,{"$f":"OFFSET(MD!$P$5,MATCH($AK$7,MD_JAHR,0),0)*12","v":{"$error":"#VALUE!"}},{"v":0,"d":"0.00"}]
[{"$nulls":14},{"$f":"IF($B1703=\"\",\"\",IF(F1703=\"Arbeitgeberähnliche Stellung\",OFFSET(MD!$Q$5,MATCH(Grundlagen_Abrechnung_KAE!$AK$7,MD_JAHR,0),0)*$H1703,IF(((AD1703/12*M1703*12)+N1703)>AF1703,AF1703/12,((AD1703/12*M1703*12)+N1703)/12)))","v":""},null,null,{"v":0,"d":"0.00"},null,{"v":0,"d":"0.00%"},{"v":0,"d":"0.00"},{"v":0,"d":"0.00"},{"v":0,"d":"0.00"},null,"prüfen",{"$f":"IFERROR(OFFSET(MD!$U$5,MATCH(Grundlagen_Abrechnung_KAE!$E1703,MD_GENDER,0),0),\"\")","v":""},{"v":0,"d":"0.00"},null,{"v":0,"d":"0.00"},{"$f":"IF(F1703=\"Arbeitgeberähnliche Stellung\",OFFSET(MD!$Q$5,MATCH(Grundlagen_Abrechnung_KAE!$AK$7,MD_JAHR,0),0)*$H1703,IF(J1703>0,AC1703,I1703))","v":{"v":0,"d":"0.00"}},null,{"$f":"OFFSET(MD!$P$5,MATCH($AK$7,MD_JAHR,0),0)*12","v":{"$error":"#VALUE!"}},{"v":0,"d":"0.00"}]
[{"$nulls":14},{"$f":"IF($B1704=\"\",\"\",IF(F1704=\"Arbeitgeberähnliche Stellung\",OFFSET(MD!$Q$5,MATCH(Grundlagen_Abrechnung_KAE!$AK$7,MD_JAHR,0),0)*$H1704,IF(((AD1704/12*M1704*12)+N1704)>AF1704,AF1704/12,((AD1704/12*M1704*12)+N1704)/12)))","v":""},null,null,{"v":0,"d":"0.00"},null,{"v":0,"d":"0.00%"},{"v":0,"d":"0.00"},{"v":0,"d":"0.00"},{"v":0,"d":"0.00"},null,"prüfen",{"$f":"IFERROR(OFFSET(MD!$U$5,MATCH(Grundlagen_Abrechnung_KAE!$E1704,MD_GENDER,0),0),\"\")","v":""},{"v":0,"d":"0.00"},null,{"v":0,"d":"0.00"},{"$f":"IF(F1704=\"Arbeitgeberähnliche Stellung\",OFFSET(MD!$Q$5,MATCH(Grundlagen_Abrechnung_KAE!$AK$7,MD_JAHR,0),0)*$H1704,IF(J1704>0,AC1704,I1704))","v":{"v":0,"d":"0.00"}},null,{"$f":"OFFSET(MD!$P$5,MATCH($AK$7,MD_JAHR,0),0)*12","v":{"$error":"#VALUE!"}},{"v":0,"d":"0.00"}]
[{"$nulls":14},{"$f":"IF($B1705=\"\",\"\",IF(F1705=\"Arbeitgeberähnliche Stellung\",OFFSET(MD!$Q$5,MATCH(Grundlagen_Abrechnung_KAE!$AK$7,MD_JAHR,0),0)*$H1705,IF(((AD1705/12*M1705*12)+N1705)>AF1705,AF1705/12,((AD1705/12*M1705*12)+N1705)/12)))","v":""},null,null,{"v":0,"d":"0.00"},null,{"v":0,"d":"0.00%"},{"v":0,"d":"0.00"},{"v":0,"d":"0.00"},{"v":0,"d":"0.00"},null,"prüfen",{"$f":"IFERROR(OFFSET(MD!$U$5,MATCH(Grundlagen_Abrechnung_KAE!$E1705,MD_GENDER,0),0),\"\")","v":""},{"v":0,"d":"0.00"},null,{"v":0,"d":"0.00"},{"$f":"IF(F1705=\"Arbeitgeberähnliche Stellung\",OFFSET(MD!$Q$5,MATCH(Grundlagen_Abrechnung_KAE!$AK$7,MD_JAHR,0),0)*$H1705,IF(J1705>0,AC1705,I1705))","v":{"v":0,"d":"0.00"}},null,{"$f":"OFFSET(MD!$P$5,MATCH($AK$7,MD_JAHR,0),0)*12","v":{"$error":"#VALUE!"}},{"v":0,"d":"0.00"}]
[{"$nulls":14},{"$f":"IF($B1706=\"\",\"\",IF(F1706=\"Arbeitgeberähnliche Stellung\",OFFSET(MD!$Q$5,MATCH(Grundlagen_Abrechnung_KAE!$AK$7,MD_JAHR,0),0)*$H1706,IF(((AD1706/12*M1706*12)+N1706)>AF1706,AF1706/12,((AD1706/12*M1706*12)+N1706)/12)))","v":""},null,null,{"v":0,"d":"0.00"},null,{"v":0,"d":"0.00%"},{"v":0,"d":"0.00"},{"v":0,"d":"0.00"},{"v":0,"d":"0.00"},null,"prüfen",{"$f":"IFERROR(OFFSET(MD!$U$5,MATCH(Grundlagen_Abrechnung_KAE!$E1706,MD_GENDER,0),0),\"\")","v":""},{"v":0,"d":"0.00"},null,{"v":0,"d":"0.00"},{"$f":"IF(F1706=\"Arbeitgeberähnliche Stellung\",OFFSET(MD!$Q$5,MATCH(Grundlagen_Abrechnung_KAE!$AK$7,MD_JAHR,0),0)*$H1706,IF(J1706>0,AC1706,I1706))","v":{"v":0,"d":"0.00"}},null,{"$f":"OFFSET(MD!$P$5,MATCH($AK$7,MD_JAHR,0),0)*12","v":{"$error":"#VALUE!"}},{"v":0,"d":"0.00"}]
[{"$nulls":14},{"$f":"IF($B1707=\"\",\"\",IF(F1707=\"Arbeitgeberähnliche Stellung\",OFFSET(MD!$Q$5,MATCH(Grundlagen_Abrechnung_KAE!$AK$7,MD_JAHR,0),0)*$H1707,IF(((AD1707/12*M1707*12)+N1707)>AF1707,AF1707/12,((AD1707/12*M1707*12)+N1707)/12)))","v":""},null,null,{"v":0,"d":"0.00"},null,{"v":0,"d":"0.00%"},{"v":0,"d":"0.00"},{"v":0,"d":"0.00"},{"v":0,"d":"0.00"},null,"prüfen",{"$f":"IFERROR(OFFSET(MD!$U$5,MATCH(Grundlagen_Abrechnung_KAE!$E1707,MD_GENDER,0),0),\"\")","v":""},{"v":0,"d":"0.00"},null,{"v":0,"d":"0.00"},{"$f":"IF(F1707=\"Arbeitgeberähnliche Stellung\",OFFSET(MD!$Q$5,MATCH(Grundlagen_Abrechnung_KAE!$AK$7,MD_JAHR,0),0)*$H1707,IF(J1707>0,AC1707,I1707))","v":{"v":0,"d":"0.00"}},null,{"$f":"OFFSET(MD!$P$5,MATCH($AK$7,MD_JAHR,0),0)*12","v":{"$error":"#VALUE!"}},{"v":0,"d":"0.00"}]
[{"$nulls":14},{"$f":"IF($B1708=\"\",\"\",IF(F1708=\"Arbeitgeberähnliche Stellung\",OFFSET(MD!$Q$5,MATCH(Grundlagen_Abrechnung_KAE!$AK$7,MD_JAHR,0),0)*$H1708,IF(((AD1708/12*M1708*12)+N1708)>AF1708,AF1708/12,((AD1708/12*M1708*12)+N1708)/12)))","v":""},null,null,{"v":0,"d":"0.00"},null,{"v":0,"d":"0.00%"},{"v":0,"d":"0.00"},{"v":0,"d":"0.00"},{"v":0,"d":"0.00"},null,"prüfen",{"$f":"IFERROR(OFFSET(MD!$U$5,MATCH(Grundlagen_Abrechnung_KAE!$E1708,MD_GENDER,0),0),\"\")","v":""},{"v":0,"d":"0.00"},null,{"v":0,"d":"0.00"},{"$f":"IF(F1708=\"Arbeitgeberähnliche Stellung\",OFFSET(MD!$Q$5,MATCH(Grundlagen_Abrechnung_KAE!$AK$7,MD_JAHR,0),0)*$H1708,IF(J1708>0,AC1708,I1708))","v":{"v":0,"d":"0.00"}},null,{"$f":"OFFSET(MD!$P$5,MATCH($AK$7,MD_JAHR,0),0)*12","v":{"$error":"#VALUE!"}},{"v":0,"d":"0.00"}]
[{"$nulls":14},{"$f":"IF($B1709=\"\",\"\",IF(F1709=\"Arbeitgeberähnliche Stellung\",OFFSET(MD!$Q$5,MATCH(Grundlagen_Abrechnung_KAE!$AK$7,MD_JAHR,0),0)*$H1709,IF(((AD1709/12*M1709*12)+N1709)>AF1709,AF1709/12,((AD1709/12*M1709*12)+N1709)/12)))","v":""},null,null,{"v":0,"d":"0.00"},null,{"v":0,"d":"0.00%"},{"v":0,"d":"0.00"},{"v":0,"d":"0.00"},{"v":0,"d":"0.00"},null,"prüfen",{"$f":"IFERROR(OFFSET(MD!$U$5,MATCH(Grundlagen_Abrechnung_KAE!$E1709,MD_GENDER,0),0),\"\")","v":""},{"v":0,"d":"0.00"},null,{"v":0,"d":"0.00"},{"$f":"IF(F1709=\"Arbeitgeberähnliche Stellung\",OFFSET(MD!$Q$5,MATCH(Grundlagen_Abrechnung_KAE!$AK$7,MD_JAHR,0),0)*$H1709,IF(J1709>0,AC1709,I1709))","v":{"v":0,"d":"0.00"}},null,{"$f":"OFFSET(MD!$P$5,MATCH($AK$7,MD_JAHR,0),0)*12","v":{"$error":"#VALUE!"}},{"v":0,"d":"0.00"}]
[{"$nulls":14},{"$f":"IF($B1710=\"\",\"\",IF(F1710=\"Arbeitgeberähnliche Stellung\",OFFSET(MD!$Q$5,MATCH(Grundlagen_Abrechnung_KAE!$AK$7,MD_JAHR,0),0)*$H1710,IF(((AD1710/12*M1710*12)+N1710)>AF1710,AF1710/12,((AD1710/12*M1710*12)+N1710)/12)))","v":""},null,null,{"v":0,"d":"0.00"},null,{"v":0,"d":"0.00%"},{"v":0,"d":"0.00"},{"v":0,"d":"0.00"},{"v":0,"d":"0.00"},null,"prüfen",{"$f":"IFERROR(OFFSET(MD!$U$5,MATCH(Grundlagen_Abrechnung_KAE!$E1710,MD_GENDER,0),0),\"\")","v":""},{"v":0,"d":"0.00"},null,{"v":0,"d":"0.00"},{"$f":"IF(F1710=\"Arbeitgeberähnliche Stellung\",OFFSET(MD!$Q$5,MATCH(Grundlagen_Abrechnung_KAE!$AK$7,MD_JAHR,0),0)*$H1710,IF(J1710>0,AC1710,I1710))","v":{"v":0,"d":"0.00"}},null,{"$f":"OFFSET(MD!$P$5,MATCH($AK$7,MD_JAHR,0),0)*12","v":{"$error":"#VALUE!"}},{"v":0,"d":"0.00"}]
[{"$nulls":14},{"$f":"IF($B1711=\"\",\"\",IF(F1711=\"Arbeitgeberähnliche Stellung\",OFFSET(MD!$Q$5,MATCH(Grundlagen_Abrechnung_KAE!$AK$7,MD_JAHR,0),0)*$H1711,IF(((AD1711/12*M1711*12)+N1711)>AF1711,AF1711/12,((AD1711/12*M1711*12)+N1711)/12)))","v":""},null,null,{"v":0,"d":"0.00"},null,{"v":0,"d":"0.00%"},{"v":0,"d":"0.00"},{"v":0,"d":"0.00"},{"v":0,"d":"0.00"},null,"prüfen",{"$f":"IFERROR(OFFSET(MD!$U$5,MATCH(Grundlagen_Abrechnung_KAE!$E1711,MD_GENDER,0),0),\"\")","v":""},{"v":0,"d":"0.00"},null,{"v":0,"d":"0.00"},{"$f":"IF(F1711=\"Arbeitgeberähnliche Stellung\",OFFSET(MD!$Q$5,MATCH(Grundlagen_Abrechnung_KAE!$AK$7,MD_JAHR,0),0)*$H1711,IF(J1711>0,AC1711,I1711))","v":{"v":0,"d":"0.00"}},null,{"$f":"OFFSET(MD!$P$5,MATCH($AK$7,MD_JAHR,0),0)*12","v":{"$error":"#VALUE!"}},{"v":0,"d":"0.00"}]
[{"$nulls":14},{"$f":"IF($B1712=\"\",\"\",IF(F1712=\"Arbeitgeberähnliche Stellung\",OFFSET(MD!$Q$5,MATCH(Grundlagen_Abrechnung_KAE!$AK$7,MD_JAHR,0),0)*$H1712,IF(((AD1712/12*M1712*12)+N1712)>AF1712,AF1712/12,((AD1712/12*M1712*12)+N1712)/12)))","v":""},null,null,{"v":0,"d":"0.00"},null,{"v":0,"d":"0.00%"},{"v":0,"d":"0.00"},{"v":0,"d":"0.00"},{"v":0,"d":"0.00"},null,"prüfen",{"$f":"IFERROR(OFFSET(MD!$U$5,MATCH(Grundlagen_Abrechnung_KAE!$E1712,MD_GENDER,0),0),\"\")","v":""},{"v":0,"d":"0.00"},null,{"v":0,"d":"0.00"},{"$f":"IF(F1712=\"Arbeitgeberähnliche Stellung\",OFFSET(MD!$Q$5,MATCH(Grundlagen_Abrechnung_KAE!$AK$7,MD_JAHR,0),0)*$H1712,IF(J1712>0,AC1712,I1712))","v":{"v":0,"d":"0.00"}},null,{"$f":"OFFSET(MD!$P$5,MATCH($AK$7,MD_JAHR,0),0)*12","v":{"$error":"#VALUE!"}},{"v":0,"d":"0.00"}]
[{"$nulls":14},{"$f":"IF($B1713=\"\",\"\",IF(F1713=\"Arbeitgeberähnliche Stellung\",OFFSET(MD!$Q$5,MATCH(Grundlagen_Abrechnung_KAE!$AK$7,MD_JAHR,0),0)*$H1713,IF(((AD1713/12*M1713*12)+N1713)>AF1713,AF1713/12,((AD1713/12*M1713*12)+N1713)/12)))","v":""},null,null,{"v":0,"d":"0.00"},null,{"v":0,"d":"0.00%"},{"v":0,"d":"0.00"},{"v":0,"d":"0.00"},{"v":0,"d":"0.00"},null,"prüfen",{"$f":"IFERROR(OFFSET(MD!$U$5,MATCH(Grundlagen_Abrechnung_KAE!$E1713,MD_GENDER,0),0),\"\")","v":""},{"v":0,"d":"0.00"},null,{"v":0,"d":"0.00"},{"$f":"IF(F1713=\"Arbeitgeberähnliche Stellung\",OFFSET(MD!$Q$5,MATCH(Grundlagen_Abrechnung_KAE!$AK$7,MD_JAHR,0),0)*$H1713,IF(J1713>0,AC1713,I1713))","v":{"v":0,"d":"0.00"}},null,{"$f":"OFFSET(MD!$P$5,MATCH($AK$7,MD_JAHR,0),0)*12","v":{"$error":"#VALUE!"}},{"v":0,"d":"0.00"}]
[{"$nulls":14},{"$f":"IF($B1714=\"\",\"\",IF(F1714=\"Arbeitgeberähnliche Stellung\",OFFSET(MD!$Q$5,MATCH(Grundlagen_Abrechnung_KAE!$AK$7,MD_JAHR,0),0)*$H1714,IF(((AD1714/12*M1714*12)+N1714)>AF1714,AF1714/12,((AD1714/12*M1714*12)+N1714)/12)))","v":""},null,null,{"v":0,"d":"0.00"},null,{"v":0,"d":"0.00%"},{"v":0,"d":"0.00"},{"v":0,"d":"0.00"},{"v":0,"d":"0.00"},null,"prüfen",{"$f":"IFERROR(OFFSET(MD!$U$5,MATCH(Grundlagen_Abrechnung_KAE!$E1714,MD_GENDER,0),0),\"\")","v":""},{"v":0,"d":"0.00"},null,{"v":0,"d":"0.00"},{"$f":"IF(F1714=\"Arbeitgeberähnliche Stellung\",OFFSET(MD!$Q$5,MATCH(Grundlagen_Abrechnung_KAE!$AK$7,MD_JAHR,0),0)*$H1714,IF(J1714>0,AC1714,I1714))","v":{"v":0,"d":"0.00"}},null,{"$f":"OFFSET(MD!$P$5,MATCH($AK$7,MD_JAHR,0),0)*12","v":{"$error":"#VALUE!"}},{"v":0,"d":"0.00"}]
[{"$nulls":14},{"$f":"IF($B1715=\"\",\"\",IF(F1715=\"Arbeitgeberähnliche Stellung\",OFFSET(MD!$Q$5,MATCH(Grundlagen_Abrechnung_KAE!$AK$7,MD_JAHR,0),0)*$H1715,IF(((AD1715/12*M1715*12)+N1715)>AF1715,AF1715/12,((AD1715/12*M1715*12)+N1715)/12)))","v":""},null,null,{"v":0,"d":"0.00"},null,{"v":0,"d":"0.00%"},{"v":0,"d":"0.00"},{"v":0,"d":"0.00"},{"v":0,"d":"0.00"},null,"prüfen",{"$f":"IFERROR(OFFSET(MD!$U$5,MATCH(Grundlagen_Abrechnung_KAE!$E1715,MD_GENDER,0),0),\"\")","v":""},{"v":0,"d":"0.00"},null,{"v":0,"d":"0.00"},{"$f":"IF(F1715=\"Arbeitgeberähnliche Stellung\",OFFSET(MD!$Q$5,MATCH(Grundlagen_Abrechnung_KAE!$AK$7,MD_JAHR,0),0)*$H1715,IF(J1715>0,AC1715,I1715))","v":{"v":0,"d":"0.00"}},null,{"$f":"OFFSET(MD!$P$5,MATCH($AK$7,MD_JAHR,0),0)*12","v":{"$error":"#VALUE!"}},{"v":0,"d":"0.00"}]
[{"$nulls":14},{"$f":"IF($B1716=\"\",\"\",IF(F1716=\"Arbeitgeberähnliche Stellung\",OFFSET(MD!$Q$5,MATCH(Grundlagen_Abrechnung_KAE!$AK$7,MD_JAHR,0),0)*$H1716,IF(((AD1716/12*M1716*12)+N1716)>AF1716,AF1716/12,((AD1716/12*M1716*12)+N1716)/12)))","v":""},null,null,{"v":0,"d":"0.00"},null,{"v":0,"d":"0.00%"},{"v":0,"d":"0.00"},{"v":0,"d":"0.00"},{"v":0,"d":"0.00"},null,"prüfen",{"$f":"IFERROR(OFFSET(MD!$U$5,MATCH(Grundlagen_Abrechnung_KAE!$E1716,MD_GENDER,0),0),\"\")","v":""},{"v":0,"d":"0.00"},null,{"v":0,"d":"0.00"},{"$f":"IF(F1716=\"Arbeitgeberähnliche Stellung\",OFFSET(MD!$Q$5,MATCH(Grundlagen_Abrechnung_KAE!$AK$7,MD_JAHR,0),0)*$H1716,IF(J1716>0,AC1716,I1716))","v":{"v":0,"d":"0.00"}},null,{"$f":"OFFSET(MD!$P$5,MATCH($AK$7,MD_JAHR,0),0)*12","v":{"$error":"#VALUE!"}},{"v":0,"d":"0.00"}]
[{"$nulls":14},{"$f":"IF($B1717=\"\",\"\",IF(F1717=\"Arbeitgeberähnliche Stellung\",OFFSET(MD!$Q$5,MATCH(Grundlagen_Abrechnung_KAE!$AK$7,MD_JAHR,0),0)*$H1717,IF(((AD1717/12*M1717*12)+N1717)>AF1717,AF1717/12,((AD1717/12*M1717*12)+N1717)/12)))","v":""},null,null,{"v":0,"d":"0.00"},null,{"v":0,"d":"0.00%"},{"v":0,"d":"0.00"},{"v":0,"d":"0.00"},{"v":0,"d":"0.00"},null,"prüfen",{"$f":"IFERROR(OFFSET(MD!$U$5,MATCH(Grundlagen_Abrechnung_KAE!$E1717,MD_GENDER,0),0),\"\")","v":""},{"v":0,"d":"0.00"},null,{"v":0,"d":"0.00"},{"$f":"IF(F1717=\"Arbeitgeberähnliche Stellung\",OFFSET(MD!$Q$5,MATCH(Grundlagen_Abrechnung_KAE!$AK$7,MD_JAHR,0),0)*$H1717,IF(J1717>0,AC1717,I1717))","v":{"v":0,"d":"0.00"}},null,{"$f":"OFFSET(MD!$P$5,MATCH($AK$7,MD_JAHR,0),0)*12","v":{"$error":"#VALUE!"}},{"v":0,"d":"0.00"}]
[{"$nulls":14},{"$f":"IF($B1718=\"\",\"\",IF(F1718=\"Arbeitgeberähnliche Stellung\",OFFSET(MD!$Q$5,MATCH(Grundlagen_Abrechnung_KAE!$AK$7,MD_JAHR,0),0)*$H1718,IF(((AD1718/12*M1718*12)+N1718)>AF1718,AF1718/12,((AD1718/12*M1718*12)+N1718)/12)))","v":""},null,null,{"v":0,"d":"0.00"},null,{"v":0,"d":"0.00%"},{"v":0,"d":"0.00"},{"v":0,"d":"0.00"},{"v":0,"d":"0.00"},null,"prüfen",{"$f":"IFERROR(OFFSET(MD!$U$5,MATCH(Grundlagen_Abrechnung_KAE!$E1718,MD_GENDER,0),0),\"\")","v":""},{"v":0,"d":"0.00"},null,{"v":0,"d":"0.00"},{"$f":"IF(F1718=\"Arbeitgeberähnliche Stellung\",OFFSET(MD!$Q$5,MATCH(Grundlagen_Abrechnung_KAE!$AK$7,MD_JAHR,0),0)*$H1718,IF(J1718>0,AC1718,I1718))","v":{"v":0,"d":"0.00"}},null,{"$f":"OFFSET(MD!$P$5,MATCH($AK$7,MD_JAHR,0),0)*12","v":{"$error":"#VALUE!"}},{"v":0,"d":"0.00"}]
[{"$nulls":14},{"$f":"IF($B1719=\"\",\"\",IF(F1719=\"Arbeitgeberähnliche Stellung\",OFFSET(MD!$Q$5,MATCH(Grundlagen_Abrechnung_KAE!$AK$7,MD_JAHR,0),0)*$H1719,IF(((AD1719/12*M1719*12)+N1719)>AF1719,AF1719/12,((AD1719/12*M1719*12)+N1719)/12)))","v":""},null,null,{"v":0,"d":"0.00"},null,{"v":0,"d":"0.00%"},{"v":0,"d":"0.00"},{"v":0,"d":"0.00"},{"v":0,"d":"0.00"},null,"prüfen",{"$f":"IFERROR(OFFSET(MD!$U$5,MATCH(Grundlagen_Abrechnung_KAE!$E1719,MD_GENDER,0),0),\"\")","v":""},{"v":0,"d":"0.00"},null,{"v":0,"d":"0.00"},{"$f":"IF(F1719=\"Arbeitgeberähnliche Stellung\",OFFSET(MD!$Q$5,MATCH(Grundlagen_Abrechnung_KAE!$AK$7,MD_JAHR,0),0)*$H1719,IF(J1719>0,AC1719,I1719))","v":{"v":0,"d":"0.00"}},null,{"$f":"OFFSET(MD!$P$5,MATCH($AK$7,MD_JAHR,0),0)*12","v":{"$error":"#VALUE!"}},{"v":0,"d":"0.00"}]
[{"$nulls":14},{"$f":"IF($B1720=\"\",\"\",IF(F1720=\"Arbeitgeberähnliche Stellung\",OFFSET(MD!$Q$5,MATCH(Grundlagen_Abrechnung_KAE!$AK$7,MD_JAHR,0),0)*$H1720,IF(((AD1720/12*M1720*12)+N1720)>AF1720,AF1720/12,((AD1720/12*M1720*12)+N1720)/12)))","v":""},null,null,{"v":0,"d":"0.00"},null,{"v":0,"d":"0.00%"},{"v":0,"d":"0.00"},{"v":0,"d":"0.00"},{"v":0,"d":"0.00"},null,"prüfen",{"$f":"IFERROR(OFFSET(MD!$U$5,MATCH(Grundlagen_Abrechnung_KAE!$E1720,MD_GENDER,0),0),\"\")","v":""},{"v":0,"d":"0.00"},null,{"v":0,"d":"0.00"},{"$f":"IF(F1720=\"Arbeitgeberähnliche Stellung\",OFFSET(MD!$Q$5,MATCH(Grundlagen_Abrechnung_KAE!$AK$7,MD_JAHR,0),0)*$H1720,IF(J1720>0,AC1720,I1720))","v":{"v":0,"d":"0.00"}},null,{"$f":"OFFSET(MD!$P$5,MATCH($AK$7,MD_JAHR,0),0)*12","v":{"$error":"#VALUE!"}},{"v":0,"d":"0.00"}]
[{"$nulls":14},{"$f":"IF($B1721=\"\",\"\",IF(F1721=\"Arbeitgeberähnliche Stellung\",OFFSET(MD!$Q$5,MATCH(Grundlagen_Abrechnung_KAE!$AK$7,MD_JAHR,0),0)*$H1721,IF(((AD1721/12*M1721*12)+N1721)>AF1721,AF1721/12,((AD1721/12*M1721*12)+N1721)/12)))","v":""},null,null,{"v":0,"d":"0.00"},null,{"v":0,"d":"0.00%"},{"v":0,"d":"0.00"},{"v":0,"d":"0.00"},{"v":0,"d":"0.00"},null,"prüfen",{"$f":"IFERROR(OFFSET(MD!$U$5,MATCH(Grundlagen_Abrechnung_KAE!$E1721,MD_GENDER,0),0),\"\")","v":""},{"v":0,"d":"0.00"},null,{"v":0,"d":"0.00"},{"$f":"IF(F1721=\"Arbeitgeberähnliche Stellung\",OFFSET(MD!$Q$5,MATCH(Grundlagen_Abrechnung_KAE!$AK$7,MD_JAHR,0),0)*$H1721,IF(J1721>0,AC1721,I1721))","v":{"v":0,"d":"0.00"}},null,{"$f":"OFFSET(MD!$P$5,MATCH($AK$7,MD_JAHR,0),0)*12","v":{"$error":"#VALUE!"}},{"v":0,"d":"0.00"}]
[{"$nulls":14},{"$f":"IF($B1722=\"\",\"\",IF(F1722=\"Arbeitgeberähnliche Stellung\",OFFSET(MD!$Q$5,MATCH(Grundlagen_Abrechnung_KAE!$AK$7,MD_JAHR,0),0)*$H1722,IF(((AD1722/12*M1722*12)+N1722)>AF1722,AF1722/12,((AD1722/12*M1722*12)+N1722)/12)))","v":""},null,null,{"v":0,"d":"0.00"},null,{"v":0,"d":"0.00%"},{"v":0,"d":"0.00"},{"v":0,"d":"0.00"},{"v":0,"d":"0.00"},null,"prüfen",{"$f":"IFERROR(OFFSET(MD!$U$5,MATCH(Grundlagen_Abrechnung_KAE!$E1722,MD_GENDER,0),0),\"\")","v":""},{"v":0,"d":"0.00"},null,{"v":0,"d":"0.00"},{"$f":"IF(F1722=\"Arbeitgeberähnliche Stellung\",OFFSET(MD!$Q$5,MATCH(Grundlagen_Abrechnung_KAE!$AK$7,MD_JAHR,0),0)*$H1722,IF(J1722>0,AC1722,I1722))","v":{"v":0,"d":"0.00"}},null,{"$f":"OFFSET(MD!$P$5,MATCH($AK$7,MD_JAHR,0),0)*12","v":{"$error":"#VALUE!"}},{"v":0,"d":"0.00"}]
[{"$nulls":14},{"$f":"IF($B1723=\"\",\"\",IF(F1723=\"Arbeitgeberähnliche Stellung\",OFFSET(MD!$Q$5,MATCH(Grundlagen_Abrechnung_KAE!$AK$7,MD_JAHR,0),0)*$H1723,IF(((AD1723/12*M1723*12)+N1723)>AF1723,AF1723/12,((AD1723/12*M1723*12)+N1723)/12)))","v":""},null,null,{"v":0,"d":"0.00"},null,{"v":0,"d":"0.00%"},{"v":0,"d":"0.00"},{"v":0,"d":"0.00"},{"v":0,"d":"0.00"},null,"prüfen",{"$f":"IFERROR(OFFSET(MD!$U$5,MATCH(Grundlagen_Abrechnung_KAE!$E1723,MD_GENDER,0),0),\"\")","v":""},{"v":0,"d":"0.00"},null,{"v":0,"d":"0.00"},{"$f":"IF(F1723=\"Arbeitgeberähnliche Stellung\",OFFSET(MD!$Q$5,MATCH(Grundlagen_Abrechnung_KAE!$AK$7,MD_JAHR,0),0)*$H1723,IF(J1723>0,AC1723,I1723))","v":{"v":0,"d":"0.00"}},null,{"$f":"OFFSET(MD!$P$5,MATCH($AK$7,MD_JAHR,0),0)*12","v":{"$error":"#VALUE!"}},{"v":0,"d":"0.00"}]
[{"$nulls":14},{"$f":"IF($B1724=\"\",\"\",IF(F1724=\"Arbeitgeberähnliche Stellung\",OFFSET(MD!$Q$5,MATCH(Grundlagen_Abrechnung_KAE!$AK$7,MD_JAHR,0),0)*$H1724,IF(((AD1724/12*M1724*12)+N1724)>AF1724,AF1724/12,((AD1724/12*M1724*12)+N1724)/12)))","v":""},null,null,{"v":0,"d":"0.00"},null,{"v":0,"d":"0.00%"},{"v":0,"d":"0.00"},{"v":0,"d":"0.00"},{"v":0,"d":"0.00"},null,"prüfen",{"$f":"IFERROR(OFFSET(MD!$U$5,MATCH(Grundlagen_Abrechnung_KAE!$E1724,MD_GENDER,0),0),\"\")","v":""},{"v":0,"d":"0.00"},null,{"v":0,"d":"0.00"},{"$f":"IF(F1724=\"Arbeitgeberähnliche Stellung\",OFFSET(MD!$Q$5,MATCH(Grundlagen_Abrechnung_KAE!$AK$7,MD_JAHR,0),0)*$H1724,IF(J1724>0,AC1724,I1724))","v":{"v":0,"d":"0.00"}},null,{"$f":"OFFSET(MD!$P$5,MATCH($AK$7,MD_JAHR,0),0)*12","v":{"$error":"#VALUE!"}},{"v":0,"d":"0.00"}]
[{"$nulls":14},{"$f":"IF($B1725=\"\",\"\",IF(F1725=\"Arbeitgeberähnliche Stellung\",OFFSET(MD!$Q$5,MATCH(Grundlagen_Abrechnung_KAE!$AK$7,MD_JAHR,0),0)*$H1725,IF(((AD1725/12*M1725*12)+N1725)>AF1725,AF1725/12,((AD1725/12*M1725*12)+N1725)/12)))","v":""},null,null,{"v":0,"d":"0.00"},null,{"v":0,"d":"0.00%"},{"v":0,"d":"0.00"},{"v":0,"d":"0.00"},{"v":0,"d":"0.00"},null,"prüfen",{"$f":"IFERROR(OFFSET(MD!$U$5,MATCH(Grundlagen_Abrechnung_KAE!$E1725,MD_GENDER,0),0),\"\")","v":""},{"v":0,"d":"0.00"},null,{"v":0,"d":"0.00"},{"$f":"IF(F1725=\"Arbeitgeberähnliche Stellung\",OFFSET(MD!$Q$5,MATCH(Grundlagen_Abrechnung_KAE!$AK$7,MD_JAHR,0),0)*$H1725,IF(J1725>0,AC1725,I1725))","v":{"v":0,"d":"0.00"}},null,{"$f":"OFFSET(MD!$P$5,MATCH($AK$7,MD_JAHR,0),0)*12","v":{"$error":"#VALUE!"}},{"v":0,"d":"0.00"}]
[{"$nulls":14},{"$f":"IF($B1726=\"\",\"\",IF(F1726=\"Arbeitgeberähnliche Stellung\",OFFSET(MD!$Q$5,MATCH(Grundlagen_Abrechnung_KAE!$AK$7,MD_JAHR,0),0)*$H1726,IF(((AD1726/12*M1726*12)+N1726)>AF1726,AF1726/12,((AD1726/12*M1726*12)+N1726)/12)))","v":""},null,null,{"v":0,"d":"0.00"},null,{"v":0,"d":"0.00%"},{"v":0,"d":"0.00"},{"v":0,"d":"0.00"},{"v":0,"d":"0.00"},null,"prüfen",{"$f":"IFERROR(OFFSET(MD!$U$5,MATCH(Grundlagen_Abrechnung_KAE!$E1726,MD_GENDER,0),0),\"\")","v":""},{"v":0,"d":"0.00"},null,{"v":0,"d":"0.00"},{"$f":"IF(F1726=\"Arbeitgeberähnliche Stellung\",OFFSET(MD!$Q$5,MATCH(Grundlagen_Abrechnung_KAE!$AK$7,MD_JAHR,0),0)*$H1726,IF(J1726>0,AC1726,I1726))","v":{"v":0,"d":"0.00"}},null,{"$f":"OFFSET(MD!$P$5,MATCH($AK$7,MD_JAHR,0),0)*12","v":{"$error":"#VALUE!"}},{"v":0,"d":"0.00"}]
[{"$nulls":14},{"$f":"IF($B1727=\"\",\"\",IF(F1727=\"Arbeitgeberähnliche Stellung\",OFFSET(MD!$Q$5,MATCH(Grundlagen_Abrechnung_KAE!$AK$7,MD_JAHR,0),0)*$H1727,IF(((AD1727/12*M1727*12)+N1727)>AF1727,AF1727/12,((AD1727/12*M1727*12)+N1727)/12)))","v":""},null,null,{"v":0,"d":"0.00"},null,{"v":0,"d":"0.00%"},{"v":0,"d":"0.00"},{"v":0,"d":"0.00"},{"v":0,"d":"0.00"},null,"prüfen",{"$f":"IFERROR(OFFSET(MD!$U$5,MATCH(Grundlagen_Abrechnung_KAE!$E1727,MD_GENDER,0),0),\"\")","v":""},{"v":0,"d":"0.00"},null,{"v":0,"d":"0.00"},{"$f":"IF(F1727=\"Arbeitgeberähnliche Stellung\",OFFSET(MD!$Q$5,MATCH(Grundlagen_Abrechnung_KAE!$AK$7,MD_JAHR,0),0)*$H1727,IF(J1727>0,AC1727,I1727))","v":{"v":0,"d":"0.00"}},null,{"$f":"OFFSET(MD!$P$5,MATCH($AK$7,MD_JAHR,0),0)*12","v":{"$error":"#VALUE!"}},{"v":0,"d":"0.00"}]
[{"$nulls":14},{"$f":"IF($B1728=\"\",\"\",IF(F1728=\"Arbeitgeberähnliche Stellung\",OFFSET(MD!$Q$5,MATCH(Grundlagen_Abrechnung_KAE!$AK$7,MD_JAHR,0),0)*$H1728,IF(((AD1728/12*M1728*12)+N1728)>AF1728,AF1728/12,((AD1728/12*M1728*12)+N1728)/12)))","v":""},null,null,{"v":0,"d":"0.00"},null,{"v":0,"d":"0.00%"},{"v":0,"d":"0.00"},{"v":0,"d":"0.00"},{"v":0,"d":"0.00"},null,"prüfen",{"$f":"IFERROR(OFFSET(MD!$U$5,MATCH(Grundlagen_Abrechnung_KAE!$E1728,MD_GENDER,0),0),\"\")","v":""},{"v":0,"d":"0.00"},null,{"v":0,"d":"0.00"},{"$f":"IF(F1728=\"Arbeitgeberähnliche Stellung\",OFFSET(MD!$Q$5,MATCH(Grundlagen_Abrechnung_KAE!$AK$7,MD_JAHR,0),0)*$H1728,IF(J1728>0,AC1728,I1728))","v":{"v":0,"d":"0.00"}},null,{"$f":"OFFSET(MD!$P$5,MATCH($AK$7,MD_JAHR,0),0)*12","v":{"$error":"#VALUE!"}},{"v":0,"d":"0.00"}]
[{"$nulls":14},{"$f":"IF($B1729=\"\",\"\",IF(F1729=\"Arbeitgeberähnliche Stellung\",OFFSET(MD!$Q$5,MATCH(Grundlagen_Abrechnung_KAE!$AK$7,MD_JAHR,0),0)*$H1729,IF(((AD1729/12*M1729*12)+N1729)>AF1729,AF1729/12,((AD1729/12*M1729*12)+N1729)/12)))","v":""},null,null,{"v":0,"d":"0.00"},null,{"v":0,"d":"0.00%"},{"v":0,"d":"0.00"},{"v":0,"d":"0.00"},{"v":0,"d":"0.00"},null,"prüfen",{"$f":"IFERROR(OFFSET(MD!$U$5,MATCH(Grundlagen_Abrechnung_KAE!$E1729,MD_GENDER,0),0),\"\")","v":""},{"v":0,"d":"0.00"},null,{"v":0,"d":"0.00"},{"$f":"IF(F1729=\"Arbeitgeberähnliche Stellung\",OFFSET(MD!$Q$5,MATCH(Grundlagen_Abrechnung_KAE!$AK$7,MD_JAHR,0),0)*$H1729,IF(J1729>0,AC1729,I1729))","v":{"v":0,"d":"0.00"}},null,{"$f":"OFFSET(MD!$P$5,MATCH($AK$7,MD_JAHR,0),0)*12","v":{"$error":"#VALUE!"}},{"v":0,"d":"0.00"}]
[{"$nulls":14},{"$f":"IF($B1730=\"\",\"\",IF(F1730=\"Arbeitgeberähnliche Stellung\",OFFSET(MD!$Q$5,MATCH(Grundlagen_Abrechnung_KAE!$AK$7,MD_JAHR,0),0)*$H1730,IF(((AD1730/12*M1730*12)+N1730)>AF1730,AF1730/12,((AD1730/12*M1730*12)+N1730)/12)))","v":""},null,null,{"v":0,"d":"0.00"},null,{"v":0,"d":"0.00%"},{"v":0,"d":"0.00"},{"v":0,"d":"0.00"},{"v":0,"d":"0.00"},null,"prüfen",{"$f":"IFERROR(OFFSET(MD!$U$5,MATCH(Grundlagen_Abrechnung_KAE!$E1730,MD_GENDER,0),0),\"\")","v":""},{"v":0,"d":"0.00"},null,{"v":0,"d":"0.00"},{"$f":"IF(F1730=\"Arbeitgeberähnliche Stellung\",OFFSET(MD!$Q$5,MATCH(Grundlagen_Abrechnung_KAE!$AK$7,MD_JAHR,0),0)*$H1730,IF(J1730>0,AC1730,I1730))","v":{"v":0,"d":"0.00"}},null,{"$f":"OFFSET(MD!$P$5,MATCH($AK$7,MD_JAHR,0),0)*12","v":{"$error":"#VALUE!"}},{"v":0,"d":"0.00"}]
[{"$nulls":14},{"$f":"IF($B1731=\"\",\"\",IF(F1731=\"Arbeitgeberähnliche Stellung\",OFFSET(MD!$Q$5,MATCH(Grundlagen_Abrechnung_KAE!$AK$7,MD_JAHR,0),0)*$H1731,IF(((AD1731/12*M1731*12)+N1731)>AF1731,AF1731/12,((AD1731/12*M1731*12)+N1731)/12)))","v":""},null,null,{"v":0,"d":"0.00"},null,{"v":0,"d":"0.00%"},{"v":0,"d":"0.00"},{"v":0,"d":"0.00"},{"v":0,"d":"0.00"},null,"prüfen",{"$f":"IFERROR(OFFSET(MD!$U$5,MATCH(Grundlagen_Abrechnung_KAE!$E1731,MD_GENDER,0),0),\"\")","v":""},{"v":0,"d":"0.00"},null,{"v":0,"d":"0.00"},{"$f":"IF(F1731=\"Arbeitgeberähnliche Stellung\",OFFSET(MD!$Q$5,MATCH(Grundlagen_Abrechnung_KAE!$AK$7,MD_JAHR,0),0)*$H1731,IF(J1731>0,AC1731,I1731))","v":{"v":0,"d":"0.00"}},null,{"$f":"OFFSET(MD!$P$5,MATCH($AK$7,MD_JAHR,0),0)*12","v":{"$error":"#VALUE!"}},{"v":0,"d":"0.00"}]
[{"$nulls":14},{"$f":"IF($B1732=\"\",\"\",IF(F1732=\"Arbeitgeberähnliche Stellung\",OFFSET(MD!$Q$5,MATCH(Grundlagen_Abrechnung_KAE!$AK$7,MD_JAHR,0),0)*$H1732,IF(((AD1732/12*M1732*12)+N1732)>AF1732,AF1732/12,((AD1732/12*M1732*12)+N1732)/12)))","v":""},null,null,{"v":0,"d":"0.00"},null,{"v":0,"d":"0.00%"},{"v":0,"d":"0.00"},{"v":0,"d":"0.00"},{"v":0,"d":"0.00"},null,"prüfen",{"$f":"IFERROR(OFFSET(MD!$U$5,MATCH(Grundlagen_Abrechnung_KAE!$E1732,MD_GENDER,0),0),\"\")","v":""},{"v":0,"d":"0.00"},null,{"v":0,"d":"0.00"},{"$f":"IF(F1732=\"Arbeitgeberähnliche Stellung\",OFFSET(MD!$Q$5,MATCH(Grundlagen_Abrechnung_KAE!$AK$7,MD_JAHR,0),0)*$H1732,IF(J1732>0,AC1732,I1732))","v":{"v":0,"d":"0.00"}},null,{"$f":"OFFSET(MD!$P$5,MATCH($AK$7,MD_JAHR,0),0)*12","v":{"$error":"#VALUE!"}},{"v":0,"d":"0.00"}]
[{"$nulls":14},{"$f":"IF($B1733=\"\",\"\",IF(F1733=\"Arbeitgeberähnliche Stellung\",OFFSET(MD!$Q$5,MATCH(Grundlagen_Abrechnung_KAE!$AK$7,MD_JAHR,0),0)*$H1733,IF(((AD1733/12*M1733*12)+N1733)>AF1733,AF1733/12,((AD1733/12*M1733*12)+N1733)/12)))","v":""},null,null,{"v":0,"d":"0.00"},null,{"v":0,"d":"0.00%"},{"v":0,"d":"0.00"},{"v":0,"d":"0.00"},{"v":0,"d":"0.00"},null,"prüfen",{"$f":"IFERROR(OFFSET(MD!$U$5,MATCH(Grundlagen_Abrechnung_KAE!$E1733,MD_GENDER,0),0),\"\")","v":""},{"v":0,"d":"0.00"},null,{"v":0,"d":"0.00"},{"$f":"IF(F1733=\"Arbeitgeberähnliche Stellung\",OFFSET(MD!$Q$5,MATCH(Grundlagen_Abrechnung_KAE!$AK$7,MD_JAHR,0),0)*$H1733,IF(J1733>0,AC1733,I1733))","v":{"v":0,"d":"0.00"}},null,{"$f":"OFFSET(MD!$P$5,MATCH($AK$7,MD_JAHR,0),0)*12","v":{"$error":"#VALUE!"}},{"v":0,"d":"0.00"}]
[{"$nulls":14},{"$f":"IF($B1734=\"\",\"\",IF(F1734=\"Arbeitgeberähnliche Stellung\",OFFSET(MD!$Q$5,MATCH(Grundlagen_Abrechnung_KAE!$AK$7,MD_JAHR,0),0)*$H1734,IF(((AD1734/12*M1734*12)+N1734)>AF1734,AF1734/12,((AD1734/12*M1734*12)+N1734)/12)))","v":""},null,null,{"v":0,"d":"0.00"},null,{"v":0,"d":"0.00%"},{"v":0,"d":"0.00"},{"v":0,"d":"0.00"},{"v":0,"d":"0.00"},null,"prüfen",{"$f":"IFERROR(OFFSET(MD!$U$5,MATCH(Grundlagen_Abrechnung_KAE!$E1734,MD_GENDER,0),0),\"\")","v":""},{"v":0,"d":"0.00"},null,{"v":0,"d":"0.00"},{"$f":"IF(F1734=\"Arbeitgeberähnliche Stellung\",OFFSET(MD!$Q$5,MATCH(Grundlagen_Abrechnung_KAE!$AK$7,MD_JAHR,0),0)*$H1734,IF(J1734>0,AC1734,I1734))","v":{"v":0,"d":"0.00"}},null,{"$f":"OFFSET(MD!$P$5,MATCH($AK$7,MD_JAHR,0),0)*12","v":{"$error":"#VALUE!"}},{"v":0,"d":"0.00"}]
[{"$nulls":14},{"$f":"IF($B1735=\"\",\"\",IF(F1735=\"Arbeitgeberähnliche Stellung\",OFFSET(MD!$Q$5,MATCH(Grundlagen_Abrechnung_KAE!$AK$7,MD_JAHR,0),0)*$H1735,IF(((AD1735/12*M1735*12)+N1735)>AF1735,AF1735/12,((AD1735/12*M1735*12)+N1735)/12)))","v":""},null,null,{"v":0,"d":"0.00"},null,{"v":0,"d":"0.00%"},{"v":0,"d":"0.00"},{"v":0,"d":"0.00"},{"v":0,"d":"0.00"},null,"prüfen",{"$f":"IFERROR(OFFSET(MD!$U$5,MATCH(Grundlagen_Abrechnung_KAE!$E1735,MD_GENDER,0),0),\"\")","v":""},{"v":0,"d":"0.00"},null,{"v":0,"d":"0.00"},{"$f":"IF(F1735=\"Arbeitgeberähnliche Stellung\",OFFSET(MD!$Q$5,MATCH(Grundlagen_Abrechnung_KAE!$AK$7,MD_JAHR,0),0)*$H1735,IF(J1735>0,AC1735,I1735))","v":{"v":0,"d":"0.00"}},null,{"$f":"OFFSET(MD!$P$5,MATCH($AK$7,MD_JAHR,0),0)*12","v":{"$error":"#VALUE!"}},{"v":0,"d":"0.00"}]
[{"$nulls":14},{"$f":"IF($B1736=\"\",\"\",IF(F1736=\"Arbeitgeberähnliche Stellung\",OFFSET(MD!$Q$5,MATCH(Grundlagen_Abrechnung_KAE!$AK$7,MD_JAHR,0),0)*$H1736,IF(((AD1736/12*M1736*12)+N1736)>AF1736,AF1736/12,((AD1736/12*M1736*12)+N1736)/12)))","v":""},null,null,{"v":0,"d":"0.00"},null,{"v":0,"d":"0.00%"},{"v":0,"d":"0.00"},{"v":0,"d":"0.00"},{"v":0,"d":"0.00"},null,"prüfen",{"$f":"IFERROR(OFFSET(MD!$U$5,MATCH(Grundlagen_Abrechnung_KAE!$E1736,MD_GENDER,0),0),\"\")","v":""},{"v":0,"d":"0.00"},null,{"v":0,"d":"0.00"},{"$f":"IF(F1736=\"Arbeitgeberähnliche Stellung\",OFFSET(MD!$Q$5,MATCH(Grundlagen_Abrechnung_KAE!$AK$7,MD_JAHR,0),0)*$H1736,IF(J1736>0,AC1736,I1736))","v":{"v":0,"d":"0.00"}},null,{"$f":"OFFSET(MD!$P$5,MATCH($AK$7,MD_JAHR,0),0)*12","v":{"$error":"#VALUE!"}},{"v":0,"d":"0.00"}]
[{"$nulls":14},{"$f":"IF($B1737=\"\",\"\",IF(F1737=\"Arbeitgeberähnliche Stellung\",OFFSET(MD!$Q$5,MATCH(Grundlagen_Abrechnung_KAE!$AK$7,MD_JAHR,0),0)*$H1737,IF(((AD1737/12*M1737*12)+N1737)>AF1737,AF1737/12,((AD1737/12*M1737*12)+N1737)/12)))","v":""},null,null,{"v":0,"d":"0.00"},null,{"v":0,"d":"0.00%"},{"v":0,"d":"0.00"},{"v":0,"d":"0.00"},{"v":0,"d":"0.00"},null,"prüfen",{"$f":"IFERROR(OFFSET(MD!$U$5,MATCH(Grundlagen_Abrechnung_KAE!$E1737,MD_GENDER,0),0),\"\")","v":""},{"v":0,"d":"0.00"},null,{"v":0,"d":"0.00"},{"$f":"IF(F1737=\"Arbeitgeberähnliche Stellung\",OFFSET(MD!$Q$5,MATCH(Grundlagen_Abrechnung_KAE!$AK$7,MD_JAHR,0),0)*$H1737,IF(J1737>0,AC1737,I1737))","v":{"v":0,"d":"0.00"}},null,{"$f":"OFFSET(MD!$P$5,MATCH($AK$7,MD_JAHR,0),0)*12","v":{"$error":"#VALUE!"}},{"v":0,"d":"0.00"}]
[{"$nulls":14},{"$f":"IF($B1738=\"\",\"\",IF(F1738=\"Arbeitgeberähnliche Stellung\",OFFSET(MD!$Q$5,MATCH(Grundlagen_Abrechnung_KAE!$AK$7,MD_JAHR,0),0)*$H1738,IF(((AD1738/12*M1738*12)+N1738)>AF1738,AF1738/12,((AD1738/12*M1738*12)+N1738)/12)))","v":""},null,null,{"v":0,"d":"0.00"},null,{"v":0,"d":"0.00%"},{"v":0,"d":"0.00"},{"v":0,"d":"0.00"},{"v":0,"d":"0.00"},null,"prüfen",{"$f":"IFERROR(OFFSET(MD!$U$5,MATCH(Grundlagen_Abrechnung_KAE!$E1738,MD_GENDER,0),0),\"\")","v":""},{"v":0,"d":"0.00"},null,{"v":0,"d":"0.00"},{"$f":"IF(F1738=\"Arbeitgeberähnliche Stellung\",OFFSET(MD!$Q$5,MATCH(Grundlagen_Abrechnung_KAE!$AK$7,MD_JAHR,0),0)*$H1738,IF(J1738>0,AC1738,I1738))","v":{"v":0,"d":"0.00"}},null,{"$f":"OFFSET(MD!$P$5,MATCH($AK$7,MD_JAHR,0),0)*12","v":{"$error":"#VALUE!"}},{"v":0,"d":"0.00"}]
[{"$nulls":14},{"$f":"IF($B1739=\"\",\"\",IF(F1739=\"Arbeitgeberähnliche Stellung\",OFFSET(MD!$Q$5,MATCH(Grundlagen_Abrechnung_KAE!$AK$7,MD_JAHR,0),0)*$H1739,IF(((AD1739/12*M1739*12)+N1739)>AF1739,AF1739/12,((AD1739/12*M1739*12)+N1739)/12)))","v":""},null,null,{"v":0,"d":"0.00"},null,{"v":0,"d":"0.00%"},{"v":0,"d":"0.00"},{"v":0,"d":"0.00"},{"v":0,"d":"0.00"},null,"prüfen",{"$f":"IFERROR(OFFSET(MD!$U$5,MATCH(Grundlagen_Abrechnung_KAE!$E1739,MD_GENDER,0),0),\"\")","v":""},{"v":0,"d":"0.00"},null,{"v":0,"d":"0.00"},{"$f":"IF(F1739=\"Arbeitgeberähnliche Stellung\",OFFSET(MD!$Q$5,MATCH(Grundlagen_Abrechnung_KAE!$AK$7,MD_JAHR,0),0)*$H1739,IF(J1739>0,AC1739,I1739))","v":{"v":0,"d":"0.00"}},null,{"$f":"OFFSET(MD!$P$5,MATCH($AK$7,MD_JAHR,0),0)*12","v":{"$error":"#VALUE!"}},{"v":0,"d":"0.00"}]
[{"$nulls":14},{"$f":"IF($B1740=\"\",\"\",IF(F1740=\"Arbeitgeberähnliche Stellung\",OFFSET(MD!$Q$5,MATCH(Grundlagen_Abrechnung_KAE!$AK$7,MD_JAHR,0),0)*$H1740,IF(((AD1740/12*M1740*12)+N1740)>AF1740,AF1740/12,((AD1740/12*M1740*12)+N1740)/12)))","v":""},null,null,{"v":0,"d":"0.00"},null,{"v":0,"d":"0.00%"},{"v":0,"d":"0.00"},{"v":0,"d":"0.00"},{"v":0,"d":"0.00"},null,"prüfen",{"$f":"IFERROR(OFFSET(MD!$U$5,MATCH(Grundlagen_Abrechnung_KAE!$E1740,MD_GENDER,0),0),\"\")","v":""},{"v":0,"d":"0.00"},null,{"v":0,"d":"0.00"},{"$f":"IF(F1740=\"Arbeitgeberähnliche Stellung\",OFFSET(MD!$Q$5,MATCH(Grundlagen_Abrechnung_KAE!$AK$7,MD_JAHR,0),0)*$H1740,IF(J1740>0,AC1740,I1740))","v":{"v":0,"d":"0.00"}},null,{"$f":"OFFSET(MD!$P$5,MATCH($AK$7,MD_JAHR,0),0)*12","v":{"$error":"#VALUE!"}},{"v":0,"d":"0.00"}]
[{"$nulls":14},{"$f":"IF($B1741=\"\",\"\",IF(F1741=\"Arbeitgeberähnliche Stellung\",OFFSET(MD!$Q$5,MATCH(Grundlagen_Abrechnung_KAE!$AK$7,MD_JAHR,0),0)*$H1741,IF(((AD1741/12*M1741*12)+N1741)>AF1741,AF1741/12,((AD1741/12*M1741*12)+N1741)/12)))","v":""},null,null,{"v":0,"d":"0.00"},null,{"v":0,"d":"0.00%"},{"v":0,"d":"0.00"},{"v":0,"d":"0.00"},{"v":0,"d":"0.00"},null,"prüfen",{"$f":"IFERROR(OFFSET(MD!$U$5,MATCH(Grundlagen_Abrechnung_KAE!$E1741,MD_GENDER,0),0),\"\")","v":""},{"v":0,"d":"0.00"},null,{"v":0,"d":"0.00"},{"$f":"IF(F1741=\"Arbeitgeberähnliche Stellung\",OFFSET(MD!$Q$5,MATCH(Grundlagen_Abrechnung_KAE!$AK$7,MD_JAHR,0),0)*$H1741,IF(J1741>0,AC1741,I1741))","v":{"v":0,"d":"0.00"}},null,{"$f":"OFFSET(MD!$P$5,MATCH($AK$7,MD_JAHR,0),0)*12","v":{"$error":"#VALUE!"}},{"v":0,"d":"0.00"}]
[{"$nulls":14},{"$f":"IF($B1742=\"\",\"\",IF(F1742=\"Arbeitgeberähnliche Stellung\",OFFSET(MD!$Q$5,MATCH(Grundlagen_Abrechnung_KAE!$AK$7,MD_JAHR,0),0)*$H1742,IF(((AD1742/12*M1742*12)+N1742)>AF1742,AF1742/12,((AD1742/12*M1742*12)+N1742)/12)))","v":""},null,null,{"v":0,"d":"0.00"},null,{"v":0,"d":"0.00%"},{"v":0,"d":"0.00"},{"v":0,"d":"0.00"},{"v":0,"d":"0.00"},null,"prüfen",{"$f":"IFERROR(OFFSET(MD!$U$5,MATCH(Grundlagen_Abrechnung_KAE!$E1742,MD_GENDER,0),0),\"\")","v":""},{"v":0,"d":"0.00"},null,{"v":0,"d":"0.00"},{"$f":"IF(F1742=\"Arbeitgeberähnliche Stellung\",OFFSET(MD!$Q$5,MATCH(Grundlagen_Abrechnung_KAE!$AK$7,MD_JAHR,0),0)*$H1742,IF(J1742>0,AC1742,I1742))","v":{"v":0,"d":"0.00"}},null,{"$f":"OFFSET(MD!$P$5,MATCH($AK$7,MD_JAHR,0),0)*12","v":{"$error":"#VALUE!"}},{"v":0,"d":"0.00"}]
[{"$nulls":14},{"$f":"IF($B1743=\"\",\"\",IF(F1743=\"Arbeitgeberähnliche Stellung\",OFFSET(MD!$Q$5,MATCH(Grundlagen_Abrechnung_KAE!$AK$7,MD_JAHR,0),0)*$H1743,IF(((AD1743/12*M1743*12)+N1743)>AF1743,AF1743/12,((AD1743/12*M1743*12)+N1743)/12)))","v":""},null,null,{"v":0,"d":"0.00"},null,{"v":0,"d":"0.00%"},{"v":0,"d":"0.00"},{"v":0,"d":"0.00"},{"v":0,"d":"0.00"},null,"prüfen",{"$f":"IFERROR(OFFSET(MD!$U$5,MATCH(Grundlagen_Abrechnung_KAE!$E1743,MD_GENDER,0),0),\"\")","v":""},{"v":0,"d":"0.00"},null,{"v":0,"d":"0.00"},{"$f":"IF(F1743=\"Arbeitgeberähnliche Stellung\",OFFSET(MD!$Q$5,MATCH(Grundlagen_Abrechnung_KAE!$AK$7,MD_JAHR,0),0)*$H1743,IF(J1743>0,AC1743,I1743))","v":{"v":0,"d":"0.00"}},null,{"$f":"OFFSET(MD!$P$5,MATCH($AK$7,MD_JAHR,0),0)*12","v":{"$error":"#VALUE!"}},{"v":0,"d":"0.00"}]
[{"$nulls":14},{"$f":"IF($B1744=\"\",\"\",IF(F1744=\"Arbeitgeberähnliche Stellung\",OFFSET(MD!$Q$5,MATCH(Grundlagen_Abrechnung_KAE!$AK$7,MD_JAHR,0),0)*$H1744,IF(((AD1744/12*M1744*12)+N1744)>AF1744,AF1744/12,((AD1744/12*M1744*12)+N1744)/12)))","v":""},null,null,{"v":0,"d":"0.00"},null,{"v":0,"d":"0.00%"},{"v":0,"d":"0.00"},{"v":0,"d":"0.00"},{"v":0,"d":"0.00"},null,"prüfen",{"$f":"IFERROR(OFFSET(MD!$U$5,MATCH(Grundlagen_Abrechnung_KAE!$E1744,MD_GENDER,0),0),\"\")","v":""},{"v":0,"d":"0.00"},null,{"v":0,"d":"0.00"},{"$f":"IF(F1744=\"Arbeitgeberähnliche Stellung\",OFFSET(MD!$Q$5,MATCH(Grundlagen_Abrechnung_KAE!$AK$7,MD_JAHR,0),0)*$H1744,IF(J1744>0,AC1744,I1744))","v":{"v":0,"d":"0.00"}},null,{"$f":"OFFSET(MD!$P$5,MATCH($AK$7,MD_JAHR,0),0)*12","v":{"$error":"#VALUE!"}},{"v":0,"d":"0.00"}]
[{"$nulls":14},{"$f":"IF($B1745=\"\",\"\",IF(F1745=\"Arbeitgeberähnliche Stellung\",OFFSET(MD!$Q$5,MATCH(Grundlagen_Abrechnung_KAE!$AK$7,MD_JAHR,0),0)*$H1745,IF(((AD1745/12*M1745*12)+N1745)>AF1745,AF1745/12,((AD1745/12*M1745*12)+N1745)/12)))","v":""},null,null,{"v":0,"d":"0.00"},null,{"v":0,"d":"0.00%"},{"v":0,"d":"0.00"},{"v":0,"d":"0.00"},{"v":0,"d":"0.00"},null,"prüfen",{"$f":"IFERROR(OFFSET(MD!$U$5,MATCH(Grundlagen_Abrechnung_KAE!$E1745,MD_GENDER,0),0),\"\")","v":""},{"v":0,"d":"0.00"},null,{"v":0,"d":"0.00"},{"$f":"IF(F1745=\"Arbeitgeberähnliche Stellung\",OFFSET(MD!$Q$5,MATCH(Grundlagen_Abrechnung_KAE!$AK$7,MD_JAHR,0),0)*$H1745,IF(J1745>0,AC1745,I1745))","v":{"v":0,"d":"0.00"}},null,{"$f":"OFFSET(MD!$P$5,MATCH($AK$7,MD_JAHR,0),0)*12","v":{"$error":"#VALUE!"}},{"v":0,"d":"0.00"}]
[{"$nulls":14},{"$f":"IF($B1746=\"\",\"\",IF(F1746=\"Arbeitgeberähnliche Stellung\",OFFSET(MD!$Q$5,MATCH(Grundlagen_Abrechnung_KAE!$AK$7,MD_JAHR,0),0)*$H1746,IF(((AD1746/12*M1746*12)+N1746)>AF1746,AF1746/12,((AD1746/12*M1746*12)+N1746)/12)))","v":""},null,null,{"v":0,"d":"0.00"},null,{"v":0,"d":"0.00%"},{"v":0,"d":"0.00"},{"v":0,"d":"0.00"},{"v":0,"d":"0.00"},null,"prüfen",{"$f":"IFERROR(OFFSET(MD!$U$5,MATCH(Grundlagen_Abrechnung_KAE!$E1746,MD_GENDER,0),0),\"\")","v":""},{"v":0,"d":"0.00"},null,{"v":0,"d":"0.00"},{"$f":"IF(F1746=\"Arbeitgeberähnliche Stellung\",OFFSET(MD!$Q$5,MATCH(Grundlagen_Abrechnung_KAE!$AK$7,MD_JAHR,0),0)*$H1746,IF(J1746>0,AC1746,I1746))","v":{"v":0,"d":"0.00"}},null,{"$f":"OFFSET(MD!$P$5,MATCH($AK$7,MD_JAHR,0),0)*12","v":{"$error":"#VALUE!"}},{"v":0,"d":"0.00"}]
[{"$nulls":14},{"$f":"IF($B1747=\"\",\"\",IF(F1747=\"Arbeitgeberähnliche Stellung\",OFFSET(MD!$Q$5,MATCH(Grundlagen_Abrechnung_KAE!$AK$7,MD_JAHR,0),0)*$H1747,IF(((AD1747/12*M1747*12)+N1747)>AF1747,AF1747/12,((AD1747/12*M1747*12)+N1747)/12)))","v":""},null,null,{"$f":"ROUND(IF(Q1747=\"\",0,IF(P1747=0,0,IF(Q1747>P1747,0,P1747-Q1747))),2)","v":{"v":0,"d":"0.00"}},null,{"$f":"IFERROR(R1747/P1747,0)","v":{"v":0,"d":"0.00%"}},{"$f":"IFERROR(IF(O1747-W1747=0,O1747,(O1747)*(1-T1747)),0)","v":{"v":0,"d":"0.00"}},{"v":0,"d":"0.00"},{"$f":"IFERROR(O1747*T1747,0)*0.8","v":{"v":0,"d":"0.00"}},null,{"$f":"IF(YEAR($G1747)>$Y$16,\"prüfen\",\"\")","v":"prüfen"},{"$f":"IFERROR(OFFSET(MD!$U$5,MATCH(Grundlagen_Abrechnung_KAE!$E1747,MD_GENDER,0),0),\"\")","v":""},{"$f":"IF(B1747=\"\",0,IF(YEAR(G1747)>$AA$16,0,1))","v":{"v":0,"d":"0.00"}},null,{"$f":"IF(J1747*K1747/6>J1747*L1747/12,J1747*K1747/6,J1747*L1747/12)","v":{"v":0,"d":"0.00"}},{"$f":"IF(F1747=\"Arbeitgeberähnliche Stellung\",OFFSET(MD!$Q$5,MATCH(Grundlagen_Abrechnung_KAE!$AK$7,MD_JAHR,0),0)*$H1747,IF(J1747>0,AC1747,I1747))","v":{"v":0,"d":"0.00"}},null,{"$f":"OFFSET(MD!$P$5,MATCH($AK$7,MD_JAHR,0),0)*12","v":{"$error":"#VALUE!"}},{"$f":"I1747*M1747+N1747","v":{"v":0,"d":"0.00"}}]
[{"$nulls":14},{"$f":"IF($B1748=\"\",\"\",IF(F1748=\"Arbeitgeberähnliche Stellung\",OFFSET(MD!$Q$5,MATCH(Grundlagen_Abrechnung_KAE!$AK$7,MD_JAHR,0),0)*$H1748,IF(((AD1748/12*M1748*12)+N1748)>AF1748,AF1748/12,((AD1748/12*M1748*12)+N1748)/12)))","v":""},null,null,{"v":0,"d":"0.00"},null,{"v":0,"d":"0.00%"},{"v":0,"d":"0.00"},{"$f":"IFERROR(O1748*T1748,0)","v":{"v":0,"d":"0.00"}},{"v":0,"d":"0.00"},null,"prüfen",{"$f":"IFERROR(OFFSET(MD!$U$5,MATCH(Grundlagen_Abrechnung_KAE!$E1748,MD_GENDER,0),0),\"\")","v":""},{"v":0,"d":"0.00"},null,{"v":0,"d":"0.00"},{"$f":"IF(F1748=\"Arbeitgeberähnliche Stellung\",OFFSET(MD!$Q$5,MATCH(Grundlagen_Abrechnung_KAE!$AK$7,MD_JAHR,0),0)*$H1748,IF(J1748>0,AC1748,I1748))","v":{"v":0,"d":"0.00"}},null,{"$f":"OFFSET(MD!$P$5,MATCH($AK$7,MD_JAHR,0),0)*12","v":{"$error":"#VALUE!"}},{"v":0,"d":"0.00"}]
[{"$nulls":14},{"$f":"IF($B1749=\"\",\"\",IF(F1749=\"Arbeitgeberähnliche Stellung\",OFFSET(MD!$Q$5,MATCH(Grundlagen_Abrechnung_KAE!$AK$7,MD_JAHR,0),0)*$H1749,IF(((AD1749/12*M1749*12)+N1749)>AF1749,AF1749/12,((AD1749/12*M1749*12)+N1749)/12)))","v":""},null,null,{"v":0,"d":"0.00"},null,{"v":0,"d":"0.00%"},{"v":0,"d":"0.00"},{"v":0,"d":"0.00"},{"v":0,"d":"0.00"},null,"prüfen",{"$f":"IFERROR(OFFSET(MD!$U$5,MATCH(Grundlagen_Abrechnung_KAE!$E1749,MD_GENDER,0),0),\"\")","v":""},{"v":0,"d":"0.00"},null,{"v":0,"d":"0.00"},{"$f":"IF(F1749=\"Arbeitgeberähnliche Stellung\",OFFSET(MD!$Q$5,MATCH(Grundlagen_Abrechnung_KAE!$AK$7,MD_JAHR,0),0)*$H1749,IF(J1749>0,AC1749,I1749))","v":{"v":0,"d":"0.00"}},null,{"$f":"OFFSET(MD!$P$5,MATCH($AK$7,MD_JAHR,0),0)*12","v":{"$error":"#VALUE!"}},{"v":0,"d":"0.00"}]
[{"$nulls":14},{"$f":"IF($B1750=\"\",\"\",IF(F1750=\"Arbeitgeberähnliche Stellung\",OFFSET(MD!$Q$5,MATCH(Grundlagen_Abrechnung_KAE!$AK$7,MD_JAHR,0),0)*$H1750,IF(((AD1750/12*M1750*12)+N1750)>AF1750,AF1750/12,((AD1750/12*M1750*12)+N1750)/12)))","v":""},null,null,{"v":0,"d":"0.00"},null,{"v":0,"d":"0.00%"},{"v":0,"d":"0.00"},{"v":0,"d":"0.00"},{"v":0,"d":"0.00"},null,"prüfen",{"$f":"IFERROR(OFFSET(MD!$U$5,MATCH(Grundlagen_Abrechnung_KAE!$E1750,MD_GENDER,0),0),\"\")","v":""},{"v":0,"d":"0.00"},null,{"v":0,"d":"0.00"},{"$f":"IF(F1750=\"Arbeitgeberähnliche Stellung\",OFFSET(MD!$Q$5,MATCH(Grundlagen_Abrechnung_KAE!$AK$7,MD_JAHR,0),0)*$H1750,IF(J1750>0,AC1750,I1750))","v":{"v":0,"d":"0.00"}},null,{"$f":"OFFSET(MD!$P$5,MATCH($AK$7,MD_JAHR,0),0)*12","v":{"$error":"#VALUE!"}},{"v":0,"d":"0.00"}]
[{"$nulls":14},{"$f":"IF($B1751=\"\",\"\",IF(F1751=\"Arbeitgeberähnliche Stellung\",OFFSET(MD!$Q$5,MATCH(Grundlagen_Abrechnung_KAE!$AK$7,MD_JAHR,0),0)*$H1751,IF(((AD1751/12*M1751*12)+N1751)>AF1751,AF1751/12,((AD1751/12*M1751*12)+N1751)/12)))","v":""},null,null,{"v":0,"d":"0.00"},null,{"v":0,"d":"0.00%"},{"v":0,"d":"0.00"},{"v":0,"d":"0.00"},{"v":0,"d":"0.00"},null,"prüfen",{"$f":"IFERROR(OFFSET(MD!$U$5,MATCH(Grundlagen_Abrechnung_KAE!$E1751,MD_GENDER,0),0),\"\")","v":""},{"v":0,"d":"0.00"},null,{"v":0,"d":"0.00"},{"$f":"IF(F1751=\"Arbeitgeberähnliche Stellung\",OFFSET(MD!$Q$5,MATCH(Grundlagen_Abrechnung_KAE!$AK$7,MD_JAHR,0),0)*$H1751,IF(J1751>0,AC1751,I1751))","v":{"v":0,"d":"0.00"}},null,{"$f":"OFFSET(MD!$P$5,MATCH($AK$7,MD_JAHR,0),0)*12","v":{"$error":"#VALUE!"}},{"v":0,"d":"0.00"}]
[{"$nulls":14},{"$f":"IF($B1752=\"\",\"\",IF(F1752=\"Arbeitgeberähnliche Stellung\",OFFSET(MD!$Q$5,MATCH(Grundlagen_Abrechnung_KAE!$AK$7,MD_JAHR,0),0)*$H1752,IF(((AD1752/12*M1752*12)+N1752)>AF1752,AF1752/12,((AD1752/12*M1752*12)+N1752)/12)))","v":""},null,null,{"v":0,"d":"0.00"},null,{"v":0,"d":"0.00%"},{"v":0,"d":"0.00"},{"v":0,"d":"0.00"},{"v":0,"d":"0.00"},null,"prüfen",{"$f":"IFERROR(OFFSET(MD!$U$5,MATCH(Grundlagen_Abrechnung_KAE!$E1752,MD_GENDER,0),0),\"\")","v":""},{"v":0,"d":"0.00"},null,{"v":0,"d":"0.00"},{"$f":"IF(F1752=\"Arbeitgeberähnliche Stellung\",OFFSET(MD!$Q$5,MATCH(Grundlagen_Abrechnung_KAE!$AK$7,MD_JAHR,0),0)*$H1752,IF(J1752>0,AC1752,I1752))","v":{"v":0,"d":"0.00"}},null,{"$f":"OFFSET(MD!$P$5,MATCH($AK$7,MD_JAHR,0),0)*12","v":{"$error":"#VALUE!"}},{"v":0,"d":"0.00"}]
[{"$nulls":14},{"$f":"IF($B1753=\"\",\"\",IF(F1753=\"Arbeitgeberähnliche Stellung\",OFFSET(MD!$Q$5,MATCH(Grundlagen_Abrechnung_KAE!$AK$7,MD_JAHR,0),0)*$H1753,IF(((AD1753/12*M1753*12)+N1753)>AF1753,AF1753/12,((AD1753/12*M1753*12)+N1753)/12)))","v":""},null,null,{"v":0,"d":"0.00"},null,{"v":0,"d":"0.00%"},{"v":0,"d":"0.00"},{"v":0,"d":"0.00"},{"v":0,"d":"0.00"},null,"prüfen",{"$f":"IFERROR(OFFSET(MD!$U$5,MATCH(Grundlagen_Abrechnung_KAE!$E1753,MD_GENDER,0),0),\"\")","v":""},{"v":0,"d":"0.00"},null,{"v":0,"d":"0.00"},{"$f":"IF(F1753=\"Arbeitgeberähnliche Stellung\",OFFSET(MD!$Q$5,MATCH(Grundlagen_Abrechnung_KAE!$AK$7,MD_JAHR,0),0)*$H1753,IF(J1753>0,AC1753,I1753))","v":{"v":0,"d":"0.00"}},null,{"$f":"OFFSET(MD!$P$5,MATCH($AK$7,MD_JAHR,0),0)*12","v":{"$error":"#VALUE!"}},{"v":0,"d":"0.00"}]
[{"$nulls":14},{"$f":"IF($B1754=\"\",\"\",IF(F1754=\"Arbeitgeberähnliche Stellung\",OFFSET(MD!$Q$5,MATCH(Grundlagen_Abrechnung_KAE!$AK$7,MD_JAHR,0),0)*$H1754,IF(((AD1754/12*M1754*12)+N1754)>AF1754,AF1754/12,((AD1754/12*M1754*12)+N1754)/12)))","v":""},null,null,{"v":0,"d":"0.00"},null,{"v":0,"d":"0.00%"},{"v":0,"d":"0.00"},{"v":0,"d":"0.00"},{"v":0,"d":"0.00"},null,"prüfen",{"$f":"IFERROR(OFFSET(MD!$U$5,MATCH(Grundlagen_Abrechnung_KAE!$E1754,MD_GENDER,0),0),\"\")","v":""},{"v":0,"d":"0.00"},null,{"v":0,"d":"0.00"},{"$f":"IF(F1754=\"Arbeitgeberähnliche Stellung\",OFFSET(MD!$Q$5,MATCH(Grundlagen_Abrechnung_KAE!$AK$7,MD_JAHR,0),0)*$H1754,IF(J1754>0,AC1754,I1754))","v":{"v":0,"d":"0.00"}},null,{"$f":"OFFSET(MD!$P$5,MATCH($AK$7,MD_JAHR,0),0)*12","v":{"$error":"#VALUE!"}},{"v":0,"d":"0.00"}]
[{"$nulls":14},{"$f":"IF($B1755=\"\",\"\",IF(F1755=\"Arbeitgeberähnliche Stellung\",OFFSET(MD!$Q$5,MATCH(Grundlagen_Abrechnung_KAE!$AK$7,MD_JAHR,0),0)*$H1755,IF(((AD1755/12*M1755*12)+N1755)>AF1755,AF1755/12,((AD1755/12*M1755*12)+N1755)/12)))","v":""},null,null,{"v":0,"d":"0.00"},null,{"v":0,"d":"0.00%"},{"v":0,"d":"0.00"},{"v":0,"d":"0.00"},{"v":0,"d":"0.00"},null,"prüfen",{"$f":"IFERROR(OFFSET(MD!$U$5,MATCH(Grundlagen_Abrechnung_KAE!$E1755,MD_GENDER,0),0),\"\")","v":""},{"v":0,"d":"0.00"},null,{"v":0,"d":"0.00"},{"$f":"IF(F1755=\"Arbeitgeberähnliche Stellung\",OFFSET(MD!$Q$5,MATCH(Grundlagen_Abrechnung_KAE!$AK$7,MD_JAHR,0),0)*$H1755,IF(J1755>0,AC1755,I1755))","v":{"v":0,"d":"0.00"}},null,{"$f":"OFFSET(MD!$P$5,MATCH($AK$7,MD_JAHR,0),0)*12","v":{"$error":"#VALUE!"}},{"v":0,"d":"0.00"}]
[{"$nulls":14},{"$f":"IF($B1756=\"\",\"\",IF(F1756=\"Arbeitgeberähnliche Stellung\",OFFSET(MD!$Q$5,MATCH(Grundlagen_Abrechnung_KAE!$AK$7,MD_JAHR,0),0)*$H1756,IF(((AD1756/12*M1756*12)+N1756)>AF1756,AF1756/12,((AD1756/12*M1756*12)+N1756)/12)))","v":""},null,null,{"v":0,"d":"0.00"},null,{"v":0,"d":"0.00%"},{"v":0,"d":"0.00"},{"v":0,"d":"0.00"},{"v":0,"d":"0.00"},null,"prüfen",{"$f":"IFERROR(OFFSET(MD!$U$5,MATCH(Grundlagen_Abrechnung_KAE!$E1756,MD_GENDER,0),0),\"\")","v":""},{"v":0,"d":"0.00"},null,{"v":0,"d":"0.00"},{"$f":"IF(F1756=\"Arbeitgeberähnliche Stellung\",OFFSET(MD!$Q$5,MATCH(Grundlagen_Abrechnung_KAE!$AK$7,MD_JAHR,0),0)*$H1756,IF(J1756>0,AC1756,I1756))","v":{"v":0,"d":"0.00"}},null,{"$f":"OFFSET(MD!$P$5,MATCH($AK$7,MD_JAHR,0),0)*12","v":{"$error":"#VALUE!"}},{"v":0,"d":"0.00"}]
[{"$nulls":14},{"$f":"IF($B1757=\"\",\"\",IF(F1757=\"Arbeitgeberähnliche Stellung\",OFFSET(MD!$Q$5,MATCH(Grundlagen_Abrechnung_KAE!$AK$7,MD_JAHR,0),0)*$H1757,IF(((AD1757/12*M1757*12)+N1757)>AF1757,AF1757/12,((AD1757/12*M1757*12)+N1757)/12)))","v":""},null,null,{"v":0,"d":"0.00"},null,{"v":0,"d":"0.00%"},{"v":0,"d":"0.00"},{"v":0,"d":"0.00"},{"v":0,"d":"0.00"},null,"prüfen",{"$f":"IFERROR(OFFSET(MD!$U$5,MATCH(Grundlagen_Abrechnung_KAE!$E1757,MD_GENDER,0),0),\"\")","v":""},{"v":0,"d":"0.00"},null,{"v":0,"d":"0.00"},{"$f":"IF(F1757=\"Arbeitgeberähnliche Stellung\",OFFSET(MD!$Q$5,MATCH(Grundlagen_Abrechnung_KAE!$AK$7,MD_JAHR,0),0)*$H1757,IF(J1757>0,AC1757,I1757))","v":{"v":0,"d":"0.00"}},null,{"$f":"OFFSET(MD!$P$5,MATCH($AK$7,MD_JAHR,0),0)*12","v":{"$error":"#VALUE!"}},{"v":0,"d":"0.00"}]
[{"$nulls":14},{"$f":"IF($B1758=\"\",\"\",IF(F1758=\"Arbeitgeberähnliche Stellung\",OFFSET(MD!$Q$5,MATCH(Grundlagen_Abrechnung_KAE!$AK$7,MD_JAHR,0),0)*$H1758,IF(((AD1758/12*M1758*12)+N1758)>AF1758,AF1758/12,((AD1758/12*M1758*12)+N1758)/12)))","v":""},null,null,{"v":0,"d":"0.00"},null,{"v":0,"d":"0.00%"},{"v":0,"d":"0.00"},{"v":0,"d":"0.00"},{"v":0,"d":"0.00"},null,"prüfen",{"$f":"IFERROR(OFFSET(MD!$U$5,MATCH(Grundlagen_Abrechnung_KAE!$E1758,MD_GENDER,0),0),\"\")","v":""},{"v":0,"d":"0.00"},null,{"v":0,"d":"0.00"},{"$f":"IF(F1758=\"Arbeitgeberähnliche Stellung\",OFFSET(MD!$Q$5,MATCH(Grundlagen_Abrechnung_KAE!$AK$7,MD_JAHR,0),0)*$H1758,IF(J1758>0,AC1758,I1758))","v":{"v":0,"d":"0.00"}},null,{"$f":"OFFSET(MD!$P$5,MATCH($AK$7,MD_JAHR,0),0)*12","v":{"$error":"#VALUE!"}},{"v":0,"d":"0.00"}]
[{"$nulls":14},{"$f":"IF($B1759=\"\",\"\",IF(F1759=\"Arbeitgeberähnliche Stellung\",OFFSET(MD!$Q$5,MATCH(Grundlagen_Abrechnung_KAE!$AK$7,MD_JAHR,0),0)*$H1759,IF(((AD1759/12*M1759*12)+N1759)>AF1759,AF1759/12,((AD1759/12*M1759*12)+N1759)/12)))","v":""},null,null,{"v":0,"d":"0.00"},null,{"v":0,"d":"0.00%"},{"v":0,"d":"0.00"},{"v":0,"d":"0.00"},{"v":0,"d":"0.00"},null,"prüfen",{"$f":"IFERROR(OFFSET(MD!$U$5,MATCH(Grundlagen_Abrechnung_KAE!$E1759,MD_GENDER,0),0),\"\")","v":""},{"v":0,"d":"0.00"},null,{"v":0,"d":"0.00"},{"$f":"IF(F1759=\"Arbeitgeberähnliche Stellung\",OFFSET(MD!$Q$5,MATCH(Grundlagen_Abrechnung_KAE!$AK$7,MD_JAHR,0),0)*$H1759,IF(J1759>0,AC1759,I1759))","v":{"v":0,"d":"0.00"}},null,{"$f":"OFFSET(MD!$P$5,MATCH($AK$7,MD_JAHR,0),0)*12","v":{"$error":"#VALUE!"}},{"v":0,"d":"0.00"}]
[{"$nulls":14},{"$f":"IF($B1760=\"\",\"\",IF(F1760=\"Arbeitgeberähnliche Stellung\",OFFSET(MD!$Q$5,MATCH(Grundlagen_Abrechnung_KAE!$AK$7,MD_JAHR,0),0)*$H1760,IF(((AD1760/12*M1760*12)+N1760)>AF1760,AF1760/12,((AD1760/12*M1760*12)+N1760)/12)))","v":""},null,null,{"v":0,"d":"0.00"},null,{"v":0,"d":"0.00%"},{"v":0,"d":"0.00"},{"v":0,"d":"0.00"},{"v":0,"d":"0.00"},null,"prüfen",{"$f":"IFERROR(OFFSET(MD!$U$5,MATCH(Grundlagen_Abrechnung_KAE!$E1760,MD_GENDER,0),0),\"\")","v":""},{"v":0,"d":"0.00"},null,{"v":0,"d":"0.00"},{"$f":"IF(F1760=\"Arbeitgeberähnliche Stellung\",OFFSET(MD!$Q$5,MATCH(Grundlagen_Abrechnung_KAE!$AK$7,MD_JAHR,0),0)*$H1760,IF(J1760>0,AC1760,I1760))","v":{"v":0,"d":"0.00"}},null,{"$f":"OFFSET(MD!$P$5,MATCH($AK$7,MD_JAHR,0),0)*12","v":{"$error":"#VALUE!"}},{"v":0,"d":"0.00"}]
[{"$nulls":14},{"$f":"IF($B1761=\"\",\"\",IF(F1761=\"Arbeitgeberähnliche Stellung\",OFFSET(MD!$Q$5,MATCH(Grundlagen_Abrechnung_KAE!$AK$7,MD_JAHR,0),0)*$H1761,IF(((AD1761/12*M1761*12)+N1761)>AF1761,AF1761/12,((AD1761/12*M1761*12)+N1761)/12)))","v":""},null,null,{"v":0,"d":"0.00"},null,{"v":0,"d":"0.00%"},{"v":0,"d":"0.00"},{"v":0,"d":"0.00"},{"v":0,"d":"0.00"},null,"prüfen",{"$f":"IFERROR(OFFSET(MD!$U$5,MATCH(Grundlagen_Abrechnung_KAE!$E1761,MD_GENDER,0),0),\"\")","v":""},{"v":0,"d":"0.00"},null,{"v":0,"d":"0.00"},{"$f":"IF(F1761=\"Arbeitgeberähnliche Stellung\",OFFSET(MD!$Q$5,MATCH(Grundlagen_Abrechnung_KAE!$AK$7,MD_JAHR,0),0)*$H1761,IF(J1761>0,AC1761,I1761))","v":{"v":0,"d":"0.00"}},null,{"$f":"OFFSET(MD!$P$5,MATCH($AK$7,MD_JAHR,0),0)*12","v":{"$error":"#VALUE!"}},{"v":0,"d":"0.00"}]
[{"$nulls":14},{"$f":"IF($B1762=\"\",\"\",IF(F1762=\"Arbeitgeberähnliche Stellung\",OFFSET(MD!$Q$5,MATCH(Grundlagen_Abrechnung_KAE!$AK$7,MD_JAHR,0),0)*$H1762,IF(((AD1762/12*M1762*12)+N1762)>AF1762,AF1762/12,((AD1762/12*M1762*12)+N1762)/12)))","v":""},null,null,{"v":0,"d":"0.00"},null,{"v":0,"d":"0.00%"},{"v":0,"d":"0.00"},{"v":0,"d":"0.00"},{"v":0,"d":"0.00"},null,"prüfen",{"$f":"IFERROR(OFFSET(MD!$U$5,MATCH(Grundlagen_Abrechnung_KAE!$E1762,MD_GENDER,0),0),\"\")","v":""},{"v":0,"d":"0.00"},null,{"v":0,"d":"0.00"},{"$f":"IF(F1762=\"Arbeitgeberähnliche Stellung\",OFFSET(MD!$Q$5,MATCH(Grundlagen_Abrechnung_KAE!$AK$7,MD_JAHR,0),0)*$H1762,IF(J1762>0,AC1762,I1762))","v":{"v":0,"d":"0.00"}},null,{"$f":"OFFSET(MD!$P$5,MATCH($AK$7,MD_JAHR,0),0)*12","v":{"$error":"#VALUE!"}},{"v":0,"d":"0.00"}]
[{"$nulls":14},{"$f":"IF($B1763=\"\",\"\",IF(F1763=\"Arbeitgeberähnliche Stellung\",OFFSET(MD!$Q$5,MATCH(Grundlagen_Abrechnung_KAE!$AK$7,MD_JAHR,0),0)*$H1763,IF(((AD1763/12*M1763*12)+N1763)>AF1763,AF1763/12,((AD1763/12*M1763*12)+N1763)/12)))","v":""},null,null,{"v":0,"d":"0.00"},null,{"v":0,"d":"0.00%"},{"v":0,"d":"0.00"},{"v":0,"d":"0.00"},{"v":0,"d":"0.00"},null,"prüfen",{"$f":"IFERROR(OFFSET(MD!$U$5,MATCH(Grundlagen_Abrechnung_KAE!$E1763,MD_GENDER,0),0),\"\")","v":""},{"v":0,"d":"0.00"},null,{"v":0,"d":"0.00"},{"$f":"IF(F1763=\"Arbeitgeberähnliche Stellung\",OFFSET(MD!$Q$5,MATCH(Grundlagen_Abrechnung_KAE!$AK$7,MD_JAHR,0),0)*$H1763,IF(J1763>0,AC1763,I1763))","v":{"v":0,"d":"0.00"}},null,{"$f":"OFFSET(MD!$P$5,MATCH($AK$7,MD_JAHR,0),0)*12","v":{"$error":"#VALUE!"}},{"v":0,"d":"0.00"}]
[{"$nulls":14},{"$f":"IF($B1764=\"\",\"\",IF(F1764=\"Arbeitgeberähnliche Stellung\",OFFSET(MD!$Q$5,MATCH(Grundlagen_Abrechnung_KAE!$AK$7,MD_JAHR,0),0)*$H1764,IF(((AD1764/12*M1764*12)+N1764)>AF1764,AF1764/12,((AD1764/12*M1764*12)+N1764)/12)))","v":""},null,null,{"v":0,"d":"0.00"},null,{"v":0,"d":"0.00%"},{"v":0,"d":"0.00"},{"v":0,"d":"0.00"},{"v":0,"d":"0.00"},null,"prüfen",{"$f":"IFERROR(OFFSET(MD!$U$5,MATCH(Grundlagen_Abrechnung_KAE!$E1764,MD_GENDER,0),0),\"\")","v":""},{"v":0,"d":"0.00"},null,{"v":0,"d":"0.00"},{"$f":"IF(F1764=\"Arbeitgeberähnliche Stellung\",OFFSET(MD!$Q$5,MATCH(Grundlagen_Abrechnung_KAE!$AK$7,MD_JAHR,0),0)*$H1764,IF(J1764>0,AC1764,I1764))","v":{"v":0,"d":"0.00"}},null,{"$f":"OFFSET(MD!$P$5,MATCH($AK$7,MD_JAHR,0),0)*12","v":{"$error":"#VALUE!"}},{"v":0,"d":"0.00"}]
[{"$nulls":14},{"$f":"IF($B1765=\"\",\"\",IF(F1765=\"Arbeitgeberähnliche Stellung\",OFFSET(MD!$Q$5,MATCH(Grundlagen_Abrechnung_KAE!$AK$7,MD_JAHR,0),0)*$H1765,IF(((AD1765/12*M1765*12)+N1765)>AF1765,AF1765/12,((AD1765/12*M1765*12)+N1765)/12)))","v":""},null,null,{"v":0,"d":"0.00"},null,{"v":0,"d":"0.00%"},{"v":0,"d":"0.00"},{"v":0,"d":"0.00"},{"v":0,"d":"0.00"},null,"prüfen",{"$f":"IFERROR(OFFSET(MD!$U$5,MATCH(Grundlagen_Abrechnung_KAE!$E1765,MD_GENDER,0),0),\"\")","v":""},{"v":0,"d":"0.00"},null,{"v":0,"d":"0.00"},{"$f":"IF(F1765=\"Arbeitgeberähnliche Stellung\",OFFSET(MD!$Q$5,MATCH(Grundlagen_Abrechnung_KAE!$AK$7,MD_JAHR,0),0)*$H1765,IF(J1765>0,AC1765,I1765))","v":{"v":0,"d":"0.00"}},null,{"$f":"OFFSET(MD!$P$5,MATCH($AK$7,MD_JAHR,0),0)*12","v":{"$error":"#VALUE!"}},{"v":0,"d":"0.00"}]
[{"$nulls":14},{"$f":"IF($B1766=\"\",\"\",IF(F1766=\"Arbeitgeberähnliche Stellung\",OFFSET(MD!$Q$5,MATCH(Grundlagen_Abrechnung_KAE!$AK$7,MD_JAHR,0),0)*$H1766,IF(((AD1766/12*M1766*12)+N1766)>AF1766,AF1766/12,((AD1766/12*M1766*12)+N1766)/12)))","v":""},null,null,{"v":0,"d":"0.00"},null,{"v":0,"d":"0.00%"},{"v":0,"d":"0.00"},{"v":0,"d":"0.00"},{"v":0,"d":"0.00"},null,"prüfen",{"$f":"IFERROR(OFFSET(MD!$U$5,MATCH(Grundlagen_Abrechnung_KAE!$E1766,MD_GENDER,0),0),\"\")","v":""},{"v":0,"d":"0.00"},null,{"v":0,"d":"0.00"},{"$f":"IF(F1766=\"Arbeitgeberähnliche Stellung\",OFFSET(MD!$Q$5,MATCH(Grundlagen_Abrechnung_KAE!$AK$7,MD_JAHR,0),0)*$H1766,IF(J1766>0,AC1766,I1766))","v":{"v":0,"d":"0.00"}},null,{"$f":"OFFSET(MD!$P$5,MATCH($AK$7,MD_JAHR,0),0)*12","v":{"$error":"#VALUE!"}},{"v":0,"d":"0.00"}]
[{"$nulls":14},{"$f":"IF($B1767=\"\",\"\",IF(F1767=\"Arbeitgeberähnliche Stellung\",OFFSET(MD!$Q$5,MATCH(Grundlagen_Abrechnung_KAE!$AK$7,MD_JAHR,0),0)*$H1767,IF(((AD1767/12*M1767*12)+N1767)>AF1767,AF1767/12,((AD1767/12*M1767*12)+N1767)/12)))","v":""},null,null,{"v":0,"d":"0.00"},null,{"v":0,"d":"0.00%"},{"v":0,"d":"0.00"},{"v":0,"d":"0.00"},{"v":0,"d":"0.00"},null,"prüfen",{"$f":"IFERROR(OFFSET(MD!$U$5,MATCH(Grundlagen_Abrechnung_KAE!$E1767,MD_GENDER,0),0),\"\")","v":""},{"v":0,"d":"0.00"},null,{"v":0,"d":"0.00"},{"$f":"IF(F1767=\"Arbeitgeberähnliche Stellung\",OFFSET(MD!$Q$5,MATCH(Grundlagen_Abrechnung_KAE!$AK$7,MD_JAHR,0),0)*$H1767,IF(J1767>0,AC1767,I1767))","v":{"v":0,"d":"0.00"}},null,{"$f":"OFFSET(MD!$P$5,MATCH($AK$7,MD_JAHR,0),0)*12","v":{"$error":"#VALUE!"}},{"v":0,"d":"0.00"}]
[{"$nulls":14},{"$f":"IF($B1768=\"\",\"\",IF(F1768=\"Arbeitgeberähnliche Stellung\",OFFSET(MD!$Q$5,MATCH(Grundlagen_Abrechnung_KAE!$AK$7,MD_JAHR,0),0)*$H1768,IF(((AD1768/12*M1768*12)+N1768)>AF1768,AF1768/12,((AD1768/12*M1768*12)+N1768)/12)))","v":""},null,null,{"v":0,"d":"0.00"},null,{"v":0,"d":"0.00%"},{"v":0,"d":"0.00"},{"v":0,"d":"0.00"},{"v":0,"d":"0.00"},null,"prüfen",{"$f":"IFERROR(OFFSET(MD!$U$5,MATCH(Grundlagen_Abrechnung_KAE!$E1768,MD_GENDER,0),0),\"\")","v":""},{"v":0,"d":"0.00"},null,{"v":0,"d":"0.00"},{"$f":"IF(F1768=\"Arbeitgeberähnliche Stellung\",OFFSET(MD!$Q$5,MATCH(Grundlagen_Abrechnung_KAE!$AK$7,MD_JAHR,0),0)*$H1768,IF(J1768>0,AC1768,I1768))","v":{"v":0,"d":"0.00"}},null,{"$f":"OFFSET(MD!$P$5,MATCH($AK$7,MD_JAHR,0),0)*12","v":{"$error":"#VALUE!"}},{"v":0,"d":"0.00"}]
[{"$nulls":14},{"$f":"IF($B1769=\"\",\"\",IF(F1769=\"Arbeitgeberähnliche Stellung\",OFFSET(MD!$Q$5,MATCH(Grundlagen_Abrechnung_KAE!$AK$7,MD_JAHR,0),0)*$H1769,IF(((AD1769/12*M1769*12)+N1769)>AF1769,AF1769/12,((AD1769/12*M1769*12)+N1769)/12)))","v":""},null,null,{"v":0,"d":"0.00"},null,{"v":0,"d":"0.00%"},{"v":0,"d":"0.00"},{"v":0,"d":"0.00"},{"v":0,"d":"0.00"},null,"prüfen",{"$f":"IFERROR(OFFSET(MD!$U$5,MATCH(Grundlagen_Abrechnung_KAE!$E1769,MD_GENDER,0),0),\"\")","v":""},{"v":0,"d":"0.00"},null,{"v":0,"d":"0.00"},{"$f":"IF(F1769=\"Arbeitgeberähnliche Stellung\",OFFSET(MD!$Q$5,MATCH(Grundlagen_Abrechnung_KAE!$AK$7,MD_JAHR,0),0)*$H1769,IF(J1769>0,AC1769,I1769))","v":{"v":0,"d":"0.00"}},null,{"$f":"OFFSET(MD!$P$5,MATCH($AK$7,MD_JAHR,0),0)*12","v":{"$error":"#VALUE!"}},{"v":0,"d":"0.00"}]
[{"$nulls":14},{"$f":"IF($B1770=\"\",\"\",IF(F1770=\"Arbeitgeberähnliche Stellung\",OFFSET(MD!$Q$5,MATCH(Grundlagen_Abrechnung_KAE!$AK$7,MD_JAHR,0),0)*$H1770,IF(((AD1770/12*M1770*12)+N1770)>AF1770,AF1770/12,((AD1770/12*M1770*12)+N1770)/12)))","v":""},null,null,{"v":0,"d":"0.00"},null,{"v":0,"d":"0.00%"},{"v":0,"d":"0.00"},{"v":0,"d":"0.00"},{"v":0,"d":"0.00"},null,"prüfen",{"$f":"IFERROR(OFFSET(MD!$U$5,MATCH(Grundlagen_Abrechnung_KAE!$E1770,MD_GENDER,0),0),\"\")","v":""},{"v":0,"d":"0.00"},null,{"v":0,"d":"0.00"},{"$f":"IF(F1770=\"Arbeitgeberähnliche Stellung\",OFFSET(MD!$Q$5,MATCH(Grundlagen_Abrechnung_KAE!$AK$7,MD_JAHR,0),0)*$H1770,IF(J1770>0,AC1770,I1770))","v":{"v":0,"d":"0.00"}},null,{"$f":"OFFSET(MD!$P$5,MATCH($AK$7,MD_JAHR,0),0)*12","v":{"$error":"#VALUE!"}},{"v":0,"d":"0.00"}]
[{"$nulls":14},{"$f":"IF($B1771=\"\",\"\",IF(F1771=\"Arbeitgeberähnliche Stellung\",OFFSET(MD!$Q$5,MATCH(Grundlagen_Abrechnung_KAE!$AK$7,MD_JAHR,0),0)*$H1771,IF(((AD1771/12*M1771*12)+N1771)>AF1771,AF1771/12,((AD1771/12*M1771*12)+N1771)/12)))","v":""},null,null,{"v":0,"d":"0.00"},null,{"v":0,"d":"0.00%"},{"v":0,"d":"0.00"},{"v":0,"d":"0.00"},{"v":0,"d":"0.00"},null,"prüfen",{"$f":"IFERROR(OFFSET(MD!$U$5,MATCH(Grundlagen_Abrechnung_KAE!$E1771,MD_GENDER,0),0),\"\")","v":""},{"v":0,"d":"0.00"},null,{"v":0,"d":"0.00"},{"$f":"IF(F1771=\"Arbeitgeberähnliche Stellung\",OFFSET(MD!$Q$5,MATCH(Grundlagen_Abrechnung_KAE!$AK$7,MD_JAHR,0),0)*$H1771,IF(J1771>0,AC1771,I1771))","v":{"v":0,"d":"0.00"}},null,{"$f":"OFFSET(MD!$P$5,MATCH($AK$7,MD_JAHR,0),0)*12","v":{"$error":"#VALUE!"}},{"v":0,"d":"0.00"}]
[{"$nulls":14},{"$f":"IF($B1772=\"\",\"\",IF(F1772=\"Arbeitgeberähnliche Stellung\",OFFSET(MD!$Q$5,MATCH(Grundlagen_Abrechnung_KAE!$AK$7,MD_JAHR,0),0)*$H1772,IF(((AD1772/12*M1772*12)+N1772)>AF1772,AF1772/12,((AD1772/12*M1772*12)+N1772)/12)))","v":""},null,null,{"v":0,"d":"0.00"},null,{"v":0,"d":"0.00%"},{"v":0,"d":"0.00"},{"v":0,"d":"0.00"},{"v":0,"d":"0.00"},null,"prüfen",{"$f":"IFERROR(OFFSET(MD!$U$5,MATCH(Grundlagen_Abrechnung_KAE!$E1772,MD_GENDER,0),0),\"\")","v":""},{"v":0,"d":"0.00"},null,{"v":0,"d":"0.00"},{"$f":"IF(F1772=\"Arbeitgeberähnliche Stellung\",OFFSET(MD!$Q$5,MATCH(Grundlagen_Abrechnung_KAE!$AK$7,MD_JAHR,0),0)*$H1772,IF(J1772>0,AC1772,I1772))","v":{"v":0,"d":"0.00"}},null,{"$f":"OFFSET(MD!$P$5,MATCH($AK$7,MD_JAHR,0),0)*12","v":{"$error":"#VALUE!"}},{"v":0,"d":"0.00"}]
[{"$nulls":14},{"$f":"IF($B1773=\"\",\"\",IF(F1773=\"Arbeitgeberähnliche Stellung\",OFFSET(MD!$Q$5,MATCH(Grundlagen_Abrechnung_KAE!$AK$7,MD_JAHR,0),0)*$H1773,IF(((AD1773/12*M1773*12)+N1773)>AF1773,AF1773/12,((AD1773/12*M1773*12)+N1773)/12)))","v":""},null,null,{"v":0,"d":"0.00"},null,{"v":0,"d":"0.00%"},{"v":0,"d":"0.00"},{"v":0,"d":"0.00"},{"v":0,"d":"0.00"},null,"prüfen",{"$f":"IFERROR(OFFSET(MD!$U$5,MATCH(Grundlagen_Abrechnung_KAE!$E1773,MD_GENDER,0),0),\"\")","v":""},{"v":0,"d":"0.00"},null,{"v":0,"d":"0.00"},{"$f":"IF(F1773=\"Arbeitgeberähnliche Stellung\",OFFSET(MD!$Q$5,MATCH(Grundlagen_Abrechnung_KAE!$AK$7,MD_JAHR,0),0)*$H1773,IF(J1773>0,AC1773,I1773))","v":{"v":0,"d":"0.00"}},null,{"$f":"OFFSET(MD!$P$5,MATCH($AK$7,MD_JAHR,0),0)*12","v":{"$error":"#VALUE!"}},{"v":0,"d":"0.00"}]
[{"$nulls":14},{"$f":"IF($B1774=\"\",\"\",IF(F1774=\"Arbeitgeberähnliche Stellung\",OFFSET(MD!$Q$5,MATCH(Grundlagen_Abrechnung_KAE!$AK$7,MD_JAHR,0),0)*$H1774,IF(((AD1774/12*M1774*12)+N1774)>AF1774,AF1774/12,((AD1774/12*M1774*12)+N1774)/12)))","v":""},null,null,{"v":0,"d":"0.00"},null,{"v":0,"d":"0.00%"},{"v":0,"d":"0.00"},{"v":0,"d":"0.00"},{"v":0,"d":"0.00"},null,"prüfen",{"$f":"IFERROR(OFFSET(MD!$U$5,MATCH(Grundlagen_Abrechnung_KAE!$E1774,MD_GENDER,0),0),\"\")","v":""},{"v":0,"d":"0.00"},null,{"v":0,"d":"0.00"},{"$f":"IF(F1774=\"Arbeitgeberähnliche Stellung\",OFFSET(MD!$Q$5,MATCH(Grundlagen_Abrechnung_KAE!$AK$7,MD_JAHR,0),0)*$H1774,IF(J1774>0,AC1774,I1774))","v":{"v":0,"d":"0.00"}},null,{"$f":"OFFSET(MD!$P$5,MATCH($AK$7,MD_JAHR,0),0)*12","v":{"$error":"#VALUE!"}},{"v":0,"d":"0.00"}]
[{"$nulls":14},{"$f":"IF($B1775=\"\",\"\",IF(F1775=\"Arbeitgeberähnliche Stellung\",OFFSET(MD!$Q$5,MATCH(Grundlagen_Abrechnung_KAE!$AK$7,MD_JAHR,0),0)*$H1775,IF(((AD1775/12*M1775*12)+N1775)>AF1775,AF1775/12,((AD1775/12*M1775*12)+N1775)/12)))","v":""},null,null,{"v":0,"d":"0.00"},null,{"v":0,"d":"0.00%"},{"v":0,"d":"0.00"},{"v":0,"d":"0.00"},{"v":0,"d":"0.00"},null,"prüfen",{"$f":"IFERROR(OFFSET(MD!$U$5,MATCH(Grundlagen_Abrechnung_KAE!$E1775,MD_GENDER,0),0),\"\")","v":""},{"v":0,"d":"0.00"},null,{"v":0,"d":"0.00"},{"$f":"IF(F1775=\"Arbeitgeberähnliche Stellung\",OFFSET(MD!$Q$5,MATCH(Grundlagen_Abrechnung_KAE!$AK$7,MD_JAHR,0),0)*$H1775,IF(J1775>0,AC1775,I1775))","v":{"v":0,"d":"0.00"}},null,{"$f":"OFFSET(MD!$P$5,MATCH($AK$7,MD_JAHR,0),0)*12","v":{"$error":"#VALUE!"}},{"v":0,"d":"0.00"}]
[{"$nulls":14},{"$f":"IF($B1776=\"\",\"\",IF(F1776=\"Arbeitgeberähnliche Stellung\",OFFSET(MD!$Q$5,MATCH(Grundlagen_Abrechnung_KAE!$AK$7,MD_JAHR,0),0)*$H1776,IF(((AD1776/12*M1776*12)+N1776)>AF1776,AF1776/12,((AD1776/12*M1776*12)+N1776)/12)))","v":""},null,null,{"v":0,"d":"0.00"},null,{"v":0,"d":"0.00%"},{"v":0,"d":"0.00"},{"v":0,"d":"0.00"},{"v":0,"d":"0.00"},null,"prüfen",{"$f":"IFERROR(OFFSET(MD!$U$5,MATCH(Grundlagen_Abrechnung_KAE!$E1776,MD_GENDER,0),0),\"\")","v":""},{"v":0,"d":"0.00"},null,{"v":0,"d":"0.00"},{"$f":"IF(F1776=\"Arbeitgeberähnliche Stellung\",OFFSET(MD!$Q$5,MATCH(Grundlagen_Abrechnung_KAE!$AK$7,MD_JAHR,0),0)*$H1776,IF(J1776>0,AC1776,I1776))","v":{"v":0,"d":"0.00"}},null,{"$f":"OFFSET(MD!$P$5,MATCH($AK$7,MD_JAHR,0),0)*12","v":{"$error":"#VALUE!"}},{"v":0,"d":"0.00"}]
[{"$nulls":14},{"$f":"IF($B1777=\"\",\"\",IF(F1777=\"Arbeitgeberähnliche Stellung\",OFFSET(MD!$Q$5,MATCH(Grundlagen_Abrechnung_KAE!$AK$7,MD_JAHR,0),0)*$H1777,IF(((AD1777/12*M1777*12)+N1777)>AF1777,AF1777/12,((AD1777/12*M1777*12)+N1777)/12)))","v":""},null,null,{"v":0,"d":"0.00"},null,{"v":0,"d":"0.00%"},{"v":0,"d":"0.00"},{"v":0,"d":"0.00"},{"v":0,"d":"0.00"},null,"prüfen",{"$f":"IFERROR(OFFSET(MD!$U$5,MATCH(Grundlagen_Abrechnung_KAE!$E1777,MD_GENDER,0),0),\"\")","v":""},{"v":0,"d":"0.00"},null,{"v":0,"d":"0.00"},{"$f":"IF(F1777=\"Arbeitgeberähnliche Stellung\",OFFSET(MD!$Q$5,MATCH(Grundlagen_Abrechnung_KAE!$AK$7,MD_JAHR,0),0)*$H1777,IF(J1777>0,AC1777,I1777))","v":{"v":0,"d":"0.00"}},null,{"$f":"OFFSET(MD!$P$5,MATCH($AK$7,MD_JAHR,0),0)*12","v":{"$error":"#VALUE!"}},{"v":0,"d":"0.00"}]
[{"$nulls":14},{"$f":"IF($B1778=\"\",\"\",IF(F1778=\"Arbeitgeberähnliche Stellung\",OFFSET(MD!$Q$5,MATCH(Grundlagen_Abrechnung_KAE!$AK$7,MD_JAHR,0),0)*$H1778,IF(((AD1778/12*M1778*12)+N1778)>AF1778,AF1778/12,((AD1778/12*M1778*12)+N1778)/12)))","v":""},null,null,{"v":0,"d":"0.00"},null,{"v":0,"d":"0.00%"},{"v":0,"d":"0.00"},{"v":0,"d":"0.00"},{"v":0,"d":"0.00"},null,"prüfen",{"$f":"IFERROR(OFFSET(MD!$U$5,MATCH(Grundlagen_Abrechnung_KAE!$E1778,MD_GENDER,0),0),\"\")","v":""},{"v":0,"d":"0.00"},null,{"v":0,"d":"0.00"},{"$f":"IF(F1778=\"Arbeitgeberähnliche Stellung\",OFFSET(MD!$Q$5,MATCH(Grundlagen_Abrechnung_KAE!$AK$7,MD_JAHR,0),0)*$H1778,IF(J1778>0,AC1778,I1778))","v":{"v":0,"d":"0.00"}},null,{"$f":"OFFSET(MD!$P$5,MATCH($AK$7,MD_JAHR,0),0)*12","v":{"$error":"#VALUE!"}},{"v":0,"d":"0.00"}]
[{"$nulls":14},{"$f":"IF($B1779=\"\",\"\",IF(F1779=\"Arbeitgeberähnliche Stellung\",OFFSET(MD!$Q$5,MATCH(Grundlagen_Abrechnung_KAE!$AK$7,MD_JAHR,0),0)*$H1779,IF(((AD1779/12*M1779*12)+N1779)>AF1779,AF1779/12,((AD1779/12*M1779*12)+N1779)/12)))","v":""},null,null,{"v":0,"d":"0.00"},null,{"v":0,"d":"0.00%"},{"v":0,"d":"0.00"},{"v":0,"d":"0.00"},{"v":0,"d":"0.00"},null,"prüfen",{"$f":"IFERROR(OFFSET(MD!$U$5,MATCH(Grundlagen_Abrechnung_KAE!$E1779,MD_GENDER,0),0),\"\")","v":""},{"v":0,"d":"0.00"},null,{"v":0,"d":"0.00"},{"$f":"IF(F1779=\"Arbeitgeberähnliche Stellung\",OFFSET(MD!$Q$5,MATCH(Grundlagen_Abrechnung_KAE!$AK$7,MD_JAHR,0),0)*$H1779,IF(J1779>0,AC1779,I1779))","v":{"v":0,"d":"0.00"}},null,{"$f":"OFFSET(MD!$P$5,MATCH($AK$7,MD_JAHR,0),0)*12","v":{"$error":"#VALUE!"}},{"v":0,"d":"0.00"}]
[{"$nulls":14},{"$f":"IF($B1780=\"\",\"\",IF(F1780=\"Arbeitgeberähnliche Stellung\",OFFSET(MD!$Q$5,MATCH(Grundlagen_Abrechnung_KAE!$AK$7,MD_JAHR,0),0)*$H1780,IF(((AD1780/12*M1780*12)+N1780)>AF1780,AF1780/12,((AD1780/12*M1780*12)+N1780)/12)))","v":""},null,null,{"v":0,"d":"0.00"},null,{"v":0,"d":"0.00%"},{"v":0,"d":"0.00"},{"v":0,"d":"0.00"},{"v":0,"d":"0.00"},null,"prüfen",{"$f":"IFERROR(OFFSET(MD!$U$5,MATCH(Grundlagen_Abrechnung_KAE!$E1780,MD_GENDER,0),0),\"\")","v":""},{"v":0,"d":"0.00"},null,{"v":0,"d":"0.00"},{"$f":"IF(F1780=\"Arbeitgeberähnliche Stellung\",OFFSET(MD!$Q$5,MATCH(Grundlagen_Abrechnung_KAE!$AK$7,MD_JAHR,0),0)*$H1780,IF(J1780>0,AC1780,I1780))","v":{"v":0,"d":"0.00"}},null,{"$f":"OFFSET(MD!$P$5,MATCH($AK$7,MD_JAHR,0),0)*12","v":{"$error":"#VALUE!"}},{"v":0,"d":"0.00"}]
[{"$nulls":14},{"$f":"IF($B1781=\"\",\"\",IF(F1781=\"Arbeitgeberähnliche Stellung\",OFFSET(MD!$Q$5,MATCH(Grundlagen_Abrechnung_KAE!$AK$7,MD_JAHR,0),0)*$H1781,IF(((AD1781/12*M1781*12)+N1781)>AF1781,AF1781/12,((AD1781/12*M1781*12)+N1781)/12)))","v":""},null,null,{"v":0,"d":"0.00"},null,{"v":0,"d":"0.00%"},{"v":0,"d":"0.00"},{"v":0,"d":"0.00"},{"v":0,"d":"0.00"},null,"prüfen",{"$f":"IFERROR(OFFSET(MD!$U$5,MATCH(Grundlagen_Abrechnung_KAE!$E1781,MD_GENDER,0),0),\"\")","v":""},{"v":0,"d":"0.00"},null,{"v":0,"d":"0.00"},{"$f":"IF(F1781=\"Arbeitgeberähnliche Stellung\",OFFSET(MD!$Q$5,MATCH(Grundlagen_Abrechnung_KAE!$AK$7,MD_JAHR,0),0)*$H1781,IF(J1781>0,AC1781,I1781))","v":{"v":0,"d":"0.00"}},null,{"$f":"OFFSET(MD!$P$5,MATCH($AK$7,MD_JAHR,0),0)*12","v":{"$error":"#VALUE!"}},{"v":0,"d":"0.00"}]
[{"$nulls":14},{"$f":"IF($B1782=\"\",\"\",IF(F1782=\"Arbeitgeberähnliche Stellung\",OFFSET(MD!$Q$5,MATCH(Grundlagen_Abrechnung_KAE!$AK$7,MD_JAHR,0),0)*$H1782,IF(((AD1782/12*M1782*12)+N1782)>AF1782,AF1782/12,((AD1782/12*M1782*12)+N1782)/12)))","v":""},null,null,{"v":0,"d":"0.00"},null,{"v":0,"d":"0.00%"},{"v":0,"d":"0.00"},{"v":0,"d":"0.00"},{"v":0,"d":"0.00"},null,"prüfen",{"$f":"IFERROR(OFFSET(MD!$U$5,MATCH(Grundlagen_Abrechnung_KAE!$E1782,MD_GENDER,0),0),\"\")","v":""},{"v":0,"d":"0.00"},null,{"v":0,"d":"0.00"},{"$f":"IF(F1782=\"Arbeitgeberähnliche Stellung\",OFFSET(MD!$Q$5,MATCH(Grundlagen_Abrechnung_KAE!$AK$7,MD_JAHR,0),0)*$H1782,IF(J1782>0,AC1782,I1782))","v":{"v":0,"d":"0.00"}},null,{"$f":"OFFSET(MD!$P$5,MATCH($AK$7,MD_JAHR,0),0)*12","v":{"$error":"#VALUE!"}},{"v":0,"d":"0.00"}]
[{"$nulls":14},{"$f":"IF($B1783=\"\",\"\",IF(F1783=\"Arbeitgeberähnliche Stellung\",OFFSET(MD!$Q$5,MATCH(Grundlagen_Abrechnung_KAE!$AK$7,MD_JAHR,0),0)*$H1783,IF(((AD1783/12*M1783*12)+N1783)>AF1783,AF1783/12,((AD1783/12*M1783*12)+N1783)/12)))","v":""},null,null,{"v":0,"d":"0.00"},null,{"v":0,"d":"0.00%"},{"v":0,"d":"0.00"},{"v":0,"d":"0.00"},{"v":0,"d":"0.00"},null,"prüfen",{"$f":"IFERROR(OFFSET(MD!$U$5,MATCH(Grundlagen_Abrechnung_KAE!$E1783,MD_GENDER,0),0),\"\")","v":""},{"v":0,"d":"0.00"},null,{"v":0,"d":"0.00"},{"$f":"IF(F1783=\"Arbeitgeberähnliche Stellung\",OFFSET(MD!$Q$5,MATCH(Grundlagen_Abrechnung_KAE!$AK$7,MD_JAHR,0),0)*$H1783,IF(J1783>0,AC1783,I1783))","v":{"v":0,"d":"0.00"}},null,{"$f":"OFFSET(MD!$P$5,MATCH($AK$7,MD_JAHR,0),0)*12","v":{"$error":"#VALUE!"}},{"v":0,"d":"0.00"}]
[{"$nulls":14},{"$f":"IF($B1784=\"\",\"\",IF(F1784=\"Arbeitgeberähnliche Stellung\",OFFSET(MD!$Q$5,MATCH(Grundlagen_Abrechnung_KAE!$AK$7,MD_JAHR,0),0)*$H1784,IF(((AD1784/12*M1784*12)+N1784)>AF1784,AF1784/12,((AD1784/12*M1784*12)+N1784)/12)))","v":""},null,null,{"v":0,"d":"0.00"},null,{"v":0,"d":"0.00%"},{"v":0,"d":"0.00"},{"v":0,"d":"0.00"},{"v":0,"d":"0.00"},null,"prüfen",{"$f":"IFERROR(OFFSET(MD!$U$5,MATCH(Grundlagen_Abrechnung_KAE!$E1784,MD_GENDER,0),0),\"\")","v":""},{"v":0,"d":"0.00"},null,{"v":0,"d":"0.00"},{"$f":"IF(F1784=\"Arbeitgeberähnliche Stellung\",OFFSET(MD!$Q$5,MATCH(Grundlagen_Abrechnung_KAE!$AK$7,MD_JAHR,0),0)*$H1784,IF(J1784>0,AC1784,I1784))","v":{"v":0,"d":"0.00"}},null,{"$f":"OFFSET(MD!$P$5,MATCH($AK$7,MD_JAHR,0),0)*12","v":{"$error":"#VALUE!"}},{"v":0,"d":"0.00"}]
[{"$nulls":14},{"$f":"IF($B1785=\"\",\"\",IF(F1785=\"Arbeitgeberähnliche Stellung\",OFFSET(MD!$Q$5,MATCH(Grundlagen_Abrechnung_KAE!$AK$7,MD_JAHR,0),0)*$H1785,IF(((AD1785/12*M1785*12)+N1785)>AF1785,AF1785/12,((AD1785/12*M1785*12)+N1785)/12)))","v":""},null,null,{"v":0,"d":"0.00"},null,{"v":0,"d":"0.00%"},{"v":0,"d":"0.00"},{"v":0,"d":"0.00"},{"v":0,"d":"0.00"},null,"prüfen",{"$f":"IFERROR(OFFSET(MD!$U$5,MATCH(Grundlagen_Abrechnung_KAE!$E1785,MD_GENDER,0),0),\"\")","v":""},{"v":0,"d":"0.00"},null,{"v":0,"d":"0.00"},{"$f":"IF(F1785=\"Arbeitgeberähnliche Stellung\",OFFSET(MD!$Q$5,MATCH(Grundlagen_Abrechnung_KAE!$AK$7,MD_JAHR,0),0)*$H1785,IF(J1785>0,AC1785,I1785))","v":{"v":0,"d":"0.00"}},null,{"$f":"OFFSET(MD!$P$5,MATCH($AK$7,MD_JAHR,0),0)*12","v":{"$error":"#VALUE!"}},{"v":0,"d":"0.00"}]
[{"$nulls":14},{"$f":"IF($B1786=\"\",\"\",IF(F1786=\"Arbeitgeberähnliche Stellung\",OFFSET(MD!$Q$5,MATCH(Grundlagen_Abrechnung_KAE!$AK$7,MD_JAHR,0),0)*$H1786,IF(((AD1786/12*M1786*12)+N1786)>AF1786,AF1786/12,((AD1786/12*M1786*12)+N1786)/12)))","v":""},null,null,{"v":0,"d":"0.00"},null,{"v":0,"d":"0.00%"},{"v":0,"d":"0.00"},{"v":0,"d":"0.00"},{"v":0,"d":"0.00"},null,"prüfen",{"$f":"IFERROR(OFFSET(MD!$U$5,MATCH(Grundlagen_Abrechnung_KAE!$E1786,MD_GENDER,0),0),\"\")","v":""},{"v":0,"d":"0.00"},null,{"v":0,"d":"0.00"},{"$f":"IF(F1786=\"Arbeitgeberähnliche Stellung\",OFFSET(MD!$Q$5,MATCH(Grundlagen_Abrechnung_KAE!$AK$7,MD_JAHR,0),0)*$H1786,IF(J1786>0,AC1786,I1786))","v":{"v":0,"d":"0.00"}},null,{"$f":"OFFSET(MD!$P$5,MATCH($AK$7,MD_JAHR,0),0)*12","v":{"$error":"#VALUE!"}},{"v":0,"d":"0.00"}]
[{"$nulls":14},{"$f":"IF($B1787=\"\",\"\",IF(F1787=\"Arbeitgeberähnliche Stellung\",OFFSET(MD!$Q$5,MATCH(Grundlagen_Abrechnung_KAE!$AK$7,MD_JAHR,0),0)*$H1787,IF(((AD1787/12*M1787*12)+N1787)>AF1787,AF1787/12,((AD1787/12*M1787*12)+N1787)/12)))","v":""},null,null,{"v":0,"d":"0.00"},null,{"v":0,"d":"0.00%"},{"v":0,"d":"0.00"},{"v":0,"d":"0.00"},{"v":0,"d":"0.00"},null,"prüfen",{"$f":"IFERROR(OFFSET(MD!$U$5,MATCH(Grundlagen_Abrechnung_KAE!$E1787,MD_GENDER,0),0),\"\")","v":""},{"v":0,"d":"0.00"},null,{"v":0,"d":"0.00"},{"$f":"IF(F1787=\"Arbeitgeberähnliche Stellung\",OFFSET(MD!$Q$5,MATCH(Grundlagen_Abrechnung_KAE!$AK$7,MD_JAHR,0),0)*$H1787,IF(J1787>0,AC1787,I1787))","v":{"v":0,"d":"0.00"}},null,{"$f":"OFFSET(MD!$P$5,MATCH($AK$7,MD_JAHR,0),0)*12","v":{"$error":"#VALUE!"}},{"v":0,"d":"0.00"}]
[{"$nulls":14},{"$f":"IF($B1788=\"\",\"\",IF(F1788=\"Arbeitgeberähnliche Stellung\",OFFSET(MD!$Q$5,MATCH(Grundlagen_Abrechnung_KAE!$AK$7,MD_JAHR,0),0)*$H1788,IF(((AD1788/12*M1788*12)+N1788)>AF1788,AF1788/12,((AD1788/12*M1788*12)+N1788)/12)))","v":""},null,null,{"v":0,"d":"0.00"},null,{"v":0,"d":"0.00%"},{"v":0,"d":"0.00"},{"v":0,"d":"0.00"},{"v":0,"d":"0.00"},null,"prüfen",{"$f":"IFERROR(OFFSET(MD!$U$5,MATCH(Grundlagen_Abrechnung_KAE!$E1788,MD_GENDER,0),0),\"\")","v":""},{"v":0,"d":"0.00"},null,{"v":0,"d":"0.00"},{"$f":"IF(F1788=\"Arbeitgeberähnliche Stellung\",OFFSET(MD!$Q$5,MATCH(Grundlagen_Abrechnung_KAE!$AK$7,MD_JAHR,0),0)*$H1788,IF(J1788>0,AC1788,I1788))","v":{"v":0,"d":"0.00"}},null,{"$f":"OFFSET(MD!$P$5,MATCH($AK$7,MD_JAHR,0),0)*12","v":{"$error":"#VALUE!"}},{"v":0,"d":"0.00"}]
[{"$nulls":14},{"$f":"IF($B1789=\"\",\"\",IF(F1789=\"Arbeitgeberähnliche Stellung\",OFFSET(MD!$Q$5,MATCH(Grundlagen_Abrechnung_KAE!$AK$7,MD_JAHR,0),0)*$H1789,IF(((AD1789/12*M1789*12)+N1789)>AF1789,AF1789/12,((AD1789/12*M1789*12)+N1789)/12)))","v":""},null,null,{"v":0,"d":"0.00"},null,{"v":0,"d":"0.00%"},{"v":0,"d":"0.00"},{"v":0,"d":"0.00"},{"v":0,"d":"0.00"},null,"prüfen",{"$f":"IFERROR(OFFSET(MD!$U$5,MATCH(Grundlagen_Abrechnung_KAE!$E1789,MD_GENDER,0),0),\"\")","v":""},{"v":0,"d":"0.00"},null,{"v":0,"d":"0.00"},{"$f":"IF(F1789=\"Arbeitgeberähnliche Stellung\",OFFSET(MD!$Q$5,MATCH(Grundlagen_Abrechnung_KAE!$AK$7,MD_JAHR,0),0)*$H1789,IF(J1789>0,AC1789,I1789))","v":{"v":0,"d":"0.00"}},null,{"$f":"OFFSET(MD!$P$5,MATCH($AK$7,MD_JAHR,0),0)*12","v":{"$error":"#VALUE!"}},{"v":0,"d":"0.00"}]
[{"$nulls":14},{"$f":"IF($B1790=\"\",\"\",IF(F1790=\"Arbeitgeberähnliche Stellung\",OFFSET(MD!$Q$5,MATCH(Grundlagen_Abrechnung_KAE!$AK$7,MD_JAHR,0),0)*$H1790,IF(((AD1790/12*M1790*12)+N1790)>AF1790,AF1790/12,((AD1790/12*M1790*12)+N1790)/12)))","v":""},null,null,{"v":0,"d":"0.00"},null,{"v":0,"d":"0.00%"},{"v":0,"d":"0.00"},{"v":0,"d":"0.00"},{"v":0,"d":"0.00"},null,"prüfen",{"$f":"IFERROR(OFFSET(MD!$U$5,MATCH(Grundlagen_Abrechnung_KAE!$E1790,MD_GENDER,0),0),\"\")","v":""},{"v":0,"d":"0.00"},null,{"v":0,"d":"0.00"},{"$f":"IF(F1790=\"Arbeitgeberähnliche Stellung\",OFFSET(MD!$Q$5,MATCH(Grundlagen_Abrechnung_KAE!$AK$7,MD_JAHR,0),0)*$H1790,IF(J1790>0,AC1790,I1790))","v":{"v":0,"d":"0.00"}},null,{"$f":"OFFSET(MD!$P$5,MATCH($AK$7,MD_JAHR,0),0)*12","v":{"$error":"#VALUE!"}},{"v":0,"d":"0.00"}]
[{"$nulls":14},{"$f":"IF($B1791=\"\",\"\",IF(F1791=\"Arbeitgeberähnliche Stellung\",OFFSET(MD!$Q$5,MATCH(Grundlagen_Abrechnung_KAE!$AK$7,MD_JAHR,0),0)*$H1791,IF(((AD1791/12*M1791*12)+N1791)>AF1791,AF1791/12,((AD1791/12*M1791*12)+N1791)/12)))","v":""},null,null,{"v":0,"d":"0.00"},null,{"v":0,"d":"0.00%"},{"v":0,"d":"0.00"},{"v":0,"d":"0.00"},{"v":0,"d":"0.00"},null,"prüfen",{"$f":"IFERROR(OFFSET(MD!$U$5,MATCH(Grundlagen_Abrechnung_KAE!$E1791,MD_GENDER,0),0),\"\")","v":""},{"v":0,"d":"0.00"},null,{"v":0,"d":"0.00"},{"$f":"IF(F1791=\"Arbeitgeberähnliche Stellung\",OFFSET(MD!$Q$5,MATCH(Grundlagen_Abrechnung_KAE!$AK$7,MD_JAHR,0),0)*$H1791,IF(J1791>0,AC1791,I1791))","v":{"v":0,"d":"0.00"}},null,{"$f":"OFFSET(MD!$P$5,MATCH($AK$7,MD_JAHR,0),0)*12","v":{"$error":"#VALUE!"}},{"v":0,"d":"0.00"}]
[{"$nulls":14},{"$f":"IF($B1792=\"\",\"\",IF(F1792=\"Arbeitgeberähnliche Stellung\",OFFSET(MD!$Q$5,MATCH(Grundlagen_Abrechnung_KAE!$AK$7,MD_JAHR,0),0)*$H1792,IF(((AD1792/12*M1792*12)+N1792)>AF1792,AF1792/12,((AD1792/12*M1792*12)+N1792)/12)))","v":""},null,null,{"v":0,"d":"0.00"},null,{"v":0,"d":"0.00%"},{"v":0,"d":"0.00"},{"v":0,"d":"0.00"},{"v":0,"d":"0.00"},null,"prüfen",{"$f":"IFERROR(OFFSET(MD!$U$5,MATCH(Grundlagen_Abrechnung_KAE!$E1792,MD_GENDER,0),0),\"\")","v":""},{"v":0,"d":"0.00"},null,{"v":0,"d":"0.00"},{"$f":"IF(F1792=\"Arbeitgeberähnliche Stellung\",OFFSET(MD!$Q$5,MATCH(Grundlagen_Abrechnung_KAE!$AK$7,MD_JAHR,0),0)*$H1792,IF(J1792>0,AC1792,I1792))","v":{"v":0,"d":"0.00"}},null,{"$f":"OFFSET(MD!$P$5,MATCH($AK$7,MD_JAHR,0),0)*12","v":{"$error":"#VALUE!"}},{"v":0,"d":"0.00"}]
[{"$nulls":14},{"$f":"IF($B1793=\"\",\"\",IF(F1793=\"Arbeitgeberähnliche Stellung\",OFFSET(MD!$Q$5,MATCH(Grundlagen_Abrechnung_KAE!$AK$7,MD_JAHR,0),0)*$H1793,IF(((AD1793/12*M1793*12)+N1793)>AF1793,AF1793/12,((AD1793/12*M1793*12)+N1793)/12)))","v":""},null,null,{"v":0,"d":"0.00"},null,{"v":0,"d":"0.00%"},{"v":0,"d":"0.00"},{"v":0,"d":"0.00"},{"v":0,"d":"0.00"},null,"prüfen",{"$f":"IFERROR(OFFSET(MD!$U$5,MATCH(Grundlagen_Abrechnung_KAE!$E1793,MD_GENDER,0),0),\"\")","v":""},{"v":0,"d":"0.00"},null,{"v":0,"d":"0.00"},{"$f":"IF(F1793=\"Arbeitgeberähnliche Stellung\",OFFSET(MD!$Q$5,MATCH(Grundlagen_Abrechnung_KAE!$AK$7,MD_JAHR,0),0)*$H1793,IF(J1793>0,AC1793,I1793))","v":{"v":0,"d":"0.00"}},null,{"$f":"OFFSET(MD!$P$5,MATCH($AK$7,MD_JAHR,0),0)*12","v":{"$error":"#VALUE!"}},{"v":0,"d":"0.00"}]
[{"$nulls":14},{"$f":"IF($B1794=\"\",\"\",IF(F1794=\"Arbeitgeberähnliche Stellung\",OFFSET(MD!$Q$5,MATCH(Grundlagen_Abrechnung_KAE!$AK$7,MD_JAHR,0),0)*$H1794,IF(((AD1794/12*M1794*12)+N1794)>AF1794,AF1794/12,((AD1794/12*M1794*12)+N1794)/12)))","v":""},null,null,{"v":0,"d":"0.00"},null,{"v":0,"d":"0.00%"},{"v":0,"d":"0.00"},{"v":0,"d":"0.00"},{"v":0,"d":"0.00"},null,"prüfen",{"$f":"IFERROR(OFFSET(MD!$U$5,MATCH(Grundlagen_Abrechnung_KAE!$E1794,MD_GENDER,0),0),\"\")","v":""},{"v":0,"d":"0.00"},null,{"v":0,"d":"0.00"},{"$f":"IF(F1794=\"Arbeitgeberähnliche Stellung\",OFFSET(MD!$Q$5,MATCH(Grundlagen_Abrechnung_KAE!$AK$7,MD_JAHR,0),0)*$H1794,IF(J1794>0,AC1794,I1794))","v":{"v":0,"d":"0.00"}},null,{"$f":"OFFSET(MD!$P$5,MATCH($AK$7,MD_JAHR,0),0)*12","v":{"$error":"#VALUE!"}},{"v":0,"d":"0.00"}]
[{"$nulls":14},{"$f":"IF($B1795=\"\",\"\",IF(F1795=\"Arbeitgeberähnliche Stellung\",OFFSET(MD!$Q$5,MATCH(Grundlagen_Abrechnung_KAE!$AK$7,MD_JAHR,0),0)*$H1795,IF(((AD1795/12*M1795*12)+N1795)>AF1795,AF1795/12,((AD1795/12*M1795*12)+N1795)/12)))","v":""},null,null,{"v":0,"d":"0.00"},null,{"v":0,"d":"0.00%"},{"v":0,"d":"0.00"},{"v":0,"d":"0.00"},{"v":0,"d":"0.00"},null,"prüfen",{"$f":"IFERROR(OFFSET(MD!$U$5,MATCH(Grundlagen_Abrechnung_KAE!$E1795,MD_GENDER,0),0),\"\")","v":""},{"v":0,"d":"0.00"},null,{"v":0,"d":"0.00"},{"$f":"IF(F1795=\"Arbeitgeberähnliche Stellung\",OFFSET(MD!$Q$5,MATCH(Grundlagen_Abrechnung_KAE!$AK$7,MD_JAHR,0),0)*$H1795,IF(J1795>0,AC1795,I1795))","v":{"v":0,"d":"0.00"}},null,{"$f":"OFFSET(MD!$P$5,MATCH($AK$7,MD_JAHR,0),0)*12","v":{"$error":"#VALUE!"}},{"v":0,"d":"0.00"}]
[{"$nulls":14},{"$f":"IF($B1796=\"\",\"\",IF(F1796=\"Arbeitgeberähnliche Stellung\",OFFSET(MD!$Q$5,MATCH(Grundlagen_Abrechnung_KAE!$AK$7,MD_JAHR,0),0)*$H1796,IF(((AD1796/12*M1796*12)+N1796)>AF1796,AF1796/12,((AD1796/12*M1796*12)+N1796)/12)))","v":""},null,null,{"v":0,"d":"0.00"},null,{"v":0,"d":"0.00%"},{"v":0,"d":"0.00"},{"v":0,"d":"0.00"},{"v":0,"d":"0.00"},null,"prüfen",{"$f":"IFERROR(OFFSET(MD!$U$5,MATCH(Grundlagen_Abrechnung_KAE!$E1796,MD_GENDER,0),0),\"\")","v":""},{"v":0,"d":"0.00"},null,{"v":0,"d":"0.00"},{"$f":"IF(F1796=\"Arbeitgeberähnliche Stellung\",OFFSET(MD!$Q$5,MATCH(Grundlagen_Abrechnung_KAE!$AK$7,MD_JAHR,0),0)*$H1796,IF(J1796>0,AC1796,I1796))","v":{"v":0,"d":"0.00"}},null,{"$f":"OFFSET(MD!$P$5,MATCH($AK$7,MD_JAHR,0),0)*12","v":{"$error":"#VALUE!"}},{"v":0,"d":"0.00"}]
[{"$nulls":14},{"$f":"IF($B1797=\"\",\"\",IF(F1797=\"Arbeitgeberähnliche Stellung\",OFFSET(MD!$Q$5,MATCH(Grundlagen_Abrechnung_KAE!$AK$7,MD_JAHR,0),0)*$H1797,IF(((AD1797/12*M1797*12)+N1797)>AF1797,AF1797/12,((AD1797/12*M1797*12)+N1797)/12)))","v":""},null,null,{"v":0,"d":"0.00"},null,{"v":0,"d":"0.00%"},{"v":0,"d":"0.00"},{"v":0,"d":"0.00"},{"v":0,"d":"0.00"},null,"prüfen",{"$f":"IFERROR(OFFSET(MD!$U$5,MATCH(Grundlagen_Abrechnung_KAE!$E1797,MD_GENDER,0),0),\"\")","v":""},{"v":0,"d":"0.00"},null,{"v":0,"d":"0.00"},{"$f":"IF(F1797=\"Arbeitgeberähnliche Stellung\",OFFSET(MD!$Q$5,MATCH(Grundlagen_Abrechnung_KAE!$AK$7,MD_JAHR,0),0)*$H1797,IF(J1797>0,AC1797,I1797))","v":{"v":0,"d":"0.00"}},null,{"$f":"OFFSET(MD!$P$5,MATCH($AK$7,MD_JAHR,0),0)*12","v":{"$error":"#VALUE!"}},{"v":0,"d":"0.00"}]
[{"$nulls":14},{"$f":"IF($B1798=\"\",\"\",IF(F1798=\"Arbeitgeberähnliche Stellung\",OFFSET(MD!$Q$5,MATCH(Grundlagen_Abrechnung_KAE!$AK$7,MD_JAHR,0),0)*$H1798,IF(((AD1798/12*M1798*12)+N1798)>AF1798,AF1798/12,((AD1798/12*M1798*12)+N1798)/12)))","v":""},null,null,{"v":0,"d":"0.00"},null,{"v":0,"d":"0.00%"},{"v":0,"d":"0.00"},{"v":0,"d":"0.00"},{"v":0,"d":"0.00"},null,"prüfen",{"$f":"IFERROR(OFFSET(MD!$U$5,MATCH(Grundlagen_Abrechnung_KAE!$E1798,MD_GENDER,0),0),\"\")","v":""},{"v":0,"d":"0.00"},null,{"v":0,"d":"0.00"},{"$f":"IF(F1798=\"Arbeitgeberähnliche Stellung\",OFFSET(MD!$Q$5,MATCH(Grundlagen_Abrechnung_KAE!$AK$7,MD_JAHR,0),0)*$H1798,IF(J1798>0,AC1798,I1798))","v":{"v":0,"d":"0.00"}},null,{"$f":"OFFSET(MD!$P$5,MATCH($AK$7,MD_JAHR,0),0)*12","v":{"$error":"#VALUE!"}},{"v":0,"d":"0.00"}]
[{"$nulls":14},{"$f":"IF($B1799=\"\",\"\",IF(F1799=\"Arbeitgeberähnliche Stellung\",OFFSET(MD!$Q$5,MATCH(Grundlagen_Abrechnung_KAE!$AK$7,MD_JAHR,0),0)*$H1799,IF(((AD1799/12*M1799*12)+N1799)>AF1799,AF1799/12,((AD1799/12*M1799*12)+N1799)/12)))","v":""},null,null,{"v":0,"d":"0.00"},null,{"v":0,"d":"0.00%"},{"v":0,"d":"0.00"},{"v":0,"d":"0.00"},{"v":0,"d":"0.00"},null,"prüfen",{"$f":"IFERROR(OFFSET(MD!$U$5,MATCH(Grundlagen_Abrechnung_KAE!$E1799,MD_GENDER,0),0),\"\")","v":""},{"v":0,"d":"0.00"},null,{"v":0,"d":"0.00"},{"$f":"IF(F1799=\"Arbeitgeberähnliche Stellung\",OFFSET(MD!$Q$5,MATCH(Grundlagen_Abrechnung_KAE!$AK$7,MD_JAHR,0),0)*$H1799,IF(J1799>0,AC1799,I1799))","v":{"v":0,"d":"0.00"}},null,{"$f":"OFFSET(MD!$P$5,MATCH($AK$7,MD_JAHR,0),0)*12","v":{"$error":"#VALUE!"}},{"v":0,"d":"0.00"}]
[{"$nulls":14},{"$f":"IF($B1800=\"\",\"\",IF(F1800=\"Arbeitgeberähnliche Stellung\",OFFSET(MD!$Q$5,MATCH(Grundlagen_Abrechnung_KAE!$AK$7,MD_JAHR,0),0)*$H1800,IF(((AD1800/12*M1800*12)+N1800)>AF1800,AF1800/12,((AD1800/12*M1800*12)+N1800)/12)))","v":""},null,null,{"v":0,"d":"0.00"},null,{"v":0,"d":"0.00%"},{"v":0,"d":"0.00"},{"v":0,"d":"0.00"},{"v":0,"d":"0.00"},null,"prüfen",{"$f":"IFERROR(OFFSET(MD!$U$5,MATCH(Grundlagen_Abrechnung_KAE!$E1800,MD_GENDER,0),0),\"\")","v":""},{"v":0,"d":"0.00"},null,{"v":0,"d":"0.00"},{"$f":"IF(F1800=\"Arbeitgeberähnliche Stellung\",OFFSET(MD!$Q$5,MATCH(Grundlagen_Abrechnung_KAE!$AK$7,MD_JAHR,0),0)*$H1800,IF(J1800>0,AC1800,I1800))","v":{"v":0,"d":"0.00"}},null,{"$f":"OFFSET(MD!$P$5,MATCH($AK$7,MD_JAHR,0),0)*12","v":{"$error":"#VALUE!"}},{"v":0,"d":"0.00"}]
[{"$nulls":14},{"$f":"IF($B1801=\"\",\"\",IF(F1801=\"Arbeitgeberähnliche Stellung\",OFFSET(MD!$Q$5,MATCH(Grundlagen_Abrechnung_KAE!$AK$7,MD_JAHR,0),0)*$H1801,IF(((AD1801/12*M1801*12)+N1801)>AF1801,AF1801/12,((AD1801/12*M1801*12)+N1801)/12)))","v":""},null,null,{"v":0,"d":"0.00"},null,{"v":0,"d":"0.00%"},{"v":0,"d":"0.00"},{"v":0,"d":"0.00"},{"v":0,"d":"0.00"},null,"prüfen",{"$f":"IFERROR(OFFSET(MD!$U$5,MATCH(Grundlagen_Abrechnung_KAE!$E1801,MD_GENDER,0),0),\"\")","v":""},{"v":0,"d":"0.00"},null,{"v":0,"d":"0.00"},{"$f":"IF(F1801=\"Arbeitgeberähnliche Stellung\",OFFSET(MD!$Q$5,MATCH(Grundlagen_Abrechnung_KAE!$AK$7,MD_JAHR,0),0)*$H1801,IF(J1801>0,AC1801,I1801))","v":{"v":0,"d":"0.00"}},null,{"$f":"OFFSET(MD!$P$5,MATCH($AK$7,MD_JAHR,0),0)*12","v":{"$error":"#VALUE!"}},{"v":0,"d":"0.00"}]
[{"$nulls":14},{"$f":"IF($B1802=\"\",\"\",IF(F1802=\"Arbeitgeberähnliche Stellung\",OFFSET(MD!$Q$5,MATCH(Grundlagen_Abrechnung_KAE!$AK$7,MD_JAHR,0),0)*$H1802,IF(((AD1802/12*M1802*12)+N1802)>AF1802,AF1802/12,((AD1802/12*M1802*12)+N1802)/12)))","v":""},null,null,{"v":0,"d":"0.00"},null,{"v":0,"d":"0.00%"},{"v":0,"d":"0.00"},{"v":0,"d":"0.00"},{"v":0,"d":"0.00"},null,"prüfen",{"$f":"IFERROR(OFFSET(MD!$U$5,MATCH(Grundlagen_Abrechnung_KAE!$E1802,MD_GENDER,0),0),\"\")","v":""},{"v":0,"d":"0.00"},null,{"v":0,"d":"0.00"},{"$f":"IF(F1802=\"Arbeitgeberähnliche Stellung\",OFFSET(MD!$Q$5,MATCH(Grundlagen_Abrechnung_KAE!$AK$7,MD_JAHR,0),0)*$H1802,IF(J1802>0,AC1802,I1802))","v":{"v":0,"d":"0.00"}},null,{"$f":"OFFSET(MD!$P$5,MATCH($AK$7,MD_JAHR,0),0)*12","v":{"$error":"#VALUE!"}},{"v":0,"d":"0.00"}]
[{"$nulls":14},{"$f":"IF($B1803=\"\",\"\",IF(F1803=\"Arbeitgeberähnliche Stellung\",OFFSET(MD!$Q$5,MATCH(Grundlagen_Abrechnung_KAE!$AK$7,MD_JAHR,0),0)*$H1803,IF(((AD1803/12*M1803*12)+N1803)>AF1803,AF1803/12,((AD1803/12*M1803*12)+N1803)/12)))","v":""},null,null,{"v":0,"d":"0.00"},null,{"v":0,"d":"0.00%"},{"v":0,"d":"0.00"},{"v":0,"d":"0.00"},{"v":0,"d":"0.00"},null,"prüfen",{"$f":"IFERROR(OFFSET(MD!$U$5,MATCH(Grundlagen_Abrechnung_KAE!$E1803,MD_GENDER,0),0),\"\")","v":""},{"v":0,"d":"0.00"},null,{"v":0,"d":"0.00"},{"$f":"IF(F1803=\"Arbeitgeberähnliche Stellung\",OFFSET(MD!$Q$5,MATCH(Grundlagen_Abrechnung_KAE!$AK$7,MD_JAHR,0),0)*$H1803,IF(J1803>0,AC1803,I1803))","v":{"v":0,"d":"0.00"}},null,{"$f":"OFFSET(MD!$P$5,MATCH($AK$7,MD_JAHR,0),0)*12","v":{"$error":"#VALUE!"}},{"v":0,"d":"0.00"}]
[{"$nulls":14},{"$f":"IF($B1804=\"\",\"\",IF(F1804=\"Arbeitgeberähnliche Stellung\",OFFSET(MD!$Q$5,MATCH(Grundlagen_Abrechnung_KAE!$AK$7,MD_JAHR,0),0)*$H1804,IF(((AD1804/12*M1804*12)+N1804)>AF1804,AF1804/12,((AD1804/12*M1804*12)+N1804)/12)))","v":""},null,null,{"v":0,"d":"0.00"},null,{"v":0,"d":"0.00%"},{"v":0,"d":"0.00"},{"v":0,"d":"0.00"},{"v":0,"d":"0.00"},null,"prüfen",{"$f":"IFERROR(OFFSET(MD!$U$5,MATCH(Grundlagen_Abrechnung_KAE!$E1804,MD_GENDER,0),0),\"\")","v":""},{"v":0,"d":"0.00"},null,{"v":0,"d":"0.00"},{"$f":"IF(F1804=\"Arbeitgeberähnliche Stellung\",OFFSET(MD!$Q$5,MATCH(Grundlagen_Abrechnung_KAE!$AK$7,MD_JAHR,0),0)*$H1804,IF(J1804>0,AC1804,I1804))","v":{"v":0,"d":"0.00"}},null,{"$f":"OFFSET(MD!$P$5,MATCH($AK$7,MD_JAHR,0),0)*12","v":{"$error":"#VALUE!"}},{"v":0,"d":"0.00"}]
[{"$nulls":14},{"$f":"IF($B1805=\"\",\"\",IF(F1805=\"Arbeitgeberähnliche Stellung\",OFFSET(MD!$Q$5,MATCH(Grundlagen_Abrechnung_KAE!$AK$7,MD_JAHR,0),0)*$H1805,IF(((AD1805/12*M1805*12)+N1805)>AF1805,AF1805/12,((AD1805/12*M1805*12)+N1805)/12)))","v":""},null,null,{"v":0,"d":"0.00"},null,{"v":0,"d":"0.00%"},{"v":0,"d":"0.00"},{"v":0,"d":"0.00"},{"v":0,"d":"0.00"},null,"prüfen",{"$f":"IFERROR(OFFSET(MD!$U$5,MATCH(Grundlagen_Abrechnung_KAE!$E1805,MD_GENDER,0),0),\"\")","v":""},{"v":0,"d":"0.00"},null,{"v":0,"d":"0.00"},{"$f":"IF(F1805=\"Arbeitgeberähnliche Stellung\",OFFSET(MD!$Q$5,MATCH(Grundlagen_Abrechnung_KAE!$AK$7,MD_JAHR,0),0)*$H1805,IF(J1805>0,AC1805,I1805))","v":{"v":0,"d":"0.00"}},null,{"$f":"OFFSET(MD!$P$5,MATCH($AK$7,MD_JAHR,0),0)*12","v":{"$error":"#VALUE!"}},{"v":0,"d":"0.00"}]
[{"$nulls":14},{"$f":"IF($B1806=\"\",\"\",IF(F1806=\"Arbeitgeberähnliche Stellung\",OFFSET(MD!$Q$5,MATCH(Grundlagen_Abrechnung_KAE!$AK$7,MD_JAHR,0),0)*$H1806,IF(((AD1806/12*M1806*12)+N1806)>AF1806,AF1806/12,((AD1806/12*M1806*12)+N1806)/12)))","v":""},null,null,{"v":0,"d":"0.00"},null,{"v":0,"d":"0.00%"},{"v":0,"d":"0.00"},{"v":0,"d":"0.00"},{"v":0,"d":"0.00"},null,"prüfen",{"$f":"IFERROR(OFFSET(MD!$U$5,MATCH(Grundlagen_Abrechnung_KAE!$E1806,MD_GENDER,0),0),\"\")","v":""},{"v":0,"d":"0.00"},null,{"v":0,"d":"0.00"},{"$f":"IF(F1806=\"Arbeitgeberähnliche Stellung\",OFFSET(MD!$Q$5,MATCH(Grundlagen_Abrechnung_KAE!$AK$7,MD_JAHR,0),0)*$H1806,IF(J1806>0,AC1806,I1806))","v":{"v":0,"d":"0.00"}},null,{"$f":"OFFSET(MD!$P$5,MATCH($AK$7,MD_JAHR,0),0)*12","v":{"$error":"#VALUE!"}},{"v":0,"d":"0.00"}]
[{"$nulls":14},{"$f":"IF($B1807=\"\",\"\",IF(F1807=\"Arbeitgeberähnliche Stellung\",OFFSET(MD!$Q$5,MATCH(Grundlagen_Abrechnung_KAE!$AK$7,MD_JAHR,0),0)*$H1807,IF(((AD1807/12*M1807*12)+N1807)>AF1807,AF1807/12,((AD1807/12*M1807*12)+N1807)/12)))","v":""},null,null,{"v":0,"d":"0.00"},null,{"v":0,"d":"0.00%"},{"v":0,"d":"0.00"},{"v":0,"d":"0.00"},{"v":0,"d":"0.00"},null,"prüfen",{"$f":"IFERROR(OFFSET(MD!$U$5,MATCH(Grundlagen_Abrechnung_KAE!$E1807,MD_GENDER,0),0),\"\")","v":""},{"v":0,"d":"0.00"},null,{"v":0,"d":"0.00"},{"$f":"IF(F1807=\"Arbeitgeberähnliche Stellung\",OFFSET(MD!$Q$5,MATCH(Grundlagen_Abrechnung_KAE!$AK$7,MD_JAHR,0),0)*$H1807,IF(J1807>0,AC1807,I1807))","v":{"v":0,"d":"0.00"}},null,{"$f":"OFFSET(MD!$P$5,MATCH($AK$7,MD_JAHR,0),0)*12","v":{"$error":"#VALUE!"}},{"v":0,"d":"0.00"}]
[{"$nulls":14},{"$f":"IF($B1808=\"\",\"\",IF(F1808=\"Arbeitgeberähnliche Stellung\",OFFSET(MD!$Q$5,MATCH(Grundlagen_Abrechnung_KAE!$AK$7,MD_JAHR,0),0)*$H1808,IF(((AD1808/12*M1808*12)+N1808)>AF1808,AF1808/12,((AD1808/12*M1808*12)+N1808)/12)))","v":""},null,null,{"v":0,"d":"0.00"},null,{"v":0,"d":"0.00%"},{"v":0,"d":"0.00"},{"v":0,"d":"0.00"},{"v":0,"d":"0.00"},null,"prüfen",{"$f":"IFERROR(OFFSET(MD!$U$5,MATCH(Grundlagen_Abrechnung_KAE!$E1808,MD_GENDER,0),0),\"\")","v":""},{"v":0,"d":"0.00"},null,{"v":0,"d":"0.00"},{"$f":"IF(F1808=\"Arbeitgeberähnliche Stellung\",OFFSET(MD!$Q$5,MATCH(Grundlagen_Abrechnung_KAE!$AK$7,MD_JAHR,0),0)*$H1808,IF(J1808>0,AC1808,I1808))","v":{"v":0,"d":"0.00"}},null,{"$f":"OFFSET(MD!$P$5,MATCH($AK$7,MD_JAHR,0),0)*12","v":{"$error":"#VALUE!"}},{"v":0,"d":"0.00"}]
[{"$nulls":14},{"$f":"IF($B1809=\"\",\"\",IF(F1809=\"Arbeitgeberähnliche Stellung\",OFFSET(MD!$Q$5,MATCH(Grundlagen_Abrechnung_KAE!$AK$7,MD_JAHR,0),0)*$H1809,IF(((AD1809/12*M1809*12)+N1809)>AF1809,AF1809/12,((AD1809/12*M1809*12)+N1809)/12)))","v":""},null,null,{"v":0,"d":"0.00"},null,{"v":0,"d":"0.00%"},{"v":0,"d":"0.00"},{"v":0,"d":"0.00"},{"v":0,"d":"0.00"},null,"prüfen",{"$f":"IFERROR(OFFSET(MD!$U$5,MATCH(Grundlagen_Abrechnung_KAE!$E1809,MD_GENDER,0),0),\"\")","v":""},{"v":0,"d":"0.00"},null,{"v":0,"d":"0.00"},{"$f":"IF(F1809=\"Arbeitgeberähnliche Stellung\",OFFSET(MD!$Q$5,MATCH(Grundlagen_Abrechnung_KAE!$AK$7,MD_JAHR,0),0)*$H1809,IF(J1809>0,AC1809,I1809))","v":{"v":0,"d":"0.00"}},null,{"$f":"OFFSET(MD!$P$5,MATCH($AK$7,MD_JAHR,0),0)*12","v":{"$error":"#VALUE!"}},{"v":0,"d":"0.00"}]
[{"$nulls":14},{"$f":"IF($B1810=\"\",\"\",IF(F1810=\"Arbeitgeberähnliche Stellung\",OFFSET(MD!$Q$5,MATCH(Grundlagen_Abrechnung_KAE!$AK$7,MD_JAHR,0),0)*$H1810,IF(((AD1810/12*M1810*12)+N1810)>AF1810,AF1810/12,((AD1810/12*M1810*12)+N1810)/12)))","v":""},null,null,{"v":0,"d":"0.00"},null,{"v":0,"d":"0.00%"},{"v":0,"d":"0.00"},{"v":0,"d":"0.00"},{"v":0,"d":"0.00"},null,"prüfen",{"$f":"IFERROR(OFFSET(MD!$U$5,MATCH(Grundlagen_Abrechnung_KAE!$E1810,MD_GENDER,0),0),\"\")","v":""},{"v":0,"d":"0.00"},null,{"v":0,"d":"0.00"},{"$f":"IF(F1810=\"Arbeitgeberähnliche Stellung\",OFFSET(MD!$Q$5,MATCH(Grundlagen_Abrechnung_KAE!$AK$7,MD_JAHR,0),0)*$H1810,IF(J1810>0,AC1810,I1810))","v":{"v":0,"d":"0.00"}},null,{"$f":"OFFSET(MD!$P$5,MATCH($AK$7,MD_JAHR,0),0)*12","v":{"$error":"#VALUE!"}},{"v":0,"d":"0.00"}]
[{"$nulls":14},{"$f":"IF($B1811=\"\",\"\",IF(F1811=\"Arbeitgeberähnliche Stellung\",OFFSET(MD!$Q$5,MATCH(Grundlagen_Abrechnung_KAE!$AK$7,MD_JAHR,0),0)*$H1811,IF(((AD1811/12*M1811*12)+N1811)>AF1811,AF1811/12,((AD1811/12*M1811*12)+N1811)/12)))","v":""},null,null,{"$f":"ROUND(IF(Q1811=\"\",0,IF(P1811=0,0,IF(Q1811>P1811,0,P1811-Q1811))),2)","v":{"v":0,"d":"0.00"}},null,{"$f":"IFERROR(R1811/P1811,0)","v":{"v":0,"d":"0.00%"}},{"$f":"IFERROR(IF(O1811-W1811=0,O1811,(O1811)*(1-T1811)),0)","v":{"v":0,"d":"0.00"}},{"v":0,"d":"0.00"},{"$f":"IFERROR(O1811*T1811,0)*0.8","v":{"v":0,"d":"0.00"}},null,{"$f":"IF(YEAR($G1811)>$Y$16,\"prüfen\",\"\")","v":"prüfen"},{"$f":"IFERROR(OFFSET(MD!$U$5,MATCH(Grundlagen_Abrechnung_KAE!$E1811,MD_GENDER,0),0),\"\")","v":""},{"$f":"IF(B1811=\"\",0,IF(YEAR(G1811)>$AA$16,0,1))","v":{"v":0,"d":"0.00"}},null,{"$f":"IF(J1811*K1811/6>J1811*L1811/12,J1811*K1811/6,J1811*L1811/12)","v":{"v":0,"d":"0.00"}},{"$f":"IF(F1811=\"Arbeitgeberähnliche Stellung\",OFFSET(MD!$Q$5,MATCH(Grundlagen_Abrechnung_KAE!$AK$7,MD_JAHR,0),0)*$H1811,IF(J1811>0,AC1811,I1811))","v":{"v":0,"d":"0.00"}},null,{"$f":"OFFSET(MD!$P$5,MATCH($AK$7,MD_JAHR,0),0)*12","v":{"$error":"#VALUE!"}},{"$f":"I1811*M1811+N1811","v":{"v":0,"d":"0.00"}}]
[{"$nulls":14},{"$f":"IF($B1812=\"\",\"\",IF(F1812=\"Arbeitgeberähnliche Stellung\",OFFSET(MD!$Q$5,MATCH(Grundlagen_Abrechnung_KAE!$AK$7,MD_JAHR,0),0)*$H1812,IF(((AD1812/12*M1812*12)+N1812)>AF1812,AF1812/12,((AD1812/12*M1812*12)+N1812)/12)))","v":""},null,null,{"v":0,"d":"0.00"},null,{"v":0,"d":"0.00%"},{"v":0,"d":"0.00"},{"$f":"IFERROR(O1812*T1812,0)","v":{"v":0,"d":"0.00"}},{"v":0,"d":"0.00"},null,"prüfen",{"$f":"IFERROR(OFFSET(MD!$U$5,MATCH(Grundlagen_Abrechnung_KAE!$E1812,MD_GENDER,0),0),\"\")","v":""},{"v":0,"d":"0.00"},null,{"v":0,"d":"0.00"},{"$f":"IF(F1812=\"Arbeitgeberähnliche Stellung\",OFFSET(MD!$Q$5,MATCH(Grundlagen_Abrechnung_KAE!$AK$7,MD_JAHR,0),0)*$H1812,IF(J1812>0,AC1812,I1812))","v":{"v":0,"d":"0.00"}},null,{"$f":"OFFSET(MD!$P$5,MATCH($AK$7,MD_JAHR,0),0)*12","v":{"$error":"#VALUE!"}},{"v":0,"d":"0.00"}]
[{"$nulls":14},{"$f":"IF($B1813=\"\",\"\",IF(F1813=\"Arbeitgeberähnliche Stellung\",OFFSET(MD!$Q$5,MATCH(Grundlagen_Abrechnung_KAE!$AK$7,MD_JAHR,0),0)*$H1813,IF(((AD1813/12*M1813*12)+N1813)>AF1813,AF1813/12,((AD1813/12*M1813*12)+N1813)/12)))","v":""},null,null,{"v":0,"d":"0.00"},null,{"v":0,"d":"0.00%"},{"v":0,"d":"0.00"},{"v":0,"d":"0.00"},{"v":0,"d":"0.00"},null,"prüfen",{"$f":"IFERROR(OFFSET(MD!$U$5,MATCH(Grundlagen_Abrechnung_KAE!$E1813,MD_GENDER,0),0),\"\")","v":""},{"v":0,"d":"0.00"},null,{"v":0,"d":"0.00"},{"$f":"IF(F1813=\"Arbeitgeberähnliche Stellung\",OFFSET(MD!$Q$5,MATCH(Grundlagen_Abrechnung_KAE!$AK$7,MD_JAHR,0),0)*$H1813,IF(J1813>0,AC1813,I1813))","v":{"v":0,"d":"0.00"}},null,{"$f":"OFFSET(MD!$P$5,MATCH($AK$7,MD_JAHR,0),0)*12","v":{"$error":"#VALUE!"}},{"v":0,"d":"0.00"}]
[{"$nulls":14},{"$f":"IF($B1814=\"\",\"\",IF(F1814=\"Arbeitgeberähnliche Stellung\",OFFSET(MD!$Q$5,MATCH(Grundlagen_Abrechnung_KAE!$AK$7,MD_JAHR,0),0)*$H1814,IF(((AD1814/12*M1814*12)+N1814)>AF1814,AF1814/12,((AD1814/12*M1814*12)+N1814)/12)))","v":""},null,null,{"v":0,"d":"0.00"},null,{"v":0,"d":"0.00%"},{"v":0,"d":"0.00"},{"v":0,"d":"0.00"},{"v":0,"d":"0.00"},null,"prüfen",{"$f":"IFERROR(OFFSET(MD!$U$5,MATCH(Grundlagen_Abrechnung_KAE!$E1814,MD_GENDER,0),0),\"\")","v":""},{"v":0,"d":"0.00"},null,{"v":0,"d":"0.00"},{"$f":"IF(F1814=\"Arbeitgeberähnliche Stellung\",OFFSET(MD!$Q$5,MATCH(Grundlagen_Abrechnung_KAE!$AK$7,MD_JAHR,0),0)*$H1814,IF(J1814>0,AC1814,I1814))","v":{"v":0,"d":"0.00"}},null,{"$f":"OFFSET(MD!$P$5,MATCH($AK$7,MD_JAHR,0),0)*12","v":{"$error":"#VALUE!"}},{"v":0,"d":"0.00"}]
[{"$nulls":14},{"$f":"IF($B1815=\"\",\"\",IF(F1815=\"Arbeitgeberähnliche Stellung\",OFFSET(MD!$Q$5,MATCH(Grundlagen_Abrechnung_KAE!$AK$7,MD_JAHR,0),0)*$H1815,IF(((AD1815/12*M1815*12)+N1815)>AF1815,AF1815/12,((AD1815/12*M1815*12)+N1815)/12)))","v":""},null,null,{"v":0,"d":"0.00"},null,{"v":0,"d":"0.00%"},{"v":0,"d":"0.00"},{"v":0,"d":"0.00"},{"v":0,"d":"0.00"},null,"prüfen",{"$f":"IFERROR(OFFSET(MD!$U$5,MATCH(Grundlagen_Abrechnung_KAE!$E1815,MD_GENDER,0),0),\"\")","v":""},{"v":0,"d":"0.00"},null,{"v":0,"d":"0.00"},{"$f":"IF(F1815=\"Arbeitgeberähnliche Stellung\",OFFSET(MD!$Q$5,MATCH(Grundlagen_Abrechnung_KAE!$AK$7,MD_JAHR,0),0)*$H1815,IF(J1815>0,AC1815,I1815))","v":{"v":0,"d":"0.00"}},null,{"$f":"OFFSET(MD!$P$5,MATCH($AK$7,MD_JAHR,0),0)*12","v":{"$error":"#VALUE!"}},{"v":0,"d":"0.00"}]
[{"$nulls":14},{"$f":"IF($B1816=\"\",\"\",IF(F1816=\"Arbeitgeberähnliche Stellung\",OFFSET(MD!$Q$5,MATCH(Grundlagen_Abrechnung_KAE!$AK$7,MD_JAHR,0),0)*$H1816,IF(((AD1816/12*M1816*12)+N1816)>AF1816,AF1816/12,((AD1816/12*M1816*12)+N1816)/12)))","v":""},null,null,{"v":0,"d":"0.00"},null,{"v":0,"d":"0.00%"},{"v":0,"d":"0.00"},{"v":0,"d":"0.00"},{"v":0,"d":"0.00"},null,"prüfen",{"$f":"IFERROR(OFFSET(MD!$U$5,MATCH(Grundlagen_Abrechnung_KAE!$E1816,MD_GENDER,0),0),\"\")","v":""},{"v":0,"d":"0.00"},null,{"v":0,"d":"0.00"},{"$f":"IF(F1816=\"Arbeitgeberähnliche Stellung\",OFFSET(MD!$Q$5,MATCH(Grundlagen_Abrechnung_KAE!$AK$7,MD_JAHR,0),0)*$H1816,IF(J1816>0,AC1816,I1816))","v":{"v":0,"d":"0.00"}},null,{"$f":"OFFSET(MD!$P$5,MATCH($AK$7,MD_JAHR,0),0)*12","v":{"$error":"#VALUE!"}},{"v":0,"d":"0.00"}]
[{"$nulls":14},{"$f":"IF($B1817=\"\",\"\",IF(F1817=\"Arbeitgeberähnliche Stellung\",OFFSET(MD!$Q$5,MATCH(Grundlagen_Abrechnung_KAE!$AK$7,MD_JAHR,0),0)*$H1817,IF(((AD1817/12*M1817*12)+N1817)>AF1817,AF1817/12,((AD1817/12*M1817*12)+N1817)/12)))","v":""},null,null,{"v":0,"d":"0.00"},null,{"v":0,"d":"0.00%"},{"v":0,"d":"0.00"},{"v":0,"d":"0.00"},{"v":0,"d":"0.00"},null,"prüfen",{"$f":"IFERROR(OFFSET(MD!$U$5,MATCH(Grundlagen_Abrechnung_KAE!$E1817,MD_GENDER,0),0),\"\")","v":""},{"v":0,"d":"0.00"},null,{"v":0,"d":"0.00"},{"$f":"IF(F1817=\"Arbeitgeberähnliche Stellung\",OFFSET(MD!$Q$5,MATCH(Grundlagen_Abrechnung_KAE!$AK$7,MD_JAHR,0),0)*$H1817,IF(J1817>0,AC1817,I1817))","v":{"v":0,"d":"0.00"}},null,{"$f":"OFFSET(MD!$P$5,MATCH($AK$7,MD_JAHR,0),0)*12","v":{"$error":"#VALUE!"}},{"v":0,"d":"0.00"}]
[{"$nulls":14},{"$f":"IF($B1818=\"\",\"\",IF(F1818=\"Arbeitgeberähnliche Stellung\",OFFSET(MD!$Q$5,MATCH(Grundlagen_Abrechnung_KAE!$AK$7,MD_JAHR,0),0)*$H1818,IF(((AD1818/12*M1818*12)+N1818)>AF1818,AF1818/12,((AD1818/12*M1818*12)+N1818)/12)))","v":""},null,null,{"v":0,"d":"0.00"},null,{"v":0,"d":"0.00%"},{"v":0,"d":"0.00"},{"v":0,"d":"0.00"},{"v":0,"d":"0.00"},null,"prüfen",{"$f":"IFERROR(OFFSET(MD!$U$5,MATCH(Grundlagen_Abrechnung_KAE!$E1818,MD_GENDER,0),0),\"\")","v":""},{"v":0,"d":"0.00"},null,{"v":0,"d":"0.00"},{"$f":"IF(F1818=\"Arbeitgeberähnliche Stellung\",OFFSET(MD!$Q$5,MATCH(Grundlagen_Abrechnung_KAE!$AK$7,MD_JAHR,0),0)*$H1818,IF(J1818>0,AC1818,I1818))","v":{"v":0,"d":"0.00"}},null,{"$f":"OFFSET(MD!$P$5,MATCH($AK$7,MD_JAHR,0),0)*12","v":{"$error":"#VALUE!"}},{"v":0,"d":"0.00"}]
[{"$nulls":14},{"$f":"IF($B1819=\"\",\"\",IF(F1819=\"Arbeitgeberähnliche Stellung\",OFFSET(MD!$Q$5,MATCH(Grundlagen_Abrechnung_KAE!$AK$7,MD_JAHR,0),0)*$H1819,IF(((AD1819/12*M1819*12)+N1819)>AF1819,AF1819/12,((AD1819/12*M1819*12)+N1819)/12)))","v":""},null,null,{"v":0,"d":"0.00"},null,{"v":0,"d":"0.00%"},{"v":0,"d":"0.00"},{"v":0,"d":"0.00"},{"v":0,"d":"0.00"},null,"prüfen",{"$f":"IFERROR(OFFSET(MD!$U$5,MATCH(Grundlagen_Abrechnung_KAE!$E1819,MD_GENDER,0),0),\"\")","v":""},{"v":0,"d":"0.00"},null,{"v":0,"d":"0.00"},{"$f":"IF(F1819=\"Arbeitgeberähnliche Stellung\",OFFSET(MD!$Q$5,MATCH(Grundlagen_Abrechnung_KAE!$AK$7,MD_JAHR,0),0)*$H1819,IF(J1819>0,AC1819,I1819))","v":{"v":0,"d":"0.00"}},null,{"$f":"OFFSET(MD!$P$5,MATCH($AK$7,MD_JAHR,0),0)*12","v":{"$error":"#VALUE!"}},{"v":0,"d":"0.00"}]
[{"$nulls":14},{"$f":"IF($B1820=\"\",\"\",IF(F1820=\"Arbeitgeberähnliche Stellung\",OFFSET(MD!$Q$5,MATCH(Grundlagen_Abrechnung_KAE!$AK$7,MD_JAHR,0),0)*$H1820,IF(((AD1820/12*M1820*12)+N1820)>AF1820,AF1820/12,((AD1820/12*M1820*12)+N1820)/12)))","v":""},null,null,{"v":0,"d":"0.00"},null,{"v":0,"d":"0.00%"},{"v":0,"d":"0.00"},{"v":0,"d":"0.00"},{"v":0,"d":"0.00"},null,"prüfen",{"$f":"IFERROR(OFFSET(MD!$U$5,MATCH(Grundlagen_Abrechnung_KAE!$E1820,MD_GENDER,0),0),\"\")","v":""},{"v":0,"d":"0.00"},null,{"v":0,"d":"0.00"},{"$f":"IF(F1820=\"Arbeitgeberähnliche Stellung\",OFFSET(MD!$Q$5,MATCH(Grundlagen_Abrechnung_KAE!$AK$7,MD_JAHR,0),0)*$H1820,IF(J1820>0,AC1820,I1820))","v":{"v":0,"d":"0.00"}},null,{"$f":"OFFSET(MD!$P$5,MATCH($AK$7,MD_JAHR,0),0)*12","v":{"$error":"#VALUE!"}},{"v":0,"d":"0.00"}]
[{"$nulls":14},{"$f":"IF($B1821=\"\",\"\",IF(F1821=\"Arbeitgeberähnliche Stellung\",OFFSET(MD!$Q$5,MATCH(Grundlagen_Abrechnung_KAE!$AK$7,MD_JAHR,0),0)*$H1821,IF(((AD1821/12*M1821*12)+N1821)>AF1821,AF1821/12,((AD1821/12*M1821*12)+N1821)/12)))","v":""},null,null,{"v":0,"d":"0.00"},null,{"v":0,"d":"0.00%"},{"v":0,"d":"0.00"},{"v":0,"d":"0.00"},{"v":0,"d":"0.00"},null,"prüfen",{"$f":"IFERROR(OFFSET(MD!$U$5,MATCH(Grundlagen_Abrechnung_KAE!$E1821,MD_GENDER,0),0),\"\")","v":""},{"v":0,"d":"0.00"},null,{"v":0,"d":"0.00"},{"$f":"IF(F1821=\"Arbeitgeberähnliche Stellung\",OFFSET(MD!$Q$5,MATCH(Grundlagen_Abrechnung_KAE!$AK$7,MD_JAHR,0),0)*$H1821,IF(J1821>0,AC1821,I1821))","v":{"v":0,"d":"0.00"}},null,{"$f":"OFFSET(MD!$P$5,MATCH($AK$7,MD_JAHR,0),0)*12","v":{"$error":"#VALUE!"}},{"v":0,"d":"0.00"}]
[{"$nulls":14},{"$f":"IF($B1822=\"\",\"\",IF(F1822=\"Arbeitgeberähnliche Stellung\",OFFSET(MD!$Q$5,MATCH(Grundlagen_Abrechnung_KAE!$AK$7,MD_JAHR,0),0)*$H1822,IF(((AD1822/12*M1822*12)+N1822)>AF1822,AF1822/12,((AD1822/12*M1822*12)+N1822)/12)))","v":""},null,null,{"v":0,"d":"0.00"},null,{"v":0,"d":"0.00%"},{"v":0,"d":"0.00"},{"v":0,"d":"0.00"},{"v":0,"d":"0.00"},null,"prüfen",{"$f":"IFERROR(OFFSET(MD!$U$5,MATCH(Grundlagen_Abrechnung_KAE!$E1822,MD_GENDER,0),0),\"\")","v":""},{"v":0,"d":"0.00"},null,{"v":0,"d":"0.00"},{"$f":"IF(F1822=\"Arbeitgeberähnliche Stellung\",OFFSET(MD!$Q$5,MATCH(Grundlagen_Abrechnung_KAE!$AK$7,MD_JAHR,0),0)*$H1822,IF(J1822>0,AC1822,I1822))","v":{"v":0,"d":"0.00"}},null,{"$f":"OFFSET(MD!$P$5,MATCH($AK$7,MD_JAHR,0),0)*12","v":{"$error":"#VALUE!"}},{"v":0,"d":"0.00"}]
[{"$nulls":14},{"$f":"IF($B1823=\"\",\"\",IF(F1823=\"Arbeitgeberähnliche Stellung\",OFFSET(MD!$Q$5,MATCH(Grundlagen_Abrechnung_KAE!$AK$7,MD_JAHR,0),0)*$H1823,IF(((AD1823/12*M1823*12)+N1823)>AF1823,AF1823/12,((AD1823/12*M1823*12)+N1823)/12)))","v":""},null,null,{"v":0,"d":"0.00"},null,{"v":0,"d":"0.00%"},{"v":0,"d":"0.00"},{"v":0,"d":"0.00"},{"v":0,"d":"0.00"},null,"prüfen",{"$f":"IFERROR(OFFSET(MD!$U$5,MATCH(Grundlagen_Abrechnung_KAE!$E1823,MD_GENDER,0),0),\"\")","v":""},{"v":0,"d":"0.00"},null,{"v":0,"d":"0.00"},{"$f":"IF(F1823=\"Arbeitgeberähnliche Stellung\",OFFSET(MD!$Q$5,MATCH(Grundlagen_Abrechnung_KAE!$AK$7,MD_JAHR,0),0)*$H1823,IF(J1823>0,AC1823,I1823))","v":{"v":0,"d":"0.00"}},null,{"$f":"OFFSET(MD!$P$5,MATCH($AK$7,MD_JAHR,0),0)*12","v":{"$error":"#VALUE!"}},{"v":0,"d":"0.00"}]
[{"$nulls":14},{"$f":"IF($B1824=\"\",\"\",IF(F1824=\"Arbeitgeberähnliche Stellung\",OFFSET(MD!$Q$5,MATCH(Grundlagen_Abrechnung_KAE!$AK$7,MD_JAHR,0),0)*$H1824,IF(((AD1824/12*M1824*12)+N1824)>AF1824,AF1824/12,((AD1824/12*M1824*12)+N1824)/12)))","v":""},null,null,{"v":0,"d":"0.00"},null,{"v":0,"d":"0.00%"},{"v":0,"d":"0.00"},{"v":0,"d":"0.00"},{"v":0,"d":"0.00"},null,"prüfen",{"$f":"IFERROR(OFFSET(MD!$U$5,MATCH(Grundlagen_Abrechnung_KAE!$E1824,MD_GENDER,0),0),\"\")","v":""},{"v":0,"d":"0.00"},null,{"v":0,"d":"0.00"},{"$f":"IF(F1824=\"Arbeitgeberähnliche Stellung\",OFFSET(MD!$Q$5,MATCH(Grundlagen_Abrechnung_KAE!$AK$7,MD_JAHR,0),0)*$H1824,IF(J1824>0,AC1824,I1824))","v":{"v":0,"d":"0.00"}},null,{"$f":"OFFSET(MD!$P$5,MATCH($AK$7,MD_JAHR,0),0)*12","v":{"$error":"#VALUE!"}},{"v":0,"d":"0.00"}]
[{"$nulls":14},{"$f":"IF($B1825=\"\",\"\",IF(F1825=\"Arbeitgeberähnliche Stellung\",OFFSET(MD!$Q$5,MATCH(Grundlagen_Abrechnung_KAE!$AK$7,MD_JAHR,0),0)*$H1825,IF(((AD1825/12*M1825*12)+N1825)>AF1825,AF1825/12,((AD1825/12*M1825*12)+N1825)/12)))","v":""},null,null,{"v":0,"d":"0.00"},null,{"v":0,"d":"0.00%"},{"v":0,"d":"0.00"},{"v":0,"d":"0.00"},{"v":0,"d":"0.00"},null,"prüfen",{"$f":"IFERROR(OFFSET(MD!$U$5,MATCH(Grundlagen_Abrechnung_KAE!$E1825,MD_GENDER,0),0),\"\")","v":""},{"v":0,"d":"0.00"},null,{"v":0,"d":"0.00"},{"$f":"IF(F1825=\"Arbeitgeberähnliche Stellung\",OFFSET(MD!$Q$5,MATCH(Grundlagen_Abrechnung_KAE!$AK$7,MD_JAHR,0),0)*$H1825,IF(J1825>0,AC1825,I1825))","v":{"v":0,"d":"0.00"}},null,{"$f":"OFFSET(MD!$P$5,MATCH($AK$7,MD_JAHR,0),0)*12","v":{"$error":"#VALUE!"}},{"v":0,"d":"0.00"}]
[{"$nulls":14},{"$f":"IF($B1826=\"\",\"\",IF(F1826=\"Arbeitgeberähnliche Stellung\",OFFSET(MD!$Q$5,MATCH(Grundlagen_Abrechnung_KAE!$AK$7,MD_JAHR,0),0)*$H1826,IF(((AD1826/12*M1826*12)+N1826)>AF1826,AF1826/12,((AD1826/12*M1826*12)+N1826)/12)))","v":""},null,null,{"v":0,"d":"0.00"},null,{"v":0,"d":"0.00%"},{"v":0,"d":"0.00"},{"v":0,"d":"0.00"},{"v":0,"d":"0.00"},null,"prüfen",{"$f":"IFERROR(OFFSET(MD!$U$5,MATCH(Grundlagen_Abrechnung_KAE!$E1826,MD_GENDER,0),0),\"\")","v":""},{"v":0,"d":"0.00"},null,{"v":0,"d":"0.00"},{"$f":"IF(F1826=\"Arbeitgeberähnliche Stellung\",OFFSET(MD!$Q$5,MATCH(Grundlagen_Abrechnung_KAE!$AK$7,MD_JAHR,0),0)*$H1826,IF(J1826>0,AC1826,I1826))","v":{"v":0,"d":"0.00"}},null,{"$f":"OFFSET(MD!$P$5,MATCH($AK$7,MD_JAHR,0),0)*12","v":{"$error":"#VALUE!"}},{"v":0,"d":"0.00"}]
[{"$nulls":14},{"$f":"IF($B1827=\"\",\"\",IF(F1827=\"Arbeitgeberähnliche Stellung\",OFFSET(MD!$Q$5,MATCH(Grundlagen_Abrechnung_KAE!$AK$7,MD_JAHR,0),0)*$H1827,IF(((AD1827/12*M1827*12)+N1827)>AF1827,AF1827/12,((AD1827/12*M1827*12)+N1827)/12)))","v":""},null,null,{"v":0,"d":"0.00"},null,{"v":0,"d":"0.00%"},{"v":0,"d":"0.00"},{"v":0,"d":"0.00"},{"v":0,"d":"0.00"},null,"prüfen",{"$f":"IFERROR(OFFSET(MD!$U$5,MATCH(Grundlagen_Abrechnung_KAE!$E1827,MD_GENDER,0),0),\"\")","v":""},{"v":0,"d":"0.00"},null,{"v":0,"d":"0.00"},{"$f":"IF(F1827=\"Arbeitgeberähnliche Stellung\",OFFSET(MD!$Q$5,MATCH(Grundlagen_Abrechnung_KAE!$AK$7,MD_JAHR,0),0)*$H1827,IF(J1827>0,AC1827,I1827))","v":{"v":0,"d":"0.00"}},null,{"$f":"OFFSET(MD!$P$5,MATCH($AK$7,MD_JAHR,0),0)*12","v":{"$error":"#VALUE!"}},{"v":0,"d":"0.00"}]
[{"$nulls":14},{"$f":"IF($B1828=\"\",\"\",IF(F1828=\"Arbeitgeberähnliche Stellung\",OFFSET(MD!$Q$5,MATCH(Grundlagen_Abrechnung_KAE!$AK$7,MD_JAHR,0),0)*$H1828,IF(((AD1828/12*M1828*12)+N1828)>AF1828,AF1828/12,((AD1828/12*M1828*12)+N1828)/12)))","v":""},null,null,{"v":0,"d":"0.00"},null,{"v":0,"d":"0.00%"},{"v":0,"d":"0.00"},{"v":0,"d":"0.00"},{"v":0,"d":"0.00"},null,"prüfen",{"$f":"IFERROR(OFFSET(MD!$U$5,MATCH(Grundlagen_Abrechnung_KAE!$E1828,MD_GENDER,0),0),\"\")","v":""},{"v":0,"d":"0.00"},null,{"v":0,"d":"0.00"},{"$f":"IF(F1828=\"Arbeitgeberähnliche Stellung\",OFFSET(MD!$Q$5,MATCH(Grundlagen_Abrechnung_KAE!$AK$7,MD_JAHR,0),0)*$H1828,IF(J1828>0,AC1828,I1828))","v":{"v":0,"d":"0.00"}},null,{"$f":"OFFSET(MD!$P$5,MATCH($AK$7,MD_JAHR,0),0)*12","v":{"$error":"#VALUE!"}},{"v":0,"d":"0.00"}]
[{"$nulls":14},{"$f":"IF($B1829=\"\",\"\",IF(F1829=\"Arbeitgeberähnliche Stellung\",OFFSET(MD!$Q$5,MATCH(Grundlagen_Abrechnung_KAE!$AK$7,MD_JAHR,0),0)*$H1829,IF(((AD1829/12*M1829*12)+N1829)>AF1829,AF1829/12,((AD1829/12*M1829*12)+N1829)/12)))","v":""},null,null,{"v":0,"d":"0.00"},null,{"v":0,"d":"0.00%"},{"v":0,"d":"0.00"},{"v":0,"d":"0.00"},{"v":0,"d":"0.00"},null,"prüfen",{"$f":"IFERROR(OFFSET(MD!$U$5,MATCH(Grundlagen_Abrechnung_KAE!$E1829,MD_GENDER,0),0),\"\")","v":""},{"v":0,"d":"0.00"},null,{"v":0,"d":"0.00"},{"$f":"IF(F1829=\"Arbeitgeberähnliche Stellung\",OFFSET(MD!$Q$5,MATCH(Grundlagen_Abrechnung_KAE!$AK$7,MD_JAHR,0),0)*$H1829,IF(J1829>0,AC1829,I1829))","v":{"v":0,"d":"0.00"}},null,{"$f":"OFFSET(MD!$P$5,MATCH($AK$7,MD_JAHR,0),0)*12","v":{"$error":"#VALUE!"}},{"v":0,"d":"0.00"}]
[{"$nulls":14},{"$f":"IF($B1830=\"\",\"\",IF(F1830=\"Arbeitgeberähnliche Stellung\",OFFSET(MD!$Q$5,MATCH(Grundlagen_Abrechnung_KAE!$AK$7,MD_JAHR,0),0)*$H1830,IF(((AD1830/12*M1830*12)+N1830)>AF1830,AF1830/12,((AD1830/12*M1830*12)+N1830)/12)))","v":""},null,null,{"v":0,"d":"0.00"},null,{"v":0,"d":"0.00%"},{"v":0,"d":"0.00"},{"v":0,"d":"0.00"},{"v":0,"d":"0.00"},null,"prüfen",{"$f":"IFERROR(OFFSET(MD!$U$5,MATCH(Grundlagen_Abrechnung_KAE!$E1830,MD_GENDER,0),0),\"\")","v":""},{"v":0,"d":"0.00"},null,{"v":0,"d":"0.00"},{"$f":"IF(F1830=\"Arbeitgeberähnliche Stellung\",OFFSET(MD!$Q$5,MATCH(Grundlagen_Abrechnung_KAE!$AK$7,MD_JAHR,0),0)*$H1830,IF(J1830>0,AC1830,I1830))","v":{"v":0,"d":"0.00"}},null,{"$f":"OFFSET(MD!$P$5,MATCH($AK$7,MD_JAHR,0),0)*12","v":{"$error":"#VALUE!"}},{"v":0,"d":"0.00"}]
[{"$nulls":14},{"$f":"IF($B1831=\"\",\"\",IF(F1831=\"Arbeitgeberähnliche Stellung\",OFFSET(MD!$Q$5,MATCH(Grundlagen_Abrechnung_KAE!$AK$7,MD_JAHR,0),0)*$H1831,IF(((AD1831/12*M1831*12)+N1831)>AF1831,AF1831/12,((AD1831/12*M1831*12)+N1831)/12)))","v":""},null,null,{"v":0,"d":"0.00"},null,{"v":0,"d":"0.00%"},{"v":0,"d":"0.00"},{"v":0,"d":"0.00"},{"v":0,"d":"0.00"},null,"prüfen",{"$f":"IFERROR(OFFSET(MD!$U$5,MATCH(Grundlagen_Abrechnung_KAE!$E1831,MD_GENDER,0),0),\"\")","v":""},{"v":0,"d":"0.00"},null,{"v":0,"d":"0.00"},{"$f":"IF(F1831=\"Arbeitgeberähnliche Stellung\",OFFSET(MD!$Q$5,MATCH(Grundlagen_Abrechnung_KAE!$AK$7,MD_JAHR,0),0)*$H1831,IF(J1831>0,AC1831,I1831))","v":{"v":0,"d":"0.00"}},null,{"$f":"OFFSET(MD!$P$5,MATCH($AK$7,MD_JAHR,0),0)*12","v":{"$error":"#VALUE!"}},{"v":0,"d":"0.00"}]
[{"$nulls":14},{"$f":"IF($B1832=\"\",\"\",IF(F1832=\"Arbeitgeberähnliche Stellung\",OFFSET(MD!$Q$5,MATCH(Grundlagen_Abrechnung_KAE!$AK$7,MD_JAHR,0),0)*$H1832,IF(((AD1832/12*M1832*12)+N1832)>AF1832,AF1832/12,((AD1832/12*M1832*12)+N1832)/12)))","v":""},null,null,{"v":0,"d":"0.00"},null,{"v":0,"d":"0.00%"},{"v":0,"d":"0.00"},{"v":0,"d":"0.00"},{"v":0,"d":"0.00"},null,"prüfen",{"$f":"IFERROR(OFFSET(MD!$U$5,MATCH(Grundlagen_Abrechnung_KAE!$E1832,MD_GENDER,0),0),\"\")","v":""},{"v":0,"d":"0.00"},null,{"v":0,"d":"0.00"},{"$f":"IF(F1832=\"Arbeitgeberähnliche Stellung\",OFFSET(MD!$Q$5,MATCH(Grundlagen_Abrechnung_KAE!$AK$7,MD_JAHR,0),0)*$H1832,IF(J1832>0,AC1832,I1832))","v":{"v":0,"d":"0.00"}},null,{"$f":"OFFSET(MD!$P$5,MATCH($AK$7,MD_JAHR,0),0)*12","v":{"$error":"#VALUE!"}},{"v":0,"d":"0.00"}]
[{"$nulls":14},{"$f":"IF($B1833=\"\",\"\",IF(F1833=\"Arbeitgeberähnliche Stellung\",OFFSET(MD!$Q$5,MATCH(Grundlagen_Abrechnung_KAE!$AK$7,MD_JAHR,0),0)*$H1833,IF(((AD1833/12*M1833*12)+N1833)>AF1833,AF1833/12,((AD1833/12*M1833*12)+N1833)/12)))","v":""},null,null,{"v":0,"d":"0.00"},null,{"v":0,"d":"0.00%"},{"v":0,"d":"0.00"},{"v":0,"d":"0.00"},{"v":0,"d":"0.00"},null,"prüfen",{"$f":"IFERROR(OFFSET(MD!$U$5,MATCH(Grundlagen_Abrechnung_KAE!$E1833,MD_GENDER,0),0),\"\")","v":""},{"v":0,"d":"0.00"},null,{"v":0,"d":"0.00"},{"$f":"IF(F1833=\"Arbeitgeberähnliche Stellung\",OFFSET(MD!$Q$5,MATCH(Grundlagen_Abrechnung_KAE!$AK$7,MD_JAHR,0),0)*$H1833,IF(J1833>0,AC1833,I1833))","v":{"v":0,"d":"0.00"}},null,{"$f":"OFFSET(MD!$P$5,MATCH($AK$7,MD_JAHR,0),0)*12","v":{"$error":"#VALUE!"}},{"v":0,"d":"0.00"}]
[{"$nulls":14},{"$f":"IF($B1834=\"\",\"\",IF(F1834=\"Arbeitgeberähnliche Stellung\",OFFSET(MD!$Q$5,MATCH(Grundlagen_Abrechnung_KAE!$AK$7,MD_JAHR,0),0)*$H1834,IF(((AD1834/12*M1834*12)+N1834)>AF1834,AF1834/12,((AD1834/12*M1834*12)+N1834)/12)))","v":""},null,null,{"v":0,"d":"0.00"},null,{"v":0,"d":"0.00%"},{"v":0,"d":"0.00"},{"v":0,"d":"0.00"},{"v":0,"d":"0.00"},null,"prüfen",{"$f":"IFERROR(OFFSET(MD!$U$5,MATCH(Grundlagen_Abrechnung_KAE!$E1834,MD_GENDER,0),0),\"\")","v":""},{"v":0,"d":"0.00"},null,{"v":0,"d":"0.00"},{"$f":"IF(F1834=\"Arbeitgeberähnliche Stellung\",OFFSET(MD!$Q$5,MATCH(Grundlagen_Abrechnung_KAE!$AK$7,MD_JAHR,0),0)*$H1834,IF(J1834>0,AC1834,I1834))","v":{"v":0,"d":"0.00"}},null,{"$f":"OFFSET(MD!$P$5,MATCH($AK$7,MD_JAHR,0),0)*12","v":{"$error":"#VALUE!"}},{"v":0,"d":"0.00"}]
[{"$nulls":14},{"$f":"IF($B1835=\"\",\"\",IF(F1835=\"Arbeitgeberähnliche Stellung\",OFFSET(MD!$Q$5,MATCH(Grundlagen_Abrechnung_KAE!$AK$7,MD_JAHR,0),0)*$H1835,IF(((AD1835/12*M1835*12)+N1835)>AF1835,AF1835/12,((AD1835/12*M1835*12)+N1835)/12)))","v":""},null,null,{"v":0,"d":"0.00"},null,{"v":0,"d":"0.00%"},{"v":0,"d":"0.00"},{"v":0,"d":"0.00"},{"v":0,"d":"0.00"},null,"prüfen",{"$f":"IFERROR(OFFSET(MD!$U$5,MATCH(Grundlagen_Abrechnung_KAE!$E1835,MD_GENDER,0),0),\"\")","v":""},{"v":0,"d":"0.00"},null,{"v":0,"d":"0.00"},{"$f":"IF(F1835=\"Arbeitgeberähnliche Stellung\",OFFSET(MD!$Q$5,MATCH(Grundlagen_Abrechnung_KAE!$AK$7,MD_JAHR,0),0)*$H1835,IF(J1835>0,AC1835,I1835))","v":{"v":0,"d":"0.00"}},null,{"$f":"OFFSET(MD!$P$5,MATCH($AK$7,MD_JAHR,0),0)*12","v":{"$error":"#VALUE!"}},{"v":0,"d":"0.00"}]
[{"$nulls":14},{"$f":"IF($B1836=\"\",\"\",IF(F1836=\"Arbeitgeberähnliche Stellung\",OFFSET(MD!$Q$5,MATCH(Grundlagen_Abrechnung_KAE!$AK$7,MD_JAHR,0),0)*$H1836,IF(((AD1836/12*M1836*12)+N1836)>AF1836,AF1836/12,((AD1836/12*M1836*12)+N1836)/12)))","v":""},null,null,{"v":0,"d":"0.00"},null,{"v":0,"d":"0.00%"},{"v":0,"d":"0.00"},{"v":0,"d":"0.00"},{"v":0,"d":"0.00"},null,"prüfen",{"$f":"IFERROR(OFFSET(MD!$U$5,MATCH(Grundlagen_Abrechnung_KAE!$E1836,MD_GENDER,0),0),\"\")","v":""},{"v":0,"d":"0.00"},null,{"v":0,"d":"0.00"},{"$f":"IF(F1836=\"Arbeitgeberähnliche Stellung\",OFFSET(MD!$Q$5,MATCH(Grundlagen_Abrechnung_KAE!$AK$7,MD_JAHR,0),0)*$H1836,IF(J1836>0,AC1836,I1836))","v":{"v":0,"d":"0.00"}},null,{"$f":"OFFSET(MD!$P$5,MATCH($AK$7,MD_JAHR,0),0)*12","v":{"$error":"#VALUE!"}},{"v":0,"d":"0.00"}]
[{"$nulls":14},{"$f":"IF($B1837=\"\",\"\",IF(F1837=\"Arbeitgeberähnliche Stellung\",OFFSET(MD!$Q$5,MATCH(Grundlagen_Abrechnung_KAE!$AK$7,MD_JAHR,0),0)*$H1837,IF(((AD1837/12*M1837*12)+N1837)>AF1837,AF1837/12,((AD1837/12*M1837*12)+N1837)/12)))","v":""},null,null,{"v":0,"d":"0.00"},null,{"v":0,"d":"0.00%"},{"v":0,"d":"0.00"},{"v":0,"d":"0.00"},{"v":0,"d":"0.00"},null,"prüfen",{"$f":"IFERROR(OFFSET(MD!$U$5,MATCH(Grundlagen_Abrechnung_KAE!$E1837,MD_GENDER,0),0),\"\")","v":""},{"v":0,"d":"0.00"},null,{"v":0,"d":"0.00"},{"$f":"IF(F1837=\"Arbeitgeberähnliche Stellung\",OFFSET(MD!$Q$5,MATCH(Grundlagen_Abrechnung_KAE!$AK$7,MD_JAHR,0),0)*$H1837,IF(J1837>0,AC1837,I1837))","v":{"v":0,"d":"0.00"}},null,{"$f":"OFFSET(MD!$P$5,MATCH($AK$7,MD_JAHR,0),0)*12","v":{"$error":"#VALUE!"}},{"v":0,"d":"0.00"}]
[{"$nulls":14},{"$f":"IF($B1838=\"\",\"\",IF(F1838=\"Arbeitgeberähnliche Stellung\",OFFSET(MD!$Q$5,MATCH(Grundlagen_Abrechnung_KAE!$AK$7,MD_JAHR,0),0)*$H1838,IF(((AD1838/12*M1838*12)+N1838)>AF1838,AF1838/12,((AD1838/12*M1838*12)+N1838)/12)))","v":""},null,null,{"v":0,"d":"0.00"},null,{"v":0,"d":"0.00%"},{"v":0,"d":"0.00"},{"v":0,"d":"0.00"},{"v":0,"d":"0.00"},null,"prüfen",{"$f":"IFERROR(OFFSET(MD!$U$5,MATCH(Grundlagen_Abrechnung_KAE!$E1838,MD_GENDER,0),0),\"\")","v":""},{"v":0,"d":"0.00"},null,{"v":0,"d":"0.00"},{"$f":"IF(F1838=\"Arbeitgeberähnliche Stellung\",OFFSET(MD!$Q$5,MATCH(Grundlagen_Abrechnung_KAE!$AK$7,MD_JAHR,0),0)*$H1838,IF(J1838>0,AC1838,I1838))","v":{"v":0,"d":"0.00"}},null,{"$f":"OFFSET(MD!$P$5,MATCH($AK$7,MD_JAHR,0),0)*12","v":{"$error":"#VALUE!"}},{"v":0,"d":"0.00"}]
[{"$nulls":14},{"$f":"IF($B1839=\"\",\"\",IF(F1839=\"Arbeitgeberähnliche Stellung\",OFFSET(MD!$Q$5,MATCH(Grundlagen_Abrechnung_KAE!$AK$7,MD_JAHR,0),0)*$H1839,IF(((AD1839/12*M1839*12)+N1839)>AF1839,AF1839/12,((AD1839/12*M1839*12)+N1839)/12)))","v":""},null,null,{"v":0,"d":"0.00"},null,{"v":0,"d":"0.00%"},{"v":0,"d":"0.00"},{"v":0,"d":"0.00"},{"v":0,"d":"0.00"},null,"prüfen",{"$f":"IFERROR(OFFSET(MD!$U$5,MATCH(Grundlagen_Abrechnung_KAE!$E1839,MD_GENDER,0),0),\"\")","v":""},{"v":0,"d":"0.00"},null,{"v":0,"d":"0.00"},{"$f":"IF(F1839=\"Arbeitgeberähnliche Stellung\",OFFSET(MD!$Q$5,MATCH(Grundlagen_Abrechnung_KAE!$AK$7,MD_JAHR,0),0)*$H1839,IF(J1839>0,AC1839,I1839))","v":{"v":0,"d":"0.00"}},null,{"$f":"OFFSET(MD!$P$5,MATCH($AK$7,MD_JAHR,0),0)*12","v":{"$error":"#VALUE!"}},{"v":0,"d":"0.00"}]
[{"$nulls":14},{"$f":"IF($B1840=\"\",\"\",IF(F1840=\"Arbeitgeberähnliche Stellung\",OFFSET(MD!$Q$5,MATCH(Grundlagen_Abrechnung_KAE!$AK$7,MD_JAHR,0),0)*$H1840,IF(((AD1840/12*M1840*12)+N1840)>AF1840,AF1840/12,((AD1840/12*M1840*12)+N1840)/12)))","v":""},null,null,{"v":0,"d":"0.00"},null,{"v":0,"d":"0.00%"},{"v":0,"d":"0.00"},{"v":0,"d":"0.00"},{"v":0,"d":"0.00"},null,"prüfen",{"$f":"IFERROR(OFFSET(MD!$U$5,MATCH(Grundlagen_Abrechnung_KAE!$E1840,MD_GENDER,0),0),\"\")","v":""},{"v":0,"d":"0.00"},null,{"v":0,"d":"0.00"},{"$f":"IF(F1840=\"Arbeitgeberähnliche Stellung\",OFFSET(MD!$Q$5,MATCH(Grundlagen_Abrechnung_KAE!$AK$7,MD_JAHR,0),0)*$H1840,IF(J1840>0,AC1840,I1840))","v":{"v":0,"d":"0.00"}},null,{"$f":"OFFSET(MD!$P$5,MATCH($AK$7,MD_JAHR,0),0)*12","v":{"$error":"#VALUE!"}},{"v":0,"d":"0.00"}]
[{"$nulls":14},{"$f":"IF($B1841=\"\",\"\",IF(F1841=\"Arbeitgeberähnliche Stellung\",OFFSET(MD!$Q$5,MATCH(Grundlagen_Abrechnung_KAE!$AK$7,MD_JAHR,0),0)*$H1841,IF(((AD1841/12*M1841*12)+N1841)>AF1841,AF1841/12,((AD1841/12*M1841*12)+N1841)/12)))","v":""},null,null,{"v":0,"d":"0.00"},null,{"v":0,"d":"0.00%"},{"v":0,"d":"0.00"},{"v":0,"d":"0.00"},{"v":0,"d":"0.00"},null,"prüfen",{"$f":"IFERROR(OFFSET(MD!$U$5,MATCH(Grundlagen_Abrechnung_KAE!$E1841,MD_GENDER,0),0),\"\")","v":""},{"v":0,"d":"0.00"},null,{"v":0,"d":"0.00"},{"$f":"IF(F1841=\"Arbeitgeberähnliche Stellung\",OFFSET(MD!$Q$5,MATCH(Grundlagen_Abrechnung_KAE!$AK$7,MD_JAHR,0),0)*$H1841,IF(J1841>0,AC1841,I1841))","v":{"v":0,"d":"0.00"}},null,{"$f":"OFFSET(MD!$P$5,MATCH($AK$7,MD_JAHR,0),0)*12","v":{"$error":"#VALUE!"}},{"v":0,"d":"0.00"}]
[{"$nulls":14},{"$f":"IF($B1842=\"\",\"\",IF(F1842=\"Arbeitgeberähnliche Stellung\",OFFSET(MD!$Q$5,MATCH(Grundlagen_Abrechnung_KAE!$AK$7,MD_JAHR,0),0)*$H1842,IF(((AD1842/12*M1842*12)+N1842)>AF1842,AF1842/12,((AD1842/12*M1842*12)+N1842)/12)))","v":""},null,null,{"v":0,"d":"0.00"},null,{"v":0,"d":"0.00%"},{"v":0,"d":"0.00"},{"v":0,"d":"0.00"},{"v":0,"d":"0.00"},null,"prüfen",{"$f":"IFERROR(OFFSET(MD!$U$5,MATCH(Grundlagen_Abrechnung_KAE!$E1842,MD_GENDER,0),0),\"\")","v":""},{"v":0,"d":"0.00"},null,{"v":0,"d":"0.00"},{"$f":"IF(F1842=\"Arbeitgeberähnliche Stellung\",OFFSET(MD!$Q$5,MATCH(Grundlagen_Abrechnung_KAE!$AK$7,MD_JAHR,0),0)*$H1842,IF(J1842>0,AC1842,I1842))","v":{"v":0,"d":"0.00"}},null,{"$f":"OFFSET(MD!$P$5,MATCH($AK$7,MD_JAHR,0),0)*12","v":{"$error":"#VALUE!"}},{"v":0,"d":"0.00"}]
[{"$nulls":14},{"$f":"IF($B1843=\"\",\"\",IF(F1843=\"Arbeitgeberähnliche Stellung\",OFFSET(MD!$Q$5,MATCH(Grundlagen_Abrechnung_KAE!$AK$7,MD_JAHR,0),0)*$H1843,IF(((AD1843/12*M1843*12)+N1843)>AF1843,AF1843/12,((AD1843/12*M1843*12)+N1843)/12)))","v":""},null,null,{"v":0,"d":"0.00"},null,{"v":0,"d":"0.00%"},{"v":0,"d":"0.00"},{"v":0,"d":"0.00"},{"v":0,"d":"0.00"},null,"prüfen",{"$f":"IFERROR(OFFSET(MD!$U$5,MATCH(Grundlagen_Abrechnung_KAE!$E1843,MD_GENDER,0),0),\"\")","v":""},{"v":0,"d":"0.00"},null,{"v":0,"d":"0.00"},{"$f":"IF(F1843=\"Arbeitgeberähnliche Stellung\",OFFSET(MD!$Q$5,MATCH(Grundlagen_Abrechnung_KAE!$AK$7,MD_JAHR,0),0)*$H1843,IF(J1843>0,AC1843,I1843))","v":{"v":0,"d":"0.00"}},null,{"$f":"OFFSET(MD!$P$5,MATCH($AK$7,MD_JAHR,0),0)*12","v":{"$error":"#VALUE!"}},{"v":0,"d":"0.00"}]
[{"$nulls":14},{"$f":"IF($B1844=\"\",\"\",IF(F1844=\"Arbeitgeberähnliche Stellung\",OFFSET(MD!$Q$5,MATCH(Grundlagen_Abrechnung_KAE!$AK$7,MD_JAHR,0),0)*$H1844,IF(((AD1844/12*M1844*12)+N1844)>AF1844,AF1844/12,((AD1844/12*M1844*12)+N1844)/12)))","v":""},null,null,{"v":0,"d":"0.00"},null,{"v":0,"d":"0.00%"},{"v":0,"d":"0.00"},{"v":0,"d":"0.00"},{"v":0,"d":"0.00"},null,"prüfen",{"$f":"IFERROR(OFFSET(MD!$U$5,MATCH(Grundlagen_Abrechnung_KAE!$E1844,MD_GENDER,0),0),\"\")","v":""},{"v":0,"d":"0.00"},null,{"v":0,"d":"0.00"},{"$f":"IF(F1844=\"Arbeitgeberähnliche Stellung\",OFFSET(MD!$Q$5,MATCH(Grundlagen_Abrechnung_KAE!$AK$7,MD_JAHR,0),0)*$H1844,IF(J1844>0,AC1844,I1844))","v":{"v":0,"d":"0.00"}},null,{"$f":"OFFSET(MD!$P$5,MATCH($AK$7,MD_JAHR,0),0)*12","v":{"$error":"#VALUE!"}},{"v":0,"d":"0.00"}]
[{"$nulls":14},{"$f":"IF($B1845=\"\",\"\",IF(F1845=\"Arbeitgeberähnliche Stellung\",OFFSET(MD!$Q$5,MATCH(Grundlagen_Abrechnung_KAE!$AK$7,MD_JAHR,0),0)*$H1845,IF(((AD1845/12*M1845*12)+N1845)>AF1845,AF1845/12,((AD1845/12*M1845*12)+N1845)/12)))","v":""},null,null,{"v":0,"d":"0.00"},null,{"v":0,"d":"0.00%"},{"v":0,"d":"0.00"},{"v":0,"d":"0.00"},{"v":0,"d":"0.00"},null,"prüfen",{"$f":"IFERROR(OFFSET(MD!$U$5,MATCH(Grundlagen_Abrechnung_KAE!$E1845,MD_GENDER,0),0),\"\")","v":""},{"v":0,"d":"0.00"},null,{"v":0,"d":"0.00"},{"$f":"IF(F1845=\"Arbeitgeberähnliche Stellung\",OFFSET(MD!$Q$5,MATCH(Grundlagen_Abrechnung_KAE!$AK$7,MD_JAHR,0),0)*$H1845,IF(J1845>0,AC1845,I1845))","v":{"v":0,"d":"0.00"}},null,{"$f":"OFFSET(MD!$P$5,MATCH($AK$7,MD_JAHR,0),0)*12","v":{"$error":"#VALUE!"}},{"v":0,"d":"0.00"}]
[{"$nulls":14},{"$f":"IF($B1846=\"\",\"\",IF(F1846=\"Arbeitgeberähnliche Stellung\",OFFSET(MD!$Q$5,MATCH(Grundlagen_Abrechnung_KAE!$AK$7,MD_JAHR,0),0)*$H1846,IF(((AD1846/12*M1846*12)+N1846)>AF1846,AF1846/12,((AD1846/12*M1846*12)+N1846)/12)))","v":""},null,null,{"v":0,"d":"0.00"},null,{"v":0,"d":"0.00%"},{"v":0,"d":"0.00"},{"v":0,"d":"0.00"},{"v":0,"d":"0.00"},null,"prüfen",{"$f":"IFERROR(OFFSET(MD!$U$5,MATCH(Grundlagen_Abrechnung_KAE!$E1846,MD_GENDER,0),0),\"\")","v":""},{"v":0,"d":"0.00"},null,{"v":0,"d":"0.00"},{"$f":"IF(F1846=\"Arbeitgeberähnliche Stellung\",OFFSET(MD!$Q$5,MATCH(Grundlagen_Abrechnung_KAE!$AK$7,MD_JAHR,0),0)*$H1846,IF(J1846>0,AC1846,I1846))","v":{"v":0,"d":"0.00"}},null,{"$f":"OFFSET(MD!$P$5,MATCH($AK$7,MD_JAHR,0),0)*12","v":{"$error":"#VALUE!"}},{"v":0,"d":"0.00"}]
[{"$nulls":14},{"$f":"IF($B1847=\"\",\"\",IF(F1847=\"Arbeitgeberähnliche Stellung\",OFFSET(MD!$Q$5,MATCH(Grundlagen_Abrechnung_KAE!$AK$7,MD_JAHR,0),0)*$H1847,IF(((AD1847/12*M1847*12)+N1847)>AF1847,AF1847/12,((AD1847/12*M1847*12)+N1847)/12)))","v":""},null,null,{"v":0,"d":"0.00"},null,{"v":0,"d":"0.00%"},{"v":0,"d":"0.00"},{"v":0,"d":"0.00"},{"v":0,"d":"0.00"},null,"prüfen",{"$f":"IFERROR(OFFSET(MD!$U$5,MATCH(Grundlagen_Abrechnung_KAE!$E1847,MD_GENDER,0),0),\"\")","v":""},{"v":0,"d":"0.00"},null,{"v":0,"d":"0.00"},{"$f":"IF(F1847=\"Arbeitgeberähnliche Stellung\",OFFSET(MD!$Q$5,MATCH(Grundlagen_Abrechnung_KAE!$AK$7,MD_JAHR,0),0)*$H1847,IF(J1847>0,AC1847,I1847))","v":{"v":0,"d":"0.00"}},null,{"$f":"OFFSET(MD!$P$5,MATCH($AK$7,MD_JAHR,0),0)*12","v":{"$error":"#VALUE!"}},{"v":0,"d":"0.00"}]
[{"$nulls":14},{"$f":"IF($B1848=\"\",\"\",IF(F1848=\"Arbeitgeberähnliche Stellung\",OFFSET(MD!$Q$5,MATCH(Grundlagen_Abrechnung_KAE!$AK$7,MD_JAHR,0),0)*$H1848,IF(((AD1848/12*M1848*12)+N1848)>AF1848,AF1848/12,((AD1848/12*M1848*12)+N1848)/12)))","v":""},null,null,{"v":0,"d":"0.00"},null,{"v":0,"d":"0.00%"},{"v":0,"d":"0.00"},{"v":0,"d":"0.00"},{"v":0,"d":"0.00"},null,"prüfen",{"$f":"IFERROR(OFFSET(MD!$U$5,MATCH(Grundlagen_Abrechnung_KAE!$E1848,MD_GENDER,0),0),\"\")","v":""},{"v":0,"d":"0.00"},null,{"v":0,"d":"0.00"},{"$f":"IF(F1848=\"Arbeitgeberähnliche Stellung\",OFFSET(MD!$Q$5,MATCH(Grundlagen_Abrechnung_KAE!$AK$7,MD_JAHR,0),0)*$H1848,IF(J1848>0,AC1848,I1848))","v":{"v":0,"d":"0.00"}},null,{"$f":"OFFSET(MD!$P$5,MATCH($AK$7,MD_JAHR,0),0)*12","v":{"$error":"#VALUE!"}},{"v":0,"d":"0.00"}]
[{"$nulls":14},{"$f":"IF($B1849=\"\",\"\",IF(F1849=\"Arbeitgeberähnliche Stellung\",OFFSET(MD!$Q$5,MATCH(Grundlagen_Abrechnung_KAE!$AK$7,MD_JAHR,0),0)*$H1849,IF(((AD1849/12*M1849*12)+N1849)>AF1849,AF1849/12,((AD1849/12*M1849*12)+N1849)/12)))","v":""},null,null,{"v":0,"d":"0.00"},null,{"v":0,"d":"0.00%"},{"v":0,"d":"0.00"},{"v":0,"d":"0.00"},{"v":0,"d":"0.00"},null,"prüfen",{"$f":"IFERROR(OFFSET(MD!$U$5,MATCH(Grundlagen_Abrechnung_KAE!$E1849,MD_GENDER,0),0),\"\")","v":""},{"v":0,"d":"0.00"},null,{"v":0,"d":"0.00"},{"$f":"IF(F1849=\"Arbeitgeberähnliche Stellung\",OFFSET(MD!$Q$5,MATCH(Grundlagen_Abrechnung_KAE!$AK$7,MD_JAHR,0),0)*$H1849,IF(J1849>0,AC1849,I1849))","v":{"v":0,"d":"0.00"}},null,{"$f":"OFFSET(MD!$P$5,MATCH($AK$7,MD_JAHR,0),0)*12","v":{"$error":"#VALUE!"}},{"v":0,"d":"0.00"}]
[{"$nulls":14},{"$f":"IF($B1850=\"\",\"\",IF(F1850=\"Arbeitgeberähnliche Stellung\",OFFSET(MD!$Q$5,MATCH(Grundlagen_Abrechnung_KAE!$AK$7,MD_JAHR,0),0)*$H1850,IF(((AD1850/12*M1850*12)+N1850)>AF1850,AF1850/12,((AD1850/12*M1850*12)+N1850)/12)))","v":""},null,null,{"v":0,"d":"0.00"},null,{"v":0,"d":"0.00%"},{"v":0,"d":"0.00"},{"v":0,"d":"0.00"},{"v":0,"d":"0.00"},null,"prüfen",{"$f":"IFERROR(OFFSET(MD!$U$5,MATCH(Grundlagen_Abrechnung_KAE!$E1850,MD_GENDER,0),0),\"\")","v":""},{"v":0,"d":"0.00"},null,{"v":0,"d":"0.00"},{"$f":"IF(F1850=\"Arbeitgeberähnliche Stellung\",OFFSET(MD!$Q$5,MATCH(Grundlagen_Abrechnung_KAE!$AK$7,MD_JAHR,0),0)*$H1850,IF(J1850>0,AC1850,I1850))","v":{"v":0,"d":"0.00"}},null,{"$f":"OFFSET(MD!$P$5,MATCH($AK$7,MD_JAHR,0),0)*12","v":{"$error":"#VALUE!"}},{"v":0,"d":"0.00"}]
[{"$nulls":14},{"$f":"IF($B1851=\"\",\"\",IF(F1851=\"Arbeitgeberähnliche Stellung\",OFFSET(MD!$Q$5,MATCH(Grundlagen_Abrechnung_KAE!$AK$7,MD_JAHR,0),0)*$H1851,IF(((AD1851/12*M1851*12)+N1851)>AF1851,AF1851/12,((AD1851/12*M1851*12)+N1851)/12)))","v":""},null,null,{"v":0,"d":"0.00"},null,{"v":0,"d":"0.00%"},{"v":0,"d":"0.00"},{"v":0,"d":"0.00"},{"v":0,"d":"0.00"},null,"prüfen",{"$f":"IFERROR(OFFSET(MD!$U$5,MATCH(Grundlagen_Abrechnung_KAE!$E1851,MD_GENDER,0),0),\"\")","v":""},{"v":0,"d":"0.00"},null,{"v":0,"d":"0.00"},{"$f":"IF(F1851=\"Arbeitgeberähnliche Stellung\",OFFSET(MD!$Q$5,MATCH(Grundlagen_Abrechnung_KAE!$AK$7,MD_JAHR,0),0)*$H1851,IF(J1851>0,AC1851,I1851))","v":{"v":0,"d":"0.00"}},null,{"$f":"OFFSET(MD!$P$5,MATCH($AK$7,MD_JAHR,0),0)*12","v":{"$error":"#VALUE!"}},{"v":0,"d":"0.00"}]
[{"$nulls":14},{"$f":"IF($B1852=\"\",\"\",IF(F1852=\"Arbeitgeberähnliche Stellung\",OFFSET(MD!$Q$5,MATCH(Grundlagen_Abrechnung_KAE!$AK$7,MD_JAHR,0),0)*$H1852,IF(((AD1852/12*M1852*12)+N1852)>AF1852,AF1852/12,((AD1852/12*M1852*12)+N1852)/12)))","v":""},null,null,{"v":0,"d":"0.00"},null,{"v":0,"d":"0.00%"},{"v":0,"d":"0.00"},{"v":0,"d":"0.00"},{"v":0,"d":"0.00"},null,"prüfen",{"$f":"IFERROR(OFFSET(MD!$U$5,MATCH(Grundlagen_Abrechnung_KAE!$E1852,MD_GENDER,0),0),\"\")","v":""},{"v":0,"d":"0.00"},null,{"v":0,"d":"0.00"},{"$f":"IF(F1852=\"Arbeitgeberähnliche Stellung\",OFFSET(MD!$Q$5,MATCH(Grundlagen_Abrechnung_KAE!$AK$7,MD_JAHR,0),0)*$H1852,IF(J1852>0,AC1852,I1852))","v":{"v":0,"d":"0.00"}},null,{"$f":"OFFSET(MD!$P$5,MATCH($AK$7,MD_JAHR,0),0)*12","v":{"$error":"#VALUE!"}},{"v":0,"d":"0.00"}]
[{"$nulls":14},{"$f":"IF($B1853=\"\",\"\",IF(F1853=\"Arbeitgeberähnliche Stellung\",OFFSET(MD!$Q$5,MATCH(Grundlagen_Abrechnung_KAE!$AK$7,MD_JAHR,0),0)*$H1853,IF(((AD1853/12*M1853*12)+N1853)>AF1853,AF1853/12,((AD1853/12*M1853*12)+N1853)/12)))","v":""},null,null,{"v":0,"d":"0.00"},null,{"v":0,"d":"0.00%"},{"v":0,"d":"0.00"},{"v":0,"d":"0.00"},{"v":0,"d":"0.00"},null,"prüfen",{"$f":"IFERROR(OFFSET(MD!$U$5,MATCH(Grundlagen_Abrechnung_KAE!$E1853,MD_GENDER,0),0),\"\")","v":""},{"v":0,"d":"0.00"},null,{"v":0,"d":"0.00"},{"$f":"IF(F1853=\"Arbeitgeberähnliche Stellung\",OFFSET(MD!$Q$5,MATCH(Grundlagen_Abrechnung_KAE!$AK$7,MD_JAHR,0),0)*$H1853,IF(J1853>0,AC1853,I1853))","v":{"v":0,"d":"0.00"}},null,{"$f":"OFFSET(MD!$P$5,MATCH($AK$7,MD_JAHR,0),0)*12","v":{"$error":"#VALUE!"}},{"v":0,"d":"0.00"}]
[{"$nulls":14},{"$f":"IF($B1854=\"\",\"\",IF(F1854=\"Arbeitgeberähnliche Stellung\",OFFSET(MD!$Q$5,MATCH(Grundlagen_Abrechnung_KAE!$AK$7,MD_JAHR,0),0)*$H1854,IF(((AD1854/12*M1854*12)+N1854)>AF1854,AF1854/12,((AD1854/12*M1854*12)+N1854)/12)))","v":""},null,null,{"v":0,"d":"0.00"},null,{"v":0,"d":"0.00%"},{"v":0,"d":"0.00"},{"v":0,"d":"0.00"},{"v":0,"d":"0.00"},null,"prüfen",{"$f":"IFERROR(OFFSET(MD!$U$5,MATCH(Grundlagen_Abrechnung_KAE!$E1854,MD_GENDER,0),0),\"\")","v":""},{"v":0,"d":"0.00"},null,{"v":0,"d":"0.00"},{"$f":"IF(F1854=\"Arbeitgeberähnliche Stellung\",OFFSET(MD!$Q$5,MATCH(Grundlagen_Abrechnung_KAE!$AK$7,MD_JAHR,0),0)*$H1854,IF(J1854>0,AC1854,I1854))","v":{"v":0,"d":"0.00"}},null,{"$f":"OFFSET(MD!$P$5,MATCH($AK$7,MD_JAHR,0),0)*12","v":{"$error":"#VALUE!"}},{"v":0,"d":"0.00"}]
[{"$nulls":14},{"$f":"IF($B1855=\"\",\"\",IF(F1855=\"Arbeitgeberähnliche Stellung\",OFFSET(MD!$Q$5,MATCH(Grundlagen_Abrechnung_KAE!$AK$7,MD_JAHR,0),0)*$H1855,IF(((AD1855/12*M1855*12)+N1855)>AF1855,AF1855/12,((AD1855/12*M1855*12)+N1855)/12)))","v":""},null,null,{"v":0,"d":"0.00"},null,{"v":0,"d":"0.00%"},{"v":0,"d":"0.00"},{"v":0,"d":"0.00"},{"v":0,"d":"0.00"},null,"prüfen",{"$f":"IFERROR(OFFSET(MD!$U$5,MATCH(Grundlagen_Abrechnung_KAE!$E1855,MD_GENDER,0),0),\"\")","v":""},{"v":0,"d":"0.00"},null,{"v":0,"d":"0.00"},{"$f":"IF(F1855=\"Arbeitgeberähnliche Stellung\",OFFSET(MD!$Q$5,MATCH(Grundlagen_Abrechnung_KAE!$AK$7,MD_JAHR,0),0)*$H1855,IF(J1855>0,AC1855,I1855))","v":{"v":0,"d":"0.00"}},null,{"$f":"OFFSET(MD!$P$5,MATCH($AK$7,MD_JAHR,0),0)*12","v":{"$error":"#VALUE!"}},{"v":0,"d":"0.00"}]
[{"$nulls":14},{"$f":"IF($B1856=\"\",\"\",IF(F1856=\"Arbeitgeberähnliche Stellung\",OFFSET(MD!$Q$5,MATCH(Grundlagen_Abrechnung_KAE!$AK$7,MD_JAHR,0),0)*$H1856,IF(((AD1856/12*M1856*12)+N1856)>AF1856,AF1856/12,((AD1856/12*M1856*12)+N1856)/12)))","v":""},null,null,{"v":0,"d":"0.00"},null,{"v":0,"d":"0.00%"},{"v":0,"d":"0.00"},{"v":0,"d":"0.00"},{"v":0,"d":"0.00"},null,"prüfen",{"$f":"IFERROR(OFFSET(MD!$U$5,MATCH(Grundlagen_Abrechnung_KAE!$E1856,MD_GENDER,0),0),\"\")","v":""},{"v":0,"d":"0.00"},null,{"v":0,"d":"0.00"},{"$f":"IF(F1856=\"Arbeitgeberähnliche Stellung\",OFFSET(MD!$Q$5,MATCH(Grundlagen_Abrechnung_KAE!$AK$7,MD_JAHR,0),0)*$H1856,IF(J1856>0,AC1856,I1856))","v":{"v":0,"d":"0.00"}},null,{"$f":"OFFSET(MD!$P$5,MATCH($AK$7,MD_JAHR,0),0)*12","v":{"$error":"#VALUE!"}},{"v":0,"d":"0.00"}]
[{"$nulls":14},{"$f":"IF($B1857=\"\",\"\",IF(F1857=\"Arbeitgeberähnliche Stellung\",OFFSET(MD!$Q$5,MATCH(Grundlagen_Abrechnung_KAE!$AK$7,MD_JAHR,0),0)*$H1857,IF(((AD1857/12*M1857*12)+N1857)>AF1857,AF1857/12,((AD1857/12*M1857*12)+N1857)/12)))","v":""},null,null,{"v":0,"d":"0.00"},null,{"v":0,"d":"0.00%"},{"v":0,"d":"0.00"},{"v":0,"d":"0.00"},{"v":0,"d":"0.00"},null,"prüfen",{"$f":"IFERROR(OFFSET(MD!$U$5,MATCH(Grundlagen_Abrechnung_KAE!$E1857,MD_GENDER,0),0),\"\")","v":""},{"v":0,"d":"0.00"},null,{"v":0,"d":"0.00"},{"$f":"IF(F1857=\"Arbeitgeberähnliche Stellung\",OFFSET(MD!$Q$5,MATCH(Grundlagen_Abrechnung_KAE!$AK$7,MD_JAHR,0),0)*$H1857,IF(J1857>0,AC1857,I1857))","v":{"v":0,"d":"0.00"}},null,{"$f":"OFFSET(MD!$P$5,MATCH($AK$7,MD_JAHR,0),0)*12","v":{"$error":"#VALUE!"}},{"v":0,"d":"0.00"}]
[{"$nulls":14},{"$f":"IF($B1858=\"\",\"\",IF(F1858=\"Arbeitgeberähnliche Stellung\",OFFSET(MD!$Q$5,MATCH(Grundlagen_Abrechnung_KAE!$AK$7,MD_JAHR,0),0)*$H1858,IF(((AD1858/12*M1858*12)+N1858)>AF1858,AF1858/12,((AD1858/12*M1858*12)+N1858)/12)))","v":""},null,null,{"v":0,"d":"0.00"},null,{"v":0,"d":"0.00%"},{"v":0,"d":"0.00"},{"v":0,"d":"0.00"},{"v":0,"d":"0.00"},null,"prüfen",{"$f":"IFERROR(OFFSET(MD!$U$5,MATCH(Grundlagen_Abrechnung_KAE!$E1858,MD_GENDER,0),0),\"\")","v":""},{"v":0,"d":"0.00"},null,{"v":0,"d":"0.00"},{"$f":"IF(F1858=\"Arbeitgeberähnliche Stellung\",OFFSET(MD!$Q$5,MATCH(Grundlagen_Abrechnung_KAE!$AK$7,MD_JAHR,0),0)*$H1858,IF(J1858>0,AC1858,I1858))","v":{"v":0,"d":"0.00"}},null,{"$f":"OFFSET(MD!$P$5,MATCH($AK$7,MD_JAHR,0),0)*12","v":{"$error":"#VALUE!"}},{"v":0,"d":"0.00"}]
[{"$nulls":14},{"$f":"IF($B1859=\"\",\"\",IF(F1859=\"Arbeitgeberähnliche Stellung\",OFFSET(MD!$Q$5,MATCH(Grundlagen_Abrechnung_KAE!$AK$7,MD_JAHR,0),0)*$H1859,IF(((AD1859/12*M1859*12)+N1859)>AF1859,AF1859/12,((AD1859/12*M1859*12)+N1859)/12)))","v":""},null,null,{"v":0,"d":"0.00"},null,{"v":0,"d":"0.00%"},{"v":0,"d":"0.00"},{"v":0,"d":"0.00"},{"v":0,"d":"0.00"},null,"prüfen",{"$f":"IFERROR(OFFSET(MD!$U$5,MATCH(Grundlagen_Abrechnung_KAE!$E1859,MD_GENDER,0),0),\"\")","v":""},{"v":0,"d":"0.00"},null,{"v":0,"d":"0.00"},{"$f":"IF(F1859=\"Arbeitgeberähnliche Stellung\",OFFSET(MD!$Q$5,MATCH(Grundlagen_Abrechnung_KAE!$AK$7,MD_JAHR,0),0)*$H1859,IF(J1859>0,AC1859,I1859))","v":{"v":0,"d":"0.00"}},null,{"$f":"OFFSET(MD!$P$5,MATCH($AK$7,MD_JAHR,0),0)*12","v":{"$error":"#VALUE!"}},{"v":0,"d":"0.00"}]
[{"$nulls":14},{"$f":"IF($B1860=\"\",\"\",IF(F1860=\"Arbeitgeberähnliche Stellung\",OFFSET(MD!$Q$5,MATCH(Grundlagen_Abrechnung_KAE!$AK$7,MD_JAHR,0),0)*$H1860,IF(((AD1860/12*M1860*12)+N1860)>AF1860,AF1860/12,((AD1860/12*M1860*12)+N1860)/12)))","v":""},null,null,{"v":0,"d":"0.00"},null,{"v":0,"d":"0.00%"},{"v":0,"d":"0.00"},{"v":0,"d":"0.00"},{"v":0,"d":"0.00"},null,"prüfen",{"$f":"IFERROR(OFFSET(MD!$U$5,MATCH(Grundlagen_Abrechnung_KAE!$E1860,MD_GENDER,0),0),\"\")","v":""},{"v":0,"d":"0.00"},null,{"v":0,"d":"0.00"},{"$f":"IF(F1860=\"Arbeitgeberähnliche Stellung\",OFFSET(MD!$Q$5,MATCH(Grundlagen_Abrechnung_KAE!$AK$7,MD_JAHR,0),0)*$H1860,IF(J1860>0,AC1860,I1860))","v":{"v":0,"d":"0.00"}},null,{"$f":"OFFSET(MD!$P$5,MATCH($AK$7,MD_JAHR,0),0)*12","v":{"$error":"#VALUE!"}},{"v":0,"d":"0.00"}]
[{"$nulls":14},{"$f":"IF($B1861=\"\",\"\",IF(F1861=\"Arbeitgeberähnliche Stellung\",OFFSET(MD!$Q$5,MATCH(Grundlagen_Abrechnung_KAE!$AK$7,MD_JAHR,0),0)*$H1861,IF(((AD1861/12*M1861*12)+N1861)>AF1861,AF1861/12,((AD1861/12*M1861*12)+N1861)/12)))","v":""},null,null,{"v":0,"d":"0.00"},null,{"v":0,"d":"0.00%"},{"v":0,"d":"0.00"},{"v":0,"d":"0.00"},{"v":0,"d":"0.00"},null,"prüfen",{"$f":"IFERROR(OFFSET(MD!$U$5,MATCH(Grundlagen_Abrechnung_KAE!$E1861,MD_GENDER,0),0),\"\")","v":""},{"v":0,"d":"0.00"},null,{"v":0,"d":"0.00"},{"$f":"IF(F1861=\"Arbeitgeberähnliche Stellung\",OFFSET(MD!$Q$5,MATCH(Grundlagen_Abrechnung_KAE!$AK$7,MD_JAHR,0),0)*$H1861,IF(J1861>0,AC1861,I1861))","v":{"v":0,"d":"0.00"}},null,{"$f":"OFFSET(MD!$P$5,MATCH($AK$7,MD_JAHR,0),0)*12","v":{"$error":"#VALUE!"}},{"v":0,"d":"0.00"}]
[{"$nulls":14},{"$f":"IF($B1862=\"\",\"\",IF(F1862=\"Arbeitgeberähnliche Stellung\",OFFSET(MD!$Q$5,MATCH(Grundlagen_Abrechnung_KAE!$AK$7,MD_JAHR,0),0)*$H1862,IF(((AD1862/12*M1862*12)+N1862)>AF1862,AF1862/12,((AD1862/12*M1862*12)+N1862)/12)))","v":""},null,null,{"v":0,"d":"0.00"},null,{"v":0,"d":"0.00%"},{"v":0,"d":"0.00"},{"v":0,"d":"0.00"},{"v":0,"d":"0.00"},null,"prüfen",{"$f":"IFERROR(OFFSET(MD!$U$5,MATCH(Grundlagen_Abrechnung_KAE!$E1862,MD_GENDER,0),0),\"\")","v":""},{"v":0,"d":"0.00"},null,{"v":0,"d":"0.00"},{"$f":"IF(F1862=\"Arbeitgeberähnliche Stellung\",OFFSET(MD!$Q$5,MATCH(Grundlagen_Abrechnung_KAE!$AK$7,MD_JAHR,0),0)*$H1862,IF(J1862>0,AC1862,I1862))","v":{"v":0,"d":"0.00"}},null,{"$f":"OFFSET(MD!$P$5,MATCH($AK$7,MD_JAHR,0),0)*12","v":{"$error":"#VALUE!"}},{"v":0,"d":"0.00"}]
[{"$nulls":14},{"$f":"IF($B1863=\"\",\"\",IF(F1863=\"Arbeitgeberähnliche Stellung\",OFFSET(MD!$Q$5,MATCH(Grundlagen_Abrechnung_KAE!$AK$7,MD_JAHR,0),0)*$H1863,IF(((AD1863/12*M1863*12)+N1863)>AF1863,AF1863/12,((AD1863/12*M1863*12)+N1863)/12)))","v":""},null,null,{"v":0,"d":"0.00"},null,{"v":0,"d":"0.00%"},{"v":0,"d":"0.00"},{"v":0,"d":"0.00"},{"v":0,"d":"0.00"},null,"prüfen",{"$f":"IFERROR(OFFSET(MD!$U$5,MATCH(Grundlagen_Abrechnung_KAE!$E1863,MD_GENDER,0),0),\"\")","v":""},{"v":0,"d":"0.00"},null,{"v":0,"d":"0.00"},{"$f":"IF(F1863=\"Arbeitgeberähnliche Stellung\",OFFSET(MD!$Q$5,MATCH(Grundlagen_Abrechnung_KAE!$AK$7,MD_JAHR,0),0)*$H1863,IF(J1863>0,AC1863,I1863))","v":{"v":0,"d":"0.00"}},null,{"$f":"OFFSET(MD!$P$5,MATCH($AK$7,MD_JAHR,0),0)*12","v":{"$error":"#VALUE!"}},{"v":0,"d":"0.00"}]
[{"$nulls":14},{"$f":"IF($B1864=\"\",\"\",IF(F1864=\"Arbeitgeberähnliche Stellung\",OFFSET(MD!$Q$5,MATCH(Grundlagen_Abrechnung_KAE!$AK$7,MD_JAHR,0),0)*$H1864,IF(((AD1864/12*M1864*12)+N1864)>AF1864,AF1864/12,((AD1864/12*M1864*12)+N1864)/12)))","v":""},null,null,{"v":0,"d":"0.00"},null,{"v":0,"d":"0.00%"},{"v":0,"d":"0.00"},{"v":0,"d":"0.00"},{"v":0,"d":"0.00"},null,"prüfen",{"$f":"IFERROR(OFFSET(MD!$U$5,MATCH(Grundlagen_Abrechnung_KAE!$E1864,MD_GENDER,0),0),\"\")","v":""},{"v":0,"d":"0.00"},null,{"v":0,"d":"0.00"},{"$f":"IF(F1864=\"Arbeitgeberähnliche Stellung\",OFFSET(MD!$Q$5,MATCH(Grundlagen_Abrechnung_KAE!$AK$7,MD_JAHR,0),0)*$H1864,IF(J1864>0,AC1864,I1864))","v":{"v":0,"d":"0.00"}},null,{"$f":"OFFSET(MD!$P$5,MATCH($AK$7,MD_JAHR,0),0)*12","v":{"$error":"#VALUE!"}},{"v":0,"d":"0.00"}]
[{"$nulls":14},{"$f":"IF($B1865=\"\",\"\",IF(F1865=\"Arbeitgeberähnliche Stellung\",OFFSET(MD!$Q$5,MATCH(Grundlagen_Abrechnung_KAE!$AK$7,MD_JAHR,0),0)*$H1865,IF(((AD1865/12*M1865*12)+N1865)>AF1865,AF1865/12,((AD1865/12*M1865*12)+N1865)/12)))","v":""},null,null,{"v":0,"d":"0.00"},null,{"v":0,"d":"0.00%"},{"v":0,"d":"0.00"},{"v":0,"d":"0.00"},{"v":0,"d":"0.00"},null,"prüfen",{"$f":"IFERROR(OFFSET(MD!$U$5,MATCH(Grundlagen_Abrechnung_KAE!$E1865,MD_GENDER,0),0),\"\")","v":""},{"v":0,"d":"0.00"},null,{"v":0,"d":"0.00"},{"$f":"IF(F1865=\"Arbeitgeberähnliche Stellung\",OFFSET(MD!$Q$5,MATCH(Grundlagen_Abrechnung_KAE!$AK$7,MD_JAHR,0),0)*$H1865,IF(J1865>0,AC1865,I1865))","v":{"v":0,"d":"0.00"}},null,{"$f":"OFFSET(MD!$P$5,MATCH($AK$7,MD_JAHR,0),0)*12","v":{"$error":"#VALUE!"}},{"v":0,"d":"0.00"}]
[{"$nulls":14},{"$f":"IF($B1866=\"\",\"\",IF(F1866=\"Arbeitgeberähnliche Stellung\",OFFSET(MD!$Q$5,MATCH(Grundlagen_Abrechnung_KAE!$AK$7,MD_JAHR,0),0)*$H1866,IF(((AD1866/12*M1866*12)+N1866)>AF1866,AF1866/12,((AD1866/12*M1866*12)+N1866)/12)))","v":""},null,null,{"v":0,"d":"0.00"},null,{"v":0,"d":"0.00%"},{"v":0,"d":"0.00"},{"v":0,"d":"0.00"},{"v":0,"d":"0.00"},null,"prüfen",{"$f":"IFERROR(OFFSET(MD!$U$5,MATCH(Grundlagen_Abrechnung_KAE!$E1866,MD_GENDER,0),0),\"\")","v":""},{"v":0,"d":"0.00"},null,{"v":0,"d":"0.00"},{"$f":"IF(F1866=\"Arbeitgeberähnliche Stellung\",OFFSET(MD!$Q$5,MATCH(Grundlagen_Abrechnung_KAE!$AK$7,MD_JAHR,0),0)*$H1866,IF(J1866>0,AC1866,I1866))","v":{"v":0,"d":"0.00"}},null,{"$f":"OFFSET(MD!$P$5,MATCH($AK$7,MD_JAHR,0),0)*12","v":{"$error":"#VALUE!"}},{"v":0,"d":"0.00"}]
[{"$nulls":14},{"$f":"IF($B1867=\"\",\"\",IF(F1867=\"Arbeitgeberähnliche Stellung\",OFFSET(MD!$Q$5,MATCH(Grundlagen_Abrechnung_KAE!$AK$7,MD_JAHR,0),0)*$H1867,IF(((AD1867/12*M1867*12)+N1867)>AF1867,AF1867/12,((AD1867/12*M1867*12)+N1867)/12)))","v":""},null,null,{"v":0,"d":"0.00"},null,{"v":0,"d":"0.00%"},{"v":0,"d":"0.00"},{"v":0,"d":"0.00"},{"v":0,"d":"0.00"},null,"prüfen",{"$f":"IFERROR(OFFSET(MD!$U$5,MATCH(Grundlagen_Abrechnung_KAE!$E1867,MD_GENDER,0),0),\"\")","v":""},{"v":0,"d":"0.00"},null,{"v":0,"d":"0.00"},{"$f":"IF(F1867=\"Arbeitgeberähnliche Stellung\",OFFSET(MD!$Q$5,MATCH(Grundlagen_Abrechnung_KAE!$AK$7,MD_JAHR,0),0)*$H1867,IF(J1867>0,AC1867,I1867))","v":{"v":0,"d":"0.00"}},null,{"$f":"OFFSET(MD!$P$5,MATCH($AK$7,MD_JAHR,0),0)*12","v":{"$error":"#VALUE!"}},{"v":0,"d":"0.00"}]
[{"$nulls":14},{"$f":"IF($B1868=\"\",\"\",IF(F1868=\"Arbeitgeberähnliche Stellung\",OFFSET(MD!$Q$5,MATCH(Grundlagen_Abrechnung_KAE!$AK$7,MD_JAHR,0),0)*$H1868,IF(((AD1868/12*M1868*12)+N1868)>AF1868,AF1868/12,((AD1868/12*M1868*12)+N1868)/12)))","v":""},null,null,{"v":0,"d":"0.00"},null,{"v":0,"d":"0.00%"},{"v":0,"d":"0.00"},{"v":0,"d":"0.00"},{"v":0,"d":"0.00"},null,"prüfen",{"$f":"IFERROR(OFFSET(MD!$U$5,MATCH(Grundlagen_Abrechnung_KAE!$E1868,MD_GENDER,0),0),\"\")","v":""},{"v":0,"d":"0.00"},null,{"v":0,"d":"0.00"},{"$f":"IF(F1868=\"Arbeitgeberähnliche Stellung\",OFFSET(MD!$Q$5,MATCH(Grundlagen_Abrechnung_KAE!$AK$7,MD_JAHR,0),0)*$H1868,IF(J1868>0,AC1868,I1868))","v":{"v":0,"d":"0.00"}},null,{"$f":"OFFSET(MD!$P$5,MATCH($AK$7,MD_JAHR,0),0)*12","v":{"$error":"#VALUE!"}},{"v":0,"d":"0.00"}]
[{"$nulls":14},{"$f":"IF($B1869=\"\",\"\",IF(F1869=\"Arbeitgeberähnliche Stellung\",OFFSET(MD!$Q$5,MATCH(Grundlagen_Abrechnung_KAE!$AK$7,MD_JAHR,0),0)*$H1869,IF(((AD1869/12*M1869*12)+N1869)>AF1869,AF1869/12,((AD1869/12*M1869*12)+N1869)/12)))","v":""},null,null,{"v":0,"d":"0.00"},null,{"v":0,"d":"0.00%"},{"v":0,"d":"0.00"},{"v":0,"d":"0.00"},{"v":0,"d":"0.00"},null,"prüfen",{"$f":"IFERROR(OFFSET(MD!$U$5,MATCH(Grundlagen_Abrechnung_KAE!$E1869,MD_GENDER,0),0),\"\")","v":""},{"v":0,"d":"0.00"},null,{"v":0,"d":"0.00"},{"$f":"IF(F1869=\"Arbeitgeberähnliche Stellung\",OFFSET(MD!$Q$5,MATCH(Grundlagen_Abrechnung_KAE!$AK$7,MD_JAHR,0),0)*$H1869,IF(J1869>0,AC1869,I1869))","v":{"v":0,"d":"0.00"}},null,{"$f":"OFFSET(MD!$P$5,MATCH($AK$7,MD_JAHR,0),0)*12","v":{"$error":"#VALUE!"}},{"v":0,"d":"0.00"}]
[{"$nulls":14},{"$f":"IF($B1870=\"\",\"\",IF(F1870=\"Arbeitgeberähnliche Stellung\",OFFSET(MD!$Q$5,MATCH(Grundlagen_Abrechnung_KAE!$AK$7,MD_JAHR,0),0)*$H1870,IF(((AD1870/12*M1870*12)+N1870)>AF1870,AF1870/12,((AD1870/12*M1870*12)+N1870)/12)))","v":""},null,null,{"v":0,"d":"0.00"},null,{"v":0,"d":"0.00%"},{"v":0,"d":"0.00"},{"v":0,"d":"0.00"},{"v":0,"d":"0.00"},null,"prüfen",{"$f":"IFERROR(OFFSET(MD!$U$5,MATCH(Grundlagen_Abrechnung_KAE!$E1870,MD_GENDER,0),0),\"\")","v":""},{"v":0,"d":"0.00"},null,{"v":0,"d":"0.00"},{"$f":"IF(F1870=\"Arbeitgeberähnliche Stellung\",OFFSET(MD!$Q$5,MATCH(Grundlagen_Abrechnung_KAE!$AK$7,MD_JAHR,0),0)*$H1870,IF(J1870>0,AC1870,I1870))","v":{"v":0,"d":"0.00"}},null,{"$f":"OFFSET(MD!$P$5,MATCH($AK$7,MD_JAHR,0),0)*12","v":{"$error":"#VALUE!"}},{"v":0,"d":"0.00"}]
[{"$nulls":14},{"$f":"IF($B1871=\"\",\"\",IF(F1871=\"Arbeitgeberähnliche Stellung\",OFFSET(MD!$Q$5,MATCH(Grundlagen_Abrechnung_KAE!$AK$7,MD_JAHR,0),0)*$H1871,IF(((AD1871/12*M1871*12)+N1871)>AF1871,AF1871/12,((AD1871/12*M1871*12)+N1871)/12)))","v":""},null,null,{"v":0,"d":"0.00"},null,{"v":0,"d":"0.00%"},{"v":0,"d":"0.00"},{"v":0,"d":"0.00"},{"v":0,"d":"0.00"},null,"prüfen",{"$f":"IFERROR(OFFSET(MD!$U$5,MATCH(Grundlagen_Abrechnung_KAE!$E1871,MD_GENDER,0),0),\"\")","v":""},{"v":0,"d":"0.00"},null,{"v":0,"d":"0.00"},{"$f":"IF(F1871=\"Arbeitgeberähnliche Stellung\",OFFSET(MD!$Q$5,MATCH(Grundlagen_Abrechnung_KAE!$AK$7,MD_JAHR,0),0)*$H1871,IF(J1871>0,AC1871,I1871))","v":{"v":0,"d":"0.00"}},null,{"$f":"OFFSET(MD!$P$5,MATCH($AK$7,MD_JAHR,0),0)*12","v":{"$error":"#VALUE!"}},{"v":0,"d":"0.00"}]
[{"$nulls":14},{"$f":"IF($B1872=\"\",\"\",IF(F1872=\"Arbeitgeberähnliche Stellung\",OFFSET(MD!$Q$5,MATCH(Grundlagen_Abrechnung_KAE!$AK$7,MD_JAHR,0),0)*$H1872,IF(((AD1872/12*M1872*12)+N1872)>AF1872,AF1872/12,((AD1872/12*M1872*12)+N1872)/12)))","v":""},null,null,{"v":0,"d":"0.00"},null,{"v":0,"d":"0.00%"},{"v":0,"d":"0.00"},{"v":0,"d":"0.00"},{"v":0,"d":"0.00"},null,"prüfen",{"$f":"IFERROR(OFFSET(MD!$U$5,MATCH(Grundlagen_Abrechnung_KAE!$E1872,MD_GENDER,0),0),\"\")","v":""},{"v":0,"d":"0.00"},null,{"v":0,"d":"0.00"},{"$f":"IF(F1872=\"Arbeitgeberähnliche Stellung\",OFFSET(MD!$Q$5,MATCH(Grundlagen_Abrechnung_KAE!$AK$7,MD_JAHR,0),0)*$H1872,IF(J1872>0,AC1872,I1872))","v":{"v":0,"d":"0.00"}},null,{"$f":"OFFSET(MD!$P$5,MATCH($AK$7,MD_JAHR,0),0)*12","v":{"$error":"#VALUE!"}},{"v":0,"d":"0.00"}]
[{"$nulls":14},{"$f":"IF($B1873=\"\",\"\",IF(F1873=\"Arbeitgeberähnliche Stellung\",OFFSET(MD!$Q$5,MATCH(Grundlagen_Abrechnung_KAE!$AK$7,MD_JAHR,0),0)*$H1873,IF(((AD1873/12*M1873*12)+N1873)>AF1873,AF1873/12,((AD1873/12*M1873*12)+N1873)/12)))","v":""},null,null,{"v":0,"d":"0.00"},null,{"v":0,"d":"0.00%"},{"v":0,"d":"0.00"},{"v":0,"d":"0.00"},{"v":0,"d":"0.00"},null,"prüfen",{"$f":"IFERROR(OFFSET(MD!$U$5,MATCH(Grundlagen_Abrechnung_KAE!$E1873,MD_GENDER,0),0),\"\")","v":""},{"v":0,"d":"0.00"},null,{"v":0,"d":"0.00"},{"$f":"IF(F1873=\"Arbeitgeberähnliche Stellung\",OFFSET(MD!$Q$5,MATCH(Grundlagen_Abrechnung_KAE!$AK$7,MD_JAHR,0),0)*$H1873,IF(J1873>0,AC1873,I1873))","v":{"v":0,"d":"0.00"}},null,{"$f":"OFFSET(MD!$P$5,MATCH($AK$7,MD_JAHR,0),0)*12","v":{"$error":"#VALUE!"}},{"v":0,"d":"0.00"}]
[{"$nulls":14},{"$f":"IF($B1874=\"\",\"\",IF(F1874=\"Arbeitgeberähnliche Stellung\",OFFSET(MD!$Q$5,MATCH(Grundlagen_Abrechnung_KAE!$AK$7,MD_JAHR,0),0)*$H1874,IF(((AD1874/12*M1874*12)+N1874)>AF1874,AF1874/12,((AD1874/12*M1874*12)+N1874)/12)))","v":""},null,null,{"v":0,"d":"0.00"},null,{"v":0,"d":"0.00%"},{"v":0,"d":"0.00"},{"v":0,"d":"0.00"},{"v":0,"d":"0.00"},null,"prüfen",{"$f":"IFERROR(OFFSET(MD!$U$5,MATCH(Grundlagen_Abrechnung_KAE!$E1874,MD_GENDER,0),0),\"\")","v":""},{"v":0,"d":"0.00"},null,{"v":0,"d":"0.00"},{"$f":"IF(F1874=\"Arbeitgeberähnliche Stellung\",OFFSET(MD!$Q$5,MATCH(Grundlagen_Abrechnung_KAE!$AK$7,MD_JAHR,0),0)*$H1874,IF(J1874>0,AC1874,I1874))","v":{"v":0,"d":"0.00"}},null,{"$f":"OFFSET(MD!$P$5,MATCH($AK$7,MD_JAHR,0),0)*12","v":{"$error":"#VALUE!"}},{"v":0,"d":"0.00"}]
[{"$nulls":14},{"$f":"IF($B1875=\"\",\"\",IF(F1875=\"Arbeitgeberähnliche Stellung\",OFFSET(MD!$Q$5,MATCH(Grundlagen_Abrechnung_KAE!$AK$7,MD_JAHR,0),0)*$H1875,IF(((AD1875/12*M1875*12)+N1875)>AF1875,AF1875/12,((AD1875/12*M1875*12)+N1875)/12)))","v":""},null,null,{"$f":"ROUND(IF(Q1875=\"\",0,IF(P1875=0,0,IF(Q1875>P1875,0,P1875-Q1875))),2)","v":{"v":0,"d":"0.00"}},null,{"$f":"IFERROR(R1875/P1875,0)","v":{"v":0,"d":"0.00%"}},{"$f":"IFERROR(IF(O1875-W1875=0,O1875,(O1875)*(1-T1875)),0)","v":{"v":0,"d":"0.00"}},{"v":0,"d":"0.00"},{"$f":"IFERROR(O1875*T1875,0)*0.8","v":{"v":0,"d":"0.00"}},null,{"$f":"IF(YEAR($G1875)>$Y$16,\"prüfen\",\"\")","v":"prüfen"},{"$f":"IFERROR(OFFSET(MD!$U$5,MATCH(Grundlagen_Abrechnung_KAE!$E1875,MD_GENDER,0),0),\"\")","v":""},{"$f":"IF(B1875=\"\",0,IF(YEAR(G1875)>$AA$16,0,1))","v":{"v":0,"d":"0.00"}},null,{"$f":"IF(J1875*K1875/6>J1875*L1875/12,J1875*K1875/6,J1875*L1875/12)","v":{"v":0,"d":"0.00"}},{"$f":"IF(F1875=\"Arbeitgeberähnliche Stellung\",OFFSET(MD!$Q$5,MATCH(Grundlagen_Abrechnung_KAE!$AK$7,MD_JAHR,0),0)*$H1875,IF(J1875>0,AC1875,I1875))","v":{"v":0,"d":"0.00"}},null,{"$f":"OFFSET(MD!$P$5,MATCH($AK$7,MD_JAHR,0),0)*12","v":{"$error":"#VALUE!"}},{"$f":"I1875*M1875+N1875","v":{"v":0,"d":"0.00"}}]
[{"$nulls":14},{"$f":"IF($B1876=\"\",\"\",IF(F1876=\"Arbeitgeberähnliche Stellung\",OFFSET(MD!$Q$5,MATCH(Grundlagen_Abrechnung_KAE!$AK$7,MD_JAHR,0),0)*$H1876,IF(((AD1876/12*M1876*12)+N1876)>AF1876,AF1876/12,((AD1876/12*M1876*12)+N1876)/12)))","v":""},null,null,{"v":0,"d":"0.00"},null,{"v":0,"d":"0.00%"},{"v":0,"d":"0.00"},{"$f":"IFERROR(O1876*T1876,0)","v":{"v":0,"d":"0.00"}},{"v":0,"d":"0.00"},null,"prüfen",{"$f":"IFERROR(OFFSET(MD!$U$5,MATCH(Grundlagen_Abrechnung_KAE!$E1876,MD_GENDER,0),0),\"\")","v":""},{"v":0,"d":"0.00"},null,{"v":0,"d":"0.00"},{"$f":"IF(F1876=\"Arbeitgeberähnliche Stellung\",OFFSET(MD!$Q$5,MATCH(Grundlagen_Abrechnung_KAE!$AK$7,MD_JAHR,0),0)*$H1876,IF(J1876>0,AC1876,I1876))","v":{"v":0,"d":"0.00"}},null,{"$f":"OFFSET(MD!$P$5,MATCH($AK$7,MD_JAHR,0),0)*12","v":{"$error":"#VALUE!"}},{"v":0,"d":"0.00"}]
[{"$nulls":14},{"$f":"IF($B1877=\"\",\"\",IF(F1877=\"Arbeitgeberähnliche Stellung\",OFFSET(MD!$Q$5,MATCH(Grundlagen_Abrechnung_KAE!$AK$7,MD_JAHR,0),0)*$H1877,IF(((AD1877/12*M1877*12)+N1877)>AF1877,AF1877/12,((AD1877/12*M1877*12)+N1877)/12)))","v":""},null,null,{"v":0,"d":"0.00"},null,{"v":0,"d":"0.00%"},{"v":0,"d":"0.00"},{"v":0,"d":"0.00"},{"v":0,"d":"0.00"},null,"prüfen",{"$f":"IFERROR(OFFSET(MD!$U$5,MATCH(Grundlagen_Abrechnung_KAE!$E1877,MD_GENDER,0),0),\"\")","v":""},{"v":0,"d":"0.00"},null,{"v":0,"d":"0.00"},{"$f":"IF(F1877=\"Arbeitgeberähnliche Stellung\",OFFSET(MD!$Q$5,MATCH(Grundlagen_Abrechnung_KAE!$AK$7,MD_JAHR,0),0)*$H1877,IF(J1877>0,AC1877,I1877))","v":{"v":0,"d":"0.00"}},null,{"$f":"OFFSET(MD!$P$5,MATCH($AK$7,MD_JAHR,0),0)*12","v":{"$error":"#VALUE!"}},{"v":0,"d":"0.00"}]
[{"$nulls":14},{"$f":"IF($B1878=\"\",\"\",IF(F1878=\"Arbeitgeberähnliche Stellung\",OFFSET(MD!$Q$5,MATCH(Grundlagen_Abrechnung_KAE!$AK$7,MD_JAHR,0),0)*$H1878,IF(((AD1878/12*M1878*12)+N1878)>AF1878,AF1878/12,((AD1878/12*M1878*12)+N1878)/12)))","v":""},null,null,{"v":0,"d":"0.00"},null,{"v":0,"d":"0.00%"},{"v":0,"d":"0.00"},{"v":0,"d":"0.00"},{"v":0,"d":"0.00"},null,"prüfen",{"$f":"IFERROR(OFFSET(MD!$U$5,MATCH(Grundlagen_Abrechnung_KAE!$E1878,MD_GENDER,0),0),\"\")","v":""},{"v":0,"d":"0.00"},null,{"v":0,"d":"0.00"},{"$f":"IF(F1878=\"Arbeitgeberähnliche Stellung\",OFFSET(MD!$Q$5,MATCH(Grundlagen_Abrechnung_KAE!$AK$7,MD_JAHR,0),0)*$H1878,IF(J1878>0,AC1878,I1878))","v":{"v":0,"d":"0.00"}},null,{"$f":"OFFSET(MD!$P$5,MATCH($AK$7,MD_JAHR,0),0)*12","v":{"$error":"#VALUE!"}},{"v":0,"d":"0.00"}]
[{"$nulls":14},{"$f":"IF($B1879=\"\",\"\",IF(F1879=\"Arbeitgeberähnliche Stellung\",OFFSET(MD!$Q$5,MATCH(Grundlagen_Abrechnung_KAE!$AK$7,MD_JAHR,0),0)*$H1879,IF(((AD1879/12*M1879*12)+N1879)>AF1879,AF1879/12,((AD1879/12*M1879*12)+N1879)/12)))","v":""},null,null,{"v":0,"d":"0.00"},null,{"v":0,"d":"0.00%"},{"v":0,"d":"0.00"},{"v":0,"d":"0.00"},{"v":0,"d":"0.00"},null,"prüfen",{"$f":"IFERROR(OFFSET(MD!$U$5,MATCH(Grundlagen_Abrechnung_KAE!$E1879,MD_GENDER,0),0),\"\")","v":""},{"v":0,"d":"0.00"},null,{"v":0,"d":"0.00"},{"$f":"IF(F1879=\"Arbeitgeberähnliche Stellung\",OFFSET(MD!$Q$5,MATCH(Grundlagen_Abrechnung_KAE!$AK$7,MD_JAHR,0),0)*$H1879,IF(J1879>0,AC1879,I1879))","v":{"v":0,"d":"0.00"}},null,{"$f":"OFFSET(MD!$P$5,MATCH($AK$7,MD_JAHR,0),0)*12","v":{"$error":"#VALUE!"}},{"v":0,"d":"0.00"}]
[{"$nulls":14},{"$f":"IF($B1880=\"\",\"\",IF(F1880=\"Arbeitgeberähnliche Stellung\",OFFSET(MD!$Q$5,MATCH(Grundlagen_Abrechnung_KAE!$AK$7,MD_JAHR,0),0)*$H1880,IF(((AD1880/12*M1880*12)+N1880)>AF1880,AF1880/12,((AD1880/12*M1880*12)+N1880)/12)))","v":""},null,null,{"v":0,"d":"0.00"},null,{"v":0,"d":"0.00%"},{"v":0,"d":"0.00"},{"v":0,"d":"0.00"},{"v":0,"d":"0.00"},null,"prüfen",{"$f":"IFERROR(OFFSET(MD!$U$5,MATCH(Grundlagen_Abrechnung_KAE!$E1880,MD_GENDER,0),0),\"\")","v":""},{"v":0,"d":"0.00"},null,{"v":0,"d":"0.00"},{"$f":"IF(F1880=\"Arbeitgeberähnliche Stellung\",OFFSET(MD!$Q$5,MATCH(Grundlagen_Abrechnung_KAE!$AK$7,MD_JAHR,0),0)*$H1880,IF(J1880>0,AC1880,I1880))","v":{"v":0,"d":"0.00"}},null,{"$f":"OFFSET(MD!$P$5,MATCH($AK$7,MD_JAHR,0),0)*12","v":{"$error":"#VALUE!"}},{"v":0,"d":"0.00"}]
[{"$nulls":14},{"$f":"IF($B1881=\"\",\"\",IF(F1881=\"Arbeitgeberähnliche Stellung\",OFFSET(MD!$Q$5,MATCH(Grundlagen_Abrechnung_KAE!$AK$7,MD_JAHR,0),0)*$H1881,IF(((AD1881/12*M1881*12)+N1881)>AF1881,AF1881/12,((AD1881/12*M1881*12)+N1881)/12)))","v":""},null,null,{"v":0,"d":"0.00"},null,{"v":0,"d":"0.00%"},{"v":0,"d":"0.00"},{"v":0,"d":"0.00"},{"v":0,"d":"0.00"},null,"prüfen",{"$f":"IFERROR(OFFSET(MD!$U$5,MATCH(Grundlagen_Abrechnung_KAE!$E1881,MD_GENDER,0),0),\"\")","v":""},{"v":0,"d":"0.00"},null,{"v":0,"d":"0.00"},{"$f":"IF(F1881=\"Arbeitgeberähnliche Stellung\",OFFSET(MD!$Q$5,MATCH(Grundlagen_Abrechnung_KAE!$AK$7,MD_JAHR,0),0)*$H1881,IF(J1881>0,AC1881,I1881))","v":{"v":0,"d":"0.00"}},null,{"$f":"OFFSET(MD!$P$5,MATCH($AK$7,MD_JAHR,0),0)*12","v":{"$error":"#VALUE!"}},{"v":0,"d":"0.00"}]
[{"$nulls":14},{"$f":"IF($B1882=\"\",\"\",IF(F1882=\"Arbeitgeberähnliche Stellung\",OFFSET(MD!$Q$5,MATCH(Grundlagen_Abrechnung_KAE!$AK$7,MD_JAHR,0),0)*$H1882,IF(((AD1882/12*M1882*12)+N1882)>AF1882,AF1882/12,((AD1882/12*M1882*12)+N1882)/12)))","v":""},null,null,{"v":0,"d":"0.00"},null,{"v":0,"d":"0.00%"},{"v":0,"d":"0.00"},{"v":0,"d":"0.00"},{"v":0,"d":"0.00"},null,"prüfen",{"$f":"IFERROR(OFFSET(MD!$U$5,MATCH(Grundlagen_Abrechnung_KAE!$E1882,MD_GENDER,0),0),\"\")","v":""},{"v":0,"d":"0.00"},null,{"v":0,"d":"0.00"},{"$f":"IF(F1882=\"Arbeitgeberähnliche Stellung\",OFFSET(MD!$Q$5,MATCH(Grundlagen_Abrechnung_KAE!$AK$7,MD_JAHR,0),0)*$H1882,IF(J1882>0,AC1882,I1882))","v":{"v":0,"d":"0.00"}},null,{"$f":"OFFSET(MD!$P$5,MATCH($AK$7,MD_JAHR,0),0)*12","v":{"$error":"#VALUE!"}},{"v":0,"d":"0.00"}]
[{"$nulls":14},{"$f":"IF($B1883=\"\",\"\",IF(F1883=\"Arbeitgeberähnliche Stellung\",OFFSET(MD!$Q$5,MATCH(Grundlagen_Abrechnung_KAE!$AK$7,MD_JAHR,0),0)*$H1883,IF(((AD1883/12*M1883*12)+N1883)>AF1883,AF1883/12,((AD1883/12*M1883*12)+N1883)/12)))","v":""},null,null,{"v":0,"d":"0.00"},null,{"v":0,"d":"0.00%"},{"v":0,"d":"0.00"},{"v":0,"d":"0.00"},{"v":0,"d":"0.00"},null,"prüfen",{"$f":"IFERROR(OFFSET(MD!$U$5,MATCH(Grundlagen_Abrechnung_KAE!$E1883,MD_GENDER,0),0),\"\")","v":""},{"v":0,"d":"0.00"},null,{"v":0,"d":"0.00"},{"$f":"IF(F1883=\"Arbeitgeberähnliche Stellung\",OFFSET(MD!$Q$5,MATCH(Grundlagen_Abrechnung_KAE!$AK$7,MD_JAHR,0),0)*$H1883,IF(J1883>0,AC1883,I1883))","v":{"v":0,"d":"0.00"}},null,{"$f":"OFFSET(MD!$P$5,MATCH($AK$7,MD_JAHR,0),0)*12","v":{"$error":"#VALUE!"}},{"v":0,"d":"0.00"}]
[{"$nulls":14},{"$f":"IF($B1884=\"\",\"\",IF(F1884=\"Arbeitgeberähnliche Stellung\",OFFSET(MD!$Q$5,MATCH(Grundlagen_Abrechnung_KAE!$AK$7,MD_JAHR,0),0)*$H1884,IF(((AD1884/12*M1884*12)+N1884)>AF1884,AF1884/12,((AD1884/12*M1884*12)+N1884)/12)))","v":""},null,null,{"v":0,"d":"0.00"},null,{"v":0,"d":"0.00%"},{"v":0,"d":"0.00"},{"v":0,"d":"0.00"},{"v":0,"d":"0.00"},null,"prüfen",{"$f":"IFERROR(OFFSET(MD!$U$5,MATCH(Grundlagen_Abrechnung_KAE!$E1884,MD_GENDER,0),0),\"\")","v":""},{"v":0,"d":"0.00"},null,{"v":0,"d":"0.00"},{"$f":"IF(F1884=\"Arbeitgeberähnliche Stellung\",OFFSET(MD!$Q$5,MATCH(Grundlagen_Abrechnung_KAE!$AK$7,MD_JAHR,0),0)*$H1884,IF(J1884>0,AC1884,I1884))","v":{"v":0,"d":"0.00"}},null,{"$f":"OFFSET(MD!$P$5,MATCH($AK$7,MD_JAHR,0),0)*12","v":{"$error":"#VALUE!"}},{"v":0,"d":"0.00"}]
[{"$nulls":14},{"$f":"IF($B1885=\"\",\"\",IF(F1885=\"Arbeitgeberähnliche Stellung\",OFFSET(MD!$Q$5,MATCH(Grundlagen_Abrechnung_KAE!$AK$7,MD_JAHR,0),0)*$H1885,IF(((AD1885/12*M1885*12)+N1885)>AF1885,AF1885/12,((AD1885/12*M1885*12)+N1885)/12)))","v":""},null,null,{"v":0,"d":"0.00"},null,{"v":0,"d":"0.00%"},{"v":0,"d":"0.00"},{"v":0,"d":"0.00"},{"v":0,"d":"0.00"},null,"prüfen",{"$f":"IFERROR(OFFSET(MD!$U$5,MATCH(Grundlagen_Abrechnung_KAE!$E1885,MD_GENDER,0),0),\"\")","v":""},{"v":0,"d":"0.00"},null,{"v":0,"d":"0.00"},{"$f":"IF(F1885=\"Arbeitgeberähnliche Stellung\",OFFSET(MD!$Q$5,MATCH(Grundlagen_Abrechnung_KAE!$AK$7,MD_JAHR,0),0)*$H1885,IF(J1885>0,AC1885,I1885))","v":{"v":0,"d":"0.00"}},null,{"$f":"OFFSET(MD!$P$5,MATCH($AK$7,MD_JAHR,0),0)*12","v":{"$error":"#VALUE!"}},{"v":0,"d":"0.00"}]
[{"$nulls":14},{"$f":"IF($B1886=\"\",\"\",IF(F1886=\"Arbeitgeberähnliche Stellung\",OFFSET(MD!$Q$5,MATCH(Grundlagen_Abrechnung_KAE!$AK$7,MD_JAHR,0),0)*$H1886,IF(((AD1886/12*M1886*12)+N1886)>AF1886,AF1886/12,((AD1886/12*M1886*12)+N1886)/12)))","v":""},null,null,{"v":0,"d":"0.00"},null,{"v":0,"d":"0.00%"},{"v":0,"d":"0.00"},{"v":0,"d":"0.00"},{"v":0,"d":"0.00"},null,"prüfen",{"$f":"IFERROR(OFFSET(MD!$U$5,MATCH(Grundlagen_Abrechnung_KAE!$E1886,MD_GENDER,0),0),\"\")","v":""},{"v":0,"d":"0.00"},null,{"v":0,"d":"0.00"},{"$f":"IF(F1886=\"Arbeitgeberähnliche Stellung\",OFFSET(MD!$Q$5,MATCH(Grundlagen_Abrechnung_KAE!$AK$7,MD_JAHR,0),0)*$H1886,IF(J1886>0,AC1886,I1886))","v":{"v":0,"d":"0.00"}},null,{"$f":"OFFSET(MD!$P$5,MATCH($AK$7,MD_JAHR,0),0)*12","v":{"$error":"#VALUE!"}},{"v":0,"d":"0.00"}]
[{"$nulls":14},{"$f":"IF($B1887=\"\",\"\",IF(F1887=\"Arbeitgeberähnliche Stellung\",OFFSET(MD!$Q$5,MATCH(Grundlagen_Abrechnung_KAE!$AK$7,MD_JAHR,0),0)*$H1887,IF(((AD1887/12*M1887*12)+N1887)>AF1887,AF1887/12,((AD1887/12*M1887*12)+N1887)/12)))","v":""},null,null,{"v":0,"d":"0.00"},null,{"v":0,"d":"0.00%"},{"v":0,"d":"0.00"},{"v":0,"d":"0.00"},{"v":0,"d":"0.00"},null,"prüfen",{"$f":"IFERROR(OFFSET(MD!$U$5,MATCH(Grundlagen_Abrechnung_KAE!$E1887,MD_GENDER,0),0),\"\")","v":""},{"v":0,"d":"0.00"},null,{"v":0,"d":"0.00"},{"$f":"IF(F1887=\"Arbeitgeberähnliche Stellung\",OFFSET(MD!$Q$5,MATCH(Grundlagen_Abrechnung_KAE!$AK$7,MD_JAHR,0),0)*$H1887,IF(J1887>0,AC1887,I1887))","v":{"v":0,"d":"0.00"}},null,{"$f":"OFFSET(MD!$P$5,MATCH($AK$7,MD_JAHR,0),0)*12","v":{"$error":"#VALUE!"}},{"v":0,"d":"0.00"}]
[{"$nulls":14},{"$f":"IF($B1888=\"\",\"\",IF(F1888=\"Arbeitgeberähnliche Stellung\",OFFSET(MD!$Q$5,MATCH(Grundlagen_Abrechnung_KAE!$AK$7,MD_JAHR,0),0)*$H1888,IF(((AD1888/12*M1888*12)+N1888)>AF1888,AF1888/12,((AD1888/12*M1888*12)+N1888)/12)))","v":""},null,null,{"v":0,"d":"0.00"},null,{"v":0,"d":"0.00%"},{"v":0,"d":"0.00"},{"v":0,"d":"0.00"},{"v":0,"d":"0.00"},null,"prüfen",{"$f":"IFERROR(OFFSET(MD!$U$5,MATCH(Grundlagen_Abrechnung_KAE!$E1888,MD_GENDER,0),0),\"\")","v":""},{"v":0,"d":"0.00"},null,{"v":0,"d":"0.00"},{"$f":"IF(F1888=\"Arbeitgeberähnliche Stellung\",OFFSET(MD!$Q$5,MATCH(Grundlagen_Abrechnung_KAE!$AK$7,MD_JAHR,0),0)*$H1888,IF(J1888>0,AC1888,I1888))","v":{"v":0,"d":"0.00"}},null,{"$f":"OFFSET(MD!$P$5,MATCH($AK$7,MD_JAHR,0),0)*12","v":{"$error":"#VALUE!"}},{"v":0,"d":"0.00"}]
[{"$nulls":14},{"$f":"IF($B1889=\"\",\"\",IF(F1889=\"Arbeitgeberähnliche Stellung\",OFFSET(MD!$Q$5,MATCH(Grundlagen_Abrechnung_KAE!$AK$7,MD_JAHR,0),0)*$H1889,IF(((AD1889/12*M1889*12)+N1889)>AF1889,AF1889/12,((AD1889/12*M1889*12)+N1889)/12)))","v":""},null,null,{"v":0,"d":"0.00"},null,{"v":0,"d":"0.00%"},{"v":0,"d":"0.00"},{"v":0,"d":"0.00"},{"v":0,"d":"0.00"},null,"prüfen",{"$f":"IFERROR(OFFSET(MD!$U$5,MATCH(Grundlagen_Abrechnung_KAE!$E1889,MD_GENDER,0),0),\"\")","v":""},{"v":0,"d":"0.00"},null,{"v":0,"d":"0.00"},{"$f":"IF(F1889=\"Arbeitgeberähnliche Stellung\",OFFSET(MD!$Q$5,MATCH(Grundlagen_Abrechnung_KAE!$AK$7,MD_JAHR,0),0)*$H1889,IF(J1889>0,AC1889,I1889))","v":{"v":0,"d":"0.00"}},null,{"$f":"OFFSET(MD!$P$5,MATCH($AK$7,MD_JAHR,0),0)*12","v":{"$error":"#VALUE!"}},{"v":0,"d":"0.00"}]
[{"$nulls":14},{"$f":"IF($B1890=\"\",\"\",IF(F1890=\"Arbeitgeberähnliche Stellung\",OFFSET(MD!$Q$5,MATCH(Grundlagen_Abrechnung_KAE!$AK$7,MD_JAHR,0),0)*$H1890,IF(((AD1890/12*M1890*12)+N1890)>AF1890,AF1890/12,((AD1890/12*M1890*12)+N1890)/12)))","v":""},null,null,{"v":0,"d":"0.00"},null,{"v":0,"d":"0.00%"},{"v":0,"d":"0.00"},{"v":0,"d":"0.00"},{"v":0,"d":"0.00"},null,"prüfen",{"$f":"IFERROR(OFFSET(MD!$U$5,MATCH(Grundlagen_Abrechnung_KAE!$E1890,MD_GENDER,0),0),\"\")","v":""},{"v":0,"d":"0.00"},null,{"v":0,"d":"0.00"},{"$f":"IF(F1890=\"Arbeitgeberähnliche Stellung\",OFFSET(MD!$Q$5,MATCH(Grundlagen_Abrechnung_KAE!$AK$7,MD_JAHR,0),0)*$H1890,IF(J1890>0,AC1890,I1890))","v":{"v":0,"d":"0.00"}},null,{"$f":"OFFSET(MD!$P$5,MATCH($AK$7,MD_JAHR,0),0)*12","v":{"$error":"#VALUE!"}},{"v":0,"d":"0.00"}]
[{"$nulls":14},{"$f":"IF($B1891=\"\",\"\",IF(F1891=\"Arbeitgeberähnliche Stellung\",OFFSET(MD!$Q$5,MATCH(Grundlagen_Abrechnung_KAE!$AK$7,MD_JAHR,0),0)*$H1891,IF(((AD1891/12*M1891*12)+N1891)>AF1891,AF1891/12,((AD1891/12*M1891*12)+N1891)/12)))","v":""},null,null,{"v":0,"d":"0.00"},null,{"v":0,"d":"0.00%"},{"v":0,"d":"0.00"},{"v":0,"d":"0.00"},{"v":0,"d":"0.00"},null,"prüfen",{"$f":"IFERROR(OFFSET(MD!$U$5,MATCH(Grundlagen_Abrechnung_KAE!$E1891,MD_GENDER,0),0),\"\")","v":""},{"v":0,"d":"0.00"},null,{"v":0,"d":"0.00"},{"$f":"IF(F1891=\"Arbeitgeberähnliche Stellung\",OFFSET(MD!$Q$5,MATCH(Grundlagen_Abrechnung_KAE!$AK$7,MD_JAHR,0),0)*$H1891,IF(J1891>0,AC1891,I1891))","v":{"v":0,"d":"0.00"}},null,{"$f":"OFFSET(MD!$P$5,MATCH($AK$7,MD_JAHR,0),0)*12","v":{"$error":"#VALUE!"}},{"v":0,"d":"0.00"}]
[{"$nulls":14},{"$f":"IF($B1892=\"\",\"\",IF(F1892=\"Arbeitgeberähnliche Stellung\",OFFSET(MD!$Q$5,MATCH(Grundlagen_Abrechnung_KAE!$AK$7,MD_JAHR,0),0)*$H1892,IF(((AD1892/12*M1892*12)+N1892)>AF1892,AF1892/12,((AD1892/12*M1892*12)+N1892)/12)))","v":""},null,null,{"v":0,"d":"0.00"},null,{"v":0,"d":"0.00%"},{"v":0,"d":"0.00"},{"v":0,"d":"0.00"},{"v":0,"d":"0.00"},null,"prüfen",{"$f":"IFERROR(OFFSET(MD!$U$5,MATCH(Grundlagen_Abrechnung_KAE!$E1892,MD_GENDER,0),0),\"\")","v":""},{"v":0,"d":"0.00"},null,{"v":0,"d":"0.00"},{"$f":"IF(F1892=\"Arbeitgeberähnliche Stellung\",OFFSET(MD!$Q$5,MATCH(Grundlagen_Abrechnung_KAE!$AK$7,MD_JAHR,0),0)*$H1892,IF(J1892>0,AC1892,I1892))","v":{"v":0,"d":"0.00"}},null,{"$f":"OFFSET(MD!$P$5,MATCH($AK$7,MD_JAHR,0),0)*12","v":{"$error":"#VALUE!"}},{"v":0,"d":"0.00"}]
[{"$nulls":14},{"$f":"IF($B1893=\"\",\"\",IF(F1893=\"Arbeitgeberähnliche Stellung\",OFFSET(MD!$Q$5,MATCH(Grundlagen_Abrechnung_KAE!$AK$7,MD_JAHR,0),0)*$H1893,IF(((AD1893/12*M1893*12)+N1893)>AF1893,AF1893/12,((AD1893/12*M1893*12)+N1893)/12)))","v":""},null,null,{"v":0,"d":"0.00"},null,{"v":0,"d":"0.00%"},{"v":0,"d":"0.00"},{"v":0,"d":"0.00"},{"v":0,"d":"0.00"},null,"prüfen",{"$f":"IFERROR(OFFSET(MD!$U$5,MATCH(Grundlagen_Abrechnung_KAE!$E1893,MD_GENDER,0),0),\"\")","v":""},{"v":0,"d":"0.00"},null,{"v":0,"d":"0.00"},{"$f":"IF(F1893=\"Arbeitgeberähnliche Stellung\",OFFSET(MD!$Q$5,MATCH(Grundlagen_Abrechnung_KAE!$AK$7,MD_JAHR,0),0)*$H1893,IF(J1893>0,AC1893,I1893))","v":{"v":0,"d":"0.00"}},null,{"$f":"OFFSET(MD!$P$5,MATCH($AK$7,MD_JAHR,0),0)*12","v":{"$error":"#VALUE!"}},{"v":0,"d":"0.00"}]
[{"$nulls":14},{"$f":"IF($B1894=\"\",\"\",IF(F1894=\"Arbeitgeberähnliche Stellung\",OFFSET(MD!$Q$5,MATCH(Grundlagen_Abrechnung_KAE!$AK$7,MD_JAHR,0),0)*$H1894,IF(((AD1894/12*M1894*12)+N1894)>AF1894,AF1894/12,((AD1894/12*M1894*12)+N1894)/12)))","v":""},null,null,{"v":0,"d":"0.00"},null,{"v":0,"d":"0.00%"},{"v":0,"d":"0.00"},{"v":0,"d":"0.00"},{"v":0,"d":"0.00"},null,"prüfen",{"$f":"IFERROR(OFFSET(MD!$U$5,MATCH(Grundlagen_Abrechnung_KAE!$E1894,MD_GENDER,0),0),\"\")","v":""},{"v":0,"d":"0.00"},null,{"v":0,"d":"0.00"},{"$f":"IF(F1894=\"Arbeitgeberähnliche Stellung\",OFFSET(MD!$Q$5,MATCH(Grundlagen_Abrechnung_KAE!$AK$7,MD_JAHR,0),0)*$H1894,IF(J1894>0,AC1894,I1894))","v":{"v":0,"d":"0.00"}},null,{"$f":"OFFSET(MD!$P$5,MATCH($AK$7,MD_JAHR,0),0)*12","v":{"$error":"#VALUE!"}},{"v":0,"d":"0.00"}]
[{"$nulls":14},{"$f":"IF($B1895=\"\",\"\",IF(F1895=\"Arbeitgeberähnliche Stellung\",OFFSET(MD!$Q$5,MATCH(Grundlagen_Abrechnung_KAE!$AK$7,MD_JAHR,0),0)*$H1895,IF(((AD1895/12*M1895*12)+N1895)>AF1895,AF1895/12,((AD1895/12*M1895*12)+N1895)/12)))","v":""},null,null,{"v":0,"d":"0.00"},null,{"v":0,"d":"0.00%"},{"v":0,"d":"0.00"},{"v":0,"d":"0.00"},{"v":0,"d":"0.00"},null,"prüfen",{"$f":"IFERROR(OFFSET(MD!$U$5,MATCH(Grundlagen_Abrechnung_KAE!$E1895,MD_GENDER,0),0),\"\")","v":""},{"v":0,"d":"0.00"},null,{"v":0,"d":"0.00"},{"$f":"IF(F1895=\"Arbeitgeberähnliche Stellung\",OFFSET(MD!$Q$5,MATCH(Grundlagen_Abrechnung_KAE!$AK$7,MD_JAHR,0),0)*$H1895,IF(J1895>0,AC1895,I1895))","v":{"v":0,"d":"0.00"}},null,{"$f":"OFFSET(MD!$P$5,MATCH($AK$7,MD_JAHR,0),0)*12","v":{"$error":"#VALUE!"}},{"v":0,"d":"0.00"}]
[{"$nulls":14},{"$f":"IF($B1896=\"\",\"\",IF(F1896=\"Arbeitgeberähnliche Stellung\",OFFSET(MD!$Q$5,MATCH(Grundlagen_Abrechnung_KAE!$AK$7,MD_JAHR,0),0)*$H1896,IF(((AD1896/12*M1896*12)+N1896)>AF1896,AF1896/12,((AD1896/12*M1896*12)+N1896)/12)))","v":""},null,null,{"v":0,"d":"0.00"},null,{"v":0,"d":"0.00%"},{"v":0,"d":"0.00"},{"v":0,"d":"0.00"},{"v":0,"d":"0.00"},null,"prüfen",{"$f":"IFERROR(OFFSET(MD!$U$5,MATCH(Grundlagen_Abrechnung_KAE!$E1896,MD_GENDER,0),0),\"\")","v":""},{"v":0,"d":"0.00"},null,{"v":0,"d":"0.00"},{"$f":"IF(F1896=\"Arbeitgeberähnliche Stellung\",OFFSET(MD!$Q$5,MATCH(Grundlagen_Abrechnung_KAE!$AK$7,MD_JAHR,0),0)*$H1896,IF(J1896>0,AC1896,I1896))","v":{"v":0,"d":"0.00"}},null,{"$f":"OFFSET(MD!$P$5,MATCH($AK$7,MD_JAHR,0),0)*12","v":{"$error":"#VALUE!"}},{"v":0,"d":"0.00"}]
[{"$nulls":14},{"$f":"IF($B1897=\"\",\"\",IF(F1897=\"Arbeitgeberähnliche Stellung\",OFFSET(MD!$Q$5,MATCH(Grundlagen_Abrechnung_KAE!$AK$7,MD_JAHR,0),0)*$H1897,IF(((AD1897/12*M1897*12)+N1897)>AF1897,AF1897/12,((AD1897/12*M1897*12)+N1897)/12)))","v":""},null,null,{"v":0,"d":"0.00"},null,{"v":0,"d":"0.00%"},{"v":0,"d":"0.00"},{"v":0,"d":"0.00"},{"v":0,"d":"0.00"},null,"prüfen",{"$f":"IFERROR(OFFSET(MD!$U$5,MATCH(Grundlagen_Abrechnung_KAE!$E1897,MD_GENDER,0),0),\"\")","v":""},{"v":0,"d":"0.00"},null,{"v":0,"d":"0.00"},{"$f":"IF(F1897=\"Arbeitgeberähnliche Stellung\",OFFSET(MD!$Q$5,MATCH(Grundlagen_Abrechnung_KAE!$AK$7,MD_JAHR,0),0)*$H1897,IF(J1897>0,AC1897,I1897))","v":{"v":0,"d":"0.00"}},null,{"$f":"OFFSET(MD!$P$5,MATCH($AK$7,MD_JAHR,0),0)*12","v":{"$error":"#VALUE!"}},{"v":0,"d":"0.00"}]
[{"$nulls":14},{"$f":"IF($B1898=\"\",\"\",IF(F1898=\"Arbeitgeberähnliche Stellung\",OFFSET(MD!$Q$5,MATCH(Grundlagen_Abrechnung_KAE!$AK$7,MD_JAHR,0),0)*$H1898,IF(((AD1898/12*M1898*12)+N1898)>AF1898,AF1898/12,((AD1898/12*M1898*12)+N1898)/12)))","v":""},null,null,{"v":0,"d":"0.00"},null,{"v":0,"d":"0.00%"},{"v":0,"d":"0.00"},{"v":0,"d":"0.00"},{"v":0,"d":"0.00"},null,"prüfen",{"$f":"IFERROR(OFFSET(MD!$U$5,MATCH(Grundlagen_Abrechnung_KAE!$E1898,MD_GENDER,0),0),\"\")","v":""},{"v":0,"d":"0.00"},null,{"v":0,"d":"0.00"},{"$f":"IF(F1898=\"Arbeitgeberähnliche Stellung\",OFFSET(MD!$Q$5,MATCH(Grundlagen_Abrechnung_KAE!$AK$7,MD_JAHR,0),0)*$H1898,IF(J1898>0,AC1898,I1898))","v":{"v":0,"d":"0.00"}},null,{"$f":"OFFSET(MD!$P$5,MATCH($AK$7,MD_JAHR,0),0)*12","v":{"$error":"#VALUE!"}},{"v":0,"d":"0.00"}]
[{"$nulls":14},{"$f":"IF($B1899=\"\",\"\",IF(F1899=\"Arbeitgeberähnliche Stellung\",OFFSET(MD!$Q$5,MATCH(Grundlagen_Abrechnung_KAE!$AK$7,MD_JAHR,0),0)*$H1899,IF(((AD1899/12*M1899*12)+N1899)>AF1899,AF1899/12,((AD1899/12*M1899*12)+N1899)/12)))","v":""},null,null,{"v":0,"d":"0.00"},null,{"v":0,"d":"0.00%"},{"v":0,"d":"0.00"},{"v":0,"d":"0.00"},{"v":0,"d":"0.00"},null,"prüfen",{"$f":"IFERROR(OFFSET(MD!$U$5,MATCH(Grundlagen_Abrechnung_KAE!$E1899,MD_GENDER,0),0),\"\")","v":""},{"v":0,"d":"0.00"},null,{"v":0,"d":"0.00"},{"$f":"IF(F1899=\"Arbeitgeberähnliche Stellung\",OFFSET(MD!$Q$5,MATCH(Grundlagen_Abrechnung_KAE!$AK$7,MD_JAHR,0),0)*$H1899,IF(J1899>0,AC1899,I1899))","v":{"v":0,"d":"0.00"}},null,{"$f":"OFFSET(MD!$P$5,MATCH($AK$7,MD_JAHR,0),0)*12","v":{"$error":"#VALUE!"}},{"v":0,"d":"0.00"}]
[{"$nulls":14},{"$f":"IF($B1900=\"\",\"\",IF(F1900=\"Arbeitgeberähnliche Stellung\",OFFSET(MD!$Q$5,MATCH(Grundlagen_Abrechnung_KAE!$AK$7,MD_JAHR,0),0)*$H1900,IF(((AD1900/12*M1900*12)+N1900)>AF1900,AF1900/12,((AD1900/12*M1900*12)+N1900)/12)))","v":""},null,null,{"v":0,"d":"0.00"},null,{"v":0,"d":"0.00%"},{"v":0,"d":"0.00"},{"v":0,"d":"0.00"},{"v":0,"d":"0.00"},null,"prüfen",{"$f":"IFERROR(OFFSET(MD!$U$5,MATCH(Grundlagen_Abrechnung_KAE!$E1900,MD_GENDER,0),0),\"\")","v":""},{"v":0,"d":"0.00"},null,{"v":0,"d":"0.00"},{"$f":"IF(F1900=\"Arbeitgeberähnliche Stellung\",OFFSET(MD!$Q$5,MATCH(Grundlagen_Abrechnung_KAE!$AK$7,MD_JAHR,0),0)*$H1900,IF(J1900>0,AC1900,I1900))","v":{"v":0,"d":"0.00"}},null,{"$f":"OFFSET(MD!$P$5,MATCH($AK$7,MD_JAHR,0),0)*12","v":{"$error":"#VALUE!"}},{"v":0,"d":"0.00"}]
[{"$nulls":14},{"$f":"IF($B1901=\"\",\"\",IF(F1901=\"Arbeitgeberähnliche Stellung\",OFFSET(MD!$Q$5,MATCH(Grundlagen_Abrechnung_KAE!$AK$7,MD_JAHR,0),0)*$H1901,IF(((AD1901/12*M1901*12)+N1901)>AF1901,AF1901/12,((AD1901/12*M1901*12)+N1901)/12)))","v":""},null,null,{"v":0,"d":"0.00"},null,{"v":0,"d":"0.00%"},{"v":0,"d":"0.00"},{"v":0,"d":"0.00"},{"v":0,"d":"0.00"},null,"prüfen",{"$f":"IFERROR(OFFSET(MD!$U$5,MATCH(Grundlagen_Abrechnung_KAE!$E1901,MD_GENDER,0),0),\"\")","v":""},{"v":0,"d":"0.00"},null,{"v":0,"d":"0.00"},{"$f":"IF(F1901=\"Arbeitgeberähnliche Stellung\",OFFSET(MD!$Q$5,MATCH(Grundlagen_Abrechnung_KAE!$AK$7,MD_JAHR,0),0)*$H1901,IF(J1901>0,AC1901,I1901))","v":{"v":0,"d":"0.00"}},null,{"$f":"OFFSET(MD!$P$5,MATCH($AK$7,MD_JAHR,0),0)*12","v":{"$error":"#VALUE!"}},{"v":0,"d":"0.00"}]
[{"$nulls":14},{"$f":"IF($B1902=\"\",\"\",IF(F1902=\"Arbeitgeberähnliche Stellung\",OFFSET(MD!$Q$5,MATCH(Grundlagen_Abrechnung_KAE!$AK$7,MD_JAHR,0),0)*$H1902,IF(((AD1902/12*M1902*12)+N1902)>AF1902,AF1902/12,((AD1902/12*M1902*12)+N1902)/12)))","v":""},null,null,{"v":0,"d":"0.00"},null,{"v":0,"d":"0.00%"},{"v":0,"d":"0.00"},{"v":0,"d":"0.00"},{"v":0,"d":"0.00"},null,"prüfen",{"$f":"IFERROR(OFFSET(MD!$U$5,MATCH(Grundlagen_Abrechnung_KAE!$E1902,MD_GENDER,0),0),\"\")","v":""},{"v":0,"d":"0.00"},null,{"v":0,"d":"0.00"},{"$f":"IF(F1902=\"Arbeitgeberähnliche Stellung\",OFFSET(MD!$Q$5,MATCH(Grundlagen_Abrechnung_KAE!$AK$7,MD_JAHR,0),0)*$H1902,IF(J1902>0,AC1902,I1902))","v":{"v":0,"d":"0.00"}},null,{"$f":"OFFSET(MD!$P$5,MATCH($AK$7,MD_JAHR,0),0)*12","v":{"$error":"#VALUE!"}},{"v":0,"d":"0.00"}]
[{"$nulls":14},{"$f":"IF($B1903=\"\",\"\",IF(F1903=\"Arbeitgeberähnliche Stellung\",OFFSET(MD!$Q$5,MATCH(Grundlagen_Abrechnung_KAE!$AK$7,MD_JAHR,0),0)*$H1903,IF(((AD1903/12*M1903*12)+N1903)>AF1903,AF1903/12,((AD1903/12*M1903*12)+N1903)/12)))","v":""},null,null,{"v":0,"d":"0.00"},null,{"v":0,"d":"0.00%"},{"v":0,"d":"0.00"},{"v":0,"d":"0.00"},{"v":0,"d":"0.00"},null,"prüfen",{"$f":"IFERROR(OFFSET(MD!$U$5,MATCH(Grundlagen_Abrechnung_KAE!$E1903,MD_GENDER,0),0),\"\")","v":""},{"v":0,"d":"0.00"},null,{"v":0,"d":"0.00"},{"$f":"IF(F1903=\"Arbeitgeberähnliche Stellung\",OFFSET(MD!$Q$5,MATCH(Grundlagen_Abrechnung_KAE!$AK$7,MD_JAHR,0),0)*$H1903,IF(J1903>0,AC1903,I1903))","v":{"v":0,"d":"0.00"}},null,{"$f":"OFFSET(MD!$P$5,MATCH($AK$7,MD_JAHR,0),0)*12","v":{"$error":"#VALUE!"}},{"v":0,"d":"0.00"}]
[{"$nulls":14},{"$f":"IF($B1904=\"\",\"\",IF(F1904=\"Arbeitgeberähnliche Stellung\",OFFSET(MD!$Q$5,MATCH(Grundlagen_Abrechnung_KAE!$AK$7,MD_JAHR,0),0)*$H1904,IF(((AD1904/12*M1904*12)+N1904)>AF1904,AF1904/12,((AD1904/12*M1904*12)+N1904)/12)))","v":""},null,null,{"v":0,"d":"0.00"},null,{"v":0,"d":"0.00%"},{"v":0,"d":"0.00"},{"v":0,"d":"0.00"},{"v":0,"d":"0.00"},null,"prüfen",{"$f":"IFERROR(OFFSET(MD!$U$5,MATCH(Grundlagen_Abrechnung_KAE!$E1904,MD_GENDER,0),0),\"\")","v":""},{"v":0,"d":"0.00"},null,{"v":0,"d":"0.00"},{"$f":"IF(F1904=\"Arbeitgeberähnliche Stellung\",OFFSET(MD!$Q$5,MATCH(Grundlagen_Abrechnung_KAE!$AK$7,MD_JAHR,0),0)*$H1904,IF(J1904>0,AC1904,I1904))","v":{"v":0,"d":"0.00"}},null,{"$f":"OFFSET(MD!$P$5,MATCH($AK$7,MD_JAHR,0),0)*12","v":{"$error":"#VALUE!"}},{"v":0,"d":"0.00"}]
[{"$nulls":14},{"$f":"IF($B1905=\"\",\"\",IF(F1905=\"Arbeitgeberähnliche Stellung\",OFFSET(MD!$Q$5,MATCH(Grundlagen_Abrechnung_KAE!$AK$7,MD_JAHR,0),0)*$H1905,IF(((AD1905/12*M1905*12)+N1905)>AF1905,AF1905/12,((AD1905/12*M1905*12)+N1905)/12)))","v":""},null,null,{"v":0,"d":"0.00"},null,{"v":0,"d":"0.00%"},{"v":0,"d":"0.00"},{"v":0,"d":"0.00"},{"v":0,"d":"0.00"},null,"prüfen",{"$f":"IFERROR(OFFSET(MD!$U$5,MATCH(Grundlagen_Abrechnung_KAE!$E1905,MD_GENDER,0),0),\"\")","v":""},{"v":0,"d":"0.00"},null,{"v":0,"d":"0.00"},{"$f":"IF(F1905=\"Arbeitgeberähnliche Stellung\",OFFSET(MD!$Q$5,MATCH(Grundlagen_Abrechnung_KAE!$AK$7,MD_JAHR,0),0)*$H1905,IF(J1905>0,AC1905,I1905))","v":{"v":0,"d":"0.00"}},null,{"$f":"OFFSET(MD!$P$5,MATCH($AK$7,MD_JAHR,0),0)*12","v":{"$error":"#VALUE!"}},{"v":0,"d":"0.00"}]
[{"$nulls":14},{"$f":"IF($B1906=\"\",\"\",IF(F1906=\"Arbeitgeberähnliche Stellung\",OFFSET(MD!$Q$5,MATCH(Grundlagen_Abrechnung_KAE!$AK$7,MD_JAHR,0),0)*$H1906,IF(((AD1906/12*M1906*12)+N1906)>AF1906,AF1906/12,((AD1906/12*M1906*12)+N1906)/12)))","v":""},null,null,{"v":0,"d":"0.00"},null,{"v":0,"d":"0.00%"},{"v":0,"d":"0.00"},{"v":0,"d":"0.00"},{"v":0,"d":"0.00"},null,"prüfen",{"$f":"IFERROR(OFFSET(MD!$U$5,MATCH(Grundlagen_Abrechnung_KAE!$E1906,MD_GENDER,0),0),\"\")","v":""},{"v":0,"d":"0.00"},null,{"v":0,"d":"0.00"},{"$f":"IF(F1906=\"Arbeitgeberähnliche Stellung\",OFFSET(MD!$Q$5,MATCH(Grundlagen_Abrechnung_KAE!$AK$7,MD_JAHR,0),0)*$H1906,IF(J1906>0,AC1906,I1906))","v":{"v":0,"d":"0.00"}},null,{"$f":"OFFSET(MD!$P$5,MATCH($AK$7,MD_JAHR,0),0)*12","v":{"$error":"#VALUE!"}},{"v":0,"d":"0.00"}]
[{"$nulls":14},{"$f":"IF($B1907=\"\",\"\",IF(F1907=\"Arbeitgeberähnliche Stellung\",OFFSET(MD!$Q$5,MATCH(Grundlagen_Abrechnung_KAE!$AK$7,MD_JAHR,0),0)*$H1907,IF(((AD1907/12*M1907*12)+N1907)>AF1907,AF1907/12,((AD1907/12*M1907*12)+N1907)/12)))","v":""},null,null,{"v":0,"d":"0.00"},null,{"v":0,"d":"0.00%"},{"v":0,"d":"0.00"},{"v":0,"d":"0.00"},{"v":0,"d":"0.00"},null,"prüfen",{"$f":"IFERROR(OFFSET(MD!$U$5,MATCH(Grundlagen_Abrechnung_KAE!$E1907,MD_GENDER,0),0),\"\")","v":""},{"v":0,"d":"0.00"},null,{"v":0,"d":"0.00"},{"$f":"IF(F1907=\"Arbeitgeberähnliche Stellung\",OFFSET(MD!$Q$5,MATCH(Grundlagen_Abrechnung_KAE!$AK$7,MD_JAHR,0),0)*$H1907,IF(J1907>0,AC1907,I1907))","v":{"v":0,"d":"0.00"}},null,{"$f":"OFFSET(MD!$P$5,MATCH($AK$7,MD_JAHR,0),0)*12","v":{"$error":"#VALUE!"}},{"v":0,"d":"0.00"}]
[{"$nulls":14},{"$f":"IF($B1908=\"\",\"\",IF(F1908=\"Arbeitgeberähnliche Stellung\",OFFSET(MD!$Q$5,MATCH(Grundlagen_Abrechnung_KAE!$AK$7,MD_JAHR,0),0)*$H1908,IF(((AD1908/12*M1908*12)+N1908)>AF1908,AF1908/12,((AD1908/12*M1908*12)+N1908)/12)))","v":""},null,null,{"v":0,"d":"0.00"},null,{"v":0,"d":"0.00%"},{"v":0,"d":"0.00"},{"v":0,"d":"0.00"},{"v":0,"d":"0.00"},null,"prüfen",{"$f":"IFERROR(OFFSET(MD!$U$5,MATCH(Grundlagen_Abrechnung_KAE!$E1908,MD_GENDER,0),0),\"\")","v":""},{"v":0,"d":"0.00"},null,{"v":0,"d":"0.00"},{"$f":"IF(F1908=\"Arbeitgeberähnliche Stellung\",OFFSET(MD!$Q$5,MATCH(Grundlagen_Abrechnung_KAE!$AK$7,MD_JAHR,0),0)*$H1908,IF(J1908>0,AC1908,I1908))","v":{"v":0,"d":"0.00"}},null,{"$f":"OFFSET(MD!$P$5,MATCH($AK$7,MD_JAHR,0),0)*12","v":{"$error":"#VALUE!"}},{"v":0,"d":"0.00"}]
[{"$nulls":14},{"$f":"IF($B1909=\"\",\"\",IF(F1909=\"Arbeitgeberähnliche Stellung\",OFFSET(MD!$Q$5,MATCH(Grundlagen_Abrechnung_KAE!$AK$7,MD_JAHR,0),0)*$H1909,IF(((AD1909/12*M1909*12)+N1909)>AF1909,AF1909/12,((AD1909/12*M1909*12)+N1909)/12)))","v":""},null,null,{"v":0,"d":"0.00"},null,{"v":0,"d":"0.00%"},{"v":0,"d":"0.00"},{"v":0,"d":"0.00"},{"v":0,"d":"0.00"},null,"prüfen",{"$f":"IFERROR(OFFSET(MD!$U$5,MATCH(Grundlagen_Abrechnung_KAE!$E1909,MD_GENDER,0),0),\"\")","v":""},{"v":0,"d":"0.00"},null,{"v":0,"d":"0.00"},{"$f":"IF(F1909=\"Arbeitgeberähnliche Stellung\",OFFSET(MD!$Q$5,MATCH(Grundlagen_Abrechnung_KAE!$AK$7,MD_JAHR,0),0)*$H1909,IF(J1909>0,AC1909,I1909))","v":{"v":0,"d":"0.00"}},null,{"$f":"OFFSET(MD!$P$5,MATCH($AK$7,MD_JAHR,0),0)*12","v":{"$error":"#VALUE!"}},{"v":0,"d":"0.00"}]
[{"$nulls":14},{"$f":"IF($B1910=\"\",\"\",IF(F1910=\"Arbeitgeberähnliche Stellung\",OFFSET(MD!$Q$5,MATCH(Grundlagen_Abrechnung_KAE!$AK$7,MD_JAHR,0),0)*$H1910,IF(((AD1910/12*M1910*12)+N1910)>AF1910,AF1910/12,((AD1910/12*M1910*12)+N1910)/12)))","v":""},null,null,{"v":0,"d":"0.00"},null,{"v":0,"d":"0.00%"},{"v":0,"d":"0.00"},{"v":0,"d":"0.00"},{"v":0,"d":"0.00"},null,"prüfen",{"$f":"IFERROR(OFFSET(MD!$U$5,MATCH(Grundlagen_Abrechnung_KAE!$E1910,MD_GENDER,0),0),\"\")","v":""},{"v":0,"d":"0.00"},null,{"v":0,"d":"0.00"},{"$f":"IF(F1910=\"Arbeitgeberähnliche Stellung\",OFFSET(MD!$Q$5,MATCH(Grundlagen_Abrechnung_KAE!$AK$7,MD_JAHR,0),0)*$H1910,IF(J1910>0,AC1910,I1910))","v":{"v":0,"d":"0.00"}},null,{"$f":"OFFSET(MD!$P$5,MATCH($AK$7,MD_JAHR,0),0)*12","v":{"$error":"#VALUE!"}},{"v":0,"d":"0.00"}]
[{"$nulls":14},{"$f":"IF($B1911=\"\",\"\",IF(F1911=\"Arbeitgeberähnliche Stellung\",OFFSET(MD!$Q$5,MATCH(Grundlagen_Abrechnung_KAE!$AK$7,MD_JAHR,0),0)*$H1911,IF(((AD1911/12*M1911*12)+N1911)>AF1911,AF1911/12,((AD1911/12*M1911*12)+N1911)/12)))","v":""},null,null,{"v":0,"d":"0.00"},null,{"v":0,"d":"0.00%"},{"v":0,"d":"0.00"},{"v":0,"d":"0.00"},{"v":0,"d":"0.00"},null,"prüfen",{"$f":"IFERROR(OFFSET(MD!$U$5,MATCH(Grundlagen_Abrechnung_KAE!$E1911,MD_GENDER,0),0),\"\")","v":""},{"v":0,"d":"0.00"},null,{"v":0,"d":"0.00"},{"$f":"IF(F1911=\"Arbeitgeberähnliche Stellung\",OFFSET(MD!$Q$5,MATCH(Grundlagen_Abrechnung_KAE!$AK$7,MD_JAHR,0),0)*$H1911,IF(J1911>0,AC1911,I1911))","v":{"v":0,"d":"0.00"}},null,{"$f":"OFFSET(MD!$P$5,MATCH($AK$7,MD_JAHR,0),0)*12","v":{"$error":"#VALUE!"}},{"v":0,"d":"0.00"}]
[{"$nulls":14},{"$f":"IF($B1912=\"\",\"\",IF(F1912=\"Arbeitgeberähnliche Stellung\",OFFSET(MD!$Q$5,MATCH(Grundlagen_Abrechnung_KAE!$AK$7,MD_JAHR,0),0)*$H1912,IF(((AD1912/12*M1912*12)+N1912)>AF1912,AF1912/12,((AD1912/12*M1912*12)+N1912)/12)))","v":""},null,null,{"v":0,"d":"0.00"},null,{"v":0,"d":"0.00%"},{"v":0,"d":"0.00"},{"v":0,"d":"0.00"},{"v":0,"d":"0.00"},null,"prüfen",{"$f":"IFERROR(OFFSET(MD!$U$5,MATCH(Grundlagen_Abrechnung_KAE!$E1912,MD_GENDER,0),0),\"\")","v":""},{"v":0,"d":"0.00"},null,{"v":0,"d":"0.00"},{"$f":"IF(F1912=\"Arbeitgeberähnliche Stellung\",OFFSET(MD!$Q$5,MATCH(Grundlagen_Abrechnung_KAE!$AK$7,MD_JAHR,0),0)*$H1912,IF(J1912>0,AC1912,I1912))","v":{"v":0,"d":"0.00"}},null,{"$f":"OFFSET(MD!$P$5,MATCH($AK$7,MD_JAHR,0),0)*12","v":{"$error":"#VALUE!"}},{"v":0,"d":"0.00"}]
[{"$nulls":14},{"$f":"IF($B1913=\"\",\"\",IF(F1913=\"Arbeitgeberähnliche Stellung\",OFFSET(MD!$Q$5,MATCH(Grundlagen_Abrechnung_KAE!$AK$7,MD_JAHR,0),0)*$H1913,IF(((AD1913/12*M1913*12)+N1913)>AF1913,AF1913/12,((AD1913/12*M1913*12)+N1913)/12)))","v":""},null,null,{"v":0,"d":"0.00"},null,{"v":0,"d":"0.00%"},{"v":0,"d":"0.00"},{"v":0,"d":"0.00"},{"v":0,"d":"0.00"},null,"prüfen",{"$f":"IFERROR(OFFSET(MD!$U$5,MATCH(Grundlagen_Abrechnung_KAE!$E1913,MD_GENDER,0),0),\"\")","v":""},{"v":0,"d":"0.00"},null,{"v":0,"d":"0.00"},{"$f":"IF(F1913=\"Arbeitgeberähnliche Stellung\",OFFSET(MD!$Q$5,MATCH(Grundlagen_Abrechnung_KAE!$AK$7,MD_JAHR,0),0)*$H1913,IF(J1913>0,AC1913,I1913))","v":{"v":0,"d":"0.00"}},null,{"$f":"OFFSET(MD!$P$5,MATCH($AK$7,MD_JAHR,0),0)*12","v":{"$error":"#VALUE!"}},{"v":0,"d":"0.00"}]
[{"$nulls":14},{"$f":"IF($B1914=\"\",\"\",IF(F1914=\"Arbeitgeberähnliche Stellung\",OFFSET(MD!$Q$5,MATCH(Grundlagen_Abrechnung_KAE!$AK$7,MD_JAHR,0),0)*$H1914,IF(((AD1914/12*M1914*12)+N1914)>AF1914,AF1914/12,((AD1914/12*M1914*12)+N1914)/12)))","v":""},null,null,{"v":0,"d":"0.00"},null,{"v":0,"d":"0.00%"},{"v":0,"d":"0.00"},{"v":0,"d":"0.00"},{"v":0,"d":"0.00"},null,"prüfen",{"$f":"IFERROR(OFFSET(MD!$U$5,MATCH(Grundlagen_Abrechnung_KAE!$E1914,MD_GENDER,0),0),\"\")","v":""},{"v":0,"d":"0.00"},null,{"v":0,"d":"0.00"},{"$f":"IF(F1914=\"Arbeitgeberähnliche Stellung\",OFFSET(MD!$Q$5,MATCH(Grundlagen_Abrechnung_KAE!$AK$7,MD_JAHR,0),0)*$H1914,IF(J1914>0,AC1914,I1914))","v":{"v":0,"d":"0.00"}},null,{"$f":"OFFSET(MD!$P$5,MATCH($AK$7,MD_JAHR,0),0)*12","v":{"$error":"#VALUE!"}},{"v":0,"d":"0.00"}]
[{"$nulls":14},{"$f":"IF($B1915=\"\",\"\",IF(F1915=\"Arbeitgeberähnliche Stellung\",OFFSET(MD!$Q$5,MATCH(Grundlagen_Abrechnung_KAE!$AK$7,MD_JAHR,0),0)*$H1915,IF(((AD1915/12*M1915*12)+N1915)>AF1915,AF1915/12,((AD1915/12*M1915*12)+N1915)/12)))","v":""},null,null,{"v":0,"d":"0.00"},null,{"v":0,"d":"0.00%"},{"v":0,"d":"0.00"},{"v":0,"d":"0.00"},{"v":0,"d":"0.00"},null,"prüfen",{"$f":"IFERROR(OFFSET(MD!$U$5,MATCH(Grundlagen_Abrechnung_KAE!$E1915,MD_GENDER,0),0),\"\")","v":""},{"v":0,"d":"0.00"},null,{"v":0,"d":"0.00"},{"$f":"IF(F1915=\"Arbeitgeberähnliche Stellung\",OFFSET(MD!$Q$5,MATCH(Grundlagen_Abrechnung_KAE!$AK$7,MD_JAHR,0),0)*$H1915,IF(J1915>0,AC1915,I1915))","v":{"v":0,"d":"0.00"}},null,{"$f":"OFFSET(MD!$P$5,MATCH($AK$7,MD_JAHR,0),0)*12","v":{"$error":"#VALUE!"}},{"v":0,"d":"0.00"}]
[{"$nulls":14},{"$f":"IF($B1916=\"\",\"\",IF(F1916=\"Arbeitgeberähnliche Stellung\",OFFSET(MD!$Q$5,MATCH(Grundlagen_Abrechnung_KAE!$AK$7,MD_JAHR,0),0)*$H1916,IF(((AD1916/12*M1916*12)+N1916)>AF1916,AF1916/12,((AD1916/12*M1916*12)+N1916)/12)))","v":""},null,null,{"v":0,"d":"0.00"},null,{"v":0,"d":"0.00%"},{"v":0,"d":"0.00"},{"v":0,"d":"0.00"},{"v":0,"d":"0.00"},null,"prüfen",{"$f":"IFERROR(OFFSET(MD!$U$5,MATCH(Grundlagen_Abrechnung_KAE!$E1916,MD_GENDER,0),0),\"\")","v":""},{"v":0,"d":"0.00"},null,{"v":0,"d":"0.00"},{"$f":"IF(F1916=\"Arbeitgeberähnliche Stellung\",OFFSET(MD!$Q$5,MATCH(Grundlagen_Abrechnung_KAE!$AK$7,MD_JAHR,0),0)*$H1916,IF(J1916>0,AC1916,I1916))","v":{"v":0,"d":"0.00"}},null,{"$f":"OFFSET(MD!$P$5,MATCH($AK$7,MD_JAHR,0),0)*12","v":{"$error":"#VALUE!"}},{"v":0,"d":"0.00"}]
[{"$nulls":14},{"$f":"IF($B1917=\"\",\"\",IF(F1917=\"Arbeitgeberähnliche Stellung\",OFFSET(MD!$Q$5,MATCH(Grundlagen_Abrechnung_KAE!$AK$7,MD_JAHR,0),0)*$H1917,IF(((AD1917/12*M1917*12)+N1917)>AF1917,AF1917/12,((AD1917/12*M1917*12)+N1917)/12)))","v":""},null,null,{"v":0,"d":"0.00"},null,{"v":0,"d":"0.00%"},{"v":0,"d":"0.00"},{"v":0,"d":"0.00"},{"v":0,"d":"0.00"},null,"prüfen",{"$f":"IFERROR(OFFSET(MD!$U$5,MATCH(Grundlagen_Abrechnung_KAE!$E1917,MD_GENDER,0),0),\"\")","v":""},{"v":0,"d":"0.00"},null,{"v":0,"d":"0.00"},{"$f":"IF(F1917=\"Arbeitgeberähnliche Stellung\",OFFSET(MD!$Q$5,MATCH(Grundlagen_Abrechnung_KAE!$AK$7,MD_JAHR,0),0)*$H1917,IF(J1917>0,AC1917,I1917))","v":{"v":0,"d":"0.00"}},null,{"$f":"OFFSET(MD!$P$5,MATCH($AK$7,MD_JAHR,0),0)*12","v":{"$error":"#VALUE!"}},{"v":0,"d":"0.00"}]
[{"$nulls":14},{"$f":"IF($B1918=\"\",\"\",IF(F1918=\"Arbeitgeberähnliche Stellung\",OFFSET(MD!$Q$5,MATCH(Grundlagen_Abrechnung_KAE!$AK$7,MD_JAHR,0),0)*$H1918,IF(((AD1918/12*M1918*12)+N1918)>AF1918,AF1918/12,((AD1918/12*M1918*12)+N1918)/12)))","v":""},null,null,{"v":0,"d":"0.00"},null,{"v":0,"d":"0.00%"},{"v":0,"d":"0.00"},{"v":0,"d":"0.00"},{"v":0,"d":"0.00"},null,"prüfen",{"$f":"IFERROR(OFFSET(MD!$U$5,MATCH(Grundlagen_Abrechnung_KAE!$E1918,MD_GENDER,0),0),\"\")","v":""},{"v":0,"d":"0.00"},null,{"v":0,"d":"0.00"},{"$f":"IF(F1918=\"Arbeitgeberähnliche Stellung\",OFFSET(MD!$Q$5,MATCH(Grundlagen_Abrechnung_KAE!$AK$7,MD_JAHR,0),0)*$H1918,IF(J1918>0,AC1918,I1918))","v":{"v":0,"d":"0.00"}},null,{"$f":"OFFSET(MD!$P$5,MATCH($AK$7,MD_JAHR,0),0)*12","v":{"$error":"#VALUE!"}},{"v":0,"d":"0.00"}]
[{"$nulls":14},{"$f":"IF($B1919=\"\",\"\",IF(F1919=\"Arbeitgeberähnliche Stellung\",OFFSET(MD!$Q$5,MATCH(Grundlagen_Abrechnung_KAE!$AK$7,MD_JAHR,0),0)*$H1919,IF(((AD1919/12*M1919*12)+N1919)>AF1919,AF1919/12,((AD1919/12*M1919*12)+N1919)/12)))","v":""},null,null,{"v":0,"d":"0.00"},null,{"v":0,"d":"0.00%"},{"v":0,"d":"0.00"},{"v":0,"d":"0.00"},{"v":0,"d":"0.00"},null,"prüfen",{"$f":"IFERROR(OFFSET(MD!$U$5,MATCH(Grundlagen_Abrechnung_KAE!$E1919,MD_GENDER,0),0),\"\")","v":""},{"v":0,"d":"0.00"},null,{"v":0,"d":"0.00"},{"$f":"IF(F1919=\"Arbeitgeberähnliche Stellung\",OFFSET(MD!$Q$5,MATCH(Grundlagen_Abrechnung_KAE!$AK$7,MD_JAHR,0),0)*$H1919,IF(J1919>0,AC1919,I1919))","v":{"v":0,"d":"0.00"}},null,{"$f":"OFFSET(MD!$P$5,MATCH($AK$7,MD_JAHR,0),0)*12","v":{"$error":"#VALUE!"}},{"v":0,"d":"0.00"}]
[{"$nulls":14},{"$f":"IF($B1920=\"\",\"\",IF(F1920=\"Arbeitgeberähnliche Stellung\",OFFSET(MD!$Q$5,MATCH(Grundlagen_Abrechnung_KAE!$AK$7,MD_JAHR,0),0)*$H1920,IF(((AD1920/12*M1920*12)+N1920)>AF1920,AF1920/12,((AD1920/12*M1920*12)+N1920)/12)))","v":""},null,null,{"v":0,"d":"0.00"},null,{"v":0,"d":"0.00%"},{"v":0,"d":"0.00"},{"v":0,"d":"0.00"},{"v":0,"d":"0.00"},null,"prüfen",{"$f":"IFERROR(OFFSET(MD!$U$5,MATCH(Grundlagen_Abrechnung_KAE!$E1920,MD_GENDER,0),0),\"\")","v":""},{"v":0,"d":"0.00"},null,{"v":0,"d":"0.00"},{"$f":"IF(F1920=\"Arbeitgeberähnliche Stellung\",OFFSET(MD!$Q$5,MATCH(Grundlagen_Abrechnung_KAE!$AK$7,MD_JAHR,0),0)*$H1920,IF(J1920>0,AC1920,I1920))","v":{"v":0,"d":"0.00"}},null,{"$f":"OFFSET(MD!$P$5,MATCH($AK$7,MD_JAHR,0),0)*12","v":{"$error":"#VALUE!"}},{"v":0,"d":"0.00"}]
[{"$nulls":14},{"$f":"IF($B1921=\"\",\"\",IF(F1921=\"Arbeitgeberähnliche Stellung\",OFFSET(MD!$Q$5,MATCH(Grundlagen_Abrechnung_KAE!$AK$7,MD_JAHR,0),0)*$H1921,IF(((AD1921/12*M1921*12)+N1921)>AF1921,AF1921/12,((AD1921/12*M1921*12)+N1921)/12)))","v":""},null,null,{"v":0,"d":"0.00"},null,{"v":0,"d":"0.00%"},{"v":0,"d":"0.00"},{"v":0,"d":"0.00"},{"v":0,"d":"0.00"},null,"prüfen",{"$f":"IFERROR(OFFSET(MD!$U$5,MATCH(Grundlagen_Abrechnung_KAE!$E1921,MD_GENDER,0),0),\"\")","v":""},{"v":0,"d":"0.00"},null,{"v":0,"d":"0.00"},{"$f":"IF(F1921=\"Arbeitgeberähnliche Stellung\",OFFSET(MD!$Q$5,MATCH(Grundlagen_Abrechnung_KAE!$AK$7,MD_JAHR,0),0)*$H1921,IF(J1921>0,AC1921,I1921))","v":{"v":0,"d":"0.00"}},null,{"$f":"OFFSET(MD!$P$5,MATCH($AK$7,MD_JAHR,0),0)*12","v":{"$error":"#VALUE!"}},{"v":0,"d":"0.00"}]
[{"$nulls":14},{"$f":"IF($B1922=\"\",\"\",IF(F1922=\"Arbeitgeberähnliche Stellung\",OFFSET(MD!$Q$5,MATCH(Grundlagen_Abrechnung_KAE!$AK$7,MD_JAHR,0),0)*$H1922,IF(((AD1922/12*M1922*12)+N1922)>AF1922,AF1922/12,((AD1922/12*M1922*12)+N1922)/12)))","v":""},null,null,{"v":0,"d":"0.00"},null,{"v":0,"d":"0.00%"},{"v":0,"d":"0.00"},{"v":0,"d":"0.00"},{"v":0,"d":"0.00"},null,"prüfen",{"$f":"IFERROR(OFFSET(MD!$U$5,MATCH(Grundlagen_Abrechnung_KAE!$E1922,MD_GENDER,0),0),\"\")","v":""},{"v":0,"d":"0.00"},null,{"v":0,"d":"0.00"},{"$f":"IF(F1922=\"Arbeitgeberähnliche Stellung\",OFFSET(MD!$Q$5,MATCH(Grundlagen_Abrechnung_KAE!$AK$7,MD_JAHR,0),0)*$H1922,IF(J1922>0,AC1922,I1922))","v":{"v":0,"d":"0.00"}},null,{"$f":"OFFSET(MD!$P$5,MATCH($AK$7,MD_JAHR,0),0)*12","v":{"$error":"#VALUE!"}},{"v":0,"d":"0.00"}]
[{"$nulls":14},{"$f":"IF($B1923=\"\",\"\",IF(F1923=\"Arbeitgeberähnliche Stellung\",OFFSET(MD!$Q$5,MATCH(Grundlagen_Abrechnung_KAE!$AK$7,MD_JAHR,0),0)*$H1923,IF(((AD1923/12*M1923*12)+N1923)>AF1923,AF1923/12,((AD1923/12*M1923*12)+N1923)/12)))","v":""},null,null,{"v":0,"d":"0.00"},null,{"v":0,"d":"0.00%"},{"v":0,"d":"0.00"},{"v":0,"d":"0.00"},{"v":0,"d":"0.00"},null,"prüfen",{"$f":"IFERROR(OFFSET(MD!$U$5,MATCH(Grundlagen_Abrechnung_KAE!$E1923,MD_GENDER,0),0),\"\")","v":""},{"v":0,"d":"0.00"},null,{"v":0,"d":"0.00"},{"$f":"IF(F1923=\"Arbeitgeberähnliche Stellung\",OFFSET(MD!$Q$5,MATCH(Grundlagen_Abrechnung_KAE!$AK$7,MD_JAHR,0),0)*$H1923,IF(J1923>0,AC1923,I1923))","v":{"v":0,"d":"0.00"}},null,{"$f":"OFFSET(MD!$P$5,MATCH($AK$7,MD_JAHR,0),0)*12","v":{"$error":"#VALUE!"}},{"v":0,"d":"0.00"}]
[{"$nulls":14},{"$f":"IF($B1924=\"\",\"\",IF(F1924=\"Arbeitgeberähnliche Stellung\",OFFSET(MD!$Q$5,MATCH(Grundlagen_Abrechnung_KAE!$AK$7,MD_JAHR,0),0)*$H1924,IF(((AD1924/12*M1924*12)+N1924)>AF1924,AF1924/12,((AD1924/12*M1924*12)+N1924)/12)))","v":""},null,null,{"v":0,"d":"0.00"},null,{"v":0,"d":"0.00%"},{"v":0,"d":"0.00"},{"v":0,"d":"0.00"},{"v":0,"d":"0.00"},null,"prüfen",{"$f":"IFERROR(OFFSET(MD!$U$5,MATCH(Grundlagen_Abrechnung_KAE!$E1924,MD_GENDER,0),0),\"\")","v":""},{"v":0,"d":"0.00"},null,{"v":0,"d":"0.00"},{"$f":"IF(F1924=\"Arbeitgeberähnliche Stellung\",OFFSET(MD!$Q$5,MATCH(Grundlagen_Abrechnung_KAE!$AK$7,MD_JAHR,0),0)*$H1924,IF(J1924>0,AC1924,I1924))","v":{"v":0,"d":"0.00"}},null,{"$f":"OFFSET(MD!$P$5,MATCH($AK$7,MD_JAHR,0),0)*12","v":{"$error":"#VALUE!"}},{"v":0,"d":"0.00"}]
[{"$nulls":14},{"$f":"IF($B1925=\"\",\"\",IF(F1925=\"Arbeitgeberähnliche Stellung\",OFFSET(MD!$Q$5,MATCH(Grundlagen_Abrechnung_KAE!$AK$7,MD_JAHR,0),0)*$H1925,IF(((AD1925/12*M1925*12)+N1925)>AF1925,AF1925/12,((AD1925/12*M1925*12)+N1925)/12)))","v":""},null,null,{"v":0,"d":"0.00"},null,{"v":0,"d":"0.00%"},{"v":0,"d":"0.00"},{"v":0,"d":"0.00"},{"v":0,"d":"0.00"},null,"prüfen",{"$f":"IFERROR(OFFSET(MD!$U$5,MATCH(Grundlagen_Abrechnung_KAE!$E1925,MD_GENDER,0),0),\"\")","v":""},{"v":0,"d":"0.00"},null,{"v":0,"d":"0.00"},{"$f":"IF(F1925=\"Arbeitgeberähnliche Stellung\",OFFSET(MD!$Q$5,MATCH(Grundlagen_Abrechnung_KAE!$AK$7,MD_JAHR,0),0)*$H1925,IF(J1925>0,AC1925,I1925))","v":{"v":0,"d":"0.00"}},null,{"$f":"OFFSET(MD!$P$5,MATCH($AK$7,MD_JAHR,0),0)*12","v":{"$error":"#VALUE!"}},{"v":0,"d":"0.00"}]
[{"$nulls":14},{"$f":"IF($B1926=\"\",\"\",IF(F1926=\"Arbeitgeberähnliche Stellung\",OFFSET(MD!$Q$5,MATCH(Grundlagen_Abrechnung_KAE!$AK$7,MD_JAHR,0),0)*$H1926,IF(((AD1926/12*M1926*12)+N1926)>AF1926,AF1926/12,((AD1926/12*M1926*12)+N1926)/12)))","v":""},null,null,{"v":0,"d":"0.00"},null,{"v":0,"d":"0.00%"},{"v":0,"d":"0.00"},{"v":0,"d":"0.00"},{"v":0,"d":"0.00"},null,"prüfen",{"$f":"IFERROR(OFFSET(MD!$U$5,MATCH(Grundlagen_Abrechnung_KAE!$E1926,MD_GENDER,0),0),\"\")","v":""},{"v":0,"d":"0.00"},null,{"v":0,"d":"0.00"},{"$f":"IF(F1926=\"Arbeitgeberähnliche Stellung\",OFFSET(MD!$Q$5,MATCH(Grundlagen_Abrechnung_KAE!$AK$7,MD_JAHR,0),0)*$H1926,IF(J1926>0,AC1926,I1926))","v":{"v":0,"d":"0.00"}},null,{"$f":"OFFSET(MD!$P$5,MATCH($AK$7,MD_JAHR,0),0)*12","v":{"$error":"#VALUE!"}},{"v":0,"d":"0.00"}]
[{"$nulls":14},{"$f":"IF($B1927=\"\",\"\",IF(F1927=\"Arbeitgeberähnliche Stellung\",OFFSET(MD!$Q$5,MATCH(Grundlagen_Abrechnung_KAE!$AK$7,MD_JAHR,0),0)*$H1927,IF(((AD1927/12*M1927*12)+N1927)>AF1927,AF1927/12,((AD1927/12*M1927*12)+N1927)/12)))","v":""},null,null,{"v":0,"d":"0.00"},null,{"v":0,"d":"0.00%"},{"v":0,"d":"0.00"},{"v":0,"d":"0.00"},{"v":0,"d":"0.00"},null,"prüfen",{"$f":"IFERROR(OFFSET(MD!$U$5,MATCH(Grundlagen_Abrechnung_KAE!$E1927,MD_GENDER,0),0),\"\")","v":""},{"v":0,"d":"0.00"},null,{"v":0,"d":"0.00"},{"$f":"IF(F1927=\"Arbeitgeberähnliche Stellung\",OFFSET(MD!$Q$5,MATCH(Grundlagen_Abrechnung_KAE!$AK$7,MD_JAHR,0),0)*$H1927,IF(J1927>0,AC1927,I1927))","v":{"v":0,"d":"0.00"}},null,{"$f":"OFFSET(MD!$P$5,MATCH($AK$7,MD_JAHR,0),0)*12","v":{"$error":"#VALUE!"}},{"v":0,"d":"0.00"}]
[{"$nulls":14},{"$f":"IF($B1928=\"\",\"\",IF(F1928=\"Arbeitgeberähnliche Stellung\",OFFSET(MD!$Q$5,MATCH(Grundlagen_Abrechnung_KAE!$AK$7,MD_JAHR,0),0)*$H1928,IF(((AD1928/12*M1928*12)+N1928)>AF1928,AF1928/12,((AD1928/12*M1928*12)+N1928)/12)))","v":""},null,null,{"v":0,"d":"0.00"},null,{"v":0,"d":"0.00%"},{"v":0,"d":"0.00"},{"v":0,"d":"0.00"},{"v":0,"d":"0.00"},null,"prüfen",{"$f":"IFERROR(OFFSET(MD!$U$5,MATCH(Grundlagen_Abrechnung_KAE!$E1928,MD_GENDER,0),0),\"\")","v":""},{"v":0,"d":"0.00"},null,{"v":0,"d":"0.00"},{"$f":"IF(F1928=\"Arbeitgeberähnliche Stellung\",OFFSET(MD!$Q$5,MATCH(Grundlagen_Abrechnung_KAE!$AK$7,MD_JAHR,0),0)*$H1928,IF(J1928>0,AC1928,I1928))","v":{"v":0,"d":"0.00"}},null,{"$f":"OFFSET(MD!$P$5,MATCH($AK$7,MD_JAHR,0),0)*12","v":{"$error":"#VALUE!"}},{"v":0,"d":"0.00"}]
[{"$nulls":14},{"$f":"IF($B1929=\"\",\"\",IF(F1929=\"Arbeitgeberähnliche Stellung\",OFFSET(MD!$Q$5,MATCH(Grundlagen_Abrechnung_KAE!$AK$7,MD_JAHR,0),0)*$H1929,IF(((AD1929/12*M1929*12)+N1929)>AF1929,AF1929/12,((AD1929/12*M1929*12)+N1929)/12)))","v":""},null,null,{"v":0,"d":"0.00"},null,{"v":0,"d":"0.00%"},{"v":0,"d":"0.00"},{"v":0,"d":"0.00"},{"v":0,"d":"0.00"},null,"prüfen",{"$f":"IFERROR(OFFSET(MD!$U$5,MATCH(Grundlagen_Abrechnung_KAE!$E1929,MD_GENDER,0),0),\"\")","v":""},{"v":0,"d":"0.00"},null,{"v":0,"d":"0.00"},{"$f":"IF(F1929=\"Arbeitgeberähnliche Stellung\",OFFSET(MD!$Q$5,MATCH(Grundlagen_Abrechnung_KAE!$AK$7,MD_JAHR,0),0)*$H1929,IF(J1929>0,AC1929,I1929))","v":{"v":0,"d":"0.00"}},null,{"$f":"OFFSET(MD!$P$5,MATCH($AK$7,MD_JAHR,0),0)*12","v":{"$error":"#VALUE!"}},{"v":0,"d":"0.00"}]
[{"$nulls":14},{"$f":"IF($B1930=\"\",\"\",IF(F1930=\"Arbeitgeberähnliche Stellung\",OFFSET(MD!$Q$5,MATCH(Grundlagen_Abrechnung_KAE!$AK$7,MD_JAHR,0),0)*$H1930,IF(((AD1930/12*M1930*12)+N1930)>AF1930,AF1930/12,((AD1930/12*M1930*12)+N1930)/12)))","v":""},null,null,{"v":0,"d":"0.00"},null,{"v":0,"d":"0.00%"},{"v":0,"d":"0.00"},{"v":0,"d":"0.00"},{"v":0,"d":"0.00"},null,"prüfen",{"$f":"IFERROR(OFFSET(MD!$U$5,MATCH(Grundlagen_Abrechnung_KAE!$E1930,MD_GENDER,0),0),\"\")","v":""},{"v":0,"d":"0.00"},null,{"v":0,"d":"0.00"},{"$f":"IF(F1930=\"Arbeitgeberähnliche Stellung\",OFFSET(MD!$Q$5,MATCH(Grundlagen_Abrechnung_KAE!$AK$7,MD_JAHR,0),0)*$H1930,IF(J1930>0,AC1930,I1930))","v":{"v":0,"d":"0.00"}},null,{"$f":"OFFSET(MD!$P$5,MATCH($AK$7,MD_JAHR,0),0)*12","v":{"$error":"#VALUE!"}},{"v":0,"d":"0.00"}]
[{"$nulls":14},{"$f":"IF($B1931=\"\",\"\",IF(F1931=\"Arbeitgeberähnliche Stellung\",OFFSET(MD!$Q$5,MATCH(Grundlagen_Abrechnung_KAE!$AK$7,MD_JAHR,0),0)*$H1931,IF(((AD1931/12*M1931*12)+N1931)>AF1931,AF1931/12,((AD1931/12*M1931*12)+N1931)/12)))","v":""},null,null,{"v":0,"d":"0.00"},null,{"v":0,"d":"0.00%"},{"v":0,"d":"0.00"},{"v":0,"d":"0.00"},{"v":0,"d":"0.00"},null,"prüfen",{"$f":"IFERROR(OFFSET(MD!$U$5,MATCH(Grundlagen_Abrechnung_KAE!$E1931,MD_GENDER,0),0),\"\")","v":""},{"v":0,"d":"0.00"},null,{"v":0,"d":"0.00"},{"$f":"IF(F1931=\"Arbeitgeberähnliche Stellung\",OFFSET(MD!$Q$5,MATCH(Grundlagen_Abrechnung_KAE!$AK$7,MD_JAHR,0),0)*$H1931,IF(J1931>0,AC1931,I1931))","v":{"v":0,"d":"0.00"}},null,{"$f":"OFFSET(MD!$P$5,MATCH($AK$7,MD_JAHR,0),0)*12","v":{"$error":"#VALUE!"}},{"v":0,"d":"0.00"}]
[{"$nulls":14},{"$f":"IF($B1932=\"\",\"\",IF(F1932=\"Arbeitgeberähnliche Stellung\",OFFSET(MD!$Q$5,MATCH(Grundlagen_Abrechnung_KAE!$AK$7,MD_JAHR,0),0)*$H1932,IF(((AD1932/12*M1932*12)+N1932)>AF1932,AF1932/12,((AD1932/12*M1932*12)+N1932)/12)))","v":""},null,null,{"v":0,"d":"0.00"},null,{"v":0,"d":"0.00%"},{"v":0,"d":"0.00"},{"v":0,"d":"0.00"},{"v":0,"d":"0.00"},null,"prüfen",{"$f":"IFERROR(OFFSET(MD!$U$5,MATCH(Grundlagen_Abrechnung_KAE!$E1932,MD_GENDER,0),0),\"\")","v":""},{"v":0,"d":"0.00"},null,{"v":0,"d":"0.00"},{"$f":"IF(F1932=\"Arbeitgeberähnliche Stellung\",OFFSET(MD!$Q$5,MATCH(Grundlagen_Abrechnung_KAE!$AK$7,MD_JAHR,0),0)*$H1932,IF(J1932>0,AC1932,I1932))","v":{"v":0,"d":"0.00"}},null,{"$f":"OFFSET(MD!$P$5,MATCH($AK$7,MD_JAHR,0),0)*12","v":{"$error":"#VALUE!"}},{"v":0,"d":"0.00"}]
[{"$nulls":14},{"$f":"IF($B1933=\"\",\"\",IF(F1933=\"Arbeitgeberähnliche Stellung\",OFFSET(MD!$Q$5,MATCH(Grundlagen_Abrechnung_KAE!$AK$7,MD_JAHR,0),0)*$H1933,IF(((AD1933/12*M1933*12)+N1933)>AF1933,AF1933/12,((AD1933/12*M1933*12)+N1933)/12)))","v":""},null,null,{"v":0,"d":"0.00"},null,{"v":0,"d":"0.00%"},{"v":0,"d":"0.00"},{"v":0,"d":"0.00"},{"v":0,"d":"0.00"},null,"prüfen",{"$f":"IFERROR(OFFSET(MD!$U$5,MATCH(Grundlagen_Abrechnung_KAE!$E1933,MD_GENDER,0),0),\"\")","v":""},{"v":0,"d":"0.00"},null,{"v":0,"d":"0.00"},{"$f":"IF(F1933=\"Arbeitgeberähnliche Stellung\",OFFSET(MD!$Q$5,MATCH(Grundlagen_Abrechnung_KAE!$AK$7,MD_JAHR,0),0)*$H1933,IF(J1933>0,AC1933,I1933))","v":{"v":0,"d":"0.00"}},null,{"$f":"OFFSET(MD!$P$5,MATCH($AK$7,MD_JAHR,0),0)*12","v":{"$error":"#VALUE!"}},{"v":0,"d":"0.00"}]
[{"$nulls":14},{"$f":"IF($B1934=\"\",\"\",IF(F1934=\"Arbeitgeberähnliche Stellung\",OFFSET(MD!$Q$5,MATCH(Grundlagen_Abrechnung_KAE!$AK$7,MD_JAHR,0),0)*$H1934,IF(((AD1934/12*M1934*12)+N1934)>AF1934,AF1934/12,((AD1934/12*M1934*12)+N1934)/12)))","v":""},null,null,{"v":0,"d":"0.00"},null,{"v":0,"d":"0.00%"},{"v":0,"d":"0.00"},{"v":0,"d":"0.00"},{"v":0,"d":"0.00"},null,"prüfen",{"$f":"IFERROR(OFFSET(MD!$U$5,MATCH(Grundlagen_Abrechnung_KAE!$E1934,MD_GENDER,0),0),\"\")","v":""},{"v":0,"d":"0.00"},null,{"v":0,"d":"0.00"},{"$f":"IF(F1934=\"Arbeitgeberähnliche Stellung\",OFFSET(MD!$Q$5,MATCH(Grundlagen_Abrechnung_KAE!$AK$7,MD_JAHR,0),0)*$H1934,IF(J1934>0,AC1934,I1934))","v":{"v":0,"d":"0.00"}},null,{"$f":"OFFSET(MD!$P$5,MATCH($AK$7,MD_JAHR,0),0)*12","v":{"$error":"#VALUE!"}},{"v":0,"d":"0.00"}]
[{"$nulls":14},{"$f":"IF($B1935=\"\",\"\",IF(F1935=\"Arbeitgeberähnliche Stellung\",OFFSET(MD!$Q$5,MATCH(Grundlagen_Abrechnung_KAE!$AK$7,MD_JAHR,0),0)*$H1935,IF(((AD1935/12*M1935*12)+N1935)>AF1935,AF1935/12,((AD1935/12*M1935*12)+N1935)/12)))","v":""},null,null,{"v":0,"d":"0.00"},null,{"v":0,"d":"0.00%"},{"v":0,"d":"0.00"},{"v":0,"d":"0.00"},{"v":0,"d":"0.00"},null,"prüfen",{"$f":"IFERROR(OFFSET(MD!$U$5,MATCH(Grundlagen_Abrechnung_KAE!$E1935,MD_GENDER,0),0),\"\")","v":""},{"v":0,"d":"0.00"},null,{"v":0,"d":"0.00"},{"$f":"IF(F1935=\"Arbeitgeberähnliche Stellung\",OFFSET(MD!$Q$5,MATCH(Grundlagen_Abrechnung_KAE!$AK$7,MD_JAHR,0),0)*$H1935,IF(J1935>0,AC1935,I1935))","v":{"v":0,"d":"0.00"}},null,{"$f":"OFFSET(MD!$P$5,MATCH($AK$7,MD_JAHR,0),0)*12","v":{"$error":"#VALUE!"}},{"v":0,"d":"0.00"}]
[{"$nulls":14},{"$f":"IF($B1936=\"\",\"\",IF(F1936=\"Arbeitgeberähnliche Stellung\",OFFSET(MD!$Q$5,MATCH(Grundlagen_Abrechnung_KAE!$AK$7,MD_JAHR,0),0)*$H1936,IF(((AD1936/12*M1936*12)+N1936)>AF1936,AF1936/12,((AD1936/12*M1936*12)+N1936)/12)))","v":""},null,null,{"v":0,"d":"0.00"},null,{"v":0,"d":"0.00%"},{"v":0,"d":"0.00"},{"v":0,"d":"0.00"},{"v":0,"d":"0.00"},null,"prüfen",{"$f":"IFERROR(OFFSET(MD!$U$5,MATCH(Grundlagen_Abrechnung_KAE!$E1936,MD_GENDER,0),0),\"\")","v":""},{"v":0,"d":"0.00"},null,{"v":0,"d":"0.00"},{"$f":"IF(F1936=\"Arbeitgeberähnliche Stellung\",OFFSET(MD!$Q$5,MATCH(Grundlagen_Abrechnung_KAE!$AK$7,MD_JAHR,0),0)*$H1936,IF(J1936>0,AC1936,I1936))","v":{"v":0,"d":"0.00"}},null,{"$f":"OFFSET(MD!$P$5,MATCH($AK$7,MD_JAHR,0),0)*12","v":{"$error":"#VALUE!"}},{"v":0,"d":"0.00"}]
[{"$nulls":14},{"$f":"IF($B1937=\"\",\"\",IF(F1937=\"Arbeitgeberähnliche Stellung\",OFFSET(MD!$Q$5,MATCH(Grundlagen_Abrechnung_KAE!$AK$7,MD_JAHR,0),0)*$H1937,IF(((AD1937/12*M1937*12)+N1937)>AF1937,AF1937/12,((AD1937/12*M1937*12)+N1937)/12)))","v":""},null,null,{"v":0,"d":"0.00"},null,{"v":0,"d":"0.00%"},{"v":0,"d":"0.00"},{"v":0,"d":"0.00"},{"v":0,"d":"0.00"},null,"prüfen",{"$f":"IFERROR(OFFSET(MD!$U$5,MATCH(Grundlagen_Abrechnung_KAE!$E1937,MD_GENDER,0),0),\"\")","v":""},{"v":0,"d":"0.00"},null,{"v":0,"d":"0.00"},{"$f":"IF(F1937=\"Arbeitgeberähnliche Stellung\",OFFSET(MD!$Q$5,MATCH(Grundlagen_Abrechnung_KAE!$AK$7,MD_JAHR,0),0)*$H1937,IF(J1937>0,AC1937,I1937))","v":{"v":0,"d":"0.00"}},null,{"$f":"OFFSET(MD!$P$5,MATCH($AK$7,MD_JAHR,0),0)*12","v":{"$error":"#VALUE!"}},{"v":0,"d":"0.00"}]
[{"$nulls":14},{"$f":"IF($B1938=\"\",\"\",IF(F1938=\"Arbeitgeberähnliche Stellung\",OFFSET(MD!$Q$5,MATCH(Grundlagen_Abrechnung_KAE!$AK$7,MD_JAHR,0),0)*$H1938,IF(((AD1938/12*M1938*12)+N1938)>AF1938,AF1938/12,((AD1938/12*M1938*12)+N1938)/12)))","v":""},null,null,{"v":0,"d":"0.00"},null,{"v":0,"d":"0.00%"},{"v":0,"d":"0.00"},{"v":0,"d":"0.00"},{"v":0,"d":"0.00"},null,"prüfen",{"$f":"IFERROR(OFFSET(MD!$U$5,MATCH(Grundlagen_Abrechnung_KAE!$E1938,MD_GENDER,0),0),\"\")","v":""},{"v":0,"d":"0.00"},null,{"v":0,"d":"0.00"},{"$f":"IF(F1938=\"Arbeitgeberähnliche Stellung\",OFFSET(MD!$Q$5,MATCH(Grundlagen_Abrechnung_KAE!$AK$7,MD_JAHR,0),0)*$H1938,IF(J1938>0,AC1938,I1938))","v":{"v":0,"d":"0.00"}},null,{"$f":"OFFSET(MD!$P$5,MATCH($AK$7,MD_JAHR,0),0)*12","v":{"$error":"#VALUE!"}},{"v":0,"d":"0.00"}]
[{"$nulls":14},{"$f":"IF($B1939=\"\",\"\",IF(F1939=\"Arbeitgeberähnliche Stellung\",OFFSET(MD!$Q$5,MATCH(Grundlagen_Abrechnung_KAE!$AK$7,MD_JAHR,0),0)*$H1939,IF(((AD1939/12*M1939*12)+N1939)>AF1939,AF1939/12,((AD1939/12*M1939*12)+N1939)/12)))","v":""},null,null,{"$f":"ROUND(IF(Q1939=\"\",0,IF(P1939=0,0,IF(Q1939>P1939,0,P1939-Q1939))),2)","v":{"v":0,"d":"0.00"}},null,{"$f":"IFERROR(R1939/P1939,0)","v":{"v":0,"d":"0.00%"}},{"$f":"IFERROR(IF(O1939-W1939=0,O1939,(O1939)*(1-T1939)),0)","v":{"v":0,"d":"0.00"}},{"v":0,"d":"0.00"},{"$f":"IFERROR(O1939*T1939,0)*0.8","v":{"v":0,"d":"0.00"}},null,{"$f":"IF(YEAR($G1939)>$Y$16,\"prüfen\",\"\")","v":"prüfen"},{"$f":"IFERROR(OFFSET(MD!$U$5,MATCH(Grundlagen_Abrechnung_KAE!$E1939,MD_GENDER,0),0),\"\")","v":""},{"$f":"IF(B1939=\"\",0,IF(YEAR(G1939)>$AA$16,0,1))","v":{"v":0,"d":"0.00"}},null,{"$f":"IF(J1939*K1939/6>J1939*L1939/12,J1939*K1939/6,J1939*L1939/12)","v":{"v":0,"d":"0.00"}},{"$f":"IF(F1939=\"Arbeitgeberähnliche Stellung\",OFFSET(MD!$Q$5,MATCH(Grundlagen_Abrechnung_KAE!$AK$7,MD_JAHR,0),0)*$H1939,IF(J1939>0,AC1939,I1939))","v":{"v":0,"d":"0.00"}},null,{"$f":"OFFSET(MD!$P$5,MATCH($AK$7,MD_JAHR,0),0)*12","v":{"$error":"#VALUE!"}},{"$f":"I1939*M1939+N1939","v":{"v":0,"d":"0.00"}}]
[{"$nulls":14},{"$f":"IF($B1940=\"\",\"\",IF(F1940=\"Arbeitgeberähnliche Stellung\",OFFSET(MD!$Q$5,MATCH(Grundlagen_Abrechnung_KAE!$AK$7,MD_JAHR,0),0)*$H1940,IF(((AD1940/12*M1940*12)+N1940)>AF1940,AF1940/12,((AD1940/12*M1940*12)+N1940)/12)))","v":""},null,null,{"v":0,"d":"0.00"},null,{"v":0,"d":"0.00%"},{"v":0,"d":"0.00"},{"$f":"IFERROR(O1940*T1940,0)","v":{"v":0,"d":"0.00"}},{"v":0,"d":"0.00"},null,"prüfen",{"$f":"IFERROR(OFFSET(MD!$U$5,MATCH(Grundlagen_Abrechnung_KAE!$E1940,MD_GENDER,0),0),\"\")","v":""},{"v":0,"d":"0.00"},null,{"v":0,"d":"0.00"},{"$f":"IF(F1940=\"Arbeitgeberähnliche Stellung\",OFFSET(MD!$Q$5,MATCH(Grundlagen_Abrechnung_KAE!$AK$7,MD_JAHR,0),0)*$H1940,IF(J1940>0,AC1940,I1940))","v":{"v":0,"d":"0.00"}},null,{"$f":"OFFSET(MD!$P$5,MATCH($AK$7,MD_JAHR,0),0)*12","v":{"$error":"#VALUE!"}},{"v":0,"d":"0.00"}]
[{"$nulls":14},{"$f":"IF($B1941=\"\",\"\",IF(F1941=\"Arbeitgeberähnliche Stellung\",OFFSET(MD!$Q$5,MATCH(Grundlagen_Abrechnung_KAE!$AK$7,MD_JAHR,0),0)*$H1941,IF(((AD1941/12*M1941*12)+N1941)>AF1941,AF1941/12,((AD1941/12*M1941*12)+N1941)/12)))","v":""},null,null,{"v":0,"d":"0.00"},null,{"v":0,"d":"0.00%"},{"v":0,"d":"0.00"},{"v":0,"d":"0.00"},{"v":0,"d":"0.00"},null,"prüfen",{"$f":"IFERROR(OFFSET(MD!$U$5,MATCH(Grundlagen_Abrechnung_KAE!$E1941,MD_GENDER,0),0),\"\")","v":""},{"v":0,"d":"0.00"},null,{"v":0,"d":"0.00"},{"$f":"IF(F1941=\"Arbeitgeberähnliche Stellung\",OFFSET(MD!$Q$5,MATCH(Grundlagen_Abrechnung_KAE!$AK$7,MD_JAHR,0),0)*$H1941,IF(J1941>0,AC1941,I1941))","v":{"v":0,"d":"0.00"}},null,{"$f":"OFFSET(MD!$P$5,MATCH($AK$7,MD_JAHR,0),0)*12","v":{"$error":"#VALUE!"}},{"v":0,"d":"0.00"}]
[{"$nulls":14},{"$f":"IF($B1942=\"\",\"\",IF(F1942=\"Arbeitgeberähnliche Stellung\",OFFSET(MD!$Q$5,MATCH(Grundlagen_Abrechnung_KAE!$AK$7,MD_JAHR,0),0)*$H1942,IF(((AD1942/12*M1942*12)+N1942)>AF1942,AF1942/12,((AD1942/12*M1942*12)+N1942)/12)))","v":""},null,null,{"v":0,"d":"0.00"},null,{"v":0,"d":"0.00%"},{"v":0,"d":"0.00"},{"v":0,"d":"0.00"},{"v":0,"d":"0.00"},null,"prüfen",{"$f":"IFERROR(OFFSET(MD!$U$5,MATCH(Grundlagen_Abrechnung_KAE!$E1942,MD_GENDER,0),0),\"\")","v":""},{"v":0,"d":"0.00"},null,{"v":0,"d":"0.00"},{"$f":"IF(F1942=\"Arbeitgeberähnliche Stellung\",OFFSET(MD!$Q$5,MATCH(Grundlagen_Abrechnung_KAE!$AK$7,MD_JAHR,0),0)*$H1942,IF(J1942>0,AC1942,I1942))","v":{"v":0,"d":"0.00"}},null,{"$f":"OFFSET(MD!$P$5,MATCH($AK$7,MD_JAHR,0),0)*12","v":{"$error":"#VALUE!"}},{"v":0,"d":"0.00"}]
[{"$nulls":14},{"$f":"IF($B1943=\"\",\"\",IF(F1943=\"Arbeitgeberähnliche Stellung\",OFFSET(MD!$Q$5,MATCH(Grundlagen_Abrechnung_KAE!$AK$7,MD_JAHR,0),0)*$H1943,IF(((AD1943/12*M1943*12)+N1943)>AF1943,AF1943/12,((AD1943/12*M1943*12)+N1943)/12)))","v":""},null,null,{"v":0,"d":"0.00"},null,{"v":0,"d":"0.00%"},{"v":0,"d":"0.00"},{"v":0,"d":"0.00"},{"v":0,"d":"0.00"},null,"prüfen",{"$f":"IFERROR(OFFSET(MD!$U$5,MATCH(Grundlagen_Abrechnung_KAE!$E1943,MD_GENDER,0),0),\"\")","v":""},{"v":0,"d":"0.00"},null,{"v":0,"d":"0.00"},{"$f":"IF(F1943=\"Arbeitgeberähnliche Stellung\",OFFSET(MD!$Q$5,MATCH(Grundlagen_Abrechnung_KAE!$AK$7,MD_JAHR,0),0)*$H1943,IF(J1943>0,AC1943,I1943))","v":{"v":0,"d":"0.00"}},null,{"$f":"OFFSET(MD!$P$5,MATCH($AK$7,MD_JAHR,0),0)*12","v":{"$error":"#VALUE!"}},{"v":0,"d":"0.00"}]
[{"$nulls":14},{"$f":"IF($B1944=\"\",\"\",IF(F1944=\"Arbeitgeberähnliche Stellung\",OFFSET(MD!$Q$5,MATCH(Grundlagen_Abrechnung_KAE!$AK$7,MD_JAHR,0),0)*$H1944,IF(((AD1944/12*M1944*12)+N1944)>AF1944,AF1944/12,((AD1944/12*M1944*12)+N1944)/12)))","v":""},null,null,{"v":0,"d":"0.00"},null,{"v":0,"d":"0.00%"},{"v":0,"d":"0.00"},{"v":0,"d":"0.00"},{"v":0,"d":"0.00"},null,"prüfen",{"$f":"IFERROR(OFFSET(MD!$U$5,MATCH(Grundlagen_Abrechnung_KAE!$E1944,MD_GENDER,0),0),\"\")","v":""},{"v":0,"d":"0.00"},null,{"v":0,"d":"0.00"},{"$f":"IF(F1944=\"Arbeitgeberähnliche Stellung\",OFFSET(MD!$Q$5,MATCH(Grundlagen_Abrechnung_KAE!$AK$7,MD_JAHR,0),0)*$H1944,IF(J1944>0,AC1944,I1944))","v":{"v":0,"d":"0.00"}},null,{"$f":"OFFSET(MD!$P$5,MATCH($AK$7,MD_JAHR,0),0)*12","v":{"$error":"#VALUE!"}},{"v":0,"d":"0.00"}]
[{"$nulls":14},{"$f":"IF($B1945=\"\",\"\",IF(F1945=\"Arbeitgeberähnliche Stellung\",OFFSET(MD!$Q$5,MATCH(Grundlagen_Abrechnung_KAE!$AK$7,MD_JAHR,0),0)*$H1945,IF(((AD1945/12*M1945*12)+N1945)>AF1945,AF1945/12,((AD1945/12*M1945*12)+N1945)/12)))","v":""},null,null,{"v":0,"d":"0.00"},null,{"v":0,"d":"0.00%"},{"v":0,"d":"0.00"},{"v":0,"d":"0.00"},{"v":0,"d":"0.00"},null,"prüfen",{"$f":"IFERROR(OFFSET(MD!$U$5,MATCH(Grundlagen_Abrechnung_KAE!$E1945,MD_GENDER,0),0),\"\")","v":""},{"v":0,"d":"0.00"},null,{"v":0,"d":"0.00"},{"$f":"IF(F1945=\"Arbeitgeberähnliche Stellung\",OFFSET(MD!$Q$5,MATCH(Grundlagen_Abrechnung_KAE!$AK$7,MD_JAHR,0),0)*$H1945,IF(J1945>0,AC1945,I1945))","v":{"v":0,"d":"0.00"}},null,{"$f":"OFFSET(MD!$P$5,MATCH($AK$7,MD_JAHR,0),0)*12","v":{"$error":"#VALUE!"}},{"v":0,"d":"0.00"}]
[{"$nulls":14},{"$f":"IF($B1946=\"\",\"\",IF(F1946=\"Arbeitgeberähnliche Stellung\",OFFSET(MD!$Q$5,MATCH(Grundlagen_Abrechnung_KAE!$AK$7,MD_JAHR,0),0)*$H1946,IF(((AD1946/12*M1946*12)+N1946)>AF1946,AF1946/12,((AD1946/12*M1946*12)+N1946)/12)))","v":""},null,null,{"v":0,"d":"0.00"},null,{"v":0,"d":"0.00%"},{"v":0,"d":"0.00"},{"v":0,"d":"0.00"},{"v":0,"d":"0.00"},null,"prüfen",{"$f":"IFERROR(OFFSET(MD!$U$5,MATCH(Grundlagen_Abrechnung_KAE!$E1946,MD_GENDER,0),0),\"\")","v":""},{"v":0,"d":"0.00"},null,{"v":0,"d":"0.00"},{"$f":"IF(F1946=\"Arbeitgeberähnliche Stellung\",OFFSET(MD!$Q$5,MATCH(Grundlagen_Abrechnung_KAE!$AK$7,MD_JAHR,0),0)*$H1946,IF(J1946>0,AC1946,I1946))","v":{"v":0,"d":"0.00"}},null,{"$f":"OFFSET(MD!$P$5,MATCH($AK$7,MD_JAHR,0),0)*12","v":{"$error":"#VALUE!"}},{"v":0,"d":"0.00"}]
[{"$nulls":14},{"$f":"IF($B1947=\"\",\"\",IF(F1947=\"Arbeitgeberähnliche Stellung\",OFFSET(MD!$Q$5,MATCH(Grundlagen_Abrechnung_KAE!$AK$7,MD_JAHR,0),0)*$H1947,IF(((AD1947/12*M1947*12)+N1947)>AF1947,AF1947/12,((AD1947/12*M1947*12)+N1947)/12)))","v":""},null,null,{"v":0,"d":"0.00"},null,{"v":0,"d":"0.00%"},{"v":0,"d":"0.00"},{"v":0,"d":"0.00"},{"v":0,"d":"0.00"},null,"prüfen",{"$f":"IFERROR(OFFSET(MD!$U$5,MATCH(Grundlagen_Abrechnung_KAE!$E1947,MD_GENDER,0),0),\"\")","v":""},{"v":0,"d":"0.00"},null,{"v":0,"d":"0.00"},{"$f":"IF(F1947=\"Arbeitgeberähnliche Stellung\",OFFSET(MD!$Q$5,MATCH(Grundlagen_Abrechnung_KAE!$AK$7,MD_JAHR,0),0)*$H1947,IF(J1947>0,AC1947,I1947))","v":{"v":0,"d":"0.00"}},null,{"$f":"OFFSET(MD!$P$5,MATCH($AK$7,MD_JAHR,0),0)*12","v":{"$error":"#VALUE!"}},{"v":0,"d":"0.00"}]
[{"$nulls":14},{"$f":"IF($B1948=\"\",\"\",IF(F1948=\"Arbeitgeberähnliche Stellung\",OFFSET(MD!$Q$5,MATCH(Grundlagen_Abrechnung_KAE!$AK$7,MD_JAHR,0),0)*$H1948,IF(((AD1948/12*M1948*12)+N1948)>AF1948,AF1948/12,((AD1948/12*M1948*12)+N1948)/12)))","v":""},null,null,{"v":0,"d":"0.00"},null,{"v":0,"d":"0.00%"},{"v":0,"d":"0.00"},{"v":0,"d":"0.00"},{"v":0,"d":"0.00"},null,"prüfen",{"$f":"IFERROR(OFFSET(MD!$U$5,MATCH(Grundlagen_Abrechnung_KAE!$E1948,MD_GENDER,0),0),\"\")","v":""},{"v":0,"d":"0.00"},null,{"v":0,"d":"0.00"},{"$f":"IF(F1948=\"Arbeitgeberähnliche Stellung\",OFFSET(MD!$Q$5,MATCH(Grundlagen_Abrechnung_KAE!$AK$7,MD_JAHR,0),0)*$H1948,IF(J1948>0,AC1948,I1948))","v":{"v":0,"d":"0.00"}},null,{"$f":"OFFSET(MD!$P$5,MATCH($AK$7,MD_JAHR,0),0)*12","v":{"$error":"#VALUE!"}},{"v":0,"d":"0.00"}]
[{"$nulls":14},{"$f":"IF($B1949=\"\",\"\",IF(F1949=\"Arbeitgeberähnliche Stellung\",OFFSET(MD!$Q$5,MATCH(Grundlagen_Abrechnung_KAE!$AK$7,MD_JAHR,0),0)*$H1949,IF(((AD1949/12*M1949*12)+N1949)>AF1949,AF1949/12,((AD1949/12*M1949*12)+N1949)/12)))","v":""},null,null,{"v":0,"d":"0.00"},null,{"v":0,"d":"0.00%"},{"v":0,"d":"0.00"},{"v":0,"d":"0.00"},{"v":0,"d":"0.00"},null,"prüfen",{"$f":"IFERROR(OFFSET(MD!$U$5,MATCH(Grundlagen_Abrechnung_KAE!$E1949,MD_GENDER,0),0),\"\")","v":""},{"v":0,"d":"0.00"},null,{"v":0,"d":"0.00"},{"$f":"IF(F1949=\"Arbeitgeberähnliche Stellung\",OFFSET(MD!$Q$5,MATCH(Grundlagen_Abrechnung_KAE!$AK$7,MD_JAHR,0),0)*$H1949,IF(J1949>0,AC1949,I1949))","v":{"v":0,"d":"0.00"}},null,{"$f":"OFFSET(MD!$P$5,MATCH($AK$7,MD_JAHR,0),0)*12","v":{"$error":"#VALUE!"}},{"v":0,"d":"0.00"}]
[{"$nulls":14},{"$f":"IF($B1950=\"\",\"\",IF(F1950=\"Arbeitgeberähnliche Stellung\",OFFSET(MD!$Q$5,MATCH(Grundlagen_Abrechnung_KAE!$AK$7,MD_JAHR,0),0)*$H1950,IF(((AD1950/12*M1950*12)+N1950)>AF1950,AF1950/12,((AD1950/12*M1950*12)+N1950)/12)))","v":""},null,null,{"v":0,"d":"0.00"},null,{"v":0,"d":"0.00%"},{"v":0,"d":"0.00"},{"v":0,"d":"0.00"},{"v":0,"d":"0.00"},null,"prüfen",{"$f":"IFERROR(OFFSET(MD!$U$5,MATCH(Grundlagen_Abrechnung_KAE!$E1950,MD_GENDER,0),0),\"\")","v":""},{"v":0,"d":"0.00"},null,{"v":0,"d":"0.00"},{"$f":"IF(F1950=\"Arbeitgeberähnliche Stellung\",OFFSET(MD!$Q$5,MATCH(Grundlagen_Abrechnung_KAE!$AK$7,MD_JAHR,0),0)*$H1950,IF(J1950>0,AC1950,I1950))","v":{"v":0,"d":"0.00"}},null,{"$f":"OFFSET(MD!$P$5,MATCH($AK$7,MD_JAHR,0),0)*12","v":{"$error":"#VALUE!"}},{"v":0,"d":"0.00"}]
[{"$nulls":14},{"$f":"IF($B1951=\"\",\"\",IF(F1951=\"Arbeitgeberähnliche Stellung\",OFFSET(MD!$Q$5,MATCH(Grundlagen_Abrechnung_KAE!$AK$7,MD_JAHR,0),0)*$H1951,IF(((AD1951/12*M1951*12)+N1951)>AF1951,AF1951/12,((AD1951/12*M1951*12)+N1951)/12)))","v":""},null,null,{"v":0,"d":"0.00"},null,{"v":0,"d":"0.00%"},{"v":0,"d":"0.00"},{"v":0,"d":"0.00"},{"v":0,"d":"0.00"},null,"prüfen",{"$f":"IFERROR(OFFSET(MD!$U$5,MATCH(Grundlagen_Abrechnung_KAE!$E1951,MD_GENDER,0),0),\"\")","v":""},{"v":0,"d":"0.00"},null,{"v":0,"d":"0.00"},{"$f":"IF(F1951=\"Arbeitgeberähnliche Stellung\",OFFSET(MD!$Q$5,MATCH(Grundlagen_Abrechnung_KAE!$AK$7,MD_JAHR,0),0)*$H1951,IF(J1951>0,AC1951,I1951))","v":{"v":0,"d":"0.00"}},null,{"$f":"OFFSET(MD!$P$5,MATCH($AK$7,MD_JAHR,0),0)*12","v":{"$error":"#VALUE!"}},{"v":0,"d":"0.00"}]
[{"$nulls":14},{"$f":"IF($B1952=\"\",\"\",IF(F1952=\"Arbeitgeberähnliche Stellung\",OFFSET(MD!$Q$5,MATCH(Grundlagen_Abrechnung_KAE!$AK$7,MD_JAHR,0),0)*$H1952,IF(((AD1952/12*M1952*12)+N1952)>AF1952,AF1952/12,((AD1952/12*M1952*12)+N1952)/12)))","v":""},null,null,{"v":0,"d":"0.00"},null,{"v":0,"d":"0.00%"},{"v":0,"d":"0.00"},{"v":0,"d":"0.00"},{"v":0,"d":"0.00"},null,"prüfen",{"$f":"IFERROR(OFFSET(MD!$U$5,MATCH(Grundlagen_Abrechnung_KAE!$E1952,MD_GENDER,0),0),\"\")","v":""},{"v":0,"d":"0.00"},null,{"v":0,"d":"0.00"},{"$f":"IF(F1952=\"Arbeitgeberähnliche Stellung\",OFFSET(MD!$Q$5,MATCH(Grundlagen_Abrechnung_KAE!$AK$7,MD_JAHR,0),0)*$H1952,IF(J1952>0,AC1952,I1952))","v":{"v":0,"d":"0.00"}},null,{"$f":"OFFSET(MD!$P$5,MATCH($AK$7,MD_JAHR,0),0)*12","v":{"$error":"#VALUE!"}},{"v":0,"d":"0.00"}]
[{"$nulls":14},{"$f":"IF($B1953=\"\",\"\",IF(F1953=\"Arbeitgeberähnliche Stellung\",OFFSET(MD!$Q$5,MATCH(Grundlagen_Abrechnung_KAE!$AK$7,MD_JAHR,0),0)*$H1953,IF(((AD1953/12*M1953*12)+N1953)>AF1953,AF1953/12,((AD1953/12*M1953*12)+N1953)/12)))","v":""},null,null,{"v":0,"d":"0.00"},null,{"v":0,"d":"0.00%"},{"v":0,"d":"0.00"},{"v":0,"d":"0.00"},{"v":0,"d":"0.00"},null,"prüfen",{"$f":"IFERROR(OFFSET(MD!$U$5,MATCH(Grundlagen_Abrechnung_KAE!$E1953,MD_GENDER,0),0),\"\")","v":""},{"v":0,"d":"0.00"},null,{"v":0,"d":"0.00"},{"$f":"IF(F1953=\"Arbeitgeberähnliche Stellung\",OFFSET(MD!$Q$5,MATCH(Grundlagen_Abrechnung_KAE!$AK$7,MD_JAHR,0),0)*$H1953,IF(J1953>0,AC1953,I1953))","v":{"v":0,"d":"0.00"}},null,{"$f":"OFFSET(MD!$P$5,MATCH($AK$7,MD_JAHR,0),0)*12","v":{"$error":"#VALUE!"}},{"v":0,"d":"0.00"}]
[{"$nulls":14},{"$f":"IF($B1954=\"\",\"\",IF(F1954=\"Arbeitgeberähnliche Stellung\",OFFSET(MD!$Q$5,MATCH(Grundlagen_Abrechnung_KAE!$AK$7,MD_JAHR,0),0)*$H1954,IF(((AD1954/12*M1954*12)+N1954)>AF1954,AF1954/12,((AD1954/12*M1954*12)+N1954)/12)))","v":""},null,null,{"v":0,"d":"0.00"},null,{"v":0,"d":"0.00%"},{"v":0,"d":"0.00"},{"v":0,"d":"0.00"},{"v":0,"d":"0.00"},null,"prüfen",{"$f":"IFERROR(OFFSET(MD!$U$5,MATCH(Grundlagen_Abrechnung_KAE!$E1954,MD_GENDER,0),0),\"\")","v":""},{"v":0,"d":"0.00"},null,{"v":0,"d":"0.00"},{"$f":"IF(F1954=\"Arbeitgeberähnliche Stellung\",OFFSET(MD!$Q$5,MATCH(Grundlagen_Abrechnung_KAE!$AK$7,MD_JAHR,0),0)*$H1954,IF(J1954>0,AC1954,I1954))","v":{"v":0,"d":"0.00"}},null,{"$f":"OFFSET(MD!$P$5,MATCH($AK$7,MD_JAHR,0),0)*12","v":{"$error":"#VALUE!"}},{"v":0,"d":"0.00"}]
[{"$nulls":14},{"$f":"IF($B1955=\"\",\"\",IF(F1955=\"Arbeitgeberähnliche Stellung\",OFFSET(MD!$Q$5,MATCH(Grundlagen_Abrechnung_KAE!$AK$7,MD_JAHR,0),0)*$H1955,IF(((AD1955/12*M1955*12)+N1955)>AF1955,AF1955/12,((AD1955/12*M1955*12)+N1955)/12)))","v":""},null,null,{"v":0,"d":"0.00"},null,{"v":0,"d":"0.00%"},{"v":0,"d":"0.00"},{"v":0,"d":"0.00"},{"v":0,"d":"0.00"},null,"prüfen",{"$f":"IFERROR(OFFSET(MD!$U$5,MATCH(Grundlagen_Abrechnung_KAE!$E1955,MD_GENDER,0),0),\"\")","v":""},{"v":0,"d":"0.00"},null,{"v":0,"d":"0.00"},{"$f":"IF(F1955=\"Arbeitgeberähnliche Stellung\",OFFSET(MD!$Q$5,MATCH(Grundlagen_Abrechnung_KAE!$AK$7,MD_JAHR,0),0)*$H1955,IF(J1955>0,AC1955,I1955))","v":{"v":0,"d":"0.00"}},null,{"$f":"OFFSET(MD!$P$5,MATCH($AK$7,MD_JAHR,0),0)*12","v":{"$error":"#VALUE!"}},{"v":0,"d":"0.00"}]
[{"$nulls":14},{"$f":"IF($B1956=\"\",\"\",IF(F1956=\"Arbeitgeberähnliche Stellung\",OFFSET(MD!$Q$5,MATCH(Grundlagen_Abrechnung_KAE!$AK$7,MD_JAHR,0),0)*$H1956,IF(((AD1956/12*M1956*12)+N1956)>AF1956,AF1956/12,((AD1956/12*M1956*12)+N1956)/12)))","v":""},null,null,{"v":0,"d":"0.00"},null,{"v":0,"d":"0.00%"},{"v":0,"d":"0.00"},{"v":0,"d":"0.00"},{"v":0,"d":"0.00"},null,"prüfen",{"$f":"IFERROR(OFFSET(MD!$U$5,MATCH(Grundlagen_Abrechnung_KAE!$E1956,MD_GENDER,0),0),\"\")","v":""},{"v":0,"d":"0.00"},null,{"v":0,"d":"0.00"},{"$f":"IF(F1956=\"Arbeitgeberähnliche Stellung\",OFFSET(MD!$Q$5,MATCH(Grundlagen_Abrechnung_KAE!$AK$7,MD_JAHR,0),0)*$H1956,IF(J1956>0,AC1956,I1956))","v":{"v":0,"d":"0.00"}},null,{"$f":"OFFSET(MD!$P$5,MATCH($AK$7,MD_JAHR,0),0)*12","v":{"$error":"#VALUE!"}},{"v":0,"d":"0.00"}]
[{"$nulls":14},{"$f":"IF($B1957=\"\",\"\",IF(F1957=\"Arbeitgeberähnliche Stellung\",OFFSET(MD!$Q$5,MATCH(Grundlagen_Abrechnung_KAE!$AK$7,MD_JAHR,0),0)*$H1957,IF(((AD1957/12*M1957*12)+N1957)>AF1957,AF1957/12,((AD1957/12*M1957*12)+N1957)/12)))","v":""},null,null,{"v":0,"d":"0.00"},null,{"v":0,"d":"0.00%"},{"v":0,"d":"0.00"},{"v":0,"d":"0.00"},{"v":0,"d":"0.00"},null,"prüfen",{"$f":"IFERROR(OFFSET(MD!$U$5,MATCH(Grundlagen_Abrechnung_KAE!$E1957,MD_GENDER,0),0),\"\")","v":""},{"v":0,"d":"0.00"},null,{"v":0,"d":"0.00"},{"$f":"IF(F1957=\"Arbeitgeberähnliche Stellung\",OFFSET(MD!$Q$5,MATCH(Grundlagen_Abrechnung_KAE!$AK$7,MD_JAHR,0),0)*$H1957,IF(J1957>0,AC1957,I1957))","v":{"v":0,"d":"0.00"}},null,{"$f":"OFFSET(MD!$P$5,MATCH($AK$7,MD_JAHR,0),0)*12","v":{"$error":"#VALUE!"}},{"v":0,"d":"0.00"}]
[{"$nulls":14},{"$f":"IF($B1958=\"\",\"\",IF(F1958=\"Arbeitgeberähnliche Stellung\",OFFSET(MD!$Q$5,MATCH(Grundlagen_Abrechnung_KAE!$AK$7,MD_JAHR,0),0)*$H1958,IF(((AD1958/12*M1958*12)+N1958)>AF1958,AF1958/12,((AD1958/12*M1958*12)+N1958)/12)))","v":""},null,null,{"v":0,"d":"0.00"},null,{"v":0,"d":"0.00%"},{"v":0,"d":"0.00"},{"v":0,"d":"0.00"},{"v":0,"d":"0.00"},null,"prüfen",{"$f":"IFERROR(OFFSET(MD!$U$5,MATCH(Grundlagen_Abrechnung_KAE!$E1958,MD_GENDER,0),0),\"\")","v":""},{"v":0,"d":"0.00"},null,{"v":0,"d":"0.00"},{"$f":"IF(F1958=\"Arbeitgeberähnliche Stellung\",OFFSET(MD!$Q$5,MATCH(Grundlagen_Abrechnung_KAE!$AK$7,MD_JAHR,0),0)*$H1958,IF(J1958>0,AC1958,I1958))","v":{"v":0,"d":"0.00"}},null,{"$f":"OFFSET(MD!$P$5,MATCH($AK$7,MD_JAHR,0),0)*12","v":{"$error":"#VALUE!"}},{"v":0,"d":"0.00"}]
[{"$nulls":14},{"$f":"IF($B1959=\"\",\"\",IF(F1959=\"Arbeitgeberähnliche Stellung\",OFFSET(MD!$Q$5,MATCH(Grundlagen_Abrechnung_KAE!$AK$7,MD_JAHR,0),0)*$H1959,IF(((AD1959/12*M1959*12)+N1959)>AF1959,AF1959/12,((AD1959/12*M1959*12)+N1959)/12)))","v":""},null,null,{"v":0,"d":"0.00"},null,{"v":0,"d":"0.00%"},{"v":0,"d":"0.00"},{"v":0,"d":"0.00"},{"v":0,"d":"0.00"},null,"prüfen",{"$f":"IFERROR(OFFSET(MD!$U$5,MATCH(Grundlagen_Abrechnung_KAE!$E1959,MD_GENDER,0),0),\"\")","v":""},{"v":0,"d":"0.00"},null,{"v":0,"d":"0.00"},{"$f":"IF(F1959=\"Arbeitgeberähnliche Stellung\",OFFSET(MD!$Q$5,MATCH(Grundlagen_Abrechnung_KAE!$AK$7,MD_JAHR,0),0)*$H1959,IF(J1959>0,AC1959,I1959))","v":{"v":0,"d":"0.00"}},null,{"$f":"OFFSET(MD!$P$5,MATCH($AK$7,MD_JAHR,0),0)*12","v":{"$error":"#VALUE!"}},{"v":0,"d":"0.00"}]
[{"$nulls":14},{"$f":"IF($B1960=\"\",\"\",IF(F1960=\"Arbeitgeberähnliche Stellung\",OFFSET(MD!$Q$5,MATCH(Grundlagen_Abrechnung_KAE!$AK$7,MD_JAHR,0),0)*$H1960,IF(((AD1960/12*M1960*12)+N1960)>AF1960,AF1960/12,((AD1960/12*M1960*12)+N1960)/12)))","v":""},null,null,{"v":0,"d":"0.00"},null,{"v":0,"d":"0.00%"},{"v":0,"d":"0.00"},{"v":0,"d":"0.00"},{"v":0,"d":"0.00"},null,"prüfen",{"$f":"IFERROR(OFFSET(MD!$U$5,MATCH(Grundlagen_Abrechnung_KAE!$E1960,MD_GENDER,0),0),\"\")","v":""},{"v":0,"d":"0.00"},null,{"v":0,"d":"0.00"},{"$f":"IF(F1960=\"Arbeitgeberähnliche Stellung\",OFFSET(MD!$Q$5,MATCH(Grundlagen_Abrechnung_KAE!$AK$7,MD_JAHR,0),0)*$H1960,IF(J1960>0,AC1960,I1960))","v":{"v":0,"d":"0.00"}},null,{"$f":"OFFSET(MD!$P$5,MATCH($AK$7,MD_JAHR,0),0)*12","v":{"$error":"#VALUE!"}},{"v":0,"d":"0.00"}]
[{"$nulls":14},{"$f":"IF($B1961=\"\",\"\",IF(F1961=\"Arbeitgeberähnliche Stellung\",OFFSET(MD!$Q$5,MATCH(Grundlagen_Abrechnung_KAE!$AK$7,MD_JAHR,0),0)*$H1961,IF(((AD1961/12*M1961*12)+N1961)>AF1961,AF1961/12,((AD1961/12*M1961*12)+N1961)/12)))","v":""},null,null,{"v":0,"d":"0.00"},null,{"v":0,"d":"0.00%"},{"v":0,"d":"0.00"},{"v":0,"d":"0.00"},{"v":0,"d":"0.00"},null,"prüfen",{"$f":"IFERROR(OFFSET(MD!$U$5,MATCH(Grundlagen_Abrechnung_KAE!$E1961,MD_GENDER,0),0),\"\")","v":""},{"v":0,"d":"0.00"},null,{"v":0,"d":"0.00"},{"$f":"IF(F1961=\"Arbeitgeberähnliche Stellung\",OFFSET(MD!$Q$5,MATCH(Grundlagen_Abrechnung_KAE!$AK$7,MD_JAHR,0),0)*$H1961,IF(J1961>0,AC1961,I1961))","v":{"v":0,"d":"0.00"}},null,{"$f":"OFFSET(MD!$P$5,MATCH($AK$7,MD_JAHR,0),0)*12","v":{"$error":"#VALUE!"}},{"v":0,"d":"0.00"}]
[{"$nulls":14},{"$f":"IF($B1962=\"\",\"\",IF(F1962=\"Arbeitgeberähnliche Stellung\",OFFSET(MD!$Q$5,MATCH(Grundlagen_Abrechnung_KAE!$AK$7,MD_JAHR,0),0)*$H1962,IF(((AD1962/12*M1962*12)+N1962)>AF1962,AF1962/12,((AD1962/12*M1962*12)+N1962)/12)))","v":""},null,null,{"v":0,"d":"0.00"},null,{"v":0,"d":"0.00%"},{"v":0,"d":"0.00"},{"v":0,"d":"0.00"},{"v":0,"d":"0.00"},null,"prüfen",{"$f":"IFERROR(OFFSET(MD!$U$5,MATCH(Grundlagen_Abrechnung_KAE!$E1962,MD_GENDER,0),0),\"\")","v":""},{"v":0,"d":"0.00"},null,{"v":0,"d":"0.00"},{"$f":"IF(F1962=\"Arbeitgeberähnliche Stellung\",OFFSET(MD!$Q$5,MATCH(Grundlagen_Abrechnung_KAE!$AK$7,MD_JAHR,0),0)*$H1962,IF(J1962>0,AC1962,I1962))","v":{"v":0,"d":"0.00"}},null,{"$f":"OFFSET(MD!$P$5,MATCH($AK$7,MD_JAHR,0),0)*12","v":{"$error":"#VALUE!"}},{"v":0,"d":"0.00"}]
[{"$nulls":14},{"$f":"IF($B1963=\"\",\"\",IF(F1963=\"Arbeitgeberähnliche Stellung\",OFFSET(MD!$Q$5,MATCH(Grundlagen_Abrechnung_KAE!$AK$7,MD_JAHR,0),0)*$H1963,IF(((AD1963/12*M1963*12)+N1963)>AF1963,AF1963/12,((AD1963/12*M1963*12)+N1963)/12)))","v":""},null,null,{"v":0,"d":"0.00"},null,{"v":0,"d":"0.00%"},{"v":0,"d":"0.00"},{"v":0,"d":"0.00"},{"v":0,"d":"0.00"},null,"prüfen",{"$f":"IFERROR(OFFSET(MD!$U$5,MATCH(Grundlagen_Abrechnung_KAE!$E1963,MD_GENDER,0),0),\"\")","v":""},{"v":0,"d":"0.00"},null,{"v":0,"d":"0.00"},{"$f":"IF(F1963=\"Arbeitgeberähnliche Stellung\",OFFSET(MD!$Q$5,MATCH(Grundlagen_Abrechnung_KAE!$AK$7,MD_JAHR,0),0)*$H1963,IF(J1963>0,AC1963,I1963))","v":{"v":0,"d":"0.00"}},null,{"$f":"OFFSET(MD!$P$5,MATCH($AK$7,MD_JAHR,0),0)*12","v":{"$error":"#VALUE!"}},{"v":0,"d":"0.00"}]
[{"$nulls":14},{"$f":"IF($B1964=\"\",\"\",IF(F1964=\"Arbeitgeberähnliche Stellung\",OFFSET(MD!$Q$5,MATCH(Grundlagen_Abrechnung_KAE!$AK$7,MD_JAHR,0),0)*$H1964,IF(((AD1964/12*M1964*12)+N1964)>AF1964,AF1964/12,((AD1964/12*M1964*12)+N1964)/12)))","v":""},null,null,{"v":0,"d":"0.00"},null,{"v":0,"d":"0.00%"},{"v":0,"d":"0.00"},{"v":0,"d":"0.00"},{"v":0,"d":"0.00"},null,"prüfen",{"$f":"IFERROR(OFFSET(MD!$U$5,MATCH(Grundlagen_Abrechnung_KAE!$E1964,MD_GENDER,0),0),\"\")","v":""},{"v":0,"d":"0.00"},null,{"v":0,"d":"0.00"},{"$f":"IF(F1964=\"Arbeitgeberähnliche Stellung\",OFFSET(MD!$Q$5,MATCH(Grundlagen_Abrechnung_KAE!$AK$7,MD_JAHR,0),0)*$H1964,IF(J1964>0,AC1964,I1964))","v":{"v":0,"d":"0.00"}},null,{"$f":"OFFSET(MD!$P$5,MATCH($AK$7,MD_JAHR,0),0)*12","v":{"$error":"#VALUE!"}},{"v":0,"d":"0.00"}]
[{"$nulls":14},{"$f":"IF($B1965=\"\",\"\",IF(F1965=\"Arbeitgeberähnliche Stellung\",OFFSET(MD!$Q$5,MATCH(Grundlagen_Abrechnung_KAE!$AK$7,MD_JAHR,0),0)*$H1965,IF(((AD1965/12*M1965*12)+N1965)>AF1965,AF1965/12,((AD1965/12*M1965*12)+N1965)/12)))","v":""},null,null,{"v":0,"d":"0.00"},null,{"v":0,"d":"0.00%"},{"v":0,"d":"0.00"},{"v":0,"d":"0.00"},{"v":0,"d":"0.00"},null,"prüfen",{"$f":"IFERROR(OFFSET(MD!$U$5,MATCH(Grundlagen_Abrechnung_KAE!$E1965,MD_GENDER,0),0),\"\")","v":""},{"v":0,"d":"0.00"},null,{"v":0,"d":"0.00"},{"$f":"IF(F1965=\"Arbeitgeberähnliche Stellung\",OFFSET(MD!$Q$5,MATCH(Grundlagen_Abrechnung_KAE!$AK$7,MD_JAHR,0),0)*$H1965,IF(J1965>0,AC1965,I1965))","v":{"v":0,"d":"0.00"}},null,{"$f":"OFFSET(MD!$P$5,MATCH($AK$7,MD_JAHR,0),0)*12","v":{"$error":"#VALUE!"}},{"v":0,"d":"0.00"}]
[{"$nulls":14},{"$f":"IF($B1966=\"\",\"\",IF(F1966=\"Arbeitgeberähnliche Stellung\",OFFSET(MD!$Q$5,MATCH(Grundlagen_Abrechnung_KAE!$AK$7,MD_JAHR,0),0)*$H1966,IF(((AD1966/12*M1966*12)+N1966)>AF1966,AF1966/12,((AD1966/12*M1966*12)+N1966)/12)))","v":""},null,null,{"v":0,"d":"0.00"},null,{"v":0,"d":"0.00%"},{"v":0,"d":"0.00"},{"v":0,"d":"0.00"},{"v":0,"d":"0.00"},null,"prüfen",{"$f":"IFERROR(OFFSET(MD!$U$5,MATCH(Grundlagen_Abrechnung_KAE!$E1966,MD_GENDER,0),0),\"\")","v":""},{"v":0,"d":"0.00"},null,{"v":0,"d":"0.00"},{"$f":"IF(F1966=\"Arbeitgeberähnliche Stellung\",OFFSET(MD!$Q$5,MATCH(Grundlagen_Abrechnung_KAE!$AK$7,MD_JAHR,0),0)*$H1966,IF(J1966>0,AC1966,I1966))","v":{"v":0,"d":"0.00"}},null,{"$f":"OFFSET(MD!$P$5,MATCH($AK$7,MD_JAHR,0),0)*12","v":{"$error":"#VALUE!"}},{"v":0,"d":"0.00"}]
[{"$nulls":14},{"$f":"IF($B1967=\"\",\"\",IF(F1967=\"Arbeitgeberähnliche Stellung\",OFFSET(MD!$Q$5,MATCH(Grundlagen_Abrechnung_KAE!$AK$7,MD_JAHR,0),0)*$H1967,IF(((AD1967/12*M1967*12)+N1967)>AF1967,AF1967/12,((AD1967/12*M1967*12)+N1967)/12)))","v":""},null,null,{"v":0,"d":"0.00"},null,{"v":0,"d":"0.00%"},{"v":0,"d":"0.00"},{"v":0,"d":"0.00"},{"v":0,"d":"0.00"},null,"prüfen",{"$f":"IFERROR(OFFSET(MD!$U$5,MATCH(Grundlagen_Abrechnung_KAE!$E1967,MD_GENDER,0),0),\"\")","v":""},{"v":0,"d":"0.00"},null,{"v":0,"d":"0.00"},{"$f":"IF(F1967=\"Arbeitgeberähnliche Stellung\",OFFSET(MD!$Q$5,MATCH(Grundlagen_Abrechnung_KAE!$AK$7,MD_JAHR,0),0)*$H1967,IF(J1967>0,AC1967,I1967))","v":{"v":0,"d":"0.00"}},null,{"$f":"OFFSET(MD!$P$5,MATCH($AK$7,MD_JAHR,0),0)*12","v":{"$error":"#VALUE!"}},{"v":0,"d":"0.00"}]
[{"$nulls":14},{"$f":"IF($B1968=\"\",\"\",IF(F1968=\"Arbeitgeberähnliche Stellung\",OFFSET(MD!$Q$5,MATCH(Grundlagen_Abrechnung_KAE!$AK$7,MD_JAHR,0),0)*$H1968,IF(((AD1968/12*M1968*12)+N1968)>AF1968,AF1968/12,((AD1968/12*M1968*12)+N1968)/12)))","v":""},null,null,{"v":0,"d":"0.00"},null,{"v":0,"d":"0.00%"},{"v":0,"d":"0.00"},{"v":0,"d":"0.00"},{"v":0,"d":"0.00"},null,"prüfen",{"$f":"IFERROR(OFFSET(MD!$U$5,MATCH(Grundlagen_Abrechnung_KAE!$E1968,MD_GENDER,0),0),\"\")","v":""},{"v":0,"d":"0.00"},null,{"v":0,"d":"0.00"},{"$f":"IF(F1968=\"Arbeitgeberähnliche Stellung\",OFFSET(MD!$Q$5,MATCH(Grundlagen_Abrechnung_KAE!$AK$7,MD_JAHR,0),0)*$H1968,IF(J1968>0,AC1968,I1968))","v":{"v":0,"d":"0.00"}},null,{"$f":"OFFSET(MD!$P$5,MATCH($AK$7,MD_JAHR,0),0)*12","v":{"$error":"#VALUE!"}},{"v":0,"d":"0.00"}]
[{"$nulls":14},{"$f":"IF($B1969=\"\",\"\",IF(F1969=\"Arbeitgeberähnliche Stellung\",OFFSET(MD!$Q$5,MATCH(Grundlagen_Abrechnung_KAE!$AK$7,MD_JAHR,0),0)*$H1969,IF(((AD1969/12*M1969*12)+N1969)>AF1969,AF1969/12,((AD1969/12*M1969*12)+N1969)/12)))","v":""},null,null,{"v":0,"d":"0.00"},null,{"v":0,"d":"0.00%"},{"v":0,"d":"0.00"},{"v":0,"d":"0.00"},{"v":0,"d":"0.00"},null,"prüfen",{"$f":"IFERROR(OFFSET(MD!$U$5,MATCH(Grundlagen_Abrechnung_KAE!$E1969,MD_GENDER,0),0),\"\")","v":""},{"v":0,"d":"0.00"},null,{"v":0,"d":"0.00"},{"$f":"IF(F1969=\"Arbeitgeberähnliche Stellung\",OFFSET(MD!$Q$5,MATCH(Grundlagen_Abrechnung_KAE!$AK$7,MD_JAHR,0),0)*$H1969,IF(J1969>0,AC1969,I1969))","v":{"v":0,"d":"0.00"}},null,{"$f":"OFFSET(MD!$P$5,MATCH($AK$7,MD_JAHR,0),0)*12","v":{"$error":"#VALUE!"}},{"v":0,"d":"0.00"}]
[{"$nulls":14},{"$f":"IF($B1970=\"\",\"\",IF(F1970=\"Arbeitgeberähnliche Stellung\",OFFSET(MD!$Q$5,MATCH(Grundlagen_Abrechnung_KAE!$AK$7,MD_JAHR,0),0)*$H1970,IF(((AD1970/12*M1970*12)+N1970)>AF1970,AF1970/12,((AD1970/12*M1970*12)+N1970)/12)))","v":""},null,null,{"v":0,"d":"0.00"},null,{"v":0,"d":"0.00%"},{"v":0,"d":"0.00"},{"v":0,"d":"0.00"},{"v":0,"d":"0.00"},null,"prüfen",{"$f":"IFERROR(OFFSET(MD!$U$5,MATCH(Grundlagen_Abrechnung_KAE!$E1970,MD_GENDER,0),0),\"\")","v":""},{"v":0,"d":"0.00"},null,{"v":0,"d":"0.00"},{"$f":"IF(F1970=\"Arbeitgeberähnliche Stellung\",OFFSET(MD!$Q$5,MATCH(Grundlagen_Abrechnung_KAE!$AK$7,MD_JAHR,0),0)*$H1970,IF(J1970>0,AC1970,I1970))","v":{"v":0,"d":"0.00"}},null,{"$f":"OFFSET(MD!$P$5,MATCH($AK$7,MD_JAHR,0),0)*12","v":{"$error":"#VALUE!"}},{"v":0,"d":"0.00"}]
[{"$nulls":14},{"$f":"IF($B1971=\"\",\"\",IF(F1971=\"Arbeitgeberähnliche Stellung\",OFFSET(MD!$Q$5,MATCH(Grundlagen_Abrechnung_KAE!$AK$7,MD_JAHR,0),0)*$H1971,IF(((AD1971/12*M1971*12)+N1971)>AF1971,AF1971/12,((AD1971/12*M1971*12)+N1971)/12)))","v":""},null,null,{"v":0,"d":"0.00"},null,{"v":0,"d":"0.00%"},{"v":0,"d":"0.00"},{"v":0,"d":"0.00"},{"v":0,"d":"0.00"},null,"prüfen",{"$f":"IFERROR(OFFSET(MD!$U$5,MATCH(Grundlagen_Abrechnung_KAE!$E1971,MD_GENDER,0),0),\"\")","v":""},{"v":0,"d":"0.00"},null,{"v":0,"d":"0.00"},{"$f":"IF(F1971=\"Arbeitgeberähnliche Stellung\",OFFSET(MD!$Q$5,MATCH(Grundlagen_Abrechnung_KAE!$AK$7,MD_JAHR,0),0)*$H1971,IF(J1971>0,AC1971,I1971))","v":{"v":0,"d":"0.00"}},null,{"$f":"OFFSET(MD!$P$5,MATCH($AK$7,MD_JAHR,0),0)*12","v":{"$error":"#VALUE!"}},{"v":0,"d":"0.00"}]
[{"$nulls":14},{"$f":"IF($B1972=\"\",\"\",IF(F1972=\"Arbeitgeberähnliche Stellung\",OFFSET(MD!$Q$5,MATCH(Grundlagen_Abrechnung_KAE!$AK$7,MD_JAHR,0),0)*$H1972,IF(((AD1972/12*M1972*12)+N1972)>AF1972,AF1972/12,((AD1972/12*M1972*12)+N1972)/12)))","v":""},null,null,{"v":0,"d":"0.00"},null,{"v":0,"d":"0.00%"},{"v":0,"d":"0.00"},{"v":0,"d":"0.00"},{"v":0,"d":"0.00"},null,"prüfen",{"$f":"IFERROR(OFFSET(MD!$U$5,MATCH(Grundlagen_Abrechnung_KAE!$E1972,MD_GENDER,0),0),\"\")","v":""},{"v":0,"d":"0.00"},null,{"v":0,"d":"0.00"},{"$f":"IF(F1972=\"Arbeitgeberähnliche Stellung\",OFFSET(MD!$Q$5,MATCH(Grundlagen_Abrechnung_KAE!$AK$7,MD_JAHR,0),0)*$H1972,IF(J1972>0,AC1972,I1972))","v":{"v":0,"d":"0.00"}},null,{"$f":"OFFSET(MD!$P$5,MATCH($AK$7,MD_JAHR,0),0)*12","v":{"$error":"#VALUE!"}},{"v":0,"d":"0.00"}]
[{"$nulls":14},{"$f":"IF($B1973=\"\",\"\",IF(F1973=\"Arbeitgeberähnliche Stellung\",OFFSET(MD!$Q$5,MATCH(Grundlagen_Abrechnung_KAE!$AK$7,MD_JAHR,0),0)*$H1973,IF(((AD1973/12*M1973*12)+N1973)>AF1973,AF1973/12,((AD1973/12*M1973*12)+N1973)/12)))","v":""},null,null,{"v":0,"d":"0.00"},null,{"v":0,"d":"0.00%"},{"v":0,"d":"0.00"},{"v":0,"d":"0.00"},{"v":0,"d":"0.00"},null,"prüfen",{"$f":"IFERROR(OFFSET(MD!$U$5,MATCH(Grundlagen_Abrechnung_KAE!$E1973,MD_GENDER,0),0),\"\")","v":""},{"v":0,"d":"0.00"},null,{"v":0,"d":"0.00"},{"$f":"IF(F1973=\"Arbeitgeberähnliche Stellung\",OFFSET(MD!$Q$5,MATCH(Grundlagen_Abrechnung_KAE!$AK$7,MD_JAHR,0),0)*$H1973,IF(J1973>0,AC1973,I1973))","v":{"v":0,"d":"0.00"}},null,{"$f":"OFFSET(MD!$P$5,MATCH($AK$7,MD_JAHR,0),0)*12","v":{"$error":"#VALUE!"}},{"v":0,"d":"0.00"}]
[{"$nulls":14},{"$f":"IF($B1974=\"\",\"\",IF(F1974=\"Arbeitgeberähnliche Stellung\",OFFSET(MD!$Q$5,MATCH(Grundlagen_Abrechnung_KAE!$AK$7,MD_JAHR,0),0)*$H1974,IF(((AD1974/12*M1974*12)+N1974)>AF1974,AF1974/12,((AD1974/12*M1974*12)+N1974)/12)))","v":""},null,null,{"v":0,"d":"0.00"},null,{"v":0,"d":"0.00%"},{"v":0,"d":"0.00"},{"v":0,"d":"0.00"},{"v":0,"d":"0.00"},null,"prüfen",{"$f":"IFERROR(OFFSET(MD!$U$5,MATCH(Grundlagen_Abrechnung_KAE!$E1974,MD_GENDER,0),0),\"\")","v":""},{"v":0,"d":"0.00"},null,{"v":0,"d":"0.00"},{"$f":"IF(F1974=\"Arbeitgeberähnliche Stellung\",OFFSET(MD!$Q$5,MATCH(Grundlagen_Abrechnung_KAE!$AK$7,MD_JAHR,0),0)*$H1974,IF(J1974>0,AC1974,I1974))","v":{"v":0,"d":"0.00"}},null,{"$f":"OFFSET(MD!$P$5,MATCH($AK$7,MD_JAHR,0),0)*12","v":{"$error":"#VALUE!"}},{"v":0,"d":"0.00"}]
[{"$nulls":14},{"$f":"IF($B1975=\"\",\"\",IF(F1975=\"Arbeitgeberähnliche Stellung\",OFFSET(MD!$Q$5,MATCH(Grundlagen_Abrechnung_KAE!$AK$7,MD_JAHR,0),0)*$H1975,IF(((AD1975/12*M1975*12)+N1975)>AF1975,AF1975/12,((AD1975/12*M1975*12)+N1975)/12)))","v":""},null,null,{"v":0,"d":"0.00"},null,{"v":0,"d":"0.00%"},{"v":0,"d":"0.00"},{"v":0,"d":"0.00"},{"v":0,"d":"0.00"},null,"prüfen",{"$f":"IFERROR(OFFSET(MD!$U$5,MATCH(Grundlagen_Abrechnung_KAE!$E1975,MD_GENDER,0),0),\"\")","v":""},{"v":0,"d":"0.00"},null,{"v":0,"d":"0.00"},{"$f":"IF(F1975=\"Arbeitgeberähnliche Stellung\",OFFSET(MD!$Q$5,MATCH(Grundlagen_Abrechnung_KAE!$AK$7,MD_JAHR,0),0)*$H1975,IF(J1975>0,AC1975,I1975))","v":{"v":0,"d":"0.00"}},null,{"$f":"OFFSET(MD!$P$5,MATCH($AK$7,MD_JAHR,0),0)*12","v":{"$error":"#VALUE!"}},{"v":0,"d":"0.00"}]
[{"$nulls":14},{"$f":"IF($B1976=\"\",\"\",IF(F1976=\"Arbeitgeberähnliche Stellung\",OFFSET(MD!$Q$5,MATCH(Grundlagen_Abrechnung_KAE!$AK$7,MD_JAHR,0),0)*$H1976,IF(((AD1976/12*M1976*12)+N1976)>AF1976,AF1976/12,((AD1976/12*M1976*12)+N1976)/12)))","v":""},null,null,{"v":0,"d":"0.00"},null,{"v":0,"d":"0.00%"},{"v":0,"d":"0.00"},{"v":0,"d":"0.00"},{"v":0,"d":"0.00"},null,"prüfen",{"$f":"IFERROR(OFFSET(MD!$U$5,MATCH(Grundlagen_Abrechnung_KAE!$E1976,MD_GENDER,0),0),\"\")","v":""},{"v":0,"d":"0.00"},null,{"v":0,"d":"0.00"},{"$f":"IF(F1976=\"Arbeitgeberähnliche Stellung\",OFFSET(MD!$Q$5,MATCH(Grundlagen_Abrechnung_KAE!$AK$7,MD_JAHR,0),0)*$H1976,IF(J1976>0,AC1976,I1976))","v":{"v":0,"d":"0.00"}},null,{"$f":"OFFSET(MD!$P$5,MATCH($AK$7,MD_JAHR,0),0)*12","v":{"$error":"#VALUE!"}},{"v":0,"d":"0.00"}]
[{"$nulls":14},{"$f":"IF($B1977=\"\",\"\",IF(F1977=\"Arbeitgeberähnliche Stellung\",OFFSET(MD!$Q$5,MATCH(Grundlagen_Abrechnung_KAE!$AK$7,MD_JAHR,0),0)*$H1977,IF(((AD1977/12*M1977*12)+N1977)>AF1977,AF1977/12,((AD1977/12*M1977*12)+N1977)/12)))","v":""},null,null,{"v":0,"d":"0.00"},null,{"v":0,"d":"0.00%"},{"v":0,"d":"0.00"},{"v":0,"d":"0.00"},{"v":0,"d":"0.00"},null,"prüfen",{"$f":"IFERROR(OFFSET(MD!$U$5,MATCH(Grundlagen_Abrechnung_KAE!$E1977,MD_GENDER,0),0),\"\")","v":""},{"v":0,"d":"0.00"},null,{"v":0,"d":"0.00"},{"$f":"IF(F1977=\"Arbeitgeberähnliche Stellung\",OFFSET(MD!$Q$5,MATCH(Grundlagen_Abrechnung_KAE!$AK$7,MD_JAHR,0),0)*$H1977,IF(J1977>0,AC1977,I1977))","v":{"v":0,"d":"0.00"}},null,{"$f":"OFFSET(MD!$P$5,MATCH($AK$7,MD_JAHR,0),0)*12","v":{"$error":"#VALUE!"}},{"v":0,"d":"0.00"}]
[{"$nulls":14},{"$f":"IF($B1978=\"\",\"\",IF(F1978=\"Arbeitgeberähnliche Stellung\",OFFSET(MD!$Q$5,MATCH(Grundlagen_Abrechnung_KAE!$AK$7,MD_JAHR,0),0)*$H1978,IF(((AD1978/12*M1978*12)+N1978)>AF1978,AF1978/12,((AD1978/12*M1978*12)+N1978)/12)))","v":""},null,null,{"v":0,"d":"0.00"},null,{"v":0,"d":"0.00%"},{"v":0,"d":"0.00"},{"v":0,"d":"0.00"},{"v":0,"d":"0.00"},null,"prüfen",{"$f":"IFERROR(OFFSET(MD!$U$5,MATCH(Grundlagen_Abrechnung_KAE!$E1978,MD_GENDER,0),0),\"\")","v":""},{"v":0,"d":"0.00"},null,{"v":0,"d":"0.00"},{"$f":"IF(F1978=\"Arbeitgeberähnliche Stellung\",OFFSET(MD!$Q$5,MATCH(Grundlagen_Abrechnung_KAE!$AK$7,MD_JAHR,0),0)*$H1978,IF(J1978>0,AC1978,I1978))","v":{"v":0,"d":"0.00"}},null,{"$f":"OFFSET(MD!$P$5,MATCH($AK$7,MD_JAHR,0),0)*12","v":{"$error":"#VALUE!"}},{"v":0,"d":"0.00"}]
[{"$nulls":14},{"$f":"IF($B1979=\"\",\"\",IF(F1979=\"Arbeitgeberähnliche Stellung\",OFFSET(MD!$Q$5,MATCH(Grundlagen_Abrechnung_KAE!$AK$7,MD_JAHR,0),0)*$H1979,IF(((AD1979/12*M1979*12)+N1979)>AF1979,AF1979/12,((AD1979/12*M1979*12)+N1979)/12)))","v":""},null,null,{"v":0,"d":"0.00"},null,{"v":0,"d":"0.00%"},{"v":0,"d":"0.00"},{"v":0,"d":"0.00"},{"v":0,"d":"0.00"},null,"prüfen",{"$f":"IFERROR(OFFSET(MD!$U$5,MATCH(Grundlagen_Abrechnung_KAE!$E1979,MD_GENDER,0),0),\"\")","v":""},{"v":0,"d":"0.00"},null,{"v":0,"d":"0.00"},{"$f":"IF(F1979=\"Arbeitgeberähnliche Stellung\",OFFSET(MD!$Q$5,MATCH(Grundlagen_Abrechnung_KAE!$AK$7,MD_JAHR,0),0)*$H1979,IF(J1979>0,AC1979,I1979))","v":{"v":0,"d":"0.00"}},null,{"$f":"OFFSET(MD!$P$5,MATCH($AK$7,MD_JAHR,0),0)*12","v":{"$error":"#VALUE!"}},{"v":0,"d":"0.00"}]
[{"$nulls":14},{"$f":"IF($B1980=\"\",\"\",IF(F1980=\"Arbeitgeberähnliche Stellung\",OFFSET(MD!$Q$5,MATCH(Grundlagen_Abrechnung_KAE!$AK$7,MD_JAHR,0),0)*$H1980,IF(((AD1980/12*M1980*12)+N1980)>AF1980,AF1980/12,((AD1980/12*M1980*12)+N1980)/12)))","v":""},null,null,{"v":0,"d":"0.00"},null,{"v":0,"d":"0.00%"},{"v":0,"d":"0.00"},{"v":0,"d":"0.00"},{"v":0,"d":"0.00"},null,"prüfen",{"$f":"IFERROR(OFFSET(MD!$U$5,MATCH(Grundlagen_Abrechnung_KAE!$E1980,MD_GENDER,0),0),\"\")","v":""},{"v":0,"d":"0.00"},null,{"v":0,"d":"0.00"},{"$f":"IF(F1980=\"Arbeitgeberähnliche Stellung\",OFFSET(MD!$Q$5,MATCH(Grundlagen_Abrechnung_KAE!$AK$7,MD_JAHR,0),0)*$H1980,IF(J1980>0,AC1980,I1980))","v":{"v":0,"d":"0.00"}},null,{"$f":"OFFSET(MD!$P$5,MATCH($AK$7,MD_JAHR,0),0)*12","v":{"$error":"#VALUE!"}},{"v":0,"d":"0.00"}]
[{"$nulls":14},{"$f":"IF($B1981=\"\",\"\",IF(F1981=\"Arbeitgeberähnliche Stellung\",OFFSET(MD!$Q$5,MATCH(Grundlagen_Abrechnung_KAE!$AK$7,MD_JAHR,0),0)*$H1981,IF(((AD1981/12*M1981*12)+N1981)>AF1981,AF1981/12,((AD1981/12*M1981*12)+N1981)/12)))","v":""},null,null,{"v":0,"d":"0.00"},null,{"v":0,"d":"0.00%"},{"v":0,"d":"0.00"},{"v":0,"d":"0.00"},{"v":0,"d":"0.00"},null,"prüfen",{"$f":"IFERROR(OFFSET(MD!$U$5,MATCH(Grundlagen_Abrechnung_KAE!$E1981,MD_GENDER,0),0),\"\")","v":""},{"v":0,"d":"0.00"},null,{"v":0,"d":"0.00"},{"$f":"IF(F1981=\"Arbeitgeberähnliche Stellung\",OFFSET(MD!$Q$5,MATCH(Grundlagen_Abrechnung_KAE!$AK$7,MD_JAHR,0),0)*$H1981,IF(J1981>0,AC1981,I1981))","v":{"v":0,"d":"0.00"}},null,{"$f":"OFFSET(MD!$P$5,MATCH($AK$7,MD_JAHR,0),0)*12","v":{"$error":"#VALUE!"}},{"v":0,"d":"0.00"}]
[{"$nulls":14},{"$f":"IF($B1982=\"\",\"\",IF(F1982=\"Arbeitgeberähnliche Stellung\",OFFSET(MD!$Q$5,MATCH(Grundlagen_Abrechnung_KAE!$AK$7,MD_JAHR,0),0)*$H1982,IF(((AD1982/12*M1982*12)+N1982)>AF1982,AF1982/12,((AD1982/12*M1982*12)+N1982)/12)))","v":""},null,null,{"v":0,"d":"0.00"},null,{"v":0,"d":"0.00%"},{"v":0,"d":"0.00"},{"v":0,"d":"0.00"},{"v":0,"d":"0.00"},null,"prüfen",{"$f":"IFERROR(OFFSET(MD!$U$5,MATCH(Grundlagen_Abrechnung_KAE!$E1982,MD_GENDER,0),0),\"\")","v":""},{"v":0,"d":"0.00"},null,{"v":0,"d":"0.00"},{"$f":"IF(F1982=\"Arbeitgeberähnliche Stellung\",OFFSET(MD!$Q$5,MATCH(Grundlagen_Abrechnung_KAE!$AK$7,MD_JAHR,0),0)*$H1982,IF(J1982>0,AC1982,I1982))","v":{"v":0,"d":"0.00"}},null,{"$f":"OFFSET(MD!$P$5,MATCH($AK$7,MD_JAHR,0),0)*12","v":{"$error":"#VALUE!"}},{"v":0,"d":"0.00"}]
[{"$nulls":14},{"$f":"IF($B1983=\"\",\"\",IF(F1983=\"Arbeitgeberähnliche Stellung\",OFFSET(MD!$Q$5,MATCH(Grundlagen_Abrechnung_KAE!$AK$7,MD_JAHR,0),0)*$H1983,IF(((AD1983/12*M1983*12)+N1983)>AF1983,AF1983/12,((AD1983/12*M1983*12)+N1983)/12)))","v":""},null,null,{"v":0,"d":"0.00"},null,{"v":0,"d":"0.00%"},{"v":0,"d":"0.00"},{"v":0,"d":"0.00"},{"v":0,"d":"0.00"},null,"prüfen",{"$f":"IFERROR(OFFSET(MD!$U$5,MATCH(Grundlagen_Abrechnung_KAE!$E1983,MD_GENDER,0),0),\"\")","v":""},{"v":0,"d":"0.00"},null,{"v":0,"d":"0.00"},{"$f":"IF(F1983=\"Arbeitgeberähnliche Stellung\",OFFSET(MD!$Q$5,MATCH(Grundlagen_Abrechnung_KAE!$AK$7,MD_JAHR,0),0)*$H1983,IF(J1983>0,AC1983,I1983))","v":{"v":0,"d":"0.00"}},null,{"$f":"OFFSET(MD!$P$5,MATCH($AK$7,MD_JAHR,0),0)*12","v":{"$error":"#VALUE!"}},{"v":0,"d":"0.00"}]
[{"$nulls":14},{"$f":"IF($B1984=\"\",\"\",IF(F1984=\"Arbeitgeberähnliche Stellung\",OFFSET(MD!$Q$5,MATCH(Grundlagen_Abrechnung_KAE!$AK$7,MD_JAHR,0),0)*$H1984,IF(((AD1984/12*M1984*12)+N1984)>AF1984,AF1984/12,((AD1984/12*M1984*12)+N1984)/12)))","v":""},null,null,{"v":0,"d":"0.00"},null,{"v":0,"d":"0.00%"},{"v":0,"d":"0.00"},{"v":0,"d":"0.00"},{"v":0,"d":"0.00"},null,"prüfen",{"$f":"IFERROR(OFFSET(MD!$U$5,MATCH(Grundlagen_Abrechnung_KAE!$E1984,MD_GENDER,0),0),\"\")","v":""},{"v":0,"d":"0.00"},null,{"v":0,"d":"0.00"},{"$f":"IF(F1984=\"Arbeitgeberähnliche Stellung\",OFFSET(MD!$Q$5,MATCH(Grundlagen_Abrechnung_KAE!$AK$7,MD_JAHR,0),0)*$H1984,IF(J1984>0,AC1984,I1984))","v":{"v":0,"d":"0.00"}},null,{"$f":"OFFSET(MD!$P$5,MATCH($AK$7,MD_JAHR,0),0)*12","v":{"$error":"#VALUE!"}},{"v":0,"d":"0.00"}]
[{"$nulls":14},{"$f":"IF($B1985=\"\",\"\",IF(F1985=\"Arbeitgeberähnliche Stellung\",OFFSET(MD!$Q$5,MATCH(Grundlagen_Abrechnung_KAE!$AK$7,MD_JAHR,0),0)*$H1985,IF(((AD1985/12*M1985*12)+N1985)>AF1985,AF1985/12,((AD1985/12*M1985*12)+N1985)/12)))","v":""},null,null,{"v":0,"d":"0.00"},null,{"v":0,"d":"0.00%"},{"v":0,"d":"0.00"},{"v":0,"d":"0.00"},{"v":0,"d":"0.00"},null,"prüfen",{"$f":"IFERROR(OFFSET(MD!$U$5,MATCH(Grundlagen_Abrechnung_KAE!$E1985,MD_GENDER,0),0),\"\")","v":""},{"v":0,"d":"0.00"},null,{"v":0,"d":"0.00"},{"$f":"IF(F1985=\"Arbeitgeberähnliche Stellung\",OFFSET(MD!$Q$5,MATCH(Grundlagen_Abrechnung_KAE!$AK$7,MD_JAHR,0),0)*$H1985,IF(J1985>0,AC1985,I1985))","v":{"v":0,"d":"0.00"}},null,{"$f":"OFFSET(MD!$P$5,MATCH($AK$7,MD_JAHR,0),0)*12","v":{"$error":"#VALUE!"}},{"v":0,"d":"0.00"}]
[{"$nulls":14},{"$f":"IF($B1986=\"\",\"\",IF(F1986=\"Arbeitgeberähnliche Stellung\",OFFSET(MD!$Q$5,MATCH(Grundlagen_Abrechnung_KAE!$AK$7,MD_JAHR,0),0)*$H1986,IF(((AD1986/12*M1986*12)+N1986)>AF1986,AF1986/12,((AD1986/12*M1986*12)+N1986)/12)))","v":""},null,null,{"v":0,"d":"0.00"},null,{"v":0,"d":"0.00%"},{"v":0,"d":"0.00"},{"v":0,"d":"0.00"},{"v":0,"d":"0.00"},null,"prüfen",{"$f":"IFERROR(OFFSET(MD!$U$5,MATCH(Grundlagen_Abrechnung_KAE!$E1986,MD_GENDER,0),0),\"\")","v":""},{"v":0,"d":"0.00"},null,{"v":0,"d":"0.00"},{"$f":"IF(F1986=\"Arbeitgeberähnliche Stellung\",OFFSET(MD!$Q$5,MATCH(Grundlagen_Abrechnung_KAE!$AK$7,MD_JAHR,0),0)*$H1986,IF(J1986>0,AC1986,I1986))","v":{"v":0,"d":"0.00"}},null,{"$f":"OFFSET(MD!$P$5,MATCH($AK$7,MD_JAHR,0),0)*12","v":{"$error":"#VALUE!"}},{"v":0,"d":"0.00"}]
[{"$nulls":14},{"$f":"IF($B1987=\"\",\"\",IF(F1987=\"Arbeitgeberähnliche Stellung\",OFFSET(MD!$Q$5,MATCH(Grundlagen_Abrechnung_KAE!$AK$7,MD_JAHR,0),0)*$H1987,IF(((AD1987/12*M1987*12)+N1987)>AF1987,AF1987/12,((AD1987/12*M1987*12)+N1987)/12)))","v":""},null,null,{"v":0,"d":"0.00"},null,{"v":0,"d":"0.00%"},{"v":0,"d":"0.00"},{"v":0,"d":"0.00"},{"v":0,"d":"0.00"},null,"prüfen",{"$f":"IFERROR(OFFSET(MD!$U$5,MATCH(Grundlagen_Abrechnung_KAE!$E1987,MD_GENDER,0),0),\"\")","v":""},{"v":0,"d":"0.00"},null,{"v":0,"d":"0.00"},{"$f":"IF(F1987=\"Arbeitgeberähnliche Stellung\",OFFSET(MD!$Q$5,MATCH(Grundlagen_Abrechnung_KAE!$AK$7,MD_JAHR,0),0)*$H1987,IF(J1987>0,AC1987,I1987))","v":{"v":0,"d":"0.00"}},null,{"$f":"OFFSET(MD!$P$5,MATCH($AK$7,MD_JAHR,0),0)*12","v":{"$error":"#VALUE!"}},{"v":0,"d":"0.00"}]
[{"$nulls":14},{"$f":"IF($B1988=\"\",\"\",IF(F1988=\"Arbeitgeberähnliche Stellung\",OFFSET(MD!$Q$5,MATCH(Grundlagen_Abrechnung_KAE!$AK$7,MD_JAHR,0),0)*$H1988,IF(((AD1988/12*M1988*12)+N1988)>AF1988,AF1988/12,((AD1988/12*M1988*12)+N1988)/12)))","v":""},null,null,{"v":0,"d":"0.00"},null,{"v":0,"d":"0.00%"},{"v":0,"d":"0.00"},{"v":0,"d":"0.00"},{"v":0,"d":"0.00"},null,"prüfen",{"$f":"IFERROR(OFFSET(MD!$U$5,MATCH(Grundlagen_Abrechnung_KAE!$E1988,MD_GENDER,0),0),\"\")","v":""},{"v":0,"d":"0.00"},null,{"v":0,"d":"0.00"},{"$f":"IF(F1988=\"Arbeitgeberähnliche Stellung\",OFFSET(MD!$Q$5,MATCH(Grundlagen_Abrechnung_KAE!$AK$7,MD_JAHR,0),0)*$H1988,IF(J1988>0,AC1988,I1988))","v":{"v":0,"d":"0.00"}},null,{"$f":"OFFSET(MD!$P$5,MATCH($AK$7,MD_JAHR,0),0)*12","v":{"$error":"#VALUE!"}},{"v":0,"d":"0.00"}]
[{"$nulls":14},{"$f":"IF($B1989=\"\",\"\",IF(F1989=\"Arbeitgeberähnliche Stellung\",OFFSET(MD!$Q$5,MATCH(Grundlagen_Abrechnung_KAE!$AK$7,MD_JAHR,0),0)*$H1989,IF(((AD1989/12*M1989*12)+N1989)>AF1989,AF1989/12,((AD1989/12*M1989*12)+N1989)/12)))","v":""},null,null,{"v":0,"d":"0.00"},null,{"v":0,"d":"0.00%"},{"v":0,"d":"0.00"},{"v":0,"d":"0.00"},{"v":0,"d":"0.00"},null,"prüfen",{"$f":"IFERROR(OFFSET(MD!$U$5,MATCH(Grundlagen_Abrechnung_KAE!$E1989,MD_GENDER,0),0),\"\")","v":""},{"v":0,"d":"0.00"},null,{"v":0,"d":"0.00"},{"$f":"IF(F1989=\"Arbeitgeberähnliche Stellung\",OFFSET(MD!$Q$5,MATCH(Grundlagen_Abrechnung_KAE!$AK$7,MD_JAHR,0),0)*$H1989,IF(J1989>0,AC1989,I1989))","v":{"v":0,"d":"0.00"}},null,{"$f":"OFFSET(MD!$P$5,MATCH($AK$7,MD_JAHR,0),0)*12","v":{"$error":"#VALUE!"}},{"v":0,"d":"0.00"}]
[{"$nulls":14},{"$f":"IF($B1990=\"\",\"\",IF(F1990=\"Arbeitgeberähnliche Stellung\",OFFSET(MD!$Q$5,MATCH(Grundlagen_Abrechnung_KAE!$AK$7,MD_JAHR,0),0)*$H1990,IF(((AD1990/12*M1990*12)+N1990)>AF1990,AF1990/12,((AD1990/12*M1990*12)+N1990)/12)))","v":""},null,null,{"v":0,"d":"0.00"},null,{"v":0,"d":"0.00%"},{"v":0,"d":"0.00"},{"v":0,"d":"0.00"},{"v":0,"d":"0.00"},null,"prüfen",{"$f":"IFERROR(OFFSET(MD!$U$5,MATCH(Grundlagen_Abrechnung_KAE!$E1990,MD_GENDER,0),0),\"\")","v":""},{"v":0,"d":"0.00"},null,{"v":0,"d":"0.00"},{"$f":"IF(F1990=\"Arbeitgeberähnliche Stellung\",OFFSET(MD!$Q$5,MATCH(Grundlagen_Abrechnung_KAE!$AK$7,MD_JAHR,0),0)*$H1990,IF(J1990>0,AC1990,I1990))","v":{"v":0,"d":"0.00"}},null,{"$f":"OFFSET(MD!$P$5,MATCH($AK$7,MD_JAHR,0),0)*12","v":{"$error":"#VALUE!"}},{"v":0,"d":"0.00"}]
[{"$nulls":14},{"$f":"IF($B1991=\"\",\"\",IF(F1991=\"Arbeitgeberähnliche Stellung\",OFFSET(MD!$Q$5,MATCH(Grundlagen_Abrechnung_KAE!$AK$7,MD_JAHR,0),0)*$H1991,IF(((AD1991/12*M1991*12)+N1991)>AF1991,AF1991/12,((AD1991/12*M1991*12)+N1991)/12)))","v":""},null,null,{"v":0,"d":"0.00"},null,{"v":0,"d":"0.00%"},{"v":0,"d":"0.00"},{"v":0,"d":"0.00"},{"v":0,"d":"0.00"},null,"prüfen",{"$f":"IFERROR(OFFSET(MD!$U$5,MATCH(Grundlagen_Abrechnung_KAE!$E1991,MD_GENDER,0),0),\"\")","v":""},{"v":0,"d":"0.00"},null,{"v":0,"d":"0.00"},{"$f":"IF(F1991=\"Arbeitgeberähnliche Stellung\",OFFSET(MD!$Q$5,MATCH(Grundlagen_Abrechnung_KAE!$AK$7,MD_JAHR,0),0)*$H1991,IF(J1991>0,AC1991,I1991))","v":{"v":0,"d":"0.00"}},null,{"$f":"OFFSET(MD!$P$5,MATCH($AK$7,MD_JAHR,0),0)*12","v":{"$error":"#VALUE!"}},{"v":0,"d":"0.00"}]
[{"$nulls":14},{"$f":"IF($B1992=\"\",\"\",IF(F1992=\"Arbeitgeberähnliche Stellung\",OFFSET(MD!$Q$5,MATCH(Grundlagen_Abrechnung_KAE!$AK$7,MD_JAHR,0),0)*$H1992,IF(((AD1992/12*M1992*12)+N1992)>AF1992,AF1992/12,((AD1992/12*M1992*12)+N1992)/12)))","v":""},null,null,{"v":0,"d":"0.00"},null,{"v":0,"d":"0.00%"},{"v":0,"d":"0.00"},{"v":0,"d":"0.00"},{"v":0,"d":"0.00"},null,"prüfen",{"$f":"IFERROR(OFFSET(MD!$U$5,MATCH(Grundlagen_Abrechnung_KAE!$E1992,MD_GENDER,0),0),\"\")","v":""},{"v":0,"d":"0.00"},null,{"v":0,"d":"0.00"},{"$f":"IF(F1992=\"Arbeitgeberähnliche Stellung\",OFFSET(MD!$Q$5,MATCH(Grundlagen_Abrechnung_KAE!$AK$7,MD_JAHR,0),0)*$H1992,IF(J1992>0,AC1992,I1992))","v":{"v":0,"d":"0.00"}},null,{"$f":"OFFSET(MD!$P$5,MATCH($AK$7,MD_JAHR,0),0)*12","v":{"$error":"#VALUE!"}},{"v":0,"d":"0.00"}]
[{"$nulls":14},{"$f":"IF($B1993=\"\",\"\",IF(F1993=\"Arbeitgeberähnliche Stellung\",OFFSET(MD!$Q$5,MATCH(Grundlagen_Abrechnung_KAE!$AK$7,MD_JAHR,0),0)*$H1993,IF(((AD1993/12*M1993*12)+N1993)>AF1993,AF1993/12,((AD1993/12*M1993*12)+N1993)/12)))","v":""},null,null,{"v":0,"d":"0.00"},null,{"v":0,"d":"0.00%"},{"v":0,"d":"0.00"},{"v":0,"d":"0.00"},{"v":0,"d":"0.00"},null,"prüfen",{"$f":"IFERROR(OFFSET(MD!$U$5,MATCH(Grundlagen_Abrechnung_KAE!$E1993,MD_GENDER,0),0),\"\")","v":""},{"v":0,"d":"0.00"},null,{"v":0,"d":"0.00"},{"$f":"IF(F1993=\"Arbeitgeberähnliche Stellung\",OFFSET(MD!$Q$5,MATCH(Grundlagen_Abrechnung_KAE!$AK$7,MD_JAHR,0),0)*$H1993,IF(J1993>0,AC1993,I1993))","v":{"v":0,"d":"0.00"}},null,{"$f":"OFFSET(MD!$P$5,MATCH($AK$7,MD_JAHR,0),0)*12","v":{"$error":"#VALUE!"}},{"v":0,"d":"0.00"}]
[{"$nulls":14},{"$f":"IF($B1994=\"\",\"\",IF(F1994=\"Arbeitgeberähnliche Stellung\",OFFSET(MD!$Q$5,MATCH(Grundlagen_Abrechnung_KAE!$AK$7,MD_JAHR,0),0)*$H1994,IF(((AD1994/12*M1994*12)+N1994)>AF1994,AF1994/12,((AD1994/12*M1994*12)+N1994)/12)))","v":""},null,null,{"v":0,"d":"0.00"},null,{"v":0,"d":"0.00%"},{"v":0,"d":"0.00"},{"v":0,"d":"0.00"},{"v":0,"d":"0.00"},null,"prüfen",{"$f":"IFERROR(OFFSET(MD!$U$5,MATCH(Grundlagen_Abrechnung_KAE!$E1994,MD_GENDER,0),0),\"\")","v":""},{"v":0,"d":"0.00"},null,{"v":0,"d":"0.00"},{"$f":"IF(F1994=\"Arbeitgeberähnliche Stellung\",OFFSET(MD!$Q$5,MATCH(Grundlagen_Abrechnung_KAE!$AK$7,MD_JAHR,0),0)*$H1994,IF(J1994>0,AC1994,I1994))","v":{"v":0,"d":"0.00"}},null,{"$f":"OFFSET(MD!$P$5,MATCH($AK$7,MD_JAHR,0),0)*12","v":{"$error":"#VALUE!"}},{"v":0,"d":"0.00"}]
[{"$nulls":14},{"$f":"IF($B1995=\"\",\"\",IF(F1995=\"Arbeitgeberähnliche Stellung\",OFFSET(MD!$Q$5,MATCH(Grundlagen_Abrechnung_KAE!$AK$7,MD_JAHR,0),0)*$H1995,IF(((AD1995/12*M1995*12)+N1995)>AF1995,AF1995/12,((AD1995/12*M1995*12)+N1995)/12)))","v":""},null,null,{"v":0,"d":"0.00"},null,{"v":0,"d":"0.00%"},{"v":0,"d":"0.00"},{"v":0,"d":"0.00"},{"v":0,"d":"0.00"},null,"prüfen",{"$f":"IFERROR(OFFSET(MD!$U$5,MATCH(Grundlagen_Abrechnung_KAE!$E1995,MD_GENDER,0),0),\"\")","v":""},{"v":0,"d":"0.00"},null,{"v":0,"d":"0.00"},{"$f":"IF(F1995=\"Arbeitgeberähnliche Stellung\",OFFSET(MD!$Q$5,MATCH(Grundlagen_Abrechnung_KAE!$AK$7,MD_JAHR,0),0)*$H1995,IF(J1995>0,AC1995,I1995))","v":{"v":0,"d":"0.00"}},null,{"$f":"OFFSET(MD!$P$5,MATCH($AK$7,MD_JAHR,0),0)*12","v":{"$error":"#VALUE!"}},{"v":0,"d":"0.00"}]
[{"$nulls":14},{"$f":"IF($B1996=\"\",\"\",IF(F1996=\"Arbeitgeberähnliche Stellung\",OFFSET(MD!$Q$5,MATCH(Grundlagen_Abrechnung_KAE!$AK$7,MD_JAHR,0),0)*$H1996,IF(((AD1996/12*M1996*12)+N1996)>AF1996,AF1996/12,((AD1996/12*M1996*12)+N1996)/12)))","v":""},null,null,{"v":0,"d":"0.00"},null,{"v":0,"d":"0.00%"},{"v":0,"d":"0.00"},{"v":0,"d":"0.00"},{"v":0,"d":"0.00"},null,"prüfen",{"$f":"IFERROR(OFFSET(MD!$U$5,MATCH(Grundlagen_Abrechnung_KAE!$E1996,MD_GENDER,0),0),\"\")","v":""},{"v":0,"d":"0.00"},null,{"v":0,"d":"0.00"},{"$f":"IF(F1996=\"Arbeitgeberähnliche Stellung\",OFFSET(MD!$Q$5,MATCH(Grundlagen_Abrechnung_KAE!$AK$7,MD_JAHR,0),0)*$H1996,IF(J1996>0,AC1996,I1996))","v":{"v":0,"d":"0.00"}},null,{"$f":"OFFSET(MD!$P$5,MATCH($AK$7,MD_JAHR,0),0)*12","v":{"$error":"#VALUE!"}},{"v":0,"d":"0.00"}]
[{"$nulls":14},{"$f":"IF($B1997=\"\",\"\",IF(F1997=\"Arbeitgeberähnliche Stellung\",OFFSET(MD!$Q$5,MATCH(Grundlagen_Abrechnung_KAE!$AK$7,MD_JAHR,0),0)*$H1997,IF(((AD1997/12*M1997*12)+N1997)>AF1997,AF1997/12,((AD1997/12*M1997*12)+N1997)/12)))","v":""},null,null,{"v":0,"d":"0.00"},null,{"v":0,"d":"0.00%"},{"v":0,"d":"0.00"},{"v":0,"d":"0.00"},{"v":0,"d":"0.00"},null,"prüfen",{"$f":"IFERROR(OFFSET(MD!$U$5,MATCH(Grundlagen_Abrechnung_KAE!$E1997,MD_GENDER,0),0),\"\")","v":""},{"v":0,"d":"0.00"},null,{"v":0,"d":"0.00"},{"$f":"IF(F1997=\"Arbeitgeberähnliche Stellung\",OFFSET(MD!$Q$5,MATCH(Grundlagen_Abrechnung_KAE!$AK$7,MD_JAHR,0),0)*$H1997,IF(J1997>0,AC1997,I1997))","v":{"v":0,"d":"0.00"}},null,{"$f":"OFFSET(MD!$P$5,MATCH($AK$7,MD_JAHR,0),0)*12","v":{"$error":"#VALUE!"}},{"v":0,"d":"0.00"}]
[{"$nulls":14},{"$f":"IF($B1998=\"\",\"\",IF(F1998=\"Arbeitgeberähnliche Stellung\",OFFSET(MD!$Q$5,MATCH(Grundlagen_Abrechnung_KAE!$AK$7,MD_JAHR,0),0)*$H1998,IF(((AD1998/12*M1998*12)+N1998)>AF1998,AF1998/12,((AD1998/12*M1998*12)+N1998)/12)))","v":""},null,null,{"v":0,"d":"0.00"},null,{"v":0,"d":"0.00%"},{"v":0,"d":"0.00"},{"v":0,"d":"0.00"},{"v":0,"d":"0.00"},null,"prüfen",{"$f":"IFERROR(OFFSET(MD!$U$5,MATCH(Grundlagen_Abrechnung_KAE!$E1998,MD_GENDER,0),0),\"\")","v":""},{"v":0,"d":"0.00"},null,{"v":0,"d":"0.00"},{"$f":"IF(F1998=\"Arbeitgeberähnliche Stellung\",OFFSET(MD!$Q$5,MATCH(Grundlagen_Abrechnung_KAE!$AK$7,MD_JAHR,0),0)*$H1998,IF(J1998>0,AC1998,I1998))","v":{"v":0,"d":"0.00"}},null,{"$f":"OFFSET(MD!$P$5,MATCH($AK$7,MD_JAHR,0),0)*12","v":{"$error":"#VALUE!"}},{"v":0,"d":"0.00"}]
[{"$nulls":14},{"$f":"IF($B1999=\"\",\"\",IF(F1999=\"Arbeitgeberähnliche Stellung\",OFFSET(MD!$Q$5,MATCH(Grundlagen_Abrechnung_KAE!$AK$7,MD_JAHR,0),0)*$H1999,IF(((AD1999/12*M1999*12)+N1999)>AF1999,AF1999/12,((AD1999/12*M1999*12)+N1999)/12)))","v":""},null,null,{"v":0,"d":"0.00"},null,{"v":0,"d":"0.00%"},{"v":0,"d":"0.00"},{"v":0,"d":"0.00"},{"v":0,"d":"0.00"},null,"prüfen",{"$f":"IFERROR(OFFSET(MD!$U$5,MATCH(Grundlagen_Abrechnung_KAE!$E1999,MD_GENDER,0),0),\"\")","v":""},{"v":0,"d":"0.00"},null,{"v":0,"d":"0.00"},{"$f":"IF(F1999=\"Arbeitgeberähnliche Stellung\",OFFSET(MD!$Q$5,MATCH(Grundlagen_Abrechnung_KAE!$AK$7,MD_JAHR,0),0)*$H1999,IF(J1999>0,AC1999,I1999))","v":{"v":0,"d":"0.00"}},null,{"$f":"OFFSET(MD!$P$5,MATCH($AK$7,MD_JAHR,0),0)*12","v":{"$error":"#VALUE!"}},{"v":0,"d":"0.00"}]
[{"$nulls":14},{"$f":"IF($B2000=\"\",\"\",IF(F2000=\"Arbeitgeberähnliche Stellung\",OFFSET(MD!$Q$5,MATCH(Grundlagen_Abrechnung_KAE!$AK$7,MD_JAHR,0),0)*$H2000,IF(((AD2000/12*M2000*12)+N2000)>AF2000,AF2000/12,((AD2000/12*M2000*12)+N2000)/12)))","v":""},null,null,{"$f":"ROUND(IF(Q2000=\"\",0,IF(P2000=0,0,IF(Q2000>P2000,0,P2000-Q2000))),2)","v":{"v":0,"d":"0.00"}},null,{"v":0,"d":"0.00%"},{"$f":"IFERROR(IF(O2000-W2000=0,O2000,(O2000)*(1-T2000)),0)","v":{"v":0,"d":"0.00"}},{"v":0,"d":"0.00"},{"$f":"IFERROR(O2000*T2000,0)*0.8","v":{"v":0,"d":"0.00"}},null,{"$f":"IF(YEAR($G2000)>$Y$16,\"prüfen\",\"\")","v":"prüfen"},{"$f":"IFERROR(OFFSET(MD!$U$5,MATCH(Grundlagen_Abrechnung_KAE!$E2000,MD_GENDER,0),0),\"\")","v":""},{"$f":"IF(B2000=\"\",0,IF(YEAR(G2000)>$AA$16,0,1))","v":{"v":0,"d":"0.00"}},null,{"$f":"IF(J2000*K2000/6>J2000*L2000/12,J2000*K2000/6,J2000*L2000/12)","v":{"v":0,"d":"0.00"}},{"$f":"IF(F2000=\"Arbeitgeberähnliche Stellung\",OFFSET(MD!$Q$5,MATCH(Grundlagen_Abrechnung_KAE!$AK$7,MD_JAHR,0),0)*$H2000,IF(J2000>0,AC2000,I2000))","v":{"v":0,"d":"0.00"}},null,{"$f":"OFFSET(MD!$P$5,MATCH($AK$7,MD_JAHR,0),0)*12","v":{"$error":"#VALUE!"}},{"$f":"I2000*M2000+N2000","v":{"v":0,"d":"0.00"}}]
[null,".",".",".",".",".",".",".",".",".",".",".",".",".",".",".",".",".",".",".",".",null,"."]

{"sheet":"MD","index":3,"n_rows":896,"n_cols":24,"rows_kept":896,"hidden":true}
[]
[null,"Stammdaten Betrieb / Abteilung"]
[{"$nulls":4},{"$f":"SUBTOTAL(2,E7:E897)","v":60}]
[null,"Tage","Monat","Jahr","Wochentag",{"$nulls":4},"Feiertage","Anz. Tage / Monat",null,null,"Arbeitstage",{"$nulls":5},"Pensionierungen"]
[null,"MD_KALTAG","MD_KALMT","MD_KALJR","MD_WOTG",null,"MD_MONAT","MD_MT","MD_JR","MD_FTTG","MD_QTY_TAG","MD_QTY_SO_STD",null,"MD_JAHR","MD_JAHRAT","MD_MAXVV","MD_MAXAGS","MD_BEITRSATZ",null,"MD_GENDER","MD_PENSDAT","Jahre in Tagen",null,"MD_MATYP"]
[null,"2020-03-01",{"$f":"MONTH($B6)","v":3},{"$f":"YEAR($B6)","v":2020},{"$f":"WEEKDAY(B6,2)","v":7},null,"2020-03-31",{"$f":"MONTH($G6)","v":3},{"$f":"YEAR($G6)","v":2020},{"$f":"SUMIFS(SD_FT_TAGE,SD_FT_MT,$H6,SD_FT_JR,$I6)","v":{"v":0,"d":"0.0"}},{"$f":"COUNTIFS(MD_WOTG,\"<6\",MD_KALMT,$H6,MD_KALJR,$I6)-J6","v":{"v":22,"d":"22.00"}},{"$f":"K6*'Stammdaten Betrieb '!$C$16","v":{"v":0,"d":"0.00"}},null,2020,262,12350,4150,{"v":0.06375,"d":"6.375%"},null,"M",{"$f":"EOMONTH('Stammdaten Betrieb '!$C$11-V6,-1)","v":{"$error":"#NUM!"}},{"$f":"65*365.25","v":23741.25},null,"Monatslöhner"]
[null,{"$f":"B6+1","v":"2020-03-02"},{"$f":"MONTH($B7)","v":3},{"$f":"YEAR($B7)","v":2020},{"$f":"WEEKDAY(B7,2)","v":1},null,{"$f":"EOMONTH(G6,1)","v":"2020-04-30"},{"$f":"MONTH($G7)","v":4},{"$f":"YEAR($G7)","v":2020},{"v":0,"d":"0.0"},{"v":22,"d":"22.00"},{"$f":"K7*'Stammdaten Betrieb '!$C$16","v":{"v":0,"d":"0.00"}},null,{"$f":"N6+1","v":2021},261,12350,4150,{"v":0.06375,"d":"6.375%"},null,"W",{"$f":"EOMONTH('Stammdaten Betrieb '!$C$11-V7,-1)","v":{"$error":"#NUM!"}},{"$f":"64*365.25","v":{"v":23376,"d":"23,376.00"}},null,"Stundenlöhner/Abruf"]
[null,{"$f":"B7+1","v":"2020-03-03"},3,2020,2,null,{"$f":"EOMONTH(G7,1)","v":"2020-05-31"},5,2020,{"v":0,"d":"0.0"},{"v":21,"d":"21.00"},{"$f":"K8*'Stammdaten Betrieb '!$C$16","v":{"v":0,"d":"0.00"}},null,{"$f":"N7+1","v":2022},260,12350,4150,{"v":0.06375,"d":"6.375%"},{"$nulls":5},"Lehrling"]
[null,"2020-03-04",3,2020,3,null,"2020-06-30",6,2020,{"v":0,"d":"0.0"},{"v":22,"d":"22.00"},{"$f":"K9*'Stammdaten Betrieb '!$C$16","v":{"v":0,"d":"0.00"}},null,2023,260,12350,4150,{"v":0.06375,"d":"6.375%"},{"$nulls":5},"Befristete Anstellung"]
[null,"2020-03-05",3,2020,4,null,"2020-07-31",7,2020,{"v":0,"d":"0.0"},{"v":23,"d":"23.00"},{"$f":"K10*'Stammdaten Betrieb '!$C$16","v":{"v":0,"d":"0.00"}},null,2024,260,12350,4150,{"v":0.06375,"d":"6.375%"},{"$nulls":5},"Arbeitgeberähnliche Stellung"]
[null,"2020-03-06",3,2020,5,null,"2020-08-31",8,2020,{"v":0,"d":"0.0"},{"v":21,"d":"21.00"},{"$f":"K11*'Stammdaten Betrieb '!$C$16","v":{"v":0,"d":"0.00"}},null,2025,null,12350,4150,{"v":0.06375,"d":"6.375%"}]
[null,"2020-03-07",3,2020,6,null,"2020-09-30",9,2020,{"v":0,"d":"0.0"},{"v":22,"d":"22.00"},{"$f":"K12*'Stammdaten Betrieb '!$C$16","v":{"v":0,"d":"0.00"}},null,2026,null,12350,4150,{"v":0.06375,"d":"6.375%"}]
[null,"2020-03-08",3,2020,7,null,"2020-10-31",10,2020,{"v":0,"d":"0.0"},{"v":22,"d":"22.00"},{"$f":"K13*'Stammdaten Betrieb '!$C$16","v":{"v":0,"d":"0.00"}},null,2027,null,12350,4150,{"v":0.06375,"d":"6.375%"}]
[null,"2020-03-09",3,2020,1,null,"2020-11-30",11,2020,{"v":0,"d":"0.0"},{"v":21,"d":"21.00"},{"$f":"K14*'Stammdaten Betrieb '!$C$16","v":{"v":0,"d":"0.00"}},null,2028,null,12350,4150,{"v":0.06375,"d":"6.375%"}]
[null,"2020-03-10",3,2020,2,null,"2020-12-31",12,2020,{"v":0,"d":"0.0"},{"v":23,"d":"23.00"},{"$f":"K15*'Stammdaten Betrieb '!$C$16","v":{"v":0,"d":"0.00"}},null,2029,null,12350,4150,{"v":0.06375,"d":"6.375%"}]
[null,"2020-03-11",3,2020,3,null,"2021-01-31",1,2021,{"v":0,"d":"0.0"},{"v":21,"d":"21.00"},{"$f":"K16*'Stammdaten Betrieb '!$C$16","v":{"v":0,"d":"0.00"}},null,2030,null,12350,4150,{"v":0.06375,"d":"6.375%"}]
[null,"2020-03-12",3,2020,4,null,"2021-02-28",2,2021,{"v":0,"d":"0.0"},{"v":20,"d":"20.00"},{"$f":"K17*'Stammdaten Betrieb '!$C$16","v":{"v":0,"d":"0.00"}},null,2031,null,12350,4150,{"v":0.06375,"d":"6.375%"}]
[null,"2020-03-13",3,2020,5,null,"2021-03-31",3,2021,{"v":0,"d":"0.0"},{"v":23,"d":"23.00"},{"$f":"K18*'Stammdaten Betrieb '!$C$16","v":{"v":0,"d":"0.00"}},null,2032,null,12350,4150,{"v":0.06375,"d":"6.375%"}]
[null,"2020-03-14",3,2020,6,null,"2021-04-30",4,2021,{"v":0,"d":"0.0"},{"v":22,"d":"22.00"},{"$f":"K19*'Stammdaten Betrieb '!$C$16","v":{"v":0,"d":"0.00"}},null,2033,null,12350,4150,{"v":0.06375,"d":"6.375%"}]
[null,"2020-03-15",3,2020,7,null,"2021-05-31",5,2021,{"v":0,"d":"0.0"},{"v":21,"d":"21.00"},{"$f":"K20*'Stammdaten Betrieb '!$C$16","v":{"v":0,"d":"0.00"}},null,2034,null,12350,4150,{"v":0.06375,"d":"6.375%"}]
[null,"2020-03-16",3,2020,1,null,"2021-06-30",6,2021,{"v":0,"d":"0.0"},{"v":22,"d":"22.00"},{"$f":"K21*'Stammdaten Betrieb '!$C$16","v":{"v":0,"d":"0.00"}},null,2035,null,12350,4150,{"v":0.06375,"d":"6.375%"}]
[null,"2020-03-17",3,2020,2,null,"2021-07-31",7,2021,{"v":0,"d":"0.0"},{"v":22,"d":"22.00"},{"$f":"K22*'Stammdaten Betrieb '!$C$16","v":{"v":0,"d":"0.00"}},null,2036,null,12350,4150,{"v":0.06375,"d":"6.375%"}]
[null,"2020-03-18",3,2020,3,null,"2021-08-31",8,2021,{"v":0,"d":"0.0"},{"v":22,"d":"22.00"},{"$f":"K23*'Stammdaten Betrieb '!$C$16","v":{"v":0,"d":"0.00"}},null,2037,null,12350,4150,{"v":0.06375,"d":"6.375%"}]
[null,"2020-03-19",3,2020,4,null,"2021-09-30",9,2021,{"v":0,"d":"0.0"},{"v":22,"d":"22.00"},{"$f":"K24*'Stammdaten Betrieb '!$C$16","v":{"v":0,"d":"0.00"}},null,2038,null,12350,4150,{"v":0.06375,"d":"6.375%"}]
[null,"2020-03-20",3,2020,5,null,"2021-10-31",10,2021,{"v":0,"d":"0.0"},{"v":21,"d":"21.00"},{"$f":"K25*'Stammdaten Betrieb '!$C$16","v":{"v":0,"d":"0.00"}},null,2039,null,12350,4150,{"v":0.06375,"d":"6.375%"}]
[null,"2020-03-21",3,2020,6,null,"2021-11-30",11,2021,{"v":0,"d":"0.0"},{"v":22,"d":"22.00"},{"$f":"K26*'Stammdaten Betrieb '!$C$16","v":{"v":0,"d":"0.00"}},null,2040,null,12350,4150,{"v":0.06375,"d":"6.375%"}]
[null,"2020-03-22",3,2020,7,null,"2021-12-31",12,2021,{"v":0,"d":"0.0"},{"v":23,"d":"23.00"},{"$f":"K27*'Stammdaten Betrieb '!$C$16","v":{"v":0,"d":"0.00"}},null,2041,null,12350,4150,{"v":0.06375,"d":"6.375%"}]
[null,"2020-03-23",3,2020,1,null,"2022-01-31",1,2022,{"v":0,"d":"0.0"},{"v":21,"d":"21.00"},{"$f":"K28*'Stammdaten Betrieb '!$C$16","v":{"v":0,"d":"0.00"}},null,2042,null,12350,4150,{"v":0.06375,"d":"6.375%"}]
[null,"2020-03-24",3,2020,2]
[null,"2020-03-25",3,2020,3]
[null,"2020-03-26",3,2020,4]
[null,"2020-03-27",3,2020,5]
[null,"2020-03-28",3,2020,6]
[null,"2020-03-29",3,2020,7]
[null,"2020-03-30",3,2020,1]
[null,"2020-03-31",3,2020,2]
[null,"2020-04-01",4,2020,3]
[null,"2020-04-02",4,2020,4]
[null,"2020-04-03",4,2020,5]
[null,"2020-04-04",4,2020,6]
[null,"2020-04-05",4,2020,7]
[null,"2020-04-06",4,2020,1]
[null,"2020-04-07",4,2020,2]
[null,"2020-04-08",4,2020,3]
[null,"2020-04-09",4,2020,4]
[null,"2020-04-10",4,2020,5]
[null,"2020-04-11",4,2020,6]
[null,"2020-04-12",4,2020,7]
[null,"2020-04-13",4,2020,1]
[null,"2020-04-14",4,2020,2]
[null,"2020-04-15",4,2020,3]
[null,"2020-04-16",4,2020,4]
[null,"2020-04-17",4,2020,5]
[null,"2020-04-18",4,2020,6]
[null,"2020-04-19",4,2020,7]
[null,"2020-04-20",4,2020,1]
[null,"2020-04-21",4,2020,2]
[null,"2020-04-22",4,2020,3]
[null,"2020-04-23",4,2020,4]
[null,"2020-04-24",4,2020,5]
[null,"2020-04-25",4,2020,6]
[null,"2020-04-26",4,2020,7]
[null,"2020-04-27",4,2020,1]
[null,"2020-04-28",4,2020,2]
[null,"2020-04-29",4,2020,3]
[null,"2020-04-30",4,2020,4]
[null,"2020-05-01",5,2020,5]
[null,"2020-05-02",5,2020,6]
[null,"2020-05-03",5,2020,7]
[null,"2020-05-04",5,2020,1]
[null,"2020-05-05",{"$f":"MONTH($B71)","v":5},{"$f":"YEAR($B71)","v":2020},{"$f":"WEEKDAY(B71,2)","v":2}]
[null,{"$f":"B71+1","v":"2020-05-06"},5,2020,3]
[null,"2020-05-07",5,2020,4]
[null,"2020-05-08",5,2020,5]
[null,"2020-05-09",5,2020,6]
[null,"2020-05-10",5,2020,7]
[null,"2020-05-11",5,2020,1]
[null,"2020-05-12",5,2020,2]
[null,"2020-05-13",5,2020,3]
[null,"2020-05-14",5,2020,4]
[null,"2020-05-15",5,2020,5]
[null,"2020-05-16",5,2020,6]
[null,"2020-05-17",5,2020,7]
[null,"2020-05-18",5,2020,1]
[null,"2020-05-19",5,2020,2]
[null,"2020-05-20",5,2020,3]
[null,"2020-05-21",5,2020,4]
[null,"2020-05-22",5,2020,5]
[null,"2020-05-23",5,2020,6]
[null,"2020-05-24",5,2020,7]
[null,"2020-05-25",5,2020,1]
[null,"2020-05-26",5,2020,2]
[null,"2020-05-27",5,2020,3]
[null,"2020-05-28",5,2020,4]
[null,"2020-05-29",5,2020,5]
[null,"2020-05-30",5,2020,6]
[null,"2020-05-31",5,2020,7]
[null,"2020-06-01",6,2020,1]
[null,"2020-06-02",6,2020,2]
[null,"2020-06-03",6,2020,3]
[null,"2020-06-04",6,2020,4]
[null,"2020-06-05",6,2020,5]
[null,"2020-06-06",6,2020,6]
[null,"2020-06-07",6,2020,7]
[null,"2020-06-08",6,2020,1]
[null,"2020-06-09",6,2020,2]
[null,"2020-06-10",6,2020,3]
[null,"2020-06-11",6,2020,4]
[null,"2020-06-12",6,2020,5]
[null,"2020-06-13",6,2020,6]
[null,"2020-06-14",6,2020,7]
[null,"2020-06-15",6,2020,1]
[null,"2020-06-16",6,2020,2]
[null,"2020-06-17",6,2020,3]
[null,"2020-06-18",6,2020,4]
[null,"2020-06-19",6,2020,5]
[null,"2020-06-20",6,2020,6]
[null,"2020-06-21",6,2020,7]
[null,"2020-06-22",6,2020,1]
[null,"2020-06-23",6,2020,2]
[null,"2020-06-24",6,2020,3]
[null,"2020-06-25",6,2020,4]
[null,"2020-06-26",6,2020,5]
[null,"2020-06-27",6,2020,6]
[null,"2020-06-28",6,2020,7]
[null,"2020-06-29",6,2020,1]
[null,"2020-06-30",6,2020,2]
[null,"2020-07-01",7,2020,3]
[null,"2020-07-02",7,2020,4]
[null,"2020-07-03",7,2020,5]
[null,"2020-07-04",7,2020,6]
[null,"2020-07-05",7,2020,7]
[null,"2020-07-06",7,2020,1]
[null,"2020-07-07",7,2020,2]
[null,"2020-07-08",{"$f":"MONTH($B135)","v":7},{"$f":"YEAR($B135)","v":2020},{"$f":"WEEKDAY(B135,2)","v":3}]
[null,{"$f":"B135+1","v":"2020-07-09"},7,2020,4]
[null,"2020-07-10",7,2020,5]
[null,"2020-07-11",7,2020,6]
[null,"2020-07-12",7,2020,7]
[null,"2020-07-13",7,2020,1]
[null,"2020-07-14",7,2020,2]
[null,"2020-07-15",7,2020,3]
[null,"2020-07-16",7,2020,4]
[null,"2020-07-17",7,2020,5]
[null,"2020-07-18",7,2020,6]
[null,"2020-07-19",7,2020,7]
[null,"2020-07-20",7,2020,1]
[null,"2020-07-21",7,2020,2]
[null,"2020-07-22",7,2020,3]
[null,"2020-07-23",7,2020,4]
[null,"2020-07-24",7,2020,5]
[null,"2020-07-25",7,2020,6]
[null,"2020-07-26",7,2020,7]
[null,"2020-07-27",7,2020,1]
[null,"2020-07-28",7,2020,2]
[null,"2020-07-29",7,2020,3]
[null,"2020-07-30",7,2020,4]
[null,"2020-07-31",7,2020,5]
[null,"2020-08-01",8,2020,6]
[null,"2020-08-02",8,2020,7]
[null,"2020-08-03",8,2020,1]
[null,"2020-08-04",8,2020,2]
[null,"2020-08-05",8,2020,3]
[null,"2020-08-06",8,2020,4]
[null,"2020-08-07",8,2020,5]
[null,"2020-08-08",8,2020,6]
[null,"2020-08-09",8,2020,7]
[null,"2020-08-10",8,2020,1]
[null,"2020-08-11",8,2020,2]
[null,"2020-08-12",8,2020,3]
[null,"2020-08-13",8,2020,4]
[null,"2020-08-14",8,2020,5]
[null,"2020-08-15",8,2020,6]
[null,"2020-08-16",8,2020,7]
[null,"2020-08-17",8,2020,1]
[null,"2020-08-18",8,2020,2]
[null,"2020-08-19",8,2020,3]
[null,"2020-08-20",8,2020,4]
[null,"2020-08-21",8,2020,5]
[null,"2020-08-22",8,2020,6]
[null,"2020-08-23",8,2020,7]
[null,"2020-08-24",8,2020,1]
[null,"2020-08-25",8,2020,2]
[null,"2020-08-26",8,2020,3]
[null,"2020-08-27",8,2020,4]
[null,"2020-08-28",8,2020,5]
[null,"2020-08-29",8,2020,6]
[null,"2020-08-30",8,2020,7]
[null,"2020-08-31",8,2020,1]
[null,"2020-09-01",9,2020,2]
[null,"2020-09-02",9,2020,3]
[null,"2020-09-03",9,2020,4]
[null,"2020-09-04",9,2020,5]
[null,"2020-09-05",9,2020,6]
[null,"2020-09-06",9,2020,7]
[null,"2020-09-07",9,2020,1]
[null,"2020-09-08",9,2020,2]
[null,"2020-09-09",9,2020,3]
[null,"2020-09-10",{"$f":"MONTH($B199)","v":9},{"$f":"YEAR($B199)","v":2020},{"$f":"WEEKDAY(B199,2)","v":4}]
[null,{"$f":"B199+1","v":"2020-09-11"},9,2020,5]
[null,"2020-09-12",9,2020,6]
[null,"2020-09-13",9,2020,7]
[null,"2020-09-14",9,2020,1]
[null,"2020-09-15",9,2020,2]
[null,"2020-09-16",9,2020,3]
[null,"2020-09-17",9,2020,4]
[null,"2020-09-18",9,2020,5]
[null,"2020-09-19",9,2020,6]
[null,"2020-09-20",9,2020,7]
[null,"2020-09-21",9,2020,1]
[null,"2020-09-22",9,2020,2]
[null,"2020-09-23",9,2020,3]
[null,"2020-09-24",9,2020,4]
[null,"2020-09-25",9,2020,5]
[null,"2020-09-26",9,2020,6]
[null,"2020-09-27",9,2020,7]
[null,"2020-09-28",9,2020,1]
[null,"2020-09-29",9,2020,2]
[null,"2020-09-30",9,2020,3]
[null,"2020-10-01",10,2020,4]
[null,"2020-10-02",10,2020,5]
[null,"2020-10-03",10,2020,6]
[null,"2020-10-04",10,2020,7]
[null,"2020-10-05",10,2020,1]
[null,"2020-10-06",10,2020,2]
[null,"2020-10-07",10,2020,3]
[null,"2020-10-08",10,2020,4]
[null,"2020-10-09",10,2020,5]
[null,"2020-10-10",10,2020,6]
[null,"2020-10-11",10,2020,7]
[null,"2020-10-12",10,2020,1]
[null,"2020-10-13",10,2020,2]
[null,"2020-10-14",10,2020,3]
[null,"2020-10-15",10,2020,4]
[null,"2020-10-16",10,2020,5]
[null,"2020-10-17",10,2020,6]
[null,"2020-10-18",10,2020,7]
[null,"2020-10-19",10,2020,1]
[null,"2020-10-20",10,2020,2]
[null,"2020-10-21",10,2020,3]
[null,"2020-10-22",10,2020,4]
[null,"2020-10-23",10,2020,5]
[null,"2020-10-24",10,2020,6]
[null,"2020-10-25",10,2020,7]
[null,"2020-10-26",10,2020,1]
[null,"2020-10-27",10,2020,2]
[null,"2020-10-28",10,2020,3]
[null,"2020-10-29",10,2020,4]
[null,"2020-10-30",10,2020,5]
[null,"2020-10-31",10,2020,6]
[null,"2020-11-01",11,2020,7]
[null,"2020-11-02",11,2020,1]
[null,"2020-11-03",11,2020,2]
[null,"2020-11-04",11,2020,3]
[null,"2020-11-05",11,2020,4]
[null,"2020-11-06",11,2020,5]
[null,"2020-11-07",11,2020,6]
[null,"2020-11-08",11,2020,7]
[null,"2020-11-09",11,2020,1]
[null,"2020-11-10",11,2020,2]
[null,"2020-11-11",11,2020,3]
[null,"2020-11-12",11,2020,4]
[null,"2020-11-13",{"$f":"MONTH($B263)","v":11},{"$f":"YEAR($B263)","v":2020},{"$f":"WEEKDAY(B263,2)","v":5}]
[null,{"$f":"B263+1","v":"2020-11-14"},11,2020,6]
[null,"2020-11-15",11,2020,7]
[null,"2020-11-16",11,2020,1]
[null,"2020-11-17",11,2020,2]
[null,"2020-11-18",11,2020,3]
[null,"2020-11-19",11,2020,4]
[null,"2020-11-20",11,2020,5]
[null,"2020-11-21",11,2020,6]
[null,"2020-11-22",11,2020,7]
[null,"2020-11-23",11,2020,1]
[null,"2020-11-24",11,2020,2]
[null,"2020-11-25",11,2020,3]
[null,"2020-11-26",11,2020,4]
[null,"2020-11-27",11,2020,5]
[null,"2020-11-28",11,2020,6]
[null,"2020-11-29",11,2020,7]
[null,"2020-11-30",11,2020,1]
[null,"2020-12-01",12,2020,2]
[null,"2020-12-02",12,2020,3]
[null,"2020-12-03",12,2020,4]
[null,"2020-12-04",12,2020,5]
[null,"2020-12-05",12,2020,6]
[null,"2020-12-06",12,2020,7]
[null,"2020-12-07",12,2020,1]
[null,"2020-12-08",12,2020,2]
[null,"2020-12-09",12,2020,3]
[null,"2020-12-10",12,2020,4]
[null,"2020-12-11",12,2020,5]
[null,"2020-12-12",12,2020,6]
[null,"2020-12-13",12,2020,7]
[null,"2020-12-14",12,2020,1]
[null,"2020-12-15",12,2020,2]
[null,"2020-12-16",12,2020,3]
[null,"2020-12-17",12,2020,4]
[null,"2020-12-18",12,2020,5]
[null,"2020-12-19",12,2020,6]
[null,"2020-12-20",12,2020,7]
[null,"2020-12-21",12,2020,1]
[null,"2020-12-22",12,2020,2]
[null,"2020-12-23",12,2020,3]
[null,"2020-12-24",12,2020,4]
[null,"2020-12-25",12,2020,5]
[null,"2020-12-26",12,2020,6]
[null,"2020-12-27",12,2020,7]
[null,"2020-12-28",12,2020,1]
[null,"2020-12-29",12,2020,2]
[null,"2020-12-30",12,2020,3]
[null,"2020-12-31",12,2020,4]
[null,"2021-01-01",1,2021,5]
[null,"2021-01-02",1,2021,6]
[null,"2021-01-03",1,2021,7]
[null,"2021-01-04",1,2021,1]
[null,"2021-01-05",1,2021,2]
[null,"2021-01-06",1,2021,3]
[null,"2021-01-07",1,2021,4]
[null,"2021-01-08",1,2021,5]
[null,"2021-01-09",1,2021,6]
[null,"2021-01-10",1,2021,7]
[null,"2021-01-11",1,2021,1]
[null,"2021-01-12",1,2021,2]
[null,"2021-01-13",1,2021,3]
[null,"2021-01-14",1,2021,4]
[null,"2021-01-15",1,2021,5]
[null,"2021-01-16",{"$f":"MONTH($B327)","v":1},{"$f":"YEAR($B327)","v":2021},{"$f":"WEEKDAY(B327,2)","v":6}]
[null,{"$f":"B327+1","v":"2021-01-17"},1,2021,7]
[null,"2021-01-18",1,2021,1]
[null,"2021-01-19",1,2021,2]
[null,"2021-01-20",1,2021,3]
[null,"2021-01-21",1,2021,4]
[null,"2021-01-22",1,2021,5]
[null,"2021-01-23",1,2021,6]
[null,"2021-01-24",1,2021,7]
[null,"2021-01-25",1,2021,1]
[null,"2021-01-26",1,2021,2]
[null,"2021-01-27",1,2021,3]
[null,"2021-01-28",1,2021,4]
[null,"2021-01-29",1,2021,5]
[null,"2021-01-30",1,2021,6]
[null,"2021-01-31",1,2021,7]
[null,"2021-02-01",2,2021,1]
[null,"2021-02-02",2,2021,2]
[null,"2021-02-03",2,2021,3]
[null,"2021-02-04",2,2021,4]
[null,"2021-02-05",2,2021,5]
[null,"2021-02-06",2,2021,6]
[null,"2021-02-07",2,2021,7]
[null,"2021-02-08",2,2021,1]
[null,"2021-02-09",2,2021,2]
[null,"2021-02-10",2,2021,3]
[null,"2021-02-11",2,2021,4]
[null,"2021-02-12",2,2021,5]
[null,"2021-02-13",2,2021,6]
[null,"2021-02-14",2,2021,7]
[null,"2021-02-15",2,2021,1]
[null,"2021-02-16",2,2021,2]
[null,"2021-02-17",2,2021,3]
[null,"2021-02-18",2,2021,4]
[null,"2021-02-19",2,2021,5]
[null,"2021-02-20",2,2021,6]
[null,"2021-02-21",2,2021,7]
[null,"2021-02-22",2,2021,1]
[null,"2021-02-23",2,2021,2]
[null,"2021-02-24",2,2021,3]
[null,"2021-02-25",2,2021,4]
[null,"2021-02-26",2,2021,5]
[null,"2021-02-27",2,2021,6]
[null,"2021-02-28",2,2021,7]
[null,"2021-03-01",3,2021,1]
[null,"2021-03-02",3,2021,2]
[null,"2021-03-03",3,2021,3]
[null,"2021-03-04",3,2021,4]
[null,"2021-03-05",3,2021,5]
[null,"2021-03-06",3,2021,6]
[null,"2021-03-07",3,2021,7]
[null,"2021-03-08",3,2021,1]
[null,"2021-03-09",3,2021,2]
[null,"2021-03-10",3,2021,3]
[null,"2021-03-11",3,2021,4]
[null,"2021-03-12",3,2021,5]
[null,"2021-03-13",3,2021,6]
[null,"2021-03-14",3,2021,7]
[null,"2021-03-15",3,2021,1]
[null,"2021-03-16",3,2021,2]
[null,"2021-03-17",3,2021,3]
[null,"2021-03-18",3,2021,4]
[null,"2021-03-19",3,2021,5]
[null,"2021-03-20",3,2021,6]
[null,"2021-03-21",{"$f":"MONTH($B391)","v":3},{"$f":"YEAR($B391)","v":2021},{"$f":"WEEKDAY(B391,2)","v":7}]
[null,{"$f":"B391+1","v":"2021-03-22"},3,2021,1]
[null,"2021-03-23",3,2021,2]
[null,"2021-03-24",3,2021,3]
[null,"2021-03-25",3,2021,4]
[null,"2021-03-26",3,2021,5]
[null,"2021-03-27",3,2021,6]
[null,"2021-03-28",3,2021,7]
[null,"2021-03-29",3,2021,1]
[null,"2021-03-30",3,2021,2]
[null,"2021-03-31",3,2021,3]
[null,"2021-04-01",4,2021,4]
[null,"2021-04-02",4,2021,5]
[null,"2021-04-03",4,2021,6]
[null,"2021-04-04",4,2021,7]
[null,"2021-04-05",4,2021,1]
[null,"2021-04-06",4,2021,2]
[null,"2021-04-07",4,2021,3]
[null,"2021-04-08",4,2021,4]
[null,"2021-04-09",4,2021,5]
[null,"2021-04-10",4,2021,6]
[null,"2021-04-11",4,2021,7]
[null,"2021-04-12",4,2021,1]
[null,"2021-04-13",4,2021,2]
[null,"2021-04-14",4,2021,3]
[null,"2021-04-15",4,2021,4]
[null,"2021-04-16",4,2021,5]
[null,"2021-04-17",4,2021,6]
[null,"2021-04-18",4,2021,7]
[null,"2021-04-19",4,2021,1]
[null,"2021-04-20",4,2021,2]
[null,"2021-04-21",4,2021,3]
[null,"2021-04-22",4,2021,4]
[null,"2021-04-23",4,2021,5]
[null,"2021-04-24",4,2021,6]
[null,"2021-04-25",4,2021,7]
[null,"2021-04-26",4,2021,1]
[null,"2021-04-27",4,2021,2]
[null,"2021-04-28",4,2021,3]
[null,"2021-04-29",4,2021,4]
[null,"2021-04-30",4,2021,5]
[null,"2021-05-01",5,2021,6]
[null,"2021-05-02",5,2021,7]
[null,"2021-05-03",5,2021,1]
[null,"2021-05-04",5,2021,2]
[null,"2021-05-05",5,2021,3]
[null,"2021-05-06",5,2021,4]
[null,"2021-05-07",5,2021,5]
[null,"2021-05-08",5,2021,6]
[null,"2021-05-09",5,2021,7]
[null,"2021-05-10",5,2021,1]
[null,"2021-05-11",5,2021,2]
[null,"2021-05-12",5,2021,3]
[null,"2021-05-13",5,2021,4]
[null,"2021-05-14",5,2021,5]
[null,"2021-05-15",5,2021,6]
[null,"2021-05-16",5,2021,7]
[null,"2021-05-17",5,2021,1]
[null,"2021-05-18",5,2021,2]
[null,"2021-05-19",5,2021,3]
[null,"2021-05-20",5,2021,4]
[null,"2021-05-21",5,2021,5]
[null,"2021-05-22",5,2021,6]
[null,"2021-05-23",5,2021,7]
[null,"2021-05-24",{"$f":"MONTH($B455)","v":5},{"$f":"YEAR($B455)","v":2021},{"$f":"WEEKDAY(B455,2)","v":1}]
[null,{"$f":"B455+1","v":"2021-05-25"},5,2021,2]
[null,"2021-05-26",5,2021,3]
[null,"2021-05-27",5,2021,4]
[null,"2021-05-28",5,2021,5]
[null,"2021-05-29",5,2021,6]
[null,"2021-05-30",5,2021,7]
[null,"2021-05-31",5,2021,1]
[null,"2021-06-01",6,2021,2]
[null,"2021-06-02",6,2021,3]
[null,"2021-06-03",6,2021,4]
[null,"2021-06-04",6,2021,5]
[null,"2021-06-05",6,2021,6]
[null,"2021-06-06",6,2021,7]
[null,"2021-06-07",6,2021,1]
[null,"2021-06-08",6,2021,2]
[null,"2021-06-09",6,2021,3]
[null,"2021-06-10",6,2021,4]
[null,"2021-06-11",6,2021,5]
[null,"2021-06-12",6,2021,6]
[null,"2021-06-13",6,2021,7]
[null,"2021-06-14",6,2021,1]
[null,"2021-06-15",6,2021,2]
[null,"2021-06-16",6,2021,3]
[null,"2021-06-17",6,2021,4]
[null,"2021-06-18",6,2021,5]
[null,"2021-06-19",6,2021,6]
[null,"2021-06-20",6,2021,7]
[null,"2021-06-21",6,2021,1]
[null,"2021-06-22",6,2021,2]
[null,"2021-06-23",6,2021,3]
[null,"2021-06-24",6,2021,4]
[null,"2021-06-25",6,2021,5]
[null,"2021-06-26",6,2021,6]
[null,"2021-06-27",6,2021,7]
[null,"2021-06-28",6,2021,1]
[null,"2021-06-29",6,2021,2]
[null,"2021-06-30",6,2021,3]
[null,"2021-07-01",7,2021,4]
[null,"2021-07-02",7,2021,5]
[null,"2021-07-03",7,2021,6]
[null,"2021-07-04",7,2021,7]
[null,"2021-07-05",7,2021,1]
[null,"2021-07-06",7,2021,2]
[null,"2021-07-07",7,2021,3]
[null,"2021-07-08",7,2021,4]
[null,"2021-07-09",7,2021,5]
[null,"2021-07-10",7,2021,6]
[null,"2021-07-11",7,2021,7]
[null,"2021-07-12",7,2021,1]
[null,"2021-07-13",7,2021,2]
[null,"2021-07-14",7,2021,3]
[null,"2021-07-15",7,2021,4]
[null,"2021-07-16",7,2021,5]
[null,"2021-07-17",7,2021,6]
[null,"2021-07-18",7,2021,7]
[null,"2021-07-19",7,2021,1]
[null,"2021-07-20",7,2021,2]
[null,"2021-07-21",7,2021,3]
[null,"2021-07-22",7,2021,4]
[null,"2021-07-23",7,2021,5]
[null,"2021-07-24",7,2021,6]
[null,"2021-07-25",7,2021,7]
[null,"2021-07-26",7,2021,1]
[null,"2021-07-27",{"$f":"MONTH($B519)","v":7},{"$f":"YEAR($B519)","v":2021},{"$f":"WEEKDAY(B519,2)","v":2}]
[null,{"$f":"B519+1","v":"2021-07-28"},7,2021,3]
[null,"2021-07-29",7,2021,4]
[null,"2021-07-30",7,2021,5]
[null,"2021-07-31",7,2021,6]
[null,"2021-08-01",8,2021,7]
[null,"2021-08-02",8,2021,1]
[null,"2021-08-03",8,2021,2]
[null,"2021-08-04",8,2021,3]
[null,"2021-08-05",8,2021,4]
[null,"2021-08-06",8,2021,5]
[null,"2021-08-07",8,2021,6]
[null,"2021-08-08",8,2021,7]
[null,"2021-08-09",8,2021,1]
[null,"2021-08-10",8,2021,2]
[null,"2021-08-11",8,2021,3]
[null,"2021-08-12",8,2021,4]
[null,"2021-08-13",8,2021,5]
[null,"2021-08-14",8,2021,6]
[null,"2021-08-15",8,2021,7]
[null,"2021-08-16",8,2021,1]
[null,"2021-08-17",8,2021,2]
[null,"2021-08-18",8,2021,3]
[null,"2021-08-19",8,2021,4]
[null,"2021-08-20",8,2021,5]
[null,"2021-08-21",8,2021,6]
[null,"2021-08-22",8,2021,7]
[null,"2021-08-23",8,2021,1]
[null,"2021-08-24",8,2021,2]
[null,"2021-08-25",8,2021,3]
[null,"2021-08-26",8,2021,4]
[null,"2021-08-27",8,2021,5]
[null,"2021-08-28",8,2021,6]
[null,"2021-08-29",8,2021,7]
[null,"2021-08-30",8,2021,1]
[null,"2021-08-31",8,2021,2]
[null,"2021-09-01",9,2021,3]
[null,"2021-09-02",9,2021,4]
[null,"2021-09-03",9,2021,5]
[null,"2021-09-04",9,2021,6]
[null,"2021-09-05",9,2021,7]
[null,"2021-09-06",9,2021,1]
[null,"2021-09-07",9,2021,2]
[null,"2021-09-08",9,2021,3]
[null,"2021-09-09",9,2021,4]
[null,"2021-09-10",9,2021,5]
[null,"2021-09-11",9,2021,6]
[null,"2021-09-12",9,2021,7]
[null,"2021-09-13",9,2021,1]
[null,"2021-09-14",9,2021,2]
[null,"2021-09-15",9,2021,3]
[null,"2021-09-16",9,2021,4]
[null,"2021-09-17",9,2021,5]
[null,"2021-09-18",9,2021,6]
[null,"2021-09-19",9,2021,7]
[null,"2021-09-20",9,2021,1]
[null,"2021-09-21",9,2021,2]
[null,"2021-09-22",9,2021,3]
[null,"2021-09-23",9,2021,4]
[null,"2021-09-24",9,2021,5]
[null,"2021-09-25",9,2021,6]
[null,"2021-09-26",9,2021,7]
[null,"2021-09-27",9,2021,1]
[null,"2021-09-28",9,2021,2]
[null,"2021-09-29",{"$f":"MONTH($B583)","v":9},{"$f":"YEAR($B583)","v":2021},{"$f":"WEEKDAY(B583,2)","v":3}]
[null,{"$f":"B583+1","v":"2021-09-30"},9,2021,4]
[null,"2021-10-01",10,2021,5]
[null,"2021-10-02",10,2021,6]
[null,"2021-10-03",10,2021,7]
[null,"2021-10-04",10,2021,1]
[null,"2021-10-05",10,2021,2]
[null,"2021-10-06",10,2021,3]
[null,"2021-10-07",10,2021,4]
[null,"2021-10-08",10,2021,5]
[null,"2021-10-09",10,2021,6]
[null,"2021-10-10",10,2021,7]
[null,"2021-10-11",10,2021,1]
[null,"2021-10-12",10,2021,2]
[null,"2021-10-13",10,2021,3]
[null,"2021-10-14",10,2021,4]
[null,"2021-10-15",10,2021,5]
[null,"2021-10-16",10,2021,6]
[null,"2021-10-17",10,2021,7]
[null,"2021-10-18",10,2021,1]
[null,"2021-10-19",10,2021,2]
[null,"2021-10-20",10,2021,3]
[null,"2021-10-21",10,2021,4]
[null,"2021-10-22",10,2021,5]
[null,"2021-10-23",10,2021,6]
[null,"2021-10-24",10,2021,7]
[null,"2021-10-25",10,2021,1]
[null,"2021-10-26",10,2021,2]
[null,"2021-10-27",10,2021,3]
[null,"2021-10-28",10,2021,4]
[null,"2021-10-29",10,2021,5]
[null,"2021-10-30",10,2021,6]
[null,"2021-10-31",10,2021,7]
[null,"2021-11-01",11,2021,1]
[null,"2021-11-02",11,2021,2]
[null,"2021-11-03",11,2021,3]
[null,"2021-11-04",11,2021,4]
[null,"2021-11-05",11,2021,5]
[null,"2021-11-06",11,2021,6]
[null,"2021-11-07",11,2021,7]
[null,"2021-11-08",11,2021,1]
[null,"2021-11-09",11,2021,2]
[null,"2021-11-10",11,2021,3]
[null,"2021-11-11",11,2021,4]
[null,"2021-11-12",11,2021,5]
[null,"2021-11-13",11,2021,6]
[null,"2021-11-14",11,2021,7]
[null,"2021-11-15",11,2021,1]
[null,"2021-11-16",11,2021,2]
[null,"2021-11-17",11,2021,3]
[null,"2021-11-18",11,2021,4]
[null,"2021-11-19",11,2021,5]
[null,"2021-11-20",11,2021,6]
[null,"2021-11-21",11,2021,7]
[null,"2021-11-22",11,2021,1]
[null,"2021-11-23",11,2021,2]
[null,"2021-11-24",11,2021,3]
[null,"2021-11-25",11,2021,4]
[null,"2021-11-26",11,2021,5]
[null,"2021-11-27",11,2021,6]
[null,"2021-11-28",11,2021,7]
[null,"2021-11-29",11,2021,1]
[null,"2021-11-30",11,2021,2]
[null,"2021-12-01",12,2021,3]
[null,"2021-12-02",{"$f":"MONTH($B647)","v":12},{"$f":"YEAR($B647)","v":2021},{"$f":"WEEKDAY(B647,2)","v":4}]
[null,{"$f":"B647+1","v":"2021-12-03"},12,2021,5]
[null,"2021-12-04",12,2021,6]
[null,"2021-12-05",12,2021,7]
[null,"2021-12-06",12,2021,1]
[null,"2021-12-07",12,2021,2]
[null,"2021-12-08",12,2021,3]
[null,"2021-12-09",12,2021,4]
[null,"2021-12-10",12,2021,5]
[null,"2021-12-11",12,2021,6]
[null,"2021-12-12",12,2021,7]
[null,"2021-12-13",12,2021,1]
[null,"2021-12-14",12,2021,2]
[null,"2021-12-15",12,2021,3]
[null,"2021-12-16",12,2021,4]
[null,"2021-12-17",12,2021,5]
[null,"2021-12-18",12,2021,6]
[null,"2021-12-19",12,2021,7]
[null,"2021-12-20",12,2021,1]
[null,"2021-12-21",12,2021,2]
[null,"2021-12-22",12,2021,3]
[null,"2021-12-23",12,2021,4]
[null,"2021-12-24",12,2021,5]
[null,"2021-12-25",12,2021,6]
[null,"2021-12-26",12,2021,7]
[null,"2021-12-27",12,2021,1]
[null,"2021-12-28",12,2021,2]
[null,"2021-12-29",12,2021,3]
[null,"2021-12-30",12,2021,4]
[null,"2021-12-31",12,2021,5]
[null,"2022-01-01",1,2022,6]
[null,"2022-01-02",1,2022,7]
[null,"2022-01-03",1,2022,1]
[null,"2022-01-04",1,2022,2]
[null,"2022-01-05",1,2022,3]
[null,"2022-01-06",1,2022,4]
[null,"2022-01-07",1,2022,5]
[null,"2022-01-08",1,2022,6]
[null,"2022-01-09",1,2022,7]
[null,"2022-01-10",1,2022,1]
[null,"2022-01-11",1,2022,2]
[null,"2022-01-12",1,2022,3]
[null,"2022-01-13",1,2022,4]
[null,"2022-01-14",1,2022,5]
[null,"2022-01-15",1,2022,6]
[null,"2022-01-16",1,2022,7]
[null,"2022-01-17",1,2022,1]
[null,"2022-01-18",1,2022,2]
[null,"2022-01-19",1,2022,3]
[null,"2022-01-20",1,2022,4]
[null,"2022-01-21",1,2022,5]
[null,"2022-01-22",1,2022,6]
[null,"2022-01-23",1,2022,7]
[null,"2022-01-24",1,2022,1]
[null,"2022-01-25",1,2022,2]
[null,"2022-01-26",1,2022,3]
[null,"2022-01-27",1,2022,4]
[null,"2022-01-28",1,2022,5]
[null,"2022-01-29",1,2022,6]
[null,"2022-01-30",1,2022,7]
[null,"2022-01-31",1,2022,1]
[null,"2022-02-01",2,2022,2]
[null,"2022-02-02",2,2022,3]
[null,"2022-02-03",2,2022,4]
[null,"2022-02-04",{"$f":"MONTH($B711)","v":2},{"$f":"YEAR($B711)","v":2022},{"$f":"WEEKDAY(B711,2)","v":5}]
[null,{"$f":"B711+1","v":"2022-02-05"},2,2022,6]
[null,"2022-02-06",2,2022,7]
[null,"2022-02-07",2,2022,1]
[null,"2022-02-08",2,2022,2]
[null,"2022-02-09",2,2022,3]
[null,"2022-02-10",2,2022,4]
[null,"2022-02-11",2,2022,5]
[null,"2022-02-12",2,2022,6]
[null,"2022-02-13",2,2022,7]
[null,"2022-02-14",2,2022,1]
[null,"2022-02-15",2,2022,2]
[null,"2022-02-16",2,2022,3]
[null,"2022-02-17",2,2022,4]
[null,"2022-02-18",2,2022,5]
[null,"2022-02-19",2,2022,6]
[null,"2022-02-20",2,2022,7]
[null,"2022-02-21",2,2022,1]
[null,"2022-02-22",2,2022,2]
[null,"2022-02-23",2,2022,3]
[null,"2022-02-24",2,2022,4]
[null,"2022-02-25",2,2022,5]
[null,"2022-02-26",2,2022,6]
[null,"2022-02-27",2,2022,7]
[null,"2022-02-28",2,2022,1]
[null,"2022-03-01",3,2022,2]
[null,"2022-03-02",3,2022,3]
[null,"2022-03-03",3,2022,4]
[null,"2022-03-04",3,2022,5]
[null,"2022-03-05",3,2022,6]
[null,"2022-03-06",3,2022,7]
[null,"2022-03-07",3,2022,1]
[null,"2022-03-08",3,2022,2]
[null,"2022-03-09",3,2022,3]
[null,"2022-03-10",3,2022,4]
[null,"2022-03-11",3,2022,5]
[null,"2022-03-12",3,2022,6]
[null,"2022-03-13",3,2022,7]
[null,"2022-03-14",3,2022,1]
[null,"2022-03-15",3,2022,2]
[null,"2022-03-16",3,2022,3]
[null,"2022-03-17",3,2022,4]
[null,"2022-03-18",3,2022,5]
[null,"2022-03-19",3,2022,6]
[null,"2022-03-20",3,2022,7]
[null,"2022-03-21",3,2022,1]
[null,"2022-03-22",3,2022,2]
[null,"2022-03-23",3,2022,3]
[null,"2022-03-24",3,2022,4]
[null,"2022-03-25",3,2022,5]
[null,"2022-03-26",3,2022,6]
[null,"2022-03-27",3,2022,7]
[null,"2022-03-28",3,2022,1]
[null,"2022-03-29",3,2022,2]
[null,"2022-03-30",3,2022,3]
[null,"2022-03-31",3,2022,4]
[null,"2022-04-01",4,2022,5]
[null,"2022-04-02",4,2022,6]
[null,"2022-04-03",4,2022,7]
[null,"2022-04-04",4,2022,1]
[null,"2022-04-05",4,2022,2]
[null,"2022-04-06",4,2022,3]
[null,"2022-04-07",4,2022,4]
[null,"2022-04-08",4,2022,5]
[null,"2022-04-09",{"$f":"MONTH($B775)","v":4},{"$f":"YEAR($B775)","v":2022},{"$f":"WEEKDAY(B775,2)","v":6}]
[null,{"$f":"B775+1","v":"2022-04-10"},4,2022,7]
[null,"2022-04-11",4,2022,1]
[null,"2022-04-12",4,2022,2]
[null,"2022-04-13",4,2022,3]
[null,"2022-04-14",4,2022,4]
[null,"2022-04-15",4,2022,5]
[null,"2022-04-16",4,2022,6]
[null,"2022-04-17",4,2022,7]
[null,"2022-04-18",4,2022,1]
[null,"2022-04-19",4,2022,2]
[null,"2022-04-20",4,2022,3]
[null,"2022-04-21",4,2022,4]
[null,"2022-04-22",4,2022,5]
[null,"2022-04-23",4,2022,6]
[null,"2022-04-24",4,2022,7]
[null,"2022-04-25",4,2022,1]
[null,"2022-04-26",4,2022,2]
[null,"2022-04-27",4,2022,3]
[null,"2022-04-28",4,2022,4]
[null,"2022-04-29",4,2022,5]
[null,"2022-04-30",4,2022,6]
[null,"2022-05-01",5,2022,7]
[null,"2022-05-02",5,2022,1]
[null,"2022-05-03",5,2022,2]
[null,"2022-05-04",5,2022,3]
[null,"2022-05-05",5,2022,4]
[null,"2022-05-06",5,2022,5]
[null,"2022-05-07",5,2022,6]
[null,"2022-05-08",5,2022,7]
[null,"2022-05-09",5,2022,1]
[null,"2022-05-10",5,2022,2]
[null,"2022-05-11",5,2022,3]
[null,"2022-05-12",5,2022,4]
[null,"2022-05-13",5,2022,5]
[null,"2022-05-14",5,2022,6]
[null,"2022-05-15",5,2022,7]
[null,"2022-05-16",5,2022,1]
[null,"2022-05-17",5,2022,2]
[null,"2022-05-18",5,2022,3]
[null,"2022-05-19",5,2022,4]
[null,"2022-05-20",5,2022,5]
[null,"2022-05-21",5,2022,6]
[null,"2022-05-22",5,2022,7]
[null,"2022-05-23",5,2022,1]
[null,"2022-05-24",5,2022,2]
[null,"2022-05-25",5,2022,3]
[null,"2022-05-26",5,2022,4]
[null,"2022-05-27",5,2022,5]
[null,"2022-05-28",5,2022,6]
[null,"2022-05-29",5,2022,7]
[null,"2022-05-30",5,2022,1]
[null,"2022-05-31",5,2022,2]
[null,"2022-06-01",6,2022,3]
[null,"2022-06-02",6,2022,4]
[null,"2022-06-03",6,2022,5]
[null,"2022-06-04",6,2022,6]
[null,"2022-06-05",6,2022,7]
[null,"2022-06-06",6,2022,1]
[null,"2022-06-07",6,2022,2]
[null,"2022-06-08",6,2022,3]
[null,"2022-06-09",6,2022,4]
[null,"2022-06-10",6,2022,5]
[null,"2022-06-11",6,2022,6]
[null,"2022-06-12",{"$f":"MONTH($B839)","v":6},{"$f":"YEAR($B839)","v":2022},{"$f":"WEEKDAY(B839,2)","v":7}]
[null,{"$f":"B839+1","v":"2022-06-13"},6,2022,1]
[null,"2022-06-14",6,2022,2]
[null,"2022-06-15",6,2022,3]
[null,"2022-06-16",6,2022,4]
[null,"2022-06-17",6,2022,5]
[null,"2022-06-18",6,2022,6]
[null,"2022-06-19",6,2022,7]
[null,"2022-06-20",6,2022,1]
[null,"2022-06-21",6,2022,2]
[null,"2022-06-22",6,2022,3]
[null,"2022-06-23",6,2022,4]
[null,"2022-06-24",6,2022,5]
[null,"2022-06-25",6,2022,6]
[null,"2022-06-26",6,2022,7]
[null,"2022-06-27",6,2022,1]
[null,"2022-06-28",6,2022,2]
[null,"2022-06-29",6,2022,3]
[null,"2022-06-30",6,2022,4]
[null,"2022-07-01",7,2022,5]
[null,"2022-07-02",7,2022,6]
[null,"2022-07-03",7,2022,7]
[null,"2022-07-04",7,2022,1]
[null,"2022-07-05",7,2022,2]
[null,"2022-07-06",7,2022,3]
[null,"2022-07-07",7,2022,4]
[null,"2022-07-08",7,2022,5]
[null,"2022-07-09",7,2022,6]
[null,"2022-07-10",7,2022,7]
[null,"2022-07-11",7,2022,1]
[null,"2022-07-12",7,2022,2]
[null,"2022-07-13",7,2022,3]
[null,"2022-07-14",7,2022,4]
[null,"2022-07-15",7,2022,5]
[null,"2022-07-16",7,2022,6]
[null,"2022-07-17",7,2022,7]
[null,"2022-07-18",7,2022,1]
[null,"2022-07-19",7,2022,2]
[null,"2022-07-20",7,2022,3]
[null,"2022-07-21",7,2022,4]
[null,"2022-07-22",7,2022,5]
[null,"2022-07-23",7,2022,6]
[null,"2022-07-24",7,2022,7]
[null,"2022-07-25",7,2022,1]
[null,"2022-07-26",7,2022,2]
[null,"2022-07-27",7,2022,3]
[null,"2022-07-28",7,2022,4]
[null,"2022-07-29",7,2022,5]
[null,"2022-07-30",7,2022,6]
[null,"2022-07-31",7,2022,7]
[null,"2022-08-01",8,2022,1]
[null,"2022-08-02",8,2022,2]
[null,"2022-08-03",8,2022,3]
[null,"2022-08-04",8,2022,4]
[null,"2022-08-05",8,2022,5]
[null,"2022-08-06",8,2022,6]
[null,"2022-08-07",8,2022,7]
[null,"2022-08-08",8,2022,1]

{"sheet":"End","index":4,"n_rows":0,"n_cols":0,"rows_kept":0,"hidden":true}